Workbook

Sheet 원가계산서
B1: 공 사 원 가 계 산 서
B2: 공사명 : CITES동물보호시설전시공간개선설계용역 | F2: 금액 : 이억오천이백삼십육만이천원(￦252,362,000)
B3: 비 목 | E3: 금 액 | F3: 구 성 비 | G3: 비 고
A4: A1 | B4: 순 공 사 원 가 | C4: 재 료 비 | D4: 직 접 재 료 비 | E4: =TRUNC(공종별집계표!F5, 0) -> 117820508
A5: A2 | D5: 간 접 재 료 비 | E5: 0
A6: A3 | D6: 작업설, 부산물(△) | E6: 0
A7: AS | D7: [ 소 계 ] | E7: =TRUNC(E4+E5-E6, 0) -> 117820508
A8: B1 | C8: 노 무 비 | D8: 직 접 노 무 비 | E8: =TRUNC(공종별집계표!H5, 0) -> 47209532
A9: B2 | D9: 간 접 노 무 비 | E9: =TRUNC(E8*0.175, 0) -> 8261668 | F9: 직접노무비 * 17.5%
A10: BS | D10: [ 소 계 ] | E10: =TRUNC(E8+E9, 0) -> 55471200
A11: C2 | C11: 경 비 | D11: 경 비 | E11: =TRUNC(공종별집계표!J5, 0) -> 1057355
A12: C4 | D12: 산 재 보 험 료 | E12: =TRUNC(E10*0.0356, 0) -> 1974774 | F12: 노무비 * 3.56%
A13: C5 | D13: 고 용 보 험 료 | E13: =TRUNC(E10*0.0101, 0) -> 560259 | F13: 노무비 * 1.01%
A14: C6 | D14: 국민 건강 보험료 | E14: =TRUNC(E8*0.03595, 0) -> 1697182 | F14: 직접노무비 * 3.595%
A15: C7 | D15: 국민 연금 보험료 | E15: =TRUNC(E8*0.0475, 0) -> 2242452 | F15: 직접노무비 * 4.75%
A16: C8 | D16: 퇴직 공제 부금비 | E16: =TRUNC(E8*0.023, 0) -> 1085819 | F16: 직접노무비 * 2.3%
A17: CA | D17: 산업안전보건관리비 | E17: =TRUNC((E7+E8)*0.0311, 0) -> 5132434 | F17: (재료비+직노) * 3.11%
A18: CB | D18: 노인장기요양보험료 | E18: =TRUNC(E14*0.1314, 0) -> 223009 | F18: 건강보험료 * 13.14%
A19: CE | D19: 건설 폐기물 처리비 | E19: =TRUNC(공종별집계표!T20, 0) -> 1948907
A20: CG | D20: 기 타 경 비 | E20: =TRUNC((E7+E10)*0.05, 0) -> 8664585 | F20: (재료비+노무비) * 5%
A21: CH | D21: 환 경 보 전 비 | E21: =TRUNC((E7+E8+E11)*0.003, 0) -> 498262 | F21: (재료비+직노+경비) * 0.3%
A22: CL | D22: 건설기계대여금지급보증서발급수수료 | E22: =TRUNC((E7+E8+E11)*0.0032, 0) -> 531479 | F22: (재료비+직노+경비) * 0.32%
A23: CM | D23: 석 면 분 담 금 | E23: =TRUNC(E10*0.00006, 0) -> 3328 | F23: 노무비 * 0.006%
A24: CN | D24: 임 금 채 권 부 담 금 | E24: =TRUNC(E10*0.0009, 0) -> 49924 | F24: 노무비 * 0.09%
A25: CS | D25: [ 소 계 ] | E25: =TRUNC(E11+E12+E13+E14+E15+E16+E17+E18+E19+E20+E21+E22+E23+E24, 0) -> 25669769
A26: S1 | B26: 계 | E26: =TRUNC(E7+E10+E25, 0) -> 198961477
A27: D1 | B27: 일 반 관 리 비 | E27: =TRUNC(E26*0.08, 0) -> 15916918 | F27: 계 * 8%
A28: D2 | B28: 이 윤 | E28: =TRUNC((E10+E25+E27)*0.15-8950, 0) -> 14549733 | F28: (노무비+경비+일반관리비) * 15%
A29: D9 | B29: 공 급 가 액 | E29: =TRUNC(INT((E26+E27+E28)/10000)*10000, 0) -> 229420000
A30: DB | B30: 부 가 가 치 세 | E30: =TRUNC(E29*0.1, 0) -> 22942000 | F30: 공급가액 * 10%
A31: DH | B31: 도 급 액 | E31: =TRUNC(E29+E30, 0) -> 252362000
A32: S2 | B32: 총 공 사 비 | E32: =TRUNC(E31+0, 0) -> 252362000

Sheet 공종별집계표
A1: 공 종 별 집 계 표
A2: [ CITES동물보호시설전시공간개선설계용역 ]
A3: 품 명 | B3: 규 격 | C3: 단위 | D3: 수량 | E3: 재 료 비 | G3: 노 무 비 | I3: 경 비 | K3: 합 계 | M3: 비 고 | N3: 공종코드 | O3: 변수 | P3: 상위공종 | Q3: 공종구분 | R3: 공종레벨 | S3: 공종소계 | T3: 원가계산서 연결금액
E4: 단 가 | F4: 금 액 | G4: 단 가 | H4: 금 액 | I4: 단 가 | J4: 금 액 | K4: 단 가 | L4: 금 액
A5: 01 CITES동물보호시설전시공간개선설계용역 | D5: 1 | E5: =F6 -> 117820508 | F5: =E5*D5 -> 117820508 | G5: =H6 -> 47209532 | H5: =G5*D5 -> 47209532 | I5: =J6 -> 1057355 | J5: =I5*D5 -> 1057355 | K5: =E5+G5+I5 -> 166087395 | L5: =F5+H5+J5 -> 166087395 | N5: 01 | R5: 1
A6: 0101 ▶건축공사 | D6: 1 | E6: =F7+F8+F9+F10+F11+F12+F13+F14+F15+F16+F17+F18+F19 -> 117820508 | F6: =E6*D6 -> 117820508 | G6: =H7+H8+H9+H10+H11+H12+H13+H14+H15+H16+H17+H18+H19 -> 47209532 | H6: =G6*D6 -> 47209532 | I6: =J7+J8+J9+J10+J11+J12+J13+J14+J15+J16+J17+J18+J19 -> 1057355 | J6: =I6*D6 -> 1057355 | K6: =E6+G6+I6 -> 166087395 | L6: =F6+H6+J6 -> 166087395 | N6: 0101 | P6: 01 | R6: 2 | S6: <
A7: 010101 가설공사 | D7: 1 | E7: =공종별내역서!F26 -> 180934 | F7: =E7*D7 -> 180934 | G7: =공종별내역서!H26 -> 876138 | H7: =G7*D7 -> 876138 | I7: =공종별내역서!J26 -> 0 | J7: =I7*D7 -> 0 | K7: =E7+G7+I7 -> 1057072 | L7: =F7+H7+J7 -> 1057072 | N7: 010101 | P7: 0101 | R7: 3
A8: 010102 토공및지정공사 | D8: 1 | E8: =공종별내역서!F49 -> 18164 | F8: =E8*D8 -> 18164 | G8: =공종별내역서!H49 -> 1791583 | H8: =G8*D8 -> 1791583 | I8: =공종별내역서!J49 -> 20751 | J8: =I8*D8 -> 20751 | K8: =E8+G8+I8 -> 1830498 | L8: =F8+H8+J8 -> 1830498 | N8: 010102 | P8: 0101 | R8: 3
A9: 010103 철근콘크리트공사 | D9: 1 | E9: =공종별내역서!F72 -> 3889328 | F9: =E9*D9 -> 3889328 | G9: =공종별내역서!H72 -> 6764597 | H9: =G9*D9 -> 6764597 | I9: =공종별내역서!J72 -> 135674 | J9: =I9*D9 -> 135674 | K9: =E9+G9+I9 -> 10789599 | L9: =F9+H9+J9 -> 10789599 | N9: 010103 | P9: 0101 | R9: 3
A10: 010104 철골공사 | D10: 1 | E10: =공종별내역서!F95 -> 1535184 | F10: =E10*D10 -> 1535184 | G10: =공종별내역서!H95 -> 8878610 | H10: =G10*D10 -> 8878610 | I10: =공종별내역서!J95 -> 443608 | J10: =I10*D10 -> 443608 | K10: =E10+G10+I10 -> 10857402 | L10: =F10+H10+J10 -> 10857402 | N10: 010104 | P10: 0101 | R10: 3
A11: 010105 목공사및수장공사 | D11: 1 | E11: =공종별내역서!F118 -> 74440323 | F11: =E11*D11 -> 74440323 | G11: =공종별내역서!H118 -> 9625781 | H11: =G11*D11 -> 9625781 | I11: =공종별내역서!J118 -> 189549 | J11: =I11*D11 -> 189549 | K11: =E11+G11+I11 -> 84255653 | L11: =F11+H11+J11 -> 84255653 | N11: 010105 | P11: 0101 | R11: 3
A12: 010106 방수공사 | D12: 1 | E12: =공종별내역서!F141 -> 5780733 | F12: =E12*D12 -> 5780733 | G12: =공종별내역서!H141 -> 870462 | H12: =G12*D12 -> 870462 | I12: =공종별내역서!J141 -> 0 | J12: =I12*D12 -> 0 | K12: =E12+G12+I12 -> 6651195 | L12: =F12+H12+J12 -> 6651195 | N12: 010106 | P12: 0101 | R12: 3
A13: 010107 금속공사 | D13: 1 | E13: =공종별내역서!F164 -> 2324048 | F13: =E13*D13 -> 2324048 | G13: =공종별내역서!H164 -> 2228707 | H13: =G13*D13 -> 2228707 | I13: =공종별내역서!J164 -> 34286 | J13: =I13*D13 -> 34286 | K13: =E13+G13+I13 -> 4587041 | L13: =F13+H13+J13 -> 4587041 | N13: 010107 | P13: 0101 | R13: 3
A14: 010108 미장공사 | D14: 1 | E14: =공종별내역서!F187 -> 187200 | F14: =E14*D14 -> 187200 | G14: =공종별내역서!H187 -> 227468 | H14: =G14*D14 -> 227468 | I14: =공종별내역서!J187 -> 0 | J14: =I14*D14 -> 0 | K14: =E14+G14+I14 -> 414668 | L14: =F14+H14+J14 -> 414668 | N14: 010108 | P14: 0101 | R14: 3
A15: 010109 창호및유리공사 | D15: 1 | E15: =공종별내역서!F210 -> 7604308 | F15: =E15*D15 -> 7604308 | G15: =공종별내역서!H210 -> 4669535 | H15: =G15*D15 -> 4669535 | I15: =공종별내역서!J210 -> 128623 | J15: =I15*D15 -> 128623 | K15: =E15+G15+I15 -> 12402466 | L15: =F15+H15+J15 -> 12402466 | N15: 010109 | P15: 0101 | R15: 3
A16: 010110 칠공사 | D16: 1 | E16: =공종별내역서!F233 -> 471750 | F16: =E16*D16 -> 471750 | G16: =공종별내역서!H233 -> 4588584 | H16: =G16*D16 -> 4588584 | I16: =공종별내역서!J233 -> 0 | J16: =I16*D16 -> 0 | K16: =E16+G16+I16 -> 5060334 | L16: =F16+H16+J16 -> 5060334 | N16: 010110 | P16: 0101 | R16: 3
A17: 010111 철거공사 | D17: 1 | E17: =공종별내역서!F256 -> 87036 | F17: =E17*D17 -> 87036 | G17: =공종별내역서!H256 -> 6288868 | H17: =G17*D17 -> 6288868 | I17: =공종별내역서!J256 -> 104864 | J17: =I17*D17 -> 104864 | K17: =E17+G17+I17 -> 6480768 | L17: =F17+H17+J17 -> 6480768 | N17: 010111 | P17: 0101 | R17: 3
A18: 010112 기타공사 | D18: 1 | E18: =공종별내역서!F279 -> 21169900 | F18: =E18*D18 -> 21169900 | G18: =공종별내역서!H279 -> 399199 | H18: =G18*D18 -> 399199 | I18: =공종별내역서!J279 -> 0 | J18: =I18*D18 -> 0 | K18: =E18+G18+I18 -> 21569099 | L18: =F18+H18+J18 -> 21569099 | N18: 010112 | P18: 0101 | R18: 3
A19: 010113 골재비 | D19: 1 | E19: =공종별내역서!F302 -> 131600 | F19: =E19*D19 -> 131600 | G19: =공종별내역서!H302 -> 0 | H19: =G19*D19 -> 0 | I19: =공종별내역서!J302 -> 0 | J19: =I19*D19 -> 0 | K19: =E19+G19+I19 -> 131600 | L19: =F19+H19+J19 -> 131600 | N19: 010113 | P19: 0101 | R19: 3 | S19: <
A20: 010114 건설폐기물처리비 | D20: 1 | E20: =공종별내역서!F325 -> 0 | F20: =E20*D20 -> 0 | G20: =공종별내역서!H325 -> 0 | H20: =G20*D20 -> 0 | I20: =공종별내역서!J325 -> 1948907 | J20: =I20*D20 -> 1948907 | K20: =E20+G20+I20 -> 1948907 | L20: =F20+H20+J20 -> 1948907 | N20: 010114 | Q20: 5 | R20: 3 | T20: =L20*1 -> 1948907
A26: [ 합 계 ] | F26: =F5 -> 117820508 | H26: =H5 -> 47209532 | J26: =J5 -> 1057355 | L26: =L5 -> 166087395

Sheet 공종별내역서
A1: [ CITES동물보호시설전시공간개선설계용역 ]
A2: 품 명 | B2: 규 격 | C2: 단위 | D2: 수량 | E2: 재 료 비 | G2: 노 무 비 | I2: 경 비 | K2: 합 계 | M2: 비 고 | N2: 품목코드 | O2: 변수 | P2: 설정 | Q2: 공종코드 | R2: 일위 | S2: 단산 | T2: 자재 | U2: 손료적용 | V2: 손료저장 | W2: 적용율 | X2: JUK1 | Y2: JUK2 | Z2: JUK3 | AA2: JUK4 | AB2: JUK5 | AC2: JUK6 | AD2: JUK7 | AE2: JUK8 | AF2: JUK9 | AG2: JUK10 | AH2: JUK11 | AI2: JUK12 | AJ2: JUK13 | AK2: JUK14 | AL2: JUK15 | AM2: JUK16 | AN2: JUK17 | AO2: JUK18 | AP2: JUK19 | AQ2: JUK20 | AR2: 자재구분 | AS2: 공종구분 | AT2: 공종레벨 | AU2: 공종+자재 | AV2: 고유번호
E3: 단 가 | F3: 금 액 | G3: 단 가 | H3: 금 액 | I3: 단 가 | J3: 금 액 | K3: 단 가 | L3: 금 액
A4: 010101 가설공사 | Q4: 010101
A5: 강관 조립말비계(이동식)설치 및 해체 | B5: 높이 2m, 3개월 | C5: 대 | D5: 1 | E5: =TRUNC(일위대가목록!E4,0) -> 41435 | F5: =TRUNC(E5*D5, 0) -> 41435 | G5: =TRUNC(일위대가목록!F4,0) -> 94574 | H5: =TRUNC(G5*D5, 0) -> 94574 | I5: =TRUNC(일위대가목록!G4,0) -> 0 | J5: =TRUNC(I5*D5, 0) -> 0 | K5: =TRUNC(E5+G5+I5, 0) -> 136009 | L5: =TRUNC(F5+H5+J5, 0) -> 136009 | M5: 호표 1 | N5: 5BAF268735F4B2A427F6A1E455D185 | Q5: 010101 | R5: T | S5: F | T5: F | AU5: 0101015BAF268735F4B2A427F6A1E455D185 | AV5: 4
A6: 강관 조립말비계(이동식)설치 및 해체 | B6: 높이 4m, 3개월 | C6: 대 | D6: 1 | E6: =TRUNC(일위대가목록!E5,0) -> 54393 | F6: =TRUNC(E6*D6, 0) -> 54393 | G6: =TRUNC(일위대가목록!F5,0) -> 156891 | H6: =TRUNC(G6*D6, 0) -> 156891 | I6: =TRUNC(일위대가목록!G5,0) -> 0 | J6: =TRUNC(I6*D6, 0) -> 0 | K6: =TRUNC(E6+G6+I6, 0) -> 211284 | L6: =TRUNC(F6+H6+J6, 0) -> 211284 | M6: 호표 2 | N6: 5BAF268735F4B2A427F6A1DBE51C4A | Q6: 010101 | R6: T | S6: F | T6: F | AU6: 0101015BAF268735F4B2A427F6A1DBE51C4A | AV6: 5
A7: 건축물현장정리 | B7: 청소 및 뒤정리 | C7: M2 | D7: 141.1 | E7: =TRUNC(일위대가목록!E6,0) -> 0 | F7: =TRUNC(E7*D7, 0) -> 0 | G7: =TRUNC(일위대가목록!F6,0) -> 3441 | H7: =TRUNC(G7*D7, 0) -> 485525 | I7: =TRUNC(일위대가목록!G6,0) -> 0 | J7: =TRUNC(I7*D7, 0) -> 0 | K7: =TRUNC(E7+G7+I7, 0) -> 3441 | L7: =TRUNC(F7+H7+J7, 0) -> 485525 | M7: 호표 3 | N7: 5BAF2682B564B4A4FFB6495375EC39 | Q7: 010101 | R7: T | S7: F | T7: F | AU7: 0101015BAF2682B564B4A4FFB6495375EC39 | AV7: 101
A8: 건축물보양 | B8: 보양지 붙이기 | C8: M2 | D8: 80.9 | E8: =TRUNC(일위대가목록!E7,0) -> 1052 | F8: =TRUNC(E8*D8, 0) -> 85106 | G8: =TRUNC(일위대가목록!F7,0) -> 1720 | H8: =TRUNC(G8*D8, 0) -> 139148 | I8: =TRUNC(일위대가목록!G7,0) -> 0 | J8: =TRUNC(I8*D8, 0) -> 0 | K8: =TRUNC(E8+G8+I8, 0) -> 2772 | L8: =TRUNC(F8+H8+J8, 0) -> 224254 | M8: 호표 4 | N8: 5BAF2682B6743414F6467437F56090 | Q8: 010101 | R8: T | S8: F | T8: F | AU8: 0101015BAF2682B6743414F6467437F56090 | AV8: 7
Q9: 010101
Q10: 010101
Q11: 010101
Q12: 010101
Q13: 010101
Q14: 010101
Q15: 010101
Q16: 010101
Q17: 010101
Q18: 010101
Q19: 010101
Q20: 010101
... Q25: 010101
A26: [ 합 계 ] | F26: =SUMIF(Q5:Q25,"010101",F5:F25) -> 180934 | H26: =SUMIF(Q5:Q25,"010101",H5:H25) -> 876138 | J26: =SUMIF(Q5:Q25,"010101",J5:J25) -> 0 | L26: =SUMIF(Q5:Q25,"010101",L5:L25) -> 1057072 | N26: TOTAL
A27: 010102 토공및지정공사 | Q27: 010102
A28: 인력굴착(토사) / 보통토사 | B28: H=1m 이하(구조물터파기, 흙깍기) | C28: M3 | D28: 21.1 | E28: =TRUNC(일위대가목록!E8,0) -> 0 | F28: =TRUNC(E28*D28, 0) -> 0 | G28: =TRUNC(일위대가목록!F8,0) -> 63314 | H28: =TRUNC(G28*D28, 0) -> 1335925 | I28: =TRUNC(일위대가목록!G8,0) -> 0 | J28: =TRUNC(I28*D28, 0) -> 0 | K28: =TRUNC(E28+G28+I28, 0) -> 63314 | L28: =TRUNC(F28+H28+J28, 0) -> 1335925 | M28: 호표 5 | N28: 5B8A167B93B440B437D62657255CD8 | Q28: 010102 | R28: T | S28: F | T28: F | AU28: 0101025B8A167B93B440B437D62657255CD8 | AV28: 9
A29: 잔토처리 | B29: 인력(현장 내 소운반 깔고 고르기) | C29: M3 | D29: 9.3 | E29: =TRUNC(일위대가목록!E9,0) -> 0 | F29: =TRUNC(E29*D29, 0) -> 0 | G29: =TRUNC(일위대가목록!F9,0) -> 34413 | H29: =TRUNC(G29*D29, 0) -> 320040 | I29: =TRUNC(일위대가목록!G9,0) -> 0 | J29: =TRUNC(I29*D29, 0) -> 0 | K29: =TRUNC(E29+G29+I29, 0) -> 34413 | L29: =TRUNC(F29+H29+J29, 0) -> 320040 | M29: 호표 6 | N29: 5B8A167B93B440B435264CBC752D17 | Q29: 010102 | R29: T | S29: F | T29: F | AU29: 0101025B8A167B93B440B435264CBC752D17 | AV29: 10
A30: 되메우기 및 다짐 | B30: 소형장비 | C30: M3 | D30: 11.8 | E30: =TRUNC(일위대가목록!E10,0) -> 1196 | F30: =TRUNC(E30*D30, 0) -> 14112 | G30: =TRUNC(일위대가목록!F10,0) -> 8228 | H30: =TRUNC(G30*D30, 0) -> 97090 | I30: =TRUNC(일위대가목록!G10,0) -> 1281 | J30: =TRUNC(I30*D30, 0) -> 15115 | K30: =TRUNC(E30+G30+I30, 0) -> 10705 | L30: =TRUNC(F30+H30+J30, 0) -> 126317 | M30: 호표 7 | N30: 5B8A167611B4B804FC3630D6251A9E | Q30: 010102 | R30: T | S30: F | T30: F | AU30: 0101025B8A167611B4B804FC3630D6251A9E | AV30: 11
A31: 기초 지정 | B31: 잡석지정 | C31: M3 | D31: 4 | E31: =TRUNC(일위대가목록!E11,0) -> 1013 | F31: =TRUNC(E31*D31, 0) -> 4052 | G31: =TRUNC(일위대가목록!F11,0) -> 9632 | H31: =TRUNC(G31*D31, 0) -> 38528 | I31: =TRUNC(일위대가목록!G11,0) -> 1409 | J31: =TRUNC(I31*D31, 0) -> 5636 | K31: =TRUNC(E31+G31+I31, 0) -> 12054 | L31: =TRUNC(F31+H31+J31, 0) -> 48216 | M31: 호표 8 | N31: 5B8A16773114554461961C9E2547A4 | Q31: 010102 | R31: T | S31: F | T31: F | AU31: 0101025B8A16773114554461961C9E2547A4 | AV31: 12
Q32: 010102
Q33: 010102
Q34: 010102
Q35: 010102
Q36: 010102
Q37: 010102
Q38: 010102
Q39: 010102
Q40: 010102
Q41: 010102
Q42: 010102
Q43: 010102
... Q48: 010102
...

Sheet 일위대가목록
B1: 일 위 대 가 목 록
B2: [ CITES동물보호시설전시공간개선설계용역 ]
A3: 코 드 | B3: 품 명 | C3: 규 격 | D3: 단위 | E3: 재 료 비 | F3: 노 무 비 | G3: 경 비 | H3: 합 계 | I3: 번 호 | J3: 비 고 | K3: 노임계수 | L3: 할증 | M3: 품셈개요 | N3: 장비일위
A4: 5BAF268735F4B2A427F6A1E455D185 | B4: 강관 조립말비계(이동식)설치 및 해체 | C4: 높이 2m, 3개월 | D4: 대 | E4: =일위대가!F15 -> 41435 | F4: =일위대가!H15 -> 94574 | G4: =일위대가!J15 -> 0 | H4: =E4+F4+G4 -> 136009 | I4: 호표 1 | M4: 공통 2-7-6, 2-2-5
A5: 5BAF268735F4B2A427F6A1DBE51C4A | B5: 강관 조립말비계(이동식)설치 및 해체 | C5: 높이 4m, 3개월 | D5: 대 | E5: =일위대가!F29 -> 54393 | F5: =일위대가!H29 -> 156891 | G5: =일위대가!J29 -> 0 | H5: =E5+F5+G5 -> 211284 | I5: 호표 2 | M5: 공통 2-7-6, 2-2-5
A6: 5BAF2682B564B4A4FFB6495375EC39 | B6: 건축물현장정리 | C6: 청소 및 뒤정리 | D6: M2 | E6: =일위대가!F33 -> 0 | F6: =일위대가!H33 -> 3441 | G6: =일위대가!J33 -> 0 | H6: =E6+F6+G6 -> 3441 | I6: 호표 3 | M6: 공통 2-11-3 준용
A7: 5BAF2682B6743414F6467437F56090 | B7: 건축물보양 | C7: 보양지 붙이기 | D7: M2 | E7: =일위대가!F39 -> 1052 | F7: =일위대가!H39 -> 1720 | G7: =일위대가!J39 -> 0 | H7: =E7+F7+G7 -> 2772 | I7: 호표 4 | M7: 공통 2-11-1
A8: 5B8A167B93B440B437D62657255CD8 | B8: 인력굴착(토사) / 보통토사 | C8: H=1m 이하(구조물터파기, 흙깍기) | D8: M3 | E8: =일위대가!F43 -> 0 | F8: =일위대가!H43 -> 63314 | G8: =일위대가!J43 -> 0 | H8: =E8+F8+G8 -> 63314 | I8: 호표 5 | M8: 공통 3-1-2
A9: 5B8A167B93B440B435264CBC752D17 | B9: 잔토처리 | C9: 인력(현장 내 소운반 깔고 고르기) | D9: M3 | E9: =일위대가!F47 -> 0 | F9: =일위대가!H47 -> 34413 | G9: =일위대가!J47 -> 0 | H9: =E9+F9+G9 -> 34413 | I9: 호표 6 | M9: 공통 3-1-2 [비고]
A10: 5B8A167611B4B804FC3630D6251A9E | B10: 되메우기 및 다짐 | C10: 소형장비 | D10: M3 | E10: =일위대가!F56 -> 1196 | F10: =일위대가!H56 -> 8228 | G10: =일위대가!J56 -> 1281 | H10: =E10+F10+G10 -> 10705 | I10: 호표 7 | M10: 공통 3-4-6
A11: 5B8A16773114554461961C9E2547A4 | B11: 기초 지정 | C11: 잡석지정 | D11: M3 | E11: =일위대가!F66 -> 1013 | F11: =일위대가!H66 -> 9632 | G11: =일위대가!J66 -> 1409 | H11: =E11+F11+G11 -> 12054 | I11: 호표 8 | M11: 공통 3-4-8
A12: 5BAF760EF274B1B489B60FB8C53471 | B12: 레디믹스트콘크리트 인력운반 타설 | C12: 철근구조물 | D12: M3 | E12: =일위대가!F72 -> 0 | F12: =일위대가!H72 -> 66841 | G12: =일위대가!J72 -> 1336 | H12: =E12+F12+G12 -> 68177 | I12: 호표 9 | M12: 공통 6-1-1
A13: 5BAF760EF274B1B489B634FCB51B3B | B13: 레디믹스트콘크리트 인력운반 타설 | C13: 무근구조물 | D13: M3 | E13: =일위대가!F78 -> 0 | F13: =일위대가!H78 -> 57929 | G13: =일위대가!J78 -> 1158 | H13: =E13+F13+G13 -> 59087 | I13: 호표 10 | M13: 공통 6-1-1
A14: 5BAF760975E43EA4599641D5A591AA | B14: 유로폼 설치 및 해체 | C14: 6회, 간단, 수직고 7m까지 | D14: M2 | E14: =일위대가!F83 -> 3318 | F14: =일위대가!H83 -> 31880 | G14: =일위대가!J83 -> 956 | H14: =E14+F14+G14 -> 36154 | I14: 호표 11 | M14: 공통 6-3-3
A15: 5BAF760975E43EA450B67D2325F440 | B15: 문양거푸집 설치 및 해체 | C15: 송판무늬 | D15: M2 | E15: =일위대가!F94 -> 33260 | F15: =일위대가!H94 -> 38940 | G15: =일위대가!J94 -> 0 | H15: =E15+F15+G15 -> 72200 | I15: 호표 12
A16: 5BAF760A17E4CA04F126F46D75A378 | B16: 철근 현장조립 | C16: Type-Ⅰ, 소량(0.5ton 미만), 1.7ton/일당 | D16: 일당 | E16: =일위대가!F101 -> 17005 | F16: =일위대가!H101 -> 1953258 | G16: =일위대가!J101 -> 39065 | H16: =E16+F16+G16 -> 2009328 | I16: 호표 13 | M16: 공통 6-2-3
A17: 5BAF6627BAF4D4141C066740551BF0 | B17: 사육장경량바닥틀제작설치(하부구조물/좌) | C17: 4600*6246*H400, 각관50*50*T2.3mm | D17: 개소 | E17: =일위대가!F107 -> 371648 | F17: =일위대가!H107 -> 2149402 | G17: =일위대가!J107 -> 107392 | H17: =E17+F17+G17 -> 2628442 | I17: 호표 14
A18: 5BAF6627BAF4D4141C066740551B84 | B18: 사육장경량바닥틀제작설치(상부구조물/좌) | C18: 4600*6246*H400, 각관50*50*T2.3mm | D18: 개소 | E18: =일위대가!F113 -> 479384 | F18: =일위대가!H113 -> 2772472 | G18: =일위대가!J113 -> 138523 | H18: =E18+F18+G18 -> 3390379 | I18: 호표 15
A19: 5BAF6627BAF4D4141C066740551824 | B19: 사육장경량바닥틀제작설치(하부구조물/우) | C19: 4767*6085*H500, 각관50*50*T2.3mm | D19: 개소 | E19: =일위대가!F119 -> 366198 | F19: =일위대가!H119 -> 2117879 | G19: =일위대가!J119 -> 105817 | H19: =E19+F19+G19 -> 2589894 | I19: 호표 16
A20: 5BAF6627BAF4D4141C066740551850 | B20: 사육장경량바닥틀제작설치(상부구조물/우) | C20: 4767*6085*H500, 각관50*50*T2.3mm | D20: 개소 | E20: =일위대가!F125 -> 317954 | F20: =일위대가!H125 -> 1838857 | G20: =일위대가!J125 -> 91876 | H20: =E20+F20+G20 -> 2248687 | I20: 호표 17
A21: 5BAFA6BDF424BFB40186CC6E85B5AC | B21: 바닥합판 깔기 | C21: 방수합판 12T | D21: M2 | E21: =일위대가!F131 -> 12186 | F21: =일위대가!H131 -> 8281 | G21: =일위대가!J131 -> 331 | H21: =E21+F21+G21 -> 20798 | I21: 호표 18
A22: 5BAFC684D944E5B432D6F28325327D | B22: 목조칸막이 제작설치 | C22: W108mm, 목재틀60*30+내수합판12t 2겹+석고12.5t 2겹 | D22: M2 | E22: =일위대가!F137 -> 37858 | F22: =일위대가!H137 -> 61187 | G22: =일위대가!J137 -> 1070 | H22: =E22+F22+G22 -> 100115 | I22: 호표 19
A23: 5BAFC684D944E5B432D6F28325327F | B23: 목조칸막이 제작설치 | C23: W108mm, 목재틀60*30+석고12.5t 2겹양면 | D23: M2 | E23: =일위대가!F142 -> 23833 | F23: =일위대가!H142 -> 39909 | G23: =일위대가!J142 -> 494 | H23: =E23+F23+G23 -> 64236 | I23: 호표 20
A24: 5BAFC684D944E5B432D6F283253279 | B24: 목조칸막이 제작설치 | C24: W108mm, 목재틀60*30+내수합판12t 2겹양면 | D24: M2 | E24: =일위대가!F147 -> 51883 | F24: =일위대가!H147 -> 82465 | G24: =일위대가!J147 -> 1646 | H24: =E24+F24+G24 -> 135994 | I24: 호표 21
A25: 5BAE36028E846B444656C808351948 | B25: 사육장오두막제작설치 | C25: 1830*1830*H1818, 방부목+합성데크+지붕짚단 | D25: 개소 | E25: =일위대가!F155 -> 5554500 | F25: =일위대가!H155 -> 796380 | G25: =일위대가!J155 -> 23891 | H25: =E25+F25+G25 -> 6374771 | I25: 호표 22
A26: 5BAFB6A5D434EC9443F6A077F5EC58 | B26: 수밀코킹(실리콘) | C26: 삼각, 10mm, 창호주위 | D26: M | E26: =일위대가!F160 -> 599 | F26: =일위대가!H160 -> 5228 | G26: =일위대가!J160 -> 0 | H26: =E26+F26+G26 -> 5827 | I26: 호표 23 | M26: 건축 6-6-1
A27: 5BAF96561FE498E491269F99C511CE | B27: 스테인리스핸드레일(충돌방지) | C27: D76.3*1.5t, H:900 | D27: M | E27: =일위대가!F168 -> 33814 | F27: =일위대가!H168 -> 38624 | G27: =일위대가!J168 -> 788 | H27: =E27+F27+G27 -> 73226 | I27: 호표 24
A28: 5BAF96561FE498E491269F99C511BA | B28: 스테인리스핸드레일(유리난간) | C28: 스텐평철+강화유리12T, H:1050 | D28: M | E28: =일위대가!F179 -> 111712 | F28: =일위대가!H179 -> 103546 | G28: =일위대가!J179 -> 1502 | H28: =E28+F28+G28 -> 216760 | I28: 호표 25
A29: 5BAF96561FE498E491269F99C511BF | B29: 스테인리스핸드레일(유리난간) | C29: 스텐평철+강화유리12T, H:1775 | D29: M | E29: =일위대가!F190 -> 167283 | F29: =일위대가!H190 -> 152983 | G29: =일위대가!J190 -> 1991 | H29: =E29+F29+G29 -> 322257 | I29: 호표 26
A30: 5BAF96561FE498E496A6BF32E55C1A | B30: 배너거치대제작설치 | C30: W500*H800, 스텐각관20*20+30*30 | D30: 개소 | E30: =일위대가!F197 -> 17852 | F30: =일위대가!H197 -> 19578 | G30: =일위대가!J197 -> 783 | H30: =E30+F30+G30 -> 38213 | I30: 호표 27
A31: 5BAF9652A1C48824E0167B3835E1CA | B31: 스테인리스점검구 | C31: 바닥, T=3.0, 400*400 | D31: 개 | E31: =일위대가!F205 -> 21521 | F31: =일위대가!H205 -> 34721 | G31: =일위대가!J205 -> 1054 | H31: =E31+F31+G31 -> 57296 | I31: 호표 28
A32: 5BAFF63886C4DD04F3267DC255FA42 | B32: 창문틀 주위 충전 | C32: 발포우레탄 충전 | D32: M | E32: =일위대가!F211 -> 2250 | F32: =일위대가!H211 -> 2734 | G32: =일위대가!J211 -> 0 | H32: =E32+F32+G32 -> 4984 | I32: 호표 29 | M32: 건축 9-3-2
A33: 5BAFF63F31842FF42EF61F94355415 | B33: S1[1.개선공사] | C33: 2.200 x 2.000 = 4.400 | D33: EA | E33: =일위대가!F217 -> 139052 | F33: =일위대가!H217 -> 304256 | G33: =일위대가!J217 -> 13518 | H33: =E33+F33+G33 -> 456826 | I33: 호표 30
A34: 5BAFF63F31842FF42EF61F94355417 | B34: S2[1.개선공사] | C34: 0.400 x 1.500 = 0.600 | D34: EA | E34: =일위대가!F223 -> 62498 | F34: =일위대가!H223 -> 136751 | G34: =일위대가!J223 -> 6076 | H34: =E34+F34+G34 -> 205325 | I34: 호표 31
A35: 5BAFF63F31842FF42EF61F94355410 | B35: S2A[1.개선공사] | C35: 0.400 x 1.400 = 0.560 | D35: EA | E35: =일위대가!F229 -> 59223 | F35: =일위대가!H229 -> 129585 | G35: =일위대가!J229 -> 5757 | H35: =E35+F35+G35 -> 194565 | I35: 호표 32
A36: 5BAFF63F31842FF42EF61F94355411 | B36: S3[1.개선공사] | C36: 4.000 x 2.400 = 9.600 | D36: EA | E36: =일위대가!F236 -> 107784 | F36: =일위대가!H236 -> 292310 | G36: =일위대가!J236 -> 13800 | H36: =E36+F36+G36 -> 413894 | I36: 호표 33
A37: 5BAFF63F31842FF42EF61F94355413 | B37: S4[1.개선공사] | C37: 4.000 x 1.700 = 6.800 | D37: EA | E37: =일위대가!F242 -> 179582 | F37: =일위대가!H242 -> 392936 | G37: =일위대가!J242 -> 17457 | H37: =E37+F37+G37 -> 589975 | I37: 호표 34
A38: 5BAFF63F31842FF42EF61F9435541D | B38: S5[1.개선공사] | C38: 4.000 x 2.400 = 9.600 | D38: EA | E38: =일위대가!F249 -> 2068715 | F38: =일위대가!H249 -> 1079811 | G38: =일위대가!J249 -> 26057 | H38: =E38+F38+G38 -> 3174583 | I38: 호표 35
A39: 5BAFF63F31842FF42EF61F9435553B | B39: S6[1.개선공사] | C39: 1.515 x 0.950 = 1.439 | D39: EA | E39: =일위대가!F256 -> 1051292 | F39: =일위대가!H256 -> 789156 | G39: =일위대가!J256 -> 17548 | H39: =E39+F39+G39 -> 1857996 | I39: 호표 36
A40: 5BAFF63F31842FF42EF61F9435553F | B40: SWD01[1.개선공사] | C40: 1.100 x 2.100 = 2.310 | D40: EA | E40: =일위대가!F264 -> 678745 | F40: =일위대가!H264 -> 96044 | G40: =일위대가!J264 -> 2957 | H40: =E40+F40+G40 -> 777746 | I40: 호표 37
...

Sheet 일위대가
A1: [ CITES동물보호시설전시공간개선설계용역 ]
A2: 품 명 | B2: 규 격 | C2: 단위 | D2: 수량 | E2: 재 료 비 | G2: 노 무 비 | I2: 경 비 | K2: 합 계 | M2: 비 고 | N2: 일위대가 | O2: 품목코드 | P2: 일위 | Q2: 단산 | R2: 자재 | S2: 손료적용 | T2: 손료저장 | U2: 적용율 | V2: JUK1 | W2: JUK2 | X2: JUK3 | Y2: JUK4 | Z2: JUK5 | AA2: JUK6 | AB2: JUK7 | AC2: JUK8 | AD2: JUK9 | AE2: JUK10 | AF2: JUK11 | AG2: JUK12 | AH2: JUK13 | AI2: JUK14 | AJ2: JUK15 | AK2: JUK16 | AL2: JUK17 | AM2: JUK18 | AN2: JUK19 | AO2: JUK20 | AP2: 할증적용 | AQ2: 할증저장 | AR2: 할증율 | AS2: HAL1 | AT2: HAL2 | AU2: HAL3 | AV2: 자재구분 | AW2: 일위대가+자재 | AX2: 장비일위 | AY2: 설정 | AZ2: 할증체크
E3: 단 가 | F3: 금 액 | G3: 단 가 | H3: 금 액 | I3: 단 가 | J3: 금 액 | K3: 단 가 | L3: 금 액
A4: 강관 조립말비계(이동식)설치 및 해체 높이 2m, 3개월 대 공통 2-7-6, 2-2-5 ( 호표 1 ) | N4: 5BAF268735F4B2A427F6A1E455D185
A5: 비계안정장치 | B5: 비계안정장치, 비계기본틀, 기둥, 1.2*1.7m | C5: 개 | D5: 0.14 | E5: =단가대비표!O49 -> 28500 | F5: =TRUNC(E5*D5,1) -> 3990 | G5: =단가대비표!P49 -> 0 | H5: =TRUNC(G5*D5,1) -> 0 | I5: =단가대비표!V49 -> 0 | J5: =TRUNC(I5*D5,1) -> 0 | K5: =TRUNC(E5+G5+I5,1) -> 28500 | L5: =TRUNC(F5+H5+J5,1) -> 3990 | N5: 5BAF268735F4B2A427F6A1E455D185 | O5: 5C8616860984C6849BA6A44FD583CD0953A828 | P5: F | Q5: F | R5: T | AW5: 5BAF268735F4B2A427F6A1E455D1855C8616860984C6849BA6A44FD583CD0953A828
A6: 비계안정장치 | B6: 비계안정장치, 가새, 1.2*1.9m | C6: 개 | D6: 0.14 | E6: =단가대비표!O50 -> 9500 | F6: =TRUNC(E6*D6,1) -> 1330 | G6: =단가대비표!P50 -> 0 | H6: =TRUNC(G6*D6,1) -> 0 | I6: =단가대비표!V50 -> 0 | J6: =TRUNC(I6*D6,1) -> 0 | K6: =TRUNC(E6+G6+I6,1) -> 9500 | L6: =TRUNC(F6+H6+J6,1) -> 1330 | N6: 5BAF268735F4B2A427F6A1E455D185 | O6: 5C8616860984C6849BA6A44FD583CD0953A826 | P6: F | Q6: F | R6: T | AW6: 5BAF268735F4B2A427F6A1E455D1855C8616860984C6849BA6A44FD583CD0953A826
A7: 비계안정장치 | B7: 비계안정장치, 수평띠장, 1829mm | C7: 개 | D7: 0.28 | E7: =단가대비표!O51 -> 25000 | F7: =TRUNC(E7*D7,1) -> 7000 | G7: =단가대비표!P51 -> 0 | H7: =TRUNC(G7*D7,1) -> 0 | I7: =단가대비표!V51 -> 0 | J7: =TRUNC(I7*D7,1) -> 0 | K7: =TRUNC(E7+G7+I7,1) -> 25000 | L7: =TRUNC(F7+H7+J7,1) -> 7000 | N7: 5BAF268735F4B2A427F6A1E455D185 | O7: 5C8616860984C6849BA6A44FD583CD0953A70A | P7: F | Q7: F | R7: T | AW7: 5BAF268735F4B2A427F6A1E455D1855C8616860984C6849BA6A44FD583CD0953A70A
A8: 비계안정장치 | B8: 비계안정장치, 손잡이기둥 | C8: 개 | D8: 0.28 | E8: =단가대비표!O54 -> 25000 | F8: =TRUNC(E8*D8,1) -> 7000 | G8: =단가대비표!P54 -> 0 | H8: =TRUNC(G8*D8,1) -> 0 | I8: =단가대비표!V54 -> 0 | J8: =TRUNC(I8*D8,1) -> 0 | K8: =TRUNC(E8+G8+I8,1) -> 25000 | L8: =TRUNC(F8+H8+J8,1) -> 7000 | N8: 5BAF268735F4B2A427F6A1E455D185 | O8: 5C8616860984C6849BA6A44FD583CD0953A70D | P8: F | Q8: F | R8: T | AW8: 5BAF268735F4B2A427F6A1E455D1855C8616860984C6849BA6A44FD583CD0953A70D
A9: 비계안정장치 | B9: 비계안정장치, 손잡이, 1229mm | C9: 개 | D9: 0.14 | E9: =단가대비표!O52 -> 6000 | F9: =TRUNC(E9*D9,1) -> 840 | G9: =단가대비표!P52 -> 0 | H9: =TRUNC(G9*D9,1) -> 0 | I9: =단가대비표!V52 -> 0 | J9: =TRUNC(I9*D9,1) -> 0 | K9: =TRUNC(E9+G9+I9,1) -> 6000 | L9: =TRUNC(F9+H9+J9,1) -> 840 | N9: 5BAF268735F4B2A427F6A1E455D185 | O9: 5C8616860984C6849BA6A44FD583CD0953A70B | P9: F | Q9: F | R9: T | AW9: 5BAF268735F4B2A427F6A1E455D1855C8616860984C6849BA6A44FD583CD0953A70B
A10: 비계안정장치 | B10: 비계안정장치, 손잡이, 1829mm | C10: 개 | D10: 0.28 | E10: =단가대비표!O53 -> 8000 | F10: =TRUNC(E10*D10,1) -> 2240 | G10: =단가대비표!P53 -> 0 | H10: =TRUNC(G10*D10,1) -> 0 | I10: =단가대비표!V53 -> 0 | J10: =TRUNC(I10*D10,1) -> 0 | K10: =TRUNC(E10+G10+I10,1) -> 8000 | L10: =TRUNC(F10+H10+J10,1) -> 2240 | N10: 5BAF268735F4B2A427F6A1E455D185 | O10: 5C8616860984C6849BA6A44FD583CD0953A70C | P10: F | Q10: F | R10: T | AW10: 5BAF268735F4B2A427F6A1E455D1855C8616860984C6849BA6A44FD583CD0953A70C
A11: 비계안정장치 | B11: 비계안정장치, 바퀴 | C11: 개 | D11: 0.36 | E11: =단가대비표!O55 -> 9500 | F11: =TRUNC(E11*D11,1) -> 3420 | G11: =단가대비표!P55 -> 0 | H11: =TRUNC(G11*D11,1) -> 0 | I11: =단가대비표!V55 -> 0 | J11: =TRUNC(I11*D11,1) -> 0 | K11: =TRUNC(E11+G11+I11,1) -> 9500 | L11: =TRUNC(F11+H11+J11,1) -> 3420 | N11: 5BAF268735F4B2A427F6A1E455D185 | O11: 5C8616860984C6849BA6A44FD583CD0953A70E | P11: F | Q11: F | R11: T | AW11: 5BAF268735F4B2A427F6A1E455D1855C8616860984C6849BA6A44FD583CD0953A70E
A12: 비계안정장치 | B12: 비계안정장치, 쟈키 | C12: 개 | D12: 0.36 | E12: =단가대비표!O56 -> 11000 | F12: =TRUNC(E12*D12,1) -> 3960 | G12: =단가대비표!P56 -> 0 | H12: =TRUNC(G12*D12,1) -> 0 | I12: =단가대비표!V56 -> 0 | J12: =TRUNC(I12*D12,1) -> 0 | K12: =TRUNC(E12+G12+I12,1) -> 11000 | L12: =TRUNC(F12+H12+J12,1) -> 3960 | N12: 5BAF268735F4B2A427F6A1E455D185 | O12: 5C8616860984C6849BA6A44FD583CD0953A70F | P12: F | Q12: F | R12: T | AW12: 5BAF268735F4B2A427F6A1E455D1855C8616860984C6849BA6A44FD583CD0953A70F
A13: 비계안정장치 | B13: 비계안정장치, 발판, 40*200*2000 | C13: 장 | D13: 0.63 | E13: =단가대비표!O57 -> 18500 | F13: =TRUNC(E13*D13,1) -> 11655 | G13: =단가대비표!P57 -> 0 | H13: =TRUNC(G13*D13,1) -> 0 | I13: =단가대비표!V57 -> 0 | J13: =TRUNC(I13*D13,1) -> 0 | K13: =TRUNC(E13+G13+I13,1) -> 18500 | L13: =TRUNC(F13+H13+J13,1) -> 11655 | N13: 5BAF268735F4B2A427F6A1E455D185 | O13: 5C8616860984C6849BA6A44FF5B3F11D286920 | P13: F | Q13: F | R13: T | AW13: 5BAF268735F4B2A427F6A1E455D1855C8616860984C6849BA6A44FF5B3F11D286920
A14: 강관 조립말비계(이동식)설치 및 해체 | B14: 높이 2m, 노무비 | C14: 대 | D14: 1 | E14: =일위대가목록!E70 -> 0 | F14: =TRUNC(E14*D14,1) -> 0 | G14: =일위대가목록!F70 -> 94574 | H14: =TRUNC(G14*D14,1) -> 94574 | I14: =일위대가목록!G70 -> 0 | J14: =TRUNC(I14*D14,1) -> 0 | K14: =TRUNC(E14+G14+I14,1) -> 94574 | L14: =TRUNC(F14+H14+J14,1) -> 94574 | M14: 호표 67 | N14: 5BAF268735F4B2A427F6A1E455D185 | O14: 5BAF268735F4B2A427F6A1F6C5F8B2 | P14: T | Q14: F | R14: F | AW14: 5BAF268735F4B2A427F6A1E455D1855BAF268735F4B2A427F6A1F6C5F8B2
A15: [ 합 계 ] | F15: =TRUNC(SUMIF(N5:N14, N4, F5:F14),0) -> 41435 | H15: =TRUNC(SUMIF(N5:N14, N4, H5:H14),0) -> 94574 | J15: =TRUNC(SUMIF(N5:N14, N4, J5:J14),0) -> 0 | L15: =F15+H15+J15 -> 136009 | N15: TOTAL | O15: TOTAL
A17: 강관 조립말비계(이동식)설치 및 해체 높이 4m, 3개월 대 공통 2-7-6, 2-2-5 ( 호표 2 ) | N17: 5BAF268735F4B2A427F6A1DBE51C4A
A18: 비계안정장치 | B18: 비계안정장치, 비계기본틀, 기둥, 1.2*1.7m | C18: 개 | D18: 0.28 | E18: =단가대비표!O49 -> 28500 | F18: =TRUNC(E18*D18,1) -> 7980 | G18: =단가대비표!P49 -> 0 | H18: =TRUNC(G18*D18,1) -> 0 | I18: =단가대비표!V49 -> 0 | J18: =TRUNC(I18*D18,1) -> 0 | K18: =TRUNC(E18+G18+I18,1) -> 28500 | L18: =TRUNC(F18+H18+J18,1) -> 7980 | N18: 5BAF268735F4B2A427F6A1DBE51C4A | O18: 5C8616860984C6849BA6A44FD583CD0953A828 | P18: F | Q18: F | R18: T | AW18: 5BAF268735F4B2A427F6A1DBE51C4A5C8616860984C6849BA6A44FD583CD0953A828
A19: 비계안정장치 | B19: 비계안정장치, 가새, 1.2*1.9m | C19: 개 | D19: 0.28 | E19: =단가대비표!O50 -> 9500 | F19: =TRUNC(E19*D19,1) -> 2660 | G19: =단가대비표!P50 -> 0 | H19: =TRUNC(G19*D19,1) -> 0 | I19: =단가대비표!V50 -> 0 | J19: =TRUNC(I19*D19,1) -> 0 | K19: =TRUNC(E19+G19+I19,1) -> 9500 | L19: =TRUNC(F19+H19+J19,1) -> 2660 | N19: 5BAF268735F4B2A427F6A1DBE51C4A | O19: 5C8616860984C6849BA6A44FD583CD0953A826 | P19: F | Q19: F | R19: T | AW19: 5BAF268735F4B2A427F6A1DBE51C4A5C8616860984C6849BA6A44FD583CD0953A826
A20: 비계안정장치 | B20: 비계안정장치, 수평띠장, 1829mm | C20: 개 | D20: 0.56 | E20: =단가대비표!O51 -> 25000 | F20: =TRUNC(E20*D20,1) -> 14000 | G20: =단가대비표!P51 -> 0 | H20: =TRUNC(G20*D20,1) -> 0 | I20: =단가대비표!V51 -> 0 | J20: =TRUNC(I20*D20,1) -> 0 | K20: =TRUNC(E20+G20+I20,1) -> 25000 | L20: =TRUNC(F20+H20+J20,1) -> 14000 | N20: 5BAF268735F4B2A427F6A1DBE51C4A | O20: 5C8616860984C6849BA6A44FD583CD0953A70A | P20: F | Q20: F | R20: T | AW20: 5BAF268735F4B2A427F6A1DBE51C4A5C8616860984C6849BA6A44FD583CD0953A70A
A21: 비계안정장치 | B21: 비계안정장치, 손잡이기둥 | C21: 개 | D21: 0.28 | E21: =단가대비표!O54 -> 25000 | F21: =TRUNC(E21*D21,1) -> 7000 | G21: =단가대비표!P54 -> 0 | H21: =TRUNC(G21*D21,1) -> 0 | I21: =단가대비표!V54 -> 0 | J21: =TRUNC(I21*D21,1) -> 0 | K21: =TRUNC(E21+G21+I21,1) -> 25000 | L21: =TRUNC(F21+H21+J21,1) -> 7000 | N21: 5BAF268735F4B2A427F6A1DBE51C4A | O21: 5C8616860984C6849BA6A44FD583CD0953A70D | P21: F | Q21: F | R21: T | AW21: 5BAF268735F4B2A427F6A1DBE51C4A5C8616860984C6849BA6A44FD583CD0953A70D
A22: 비계안정장치 | B22: 비계안정장치, 손잡이, 1229mm | C22: 개 | D22: 0.14 | E22: =단가대비표!O52 -> 6000 | F22: =TRUNC(E22*D22,1) -> 840 | G22: =단가대비표!P52 -> 0 | H22: =TRUNC(G22*D22,1) -> 0 | I22: =단가대비표!V52 -> 0 | J22: =TRUNC(I22*D22,1) -> 0 | K22: =TRUNC(E22+G22+I22,1) -> 6000 | L22: =TRUNC(F22+H22+J22,1) -> 840 | N22: 5BAF268735F4B2A427F6A1DBE51C4A | O22: 5C8616860984C6849BA6A44FD583CD0953A70B | P22: F | Q22: F | R22: T | AW22: 5BAF268735F4B2A427F6A1DBE51C4A5C8616860984C6849BA6A44FD583CD0953A70B
A23: 비계안정장치 | B23: 비계안정장치, 손잡이, 1829mm | C23: 개 | D23: 0.28 | E23: =단가대비표!O53 -> 8000 | F23: =TRUNC(E23*D23,1) -> 2240 | G23: =단가대비표!P53 -> 0 | H23: =TRUNC(G23*D23,1) -> 0 | I23: =단가대비표!V53 -> 0 | J23: =TRUNC(I23*D23,1) -> 0 | K23: =TRUNC(E23+G23+I23,1) -> 8000 | L23: =TRUNC(F23+H23+J23,1) -> 2240 | N23: 5BAF268735F4B2A427F6A1DBE51C4A | O23: 5C8616860984C6849BA6A44FD583CD0953A70C | P23: F | Q23: F | R23: T | AW23: 5BAF268735F4B2A427F6A1DBE51C4A5C8616860984C6849BA6A44FD583CD0953A70C
A24: 비계안정장치 | B24: 비계안정장치, 이음철물, 연결핀 | C24: 개 | D24: 0.48 | E24: =단가대비표!O48 -> 1330 | F24: =TRUNC(E24*D24,1) -> 638.4 | G24: =단가대비표!P48 -> 0 | H24: =TRUNC(G24*D24,1) -> 0 | I24: =단가대비표!V48 -> 0 | J24: =TRUNC(I24*D24,1) -> 0 | K24: =TRUNC(E24+G24+I24,1) -> 1330 | L24: =TRUNC(F24+H24+J24,1) -> 638.4 | N24: 5BAF268735F4B2A427F6A1DBE51C4A | O24: 5C8616860984C6849BA6A44FD583CD0953AADB | P24: F | Q24: F | R24: T | AW24: 5BAF268735F4B2A427F6A1DBE51C4A5C8616860984C6849BA6A44FD583CD0953AADB
A25: 비계안정장치 | B25: 비계안정장치, 바퀴 | C25: 개 | D25: 0.36 | E25: =단가대비표!O55 -> 9500 | F25: =TRUNC(E25*D25,1) -> 3420 | G25: =단가대비표!P55 -> 0 | H25: =TRUNC(G25*D25,1) -> 0 | I25: =단가대비표!V55 -> 0 | J25: =TRUNC(I25*D25,1) -> 0 | K25: =TRUNC(E25+G25+I25,1) -> 9500 | L25: =TRUNC(F25+H25+J25,1) -> 3420 | N25: 5BAF268735F4B2A427F6A1DBE51C4A | O25: 5C8616860984C6849BA6A44FD583CD0953A70E | P25: F | Q25: F | R25: T | AW25: 5BAF268735F4B2A427F6A1DBE51C4A5C8616860984C6849BA6A44FD583CD0953A70E
A26: 비계안정장치 | B26: 비계안정장치, 쟈키 | C26: 개 | D26: 0.36 | E26: =단가대비표!O56 -> 11000 | F26: =TRUNC(E26*D26,1) -> 3960 | G26: =단가대비표!P56 -> 0 | H26: =TRUNC(G26*D26,1) -> 0 | I26: =단가대비표!V56 -> 0 | J26: =TRUNC(I26*D26,1) -> 0 | K26: =TRUNC(E26+G26+I26,1) -> 11000 | L26: =TRUNC(F26+H26+J26,1) -> 3960 | N26: 5BAF268735F4B2A427F6A1DBE51C4A | O26: 5C8616860984C6849BA6A44FD583CD0953A70F | P26: F | Q26: F | R26: T | AW26: 5BAF268735F4B2A427F6A1DBE51C4A5C8616860984C6849BA6A44FD583CD0953A70F
A27: 비계안정장치 | B27: 비계안정장치, 발판, 40*200*2000 | C27: 장 | D27: 0.63 | E27: =단가대비표!O57 -> 18500 | F27: =TRUNC(E27*D27,1) -> 11655 | G27: =단가대비표!P57 -> 0 | H27: =TRUNC(G27*D27,1) -> 0 | I27: =단가대비표!V57 -> 0 | J27: =TRUNC(I27*D27,1) -> 0 | K27: =TRUNC(E27+G27+I27,1) -> 18500 | L27: =TRUNC(F27+H27+J27,1) -> 11655 | N27: 5BAF268735F4B2A427F6A1DBE51C4A | O27: 5C8616860984C6849BA6A44FF5B3F11D286920 | P27: F | Q27: F | R27: T | AW27: 5BAF268735F4B2A427F6A1DBE51C4A5C8616860984C6849BA6A44FF5B3F11D286920
A28: 강관 조립말비계(이동식)설치 및 해체 | B28: 높이 4m, 노무비 | C28: 대 | D28: 1 | E28: =일위대가목록!E71 -> 0 | F28: =TRUNC(E28*D28,1) -> 0 | G28: =일위대가목록!F71 -> 156891 | H28: =TRUNC(G28*D28,1) -> 156891 | I28: =일위대가목록!G71 -> 0 | J28: =TRUNC(I28*D28,1) -> 0 | K28: =TRUNC(E28+G28+I28,1) -> 156891 | L28: =TRUNC(F28+H28+J28,1) -> 156891 | M28: 호표 68 | N28: 5BAF268735F4B2A427F6A1DBE51C4A | O28: 5BAF268735F4B2A427F6A1F6C5FB06 | P28: T | Q28: F | R28: F | AW28: 5BAF268735F4B2A427F6A1DBE51C4A5BAF268735F4B2A427F6A1F6C5FB06
A29: [ 합 계 ] | F29: =TRUNC(SUMIF(N18:N28, N17, F18:F28),0) -> 54393 | H29: =TRUNC(SUMIF(N18:N28, N17, H18:H28),0) -> 156891 | J29: =TRUNC(SUMIF(N18:N28, N17, J18:J28),0) -> 0 | L29: =F29+H29+J29 -> 211284 | N29: TOTAL | O29: TOTAL
A31: 건축물현장정리 청소 및 뒤정리 M2 공통 2-11-3 준용 ( 호표 3 ) | N31: 5BAF2682B564B4A4FFB6495375EC39
A32: 보통인부 | B32: 일반공사 직종 | C32: 인 | D32: 0.02 | E32: =단가대비표!O91 -> 0 | F32: =TRUNC(E32*D32,1) -> 0 | G32: =단가대비표!P91 -> 172068 | H32: =TRUNC(G32*D32,1) -> 3441.3 | I32: =단가대비표!V91 -> 0 | J32: =TRUNC(I32*D32,1) -> 0 | K32: =TRUNC(E32+G32+I32,1) -> 172068 | L32: =TRUNC(F32+H32+J32,1) -> 3441.3 | N32: 5BAF2682B564B4A4FFB6495375EC39 | O32: 5B7CF6C2A1242C643E264616F556D09CBBD198 | P32: F | Q32: F | R32: T | AW32: 5BAF2682B564B4A4FFB6495375EC395B7CF6C2A1242C643E264616F556D09CBBD198
A33: [ 합 계 ] | F33: =TRUNC(SUMIF(N32:N32, N31, F32:F32),0) -> 0 | H33: =TRUNC(SUMIF(N32:N32, N31, H32:H32),0) -> 3441 | J33: =TRUNC(SUMIF(N32:N32, N31, J32:J32),0) -> 0 | L33: =F33+H33+J33 -> 3441 | N33: TOTAL | O33: TOTAL
A35: 건축물보양 보양지 붙이기 M2 공통 2-11-1 ( 호표 4 ) | N35: 5BAF2682B6743414F6467437F56090
A36: 공통자재 | B36: 하드롱지 | C36: M2 | D36: 1.2 | E36: =단가대비표!O24 -> 408.35 | F36: =TRUNC(E36*D36,1) -> 490 | G36: =단가대비표!P24 -> 0 | H36: =TRUNC(G36*D36,1) -> 0 | I36: =단가대비표!V24 -> 0 | J36: =TRUNC(I36*D36,1) -> 0 | K36: =TRUNC(E36+G36+I36,1) -> 408.3 | L36: =TRUNC(F36+H36+J36,1) -> 490 | N36: 5BAF2682B6743414F6467437F56090 | O36: 5C90C6ED4704C7D48F1606F825E19A4FE9457D | P36: F | Q36: F | R36: T | AW36: 5BAF2682B6743414F6467437F560905C90C6ED4704C7D48F1606F825E19A4FE9457D
A37: 합성풀 | B37: 합성풀, 건설용 | C37: kg | D37: 0.06 | E37: =단가대비표!O68 -> 9376 | F37: =TRUNC(E37*D37,1) -> 562.5 | G37: =단가대비표!P68 -> 0 | H37: =TRUNC(G37*D37,1) -> 0 | I37: =단가대비표!V68 -> 0 | J37: =TRUNC(I37*D37,1) -> 0 | K37: =TRUNC(E37+G37+I37,1) -> 9376 | L37: =TRUNC(F37+H37+J37,1) -> 562.5 | N37: 5BAF2682B6743414F6467437F56090 | O37: 5C8606E26A34C814C2169CE5454B4CBE49D4F8 | P37: F | Q37: F | R37: T | AW37: 5BAF2682B6743414F6467437F560905C8606E26A34C814C2169CE5454B4CBE49D4F8
A38: 보통인부 | B38: 일반공사 직종 | C38: 인 | D38: 0.01 | E38: =단가대비표!O91 -> 0 | F38: =TRUNC(E38*D38,1) -> 0 | G38: =단가대비표!P91 -> 172068 | H38: =TRUNC(G38*D38,1) -> 1720.6 | I38: =단가대비표!V91 -> 0 | J38: =TRUNC(I38*D38,1) -> 0 | K38: =TRUNC(E38+G38+I38,1) -> 172068 | L38: =TRUNC(F38+H38+J38,1) -> 1720.6 | N38: 5BAF2682B6743414F6467437F56090 | O38: 5B7CF6C2A1242C643E264616F556D09CBBD198 | P38: F | Q38: F | R38: T | AW38: 5BAF2682B6743414F6467437F560905B7CF6C2A1242C643E264616F556D09CBBD198
A39: [ 합 계 ] | F39: =TRUNC(SUMIF(N36:N38, N35, F36:F38),0) -> 1052 | H39: =TRUNC(SUMIF(N36:N38, N35, H36:H38),0) -> 1720 | J39: =TRUNC(SUMIF(N36:N38, N35, J36:J38),0) -> 0 | L39: =F39+H39+J39 -> 2772 | N39: TOTAL | O39: TOTAL
A41: 인력굴착(토사) / 보통토사 H=1m 이하(구조물터파기, 흙깍기) M3 공통 3-1-2 ( 호표 5 ) | N41: 5B8A167B93B440B437D62657255CD8
A42: 특별인부 | B42: 일반공사 직종 | C42: 인 | D42: 0.28 | E42: =단가대비표!O92 -> 0 | F42: =TRUNC(E42*D42,1) -> 0 | G42: =단가대비표!P92 -> 226122 | H42: =TRUNC(G42*D42,1) -> 63314.1 | I42: =단가대비표!V92 -> 0 | J42: =TRUNC(I42*D42,1) -> 0 | K42: =TRUNC(E42+G42+I42,1) -> 226122 | L42: =TRUNC(F42+H42+J42,1) -> 63314.1 | N42: 5B8A167B93B440B437D62657255CD8 | O42: 5B7CF6C2A1242C643E264616F556D09CBBD199 | P42: F | Q42: F | R42: T | AW42: 5B8A167B93B440B437D62657255CD85B7CF6C2A1242C643E264616F556D09CBBD199
A43: [ 합 계 ] | F43: =TRUNC(SUMIF(N42:N42, N41, F42:F42),0) -> 0 | H43: =TRUNC(SUMIF(N42:N42, N41, H42:H42),0) -> 63314 | J43: =TRUNC(SUMIF(N42:N42, N41, J42:J42),0) -> 0 | L43: =F43+H43+J43 -> 63314 | N43: TOTAL | O43: TOTAL
A45: 잔토처리 인력(현장 내 소운반 깔고 고르기) M3 공통 3-1-2 [비고] ( 호표 6 ) | N45: 5B8A167B93B440B435264CBC752D17
...

Sheet 단가산출목록
B1: 단 가 산 출 목 록
B2: [ CITES동물보호시설전시공간개선설계용역 ]
A3: 코 드 | B3: 품 명 | C3: 규 격 | D3: 단위 | E3: 재 료 비 | F3: 노 무 비 | G3: 경 비 | H3: 합 계 | I3: 번 호 | J3: 비 고 | K3: START | L3: 품셈개요
A4: 5BAF169D2994CCC4F256D3CB455B2B | B4: 폐기물소운반 | C4: 인력소운반 L=30M | D4: 톤 | E4: =단가산출서!B29 -> 0 | F4: =단가산출서!C29 -> 52620 | G4: =단가산출서!D29 -> 0 | H4: =단가산출서!E29 -> 52620 | I4: 산근 1 | K4: 5BAF169D2994CCC4F256D3CB455B2B | L4: 공통 1-2-7
A5: 5B8B461E062457A477A62EBE75315A | B5: 보도용 블록 인력철거 | C5: A-TYPE: 공원, 단지내 보도 | D5: M2 | E5: =단가산출서!B54 -> 118 | F5: =단가산출서!C54 -> 3580 | G5: =단가산출서!D54 -> 144 | H5: =단가산출서!E54 -> 3842 | I5: 산근 2 | K5: 5B8B461E062457A477A62EBE75315A | L5: 토목 1-10-21

Sheet 단가산출서
A1: 단 가 산 출 서
A2: [ CITES동물보호시설전시공간개선설계용역 ]
A3: 산 출 내 역 | B3: 재 료 비 | C3: 노 무 비 | D3: 경 비 | E3: 합 계 | F3: 비 고 | G3: START | H3: 코드 | I3: 품명 | J3: 규격 | K3: 단위 | L3: 수량 | M3: 변수 | N3: 값 | O3: 소계 | P3: 소계 | Q3: 소계 | R3: 소계 | S3: 소계 | T3: 총계
A4: 폐기물소운반 인력소운반 L=30M 톤 공통 1-2-7 ( 산근 1 ) | G4: 5BAF169D2994CCC4F256D3CB455B2B | I4: 폐기물소운반 | J4: 인력소운반 L=30M | K4: 톤
G5: 5BAF169D2994CCC4F256D3CB455B2B | H5: C | L5: 1
B6: 0 | C6: 0 | D6: 0 | E6: 0 | G6: 5BAF169D2994CCC4F256D3CB455B2B | H6: C!
A7: 공통 1-2-7 | B7: 0 | C7: 0 | D7: 0 | E7: 0 | G7: 5BAF169D2994CCC4F256D3CB455B2B | H7: C! | I7: '공통 1-2-7'
B8: 0 | C8: 0 | D8: 0 | E8: 0 | G8: 5BAF169D2994CCC4F256D3CB455B2B | H8: C!
A9: 인력운반: L = 30M | B9: 0 | C9: 0 | D9: 0 | E9: 0 | G9: 5BAF169D2994CCC4F256D3CB455B2B | H9: C! | I9: '인력운반: L = 30M'
B10: 0 | C10: 0 | D10: 0 | E10: 0 | G10: 5BAF169D2994CCC4F256D3CB455B2B | H10: C!
A11: L 운반거리(M) = 30 | B11: 0 | C11: 0 | D11: 0 | E11: 0 | G11: 5BAF169D2994CCC4F256D3CB455B2B | H11: C! | I11: L '운반거리(M)' = 30
B12: 0 | C12: 0 | D12: 0 | E12: 0 | G12: 5BAF169D2994CCC4F256D3CB455B2B | H12: C!
A13: T1 1일 실작업시간(480분-30분간) = 480 - 30 = 450 | B13: 0 | C13: 0 | D13: 0 | E13: 0 | G13: 5BAF169D2994CCC4F256D3CB455B2B | H13: C! | I13: T1'1일 실작업시간(480분-30분간)' = 480 - 30 = ?
B14: 0 | C14: 0 | D14: 0 | E14: 0 | G14: 5BAF169D2994CCC4F256D3CB455B2B | H14: C!
A15: T2 적재적하소요시간(분) = 2 | B15: 0 | C15: 0 | D15: 0 | E15: 0 | G15: 5BAF169D2994CCC4F256D3CB455B2B | H15: C! | I15: T2'적재적하소요시간(분)' = 2
B16: 0 | C16: 0 | D16: 0 | E16: 0 | G16: 5BAF169D2994CCC4F256D3CB455B2B | H16: C!
A17: V 왕복평균속도(M/HR) = 2500 | B17: 0 | C17: 0 | D17: 0 | E17: 0 | G17: 5BAF169D2994CCC4F256D3CB455B2B | H17: C! | I17: V '왕복평균속도(m/hr)' = 2500
B18: 0 | C18: 0 | D18: 0 | E18: 0 | G18: 5BAF169D2994CCC4F256D3CB455B2B | H18: C!
A19: N 1일운반횟수(회) =(V*T1)/((120*L)+(V*T2))= 130.81 | B19: 0 | C19: 0 | D19: 0 | E19: 0 | G19: 5BAF169D2994CCC4F256D3CB455B2B | H19: C! | I19: N '1일운반횟수(회)' =(V*T1)/((120*L)+(V*T2))= ?
B20: 0 | C20: 0 | D20: 0 | E20: 0 | G20: 5BAF169D2994CCC4F256D3CB455B2B | H20: C!
A21: Q 1회운반량(KG) = 25 | B21: 0 | C21: 0 | D21: 0 | E21: 0 | G21: 5BAF169D2994CCC4F256D3CB455B2B | H21: C! | I21: q '1회운반량(KG)'= 25
B22: 0 | C22: 0 | D22: 0 | E22: 0 | G22: 5BAF169D2994CCC4F256D3CB455B2B | H22: C!
A23: Q 1일운반량(TON) = N*Q/1000 = 3.27 | B23: 0 | C23: 0 | D23: 0 | E23: 0 | G23: 5BAF169D2994CCC4F256D3CB455B2B | H23: C! | I23: Q '1일운반량(TON)'= N*q/1000 = ?
B24: 0 | C24: 0 | D24: 0 | E24: 0 | G24: 5BAF169D2994CCC4F256D3CB455B2B | H24: C!
B25: 0 | C25: 0 | D25: 0 | E25: 0 | G25: 5BAF169D2994CCC4F256D3CB455B2B | H25: C!
A26: 172068 인 /Q = 52620.1 | B26: 0 | C26: 52620.1 | D26: 0 | E26: 52620.1 | G26: 5BAF169D2994CCC4F256D3CB455B2B | H26: C! | I26: ~L001010101000002.T~'인'/Q = ?LA+
B27: 0 | C27: 0 | D27: 0 | E27: 0 | G27: 5BAF169D2994CCC4F256D3CB455B2B | H27: C!
A28: 소 계 | B28: 0 | C28: 52620.1 | D28: 0 | E28: 52620.1 | G28: 5BAF169D2994CCC4F256D3CB455B2B | H28: C! | I28: >'소 계'
A29: 총 계 | B29: 0 | C29: 52620 | D29: 0 | E29: 52620
A31: 보도용 블록 인력철거 A-TYPE: 공원, 단지내 보도 M2 토목 1-10-21 ( 산근 2 ) | G31: 5B8B461E062457A477A62EBE75315A | I31: 보도용 블록 인력철거 | J31: A-TYPE: 공원, 단지내 보도 | K31: M2
G32: 5B8B461E062457A477A62EBE75315A | H32: C | L32: 1
B33: 0 | C33: 0 | D33: 0 | E33: 0 | G33: 5B8B461E062457A477A62EBE75315A | H33: C!
A34: Q1 1일시공량(M2/일) =360 | B34: 0 | C34: 0 | D34: 0 | E34: 0 | G34: 5B8B461E062457A477A62EBE75315A | H34: C! | I34: q1'1일시공량(M2/일)' =360
A35: Q 시간당 작업량(M2/HR) =Q1/8= 45 | B35: 0 | C35: 0 | D35: 0 | E35: 0 | G35: 5B8B461E062457A477A62EBE75315A | H35: C! | I35: Q '시간당 작업량(M2/HR)' =q1/8=?
B36: 0 | C36: 0 | D36: 0 | E36: 0 | G36: 5B8B461E062457A477A62EBE75315A | H36: C!
A37: ◈배치인원 | B37: 0 | C37: 0 | D37: 0 | E37: 0 | G37: 5B8B461E062457A477A62EBE75315A | H37: C! | I37: '◈배치인원'
A38: [1]=0, [2]=0 | B38: 0 | C38: 0 | D38: 0 | E38: 0 | G38: 5B8B461E062457A477A62EBE75315A | H38: C! | I38: [1]=0, [2]=0
B39: 0 | C39: 0 | D39: 0 | E39: 0 | G39: 5B8B461E062457A477A62EBE75315A | H39: C!
A40: 1.인력 | B40: 0 | C40: 0 | D40: 0 | E40: 0 | G40: 5B8B461E062457A477A62EBE75315A | H40: C! | I40: '1.인력'
A41: 포 장 공 2인/8HR*작업시간 | B41: 0 | C41: 0 | D41: 0 | E41: 0 | G41: 5B8B461E062457A477A62EBE75315A | H41: C! | I41: '포 장 공 2인/8HR*작업시간'
...

Sheet 단가대비표
A1: 단 가 대 비 표
A2: [ CITES동물보호시설전시공간개선설계용역 ]
A3: 코 드 | B3: 품 명 | C3: 규격 | D3: 단위 | E3: 재 료 비 | P3: 노 무 비 | Q3: 경 비 | W3: 번 호 | X3: 비 고 | Y3: 품목구분 | Z3: 노임구분 | AA3: 소수점처리 | AB3: 자재구분
E4: 조달청가격 | F4: PAGE | G4: 거래가격 | H4: PAGE | I4: 유통물가 | J4: PAGE | K4: 물가자료 | L4: PAGE | M4: 조사가격 | N4: PAGE | O4: 적용단가 | Q4: 조달청가격 | R4: 거래가격 | S4: 유통물가 | T4: 물가자료 | U4: 조사가격 | V4: 적용단가
A5: 5CB3566520C49224026606C1754A948EB5246C | B5: 굴착기(무한궤도) | C5: 0.2㎥ | D5: 대 | E5: 0 | G5: 0 | I5: 0 | K5: 0 | M5: 0 | O5: 0 | P5: 0 | Q5: 0 | R5: 0 | S5: 0 | T5: 0 | U5: 66538 | V5: =SMALL(Q5:U5,COUNTIF(Q5:U5,0)+1) -> 66538 | W5: 자재 1 | X5: 천원
A6: 5CB3566520C49264FDA6AE4F8569D91BEBE868 | B6: 덤프트럭 | C6: 2.5ton | D6: 대 | E6: 0 | G6: 0 | I6: 0 | K6: 0 | M6: 0 | O6: 0 | P6: 0 | Q6: 0 | R6: 0 | S6: 0 | T6: 0 | U6: 21982 | V6: =SMALL(Q6:U6,COUNTIF(Q6:U6,0)+1) -> 21982 | W6: 자재 2 | X6: 천원
A7: 5CB3566520C481A409B629FB15808269A4B88B | B7: 진동롤러(핸드가이드식) | C7: 0.7ton | D7: 대 | E7: 0 | G7: 0 | I7: 0 | K7: 0 | M7: 0 | O7: 0 | P7: 0 | Q7: 0 | R7: 0 | S7: 0 | T7: 0 | U7: 6966 | V7: =SMALL(Q7:U7,COUNTIF(Q7:U7,0)+1) -> 6966 | W7: 자재 3 | X7: 천원
A8: 5CB3566520C4CF64A296763765640F434B18BE | B8: 소형브레이커(전기식) | C8: 1.5kw | D8: 대 | E8: 0 | G8: 0 | I8: 0 | K8: 0 | M8: 0 | O8: 0 | P8: 0 | Q8: 0 | R8: 0 | S8: 0 | T8: 0 | U8: 1375 | V8: =SMALL(Q8:U8,COUNTIF(Q8:U8,0)+1) -> 1375 | W8: 자재 4 | X8: 천원
A9: 5CB3566520C4EA04A0B6FC87053773A15D8EBA | B9: 물탱크(살수차) | C9: 5500L | D9: 대 | E9: 0 | G9: 0 | I9: 0 | K9: 0 | M9: 0 | O9: 0 | P9: 0 | Q9: 0 | R9: 0 | S9: 0 | T9: 0 | U9: 47263 | V9: =SMALL(Q9:U9,COUNTIF(Q9:U9,0)+1) -> 47263 | W9: 자재 5 | X9: 천원
A10: 5CA2F61BFFD43F04DEC602DC55F1ED1DE8050F | B10: 잔디 | C10: 잔디, 한국형잔디, 0.4*0.1*0.015 | D10: M2 | E10: 0 | G10: 17000 | H10: 403 | I10: 0 | K10: 0 | M10: 0 | O10: =SMALL(E10:M10,COUNTIF(E10:M10,0)+1) -> 17000 | P10: 0 | Q10: 0 | R10: 0 | S10: 0 | T10: 0 | U10: 0 | V10: 0 | W10: 자재 6
A11: 5CA2E675171431B4A0E6E8E4C562DEEB9DBE2C | B11: 자갈 | C11: 자갈, 도착도, #467 | D11: M3 | E11: 0 | G11: 0 | I11: 0 | K11: 29000 | L11: 62 | M11: 0 | O11: =SMALL(E11:M11,COUNTIF(E11:M11,0)+1) -> 29000 | P11: 0 | Q11: 0 | R11: 0 | S11: 0 | T11: 0 | U11: 0 | V11: 0 | W11: 자재 7
A12: 5CA2E675171431B4A0E6E8E4C562DEEB9DB31E | B12: 자갈 | C12: (별도), 40mm, #467 | D12: M3 | E12: 0 | G12: 0 | I12: 0 | K12: 0 | M12: 0 | O12: 0 | P12: 0 | Q12: 0 | R12: 0 | S12: 0 | T12: 0 | U12: 0 | V12: 0 | W12: 자재 8 | X12: 별도
A13: 5CA2E675171431B4A8262C24E55974EE2C4492 | B13: 잡석 | C13: 잡석, 도착도, 지정용 | D13: M3 | E13: 0 | G13: 0 | I13: 0 | K13: 22000 | L13: 62 | M13: 0 | O13: =SMALL(E13:M13,COUNTIF(E13:M13,0)+1) -> 22000 | P13: 0 | Q13: 0 | R13: 0 | S13: 0 | T13: 0 | U13: 0 | V13: 0 | W13: 자재 9
A14: 5CA2E675171431B4A8262C24E55974EE2C45B4 | B14: 잡석 | C14: (별도) | D14: M3 | E14: 0 | G14: 0 | I14: 0 | K14: 0 | M14: 0 | O14: 0 | P14: 0 | Q14: 0 | R14: 0 | S14: 0 | T14: 0 | U14: 0 | V14: 0 | W14: 자재 10 | X14: 별도
A15: 5CA2E6751454C824E2B64EACC5D6B58101CA8E | B15: 내수합판 | C15: 내수합판, 1급, 12*1220*2440mm | D15: M2 | E15: 11268 | G15: 11287.28 | H15: 667 | I15: 11556.03 | J15: 407 | K15: 0 | M15: 0 | O15: =SMALL(E15:M15,COUNTIF(E15:M15,0)+1) -> 11268 | P15: 0 | Q15: 0 | R15: 0 | S15: 0 | T15: 0 | U15: 0 | V15: 0 | W15: 자재 11
A16: 5CA2E6751454C824E2B6697815746C23B3E69D | B16: 중밀도섬유판 | C16: 중밀도섬유판, 9.0*1220*2440mm | D16: M2 | E16: 4683 | G16: 5811.6 | H16: 668 | I16: 4837.4 | J16: 409 | K16: 0 | M16: 0 | O16: =SMALL(E16:M16,COUNTIF(E16:M16,0)+1) -> 4683 | P16: 0 | Q16: 0 | R16: 0 | S16: 0 | T16: 0 | U16: 0 | V16: 0 | W16: 자재 12
A17: 5CA2E6751F649F348B9667ABA593430702E93E | B17: 철강설 | C17: 철강설, 고철, 작업설부산물 | D17: 톤 | E17: 261250 | G17: 380000 | H17: 1472 | I17: 367000 | J17: 1198 | K17: 0 | M17: 0 | O17: =SMALL(E17:M17,COUNTIF(E17:M17,0)+1) -> 261250 | P17: 0 | Q17: 0 | R17: 0 | S17: 0 | T17: 0 | U17: 0 | V17: 0 | W17: 자재 13 | X17: 수집상차도
A18: 5CA2E6751F649F348B9667ABA593430702E93D | B18: 철강설 | C18: 철강설, 고철, 작업설부산물 | D18: kg | E18: 261 | G18: 380 | H18: 1472 | I18: 367 | J18: 1198 | K18: 0 | M18: 0 | O18: =SMALL(E18:M18,COUNTIF(E18:M18,0)+1) -> 261 | P18: 0 | Q18: 0 | R18: 0 | S18: 0 | T18: 0 | U18: 0 | V18: 0 | W18: 자재 14 | X18: 수집상차도
A19: 5CA2E6751F649F348B9667ABA593430702E818 | B19: 철강설 | C19: 철강설, 스텐레스, 작업설부산물 | D19: kg | E19: 1377.5 | G19: 1850 | H19: 1472 | I19: 1750 | J19: 1198 | K19: 0 | M19: 0 | O19: =SMALL(E19:M19,COUNTIF(E19:M19,0)+1) -> 1377.5 | P19: 0 | Q19: 0 | R19: 0 | S19: 0 | T19: 0 | U19: 0 | V19: 0 | W19: 자재 15 | X19: 수집상차도
A20: 5CA2D66C73045B3497E6D2E6B535942BA7088D | B20: 산소가스 | C20: 산소가스, 6000L | D20: 병 | E20: 0 | G20: 25000 | H20: 1451 | I20: 20000 | J20: 1190 | K20: 0 | M20: 0 | O20: =SMALL(E20:M20,COUNTIF(E20:M20,0)+1) -> 20000 | P20: 0 | Q20: 0 | R20: 0 | S20: 0 | T20: 0 | U20: 0 | V20: 0 | W20: 자재 16 | X20: 대기압상태기준
A21: 5CA2D66C7F34433409A67F39D5FFC29982B543 | B21: 박리제 | C21: 박리제, 목재용, 수성 | D21: L | E21: 1125 | G21: 2050 | H21: 172 | I21: 1250 | J21: 85 | K21: 0 | M21: 0 | O21: =SMALL(E21:M21,COUNTIF(E21:M21,0)+1) -> 1125 | P21: 0 | Q21: 0 | R21: 0 | S21: 0 | T21: 0 | U21: 0 | V21: 0 | W21: 자재 17
A22: 5CA2A69898D4E9F46446D09D55FC21B7268256 | B22: 경유 | C22: 경유, 저유황 | D22: L | E22: 1334 | G22: 1473.63 | H22: 1451 | I22: 1480.9 | J22: 1189 | K22: 0 | M22: 0 | O22: =SMALL(E22:M22,COUNTIF(E22:M22,0)+1) -> 1334 | P22: 0 | Q22: 0 | R22: 0 | S22: 0 | T22: 0 | U22: 0 | V22: 0 | W22: 자재 18
A23: 5CA2A69899E47BC462A68343B5CBF460C2721A | B23: 아세틸렌가스 | C23: 아세틸렌가스, kg | D23: kg | E23: 15213 | G23: 52000 | H23: 1451 | I23: 30000 | J23: 1190 | K23: 0 | M23: 0 | O23: =SMALL(E23:M23,COUNTIF(E23:M23,0)+1) -> 15213 | P23: 0 | Q23: 0 | R23: 0 | S23: 0 | T23: 0 | U23: 0 | V23: 0 | W23: 자재 19
A24: 5C90C6ED4704C7D48F1606F825E19A4FE9457D | B24: 공통자재 | C24: 하드롱지 | D24: M2 | E24: 470 | G24: 408.35 | H24: 692 | I24: 0 | K24: 0 | M24: 0 | O24: =SMALL(E24:M24,COUNTIF(E24:M24,0)+1) -> 408.35 | P24: 0 | Q24: 0 | R24: 0 | S24: 0 | T24: 0 | U24: 0 | V24: 0 | W24: 자재 20
A25: 5C861686009413F46D1670D6E5804CB475B125 | B25: 평강 | C25: 평강, STS304, 7∼30t*30∼150mm | D25: KG | E25: 0 | G25: 7350 | H25: 75 | I25: 6800 | J25: 40 | K25: 0 | M25: 0 | O25: =SMALL(E25:M25,COUNTIF(E25:M25,0)+1) -> 6800 | P25: 0 | Q25: 0 | R25: 0 | S25: 0 | T25: 0 | U25: 0 | V25: 0 | W25: 자재 21
A26: 5C861686009413F46C06571FF57CC7E2EF812C | B26: 철근콘크리트용봉강 | C26: 철근콘크리트용봉강, 이형봉강(SD400), HD-13, 지정장소도 | D26: 톤 | E26: 0 | G26: 890000 | H26: 49 | I26: 0 | K26: 965000 | L26: 2 | M26: 0 | O26: =SMALL(E26:M26,COUNTIF(E26:M26,0)+1) -> 890000 | P26: 0 | Q26: 0 | R26: 0 | S26: 0 | T26: 0 | U26: 0 | V26: 0 | W26: 자재 22
A27: 5C86168600942C2403160657D5C27E2BA84290 | B27: 일반구조용압연강판 | C27: 일반구조용압연강판, 1.6mm | D27: kg | E27: 877 | G27: 905.9 | H27: 63 | I27: 1378.5 | J27: 26 | K27: 0 | M27: 0 | O27: =SMALL(E27:M27,COUNTIF(E27:M27,0)+1) -> 877 | P27: 0 | Q27: 0 | R27: 0 | S27: 0 | T27: 0 | U27: 0 | V27: 0 | W27: 자재 23
A28: 5C86168600942C24031610CE85F5ED257CA475 | B28: 스테인리스강판 | C28: 스테인리스강판, STS304, 1.2mm | D28: kg | E28: 3610 | G28: 3850 | H28: 74 | I28: 3838 | J28: 36 | K28: 0 | M28: 0 | O28: =SMALL(E28:M28,COUNTIF(E28:M28,0)+1) -> 3610 | P28: 0 | Q28: 0 | R28: 0 | S28: 0 | T28: 0 | U28: 0 | V28: 0 | W28: 자재 24
A29: 5C86168600942C24031610CE85F5ED257CA7C8 | B29: 스테인리스강판 | C29: 스테인리스강판, STS304, 3.0mm | D29: kg | E29: 3650 | G29: 3700 | H29: 74 | I29: 4141 | J29: 36 | K29: 0 | M29: 0 | O29: =SMALL(E29:M29,COUNTIF(E29:M29,0)+1) -> 3650 | P29: 0 | Q29: 0 | R29: 0 | S29: 0 | T29: 0 | U29: 0 | V29: 0 | W29: 자재 25
A30: 5C86168600942C24031610CE85F5ED257D470D | B30: 스테인리스강판(후판) | C30: STS304, NO1, 9∼12mm | D30: kg | E30: 0 | G30: 4200 | H30: 74 | I30: 4242 | J30: 36 | K30: 0 | M30: 0 | O30: =SMALL(E30:M30,COUNTIF(E30:M30,0)+1) -> 4200 | P30: 0 | Q30: 0 | R30: 0 | S30: 0 | T30: 0 | U30: 0 | V30: 0 | W30: 자재 26
A31: 5C86168600942C24031610CE85F5ED2467D0C1 | B31: 스테인리스헤어라인판(STS 304) (HL) | C31: 스테인리스헤어라인판, 1.5mm, 대리점상차도 | D31: kg | E31: 0 | G31: 4440 | H31: 74 | I31: 4161 | J31: 36 | K31: 0 | M31: 0 | O31: =SMALL(E31:M31,COUNTIF(E31:M31,0)+1) -> 4161 | P31: 0 | Q31: 0 | R31: 0 | S31: 0 | T31: 0 | U31: 0 | V31: 0 | W31: 자재 27
A32: 5C86168600943E14DE26439055A36C4DDE8A53 | B32: 각재 | C32: 각재, 미송 | D32: 재 | E32: 2433 | G32: 2500 | H32: 148 | I32: 2358 | J32: 73 | K32: 0 | M32: 0 | O32: =SMALL(E32:M32,COUNTIF(E32:M32,0)+1) -> 2358 | P32: 0 | Q32: 0 | R32: 0 | S32: 0 | T32: 0 | U32: 0 | V32: 0 | W32: 자재 28
A33: 5C86168601B4610411D662525593DA52ED69B1 | B33: 레미콘 - 서천 | C33: 25-18-08 | D33: M3 | E33: 0 | G33: 0 | I33: 0 | K33: 93820 | L33: 71 | M33: 0 | O33: =SMALL(E33:M33,COUNTIF(E33:M33,0)+1) -> 93820 | P33: 0 | Q33: 0 | R33: 0 | S33: 0 | T33: 0 | U33: 0 | V33: 0 | W33: 자재 29
A34: 5C86168601B4610411D662525593DA52ED6763 | B34: 레미콘 - 서천 | C34: 25-24-15 | D34: M3 | E34: 0 | G34: 0 | I34: 0 | K34: 104620 | L34: 71 | M34: 0 | O34: =SMALL(E34:M34,COUNTIF(E34:M34,0)+1) -> 104620 | P34: 0 | Q34: 0 | R34: 0 | S34: 0 | T34: 0 | U34: 0 | V34: 0 | W34: 자재 30
A35: 5C86168601B461D4E1067F2395B59C4986D8C8 | B35: FRP방수시공 | C35: 3PLY | D35: M2 | E35: 0 | G35: 0 | I35: 0 | K35: 0 | M35: 95000 | N35: 견적 | O35: =SMALL(E35:M35,COUNTIF(E35:M35,0)+1) -> 95000 | P35: 0 | Q35: 0 | R35: 0 | S35: 0 | T35: 0 | U35: 0 | V35: 0 | W35: 자재 31
A36: 5C8616860404A5041E8634FF35852CBDBA2F8D | B36: 발포우레탄충진 | C36: 창호주위 | D36: M3 | E36: 0 | G36: 0 | I36: 0 | K36: 250000 | L36: 685 | M36: 0 | O36: =SMALL(E36:M36,COUNTIF(E36:M36,0)+1) -> 250000 | P36: 0 | Q36: 0 | R36: 0 | S36: 0 | T36: 0 | U36: 0 | V36: 0 | W36: 자재 32
A37: 5C861686051437C48216D2325545139861765A | B37: 셔터박스(스텐) | C37: SST 1.6T 3면 | D37: M | E37: 172300 | G37: 0 | I37: 0 | K37: 0 | M37: 0 | O37: =SMALL(E37:M37,COUNTIF(E37:M37,0)+1) -> 172300 | P37: 0 | Q37: 0 | R37: 0 | S37: 0 | T37: 0 | U37: 0 | V37: 0 | W37: 자재 33
A38: 5C861686051437C48216D23245B675EB81EF72 | B38: 스테인리스판 셔터 | C38: T1.6mm | D38: M2 | E38: 0 | G38: 0 | I38: 0 | K38: 120000 | L38: 648 | M38: 0 | O38: =SMALL(E38:M38,COUNTIF(E38:M38,0)+1) -> 120000 | P38: 0 | Q38: 0 | R38: 0 | S38: 0 | T38: 0 | U38: 0 | V38: 0 | W38: 자재 34 | X38: 시공도
A39: 5C861686051437C48216D23245B675EB81EE0D | B39: 스테인리스단열 셔터 | C39: 소형단열셔터(창문형) | D39: M2 | E39: 0 | G39: 0 | I39: 0 | K39: 400000 | L39: 648 | M39: 0 | O39: =SMALL(E39:M39,COUNTIF(E39:M39,0)+1) -> 400000 | P39: 0 | Q39: 0 | R39: 0 | S39: 0 | T39: 0 | U39: 0 | V39: 0 | W39: 자재 35 | X39: 시공도
A40: 5C86168606349724A2E6487FA515D71FA91D9B | B40: 인테리어필름 | C40: 목무늬방염<현장설치도> | D40: M2 | E40: 0 | G40: 0 | I40: 0 | K40: 30000 | L40: 684 | M40: 0 | O40: =SMALL(E40:M40,COUNTIF(E40:M40,0)+1) -> 30000 | P40: 0 | Q40: 0 | R40: 0 | S40: 0 | T40: 0 | U40: 0 | V40: 0 | W40: 자재 36
...
