Workbook

Sheet 원가계산서
B1: 공 사 원 가 계 산 서
B2: 공사명 : CITES동물보호시설전시공간개선설계용역 | F2: 금액 : 이억오천이백삼십육만이천원(￦252,362,000)
B3: 비 목 | E3: 금 액 | F3: 구 성 비 | G3: 비 고
A4: A1 | B4: 순 공 사 원 가 | C4: 재 료 비 | D4: 직 접 재 료 비 | E4: =TRUNC(공종별집계표!F5, 0) -> 117820508
A5: A2 | D5: 간 접 재 료 비 | E5: 0
A6: A3 | D6: 작업설, 부산물(△) | E6: 0
A7: AS | D7: [ 소 계 ] | E7: =TRUNC(E4+E5-E6, 0) -> 117820508
A8: B1 | C8: 노 무 비 | D8: 직 접 노 무 비 | E8: =TRUNC(공종별집계표!H5, 0) -> 47209532
A9: B2 | D9: 간 접 노 무 비 | E9: =TRUNC(E8*0.175, 0) -> 8261668 | F9: 직접노무비 * 17.5%
A10: BS | D10: [ 소 계 ] | E10: =TRUNC(E8+E9, 0) -> 55471200
A11: C2 | C11: 경 비 | D11: 경 비 | E11: =TRUNC(공종별집계표!J5, 0) -> 1057355
A12: C4 | D12: 산 재 보 험 료 | E12: =TRUNC(E10*0.0356, 0) -> 1974774 | F12: 노무비 * 3.56%
A13: C5 | D13: 고 용 보 험 료 | E13: =TRUNC(E10*0.0101, 0) -> 560259 | F13: 노무비 * 1.01%
A14: C6 | D14: 국민 건강 보험료 | E14: =TRUNC(E8*0.03595, 0) -> 1697182 | F14: 직접노무비 * 3.595%
A15: C7 | D15: 국민 연금 보험료 | E15: =TRUNC(E8*0.0475, 0) -> 2242452 | F15: 직접노무비 * 4.75%
A16: C8 | D16: 퇴직 공제 부금비 | E16: =TRUNC(E8*0.023, 0) -> 1085819 | F16: 직접노무비 * 2.3%
A17: CA | D17: 산업안전보건관리비 | E17: =TRUNC((E7+E8)*0.0311, 0) -> 5132434 | F17: (재료비+직노) * 3.11%
A18: CB | D18: 노인장기요양보험료 | E18: =TRUNC(E14*0.1314, 0) -> 223009 | F18: 건강보험료 * 13.14%
A19: CE | D19: 건설 폐기물 처리비 | E19: =TRUNC(공종별집계표!T20, 0) -> 1948907
A20: CG | D20: 기 타 경 비 | E20: =TRUNC((E7+E10)*0.05, 0) -> 8664585 | F20: (재료비+노무비) * 5%
A21: CH | D21: 환 경 보 전 비 | E21: =TRUNC((E7+E8+E11)*0.003, 0) -> 498262 | F21: (재료비+직노+경비) * 0.3%
A22: CL | D22: 건설기계대여금지급보증서발급수수료 | E22: =TRUNC((E7+E8+E11)*0.0032, 0) -> 531479 | F22: (재료비+직노+경비) * 0.32%
A23: CM | D23: 석 면 분 담 금 | E23: =TRUNC(E10*0.00006, 0) -> 3328 | F23: 노무비 * 0.006%
A24: CN | D24: 임 금 채 권 부 담 금 | E24: =TRUNC(E10*0.0009, 0) -> 49924 | F24: 노무비 * 0.09%
A25: CS | D25: [ 소 계 ] | E25: =TRUNC(E11+E12+E13+E14+E15+E16+E17+E18+E19+E20+E21+E22+E23+E24, 0) -> 25669769
A26: S1 | B26: 계 | E26: =TRUNC(E7+E10+E25, 0) -> 198961477
A27: D1 | B27: 일 반 관 리 비 | E27: =TRUNC(E26*0.08, 0) -> 15916918 | F27: 계 * 8%
A28: D2 | B28: 이 윤 | E28: =TRUNC((E10+E25+E27)*0.15-8950, 0) -> 14549733 | F28: (노무비+경비+일반관리비) * 15%
A29: D9 | B29: 공 급 가 액 | E29: =TRUNC(INT((E26+E27+E28)/10000)*10000, 0) -> 229420000
A30: DB | B30: 부 가 가 치 세 | E30: =TRUNC(E29*0.1, 0) -> 22942000 | F30: 공급가액 * 10%
A31: DH | B31: 도 급 액 | E31: =TRUNC(E29+E30, 0) -> 252362000
A32: S2 | B32: 총 공 사 비 | E32: =TRUNC(E31+0, 0) -> 252362000

Sheet 공종별집계표
A1: 공 종 별 집 계 표
A2: [ CITES동물보호시설전시공간개선설계용역 ]
A3: 품 명 | B3: 규 격 | C3: 단위 | D3: 수량 | E3: 재 료 비 | G3: 노 무 비 | I3: 경 비 | K3: 합 계 | M3: 비 고 | N3: 공종코드 | O3: 변수 | P3: 상위공종 | Q3: 공종구분 | R3: 공종레벨 | S3: 공종소계 | T3: 원가계산서 연결금액
E4: 단 가 | F4: 금 액 | G4: 단 가 | H4: 금 액 | I4: 단 가 | J4: 금 액 | K4: 단 가 | L4: 금 액
A5: 01 CITES동물보호시설전시공간개선설계용역 | D5: 1 | E5: =F6 -> 117820508 | F5: =E5*D5 -> 117820508 | G5: =H6 -> 47209532 | H5: =G5*D5 -> 47209532 | I5: =J6 -> 1057355 | J5: =I5*D5 -> 1057355 | K5: =E5+G5+I5 -> 166087395 | L5: =F5+H5+J5 -> 166087395 | N5: 01 | R5: 1
A6: 0101 ▶건축공사 | D6: 1 | E6: =F7+F8+F9+F10+F11+F12+F13+F14+F15+F16+F17+F18+F19 -> 117820508 | F6: =E6*D6 -> 117820508 | G6: =H7+H8+H9+H10+H11+H12+H13+H14+H15+H16+H17+H18+H19 -> 47209532 | H6: =G6*D6 -> 47209532 | I6: =J7+J8+J9+J10+J11+J12+J13+J14+J15+J16+J17+J18+J19 -> 1057355 | J6: =I6*D6 -> 1057355 | K6: =E6+G6+I6 -> 166087395 | L6: =F6+H6+J6 -> 166087395 | N6: 0101 | P6: 01 | R6: 2 | S6: <
A7: 010101 가설공사 | D7: 1 | E7: =공종별내역서!F26 -> 180934 | F7: =E7*D7 -> 180934 | G7: =공종별내역서!H26 -> 876138 | H7: =G7*D7 -> 876138 | I7: =공종별내역서!J26 -> 0 | J7: =I7*D7 -> 0 | K7: =E7+G7+I7 -> 1057072 | L7: =F7+H7+J7 -> 1057072 | N7: 010101 | P7: 0101 | R7: 3
A8: 010102 토공및지정공사 | D8: 1 | E8: =공종별내역서!F49 -> 18164 | F8: =E8*D8 -> 18164 | G8: =공종별내역서!H49 -> 1791583 | H8: =G8*D8 -> 1791583 | I8: =공종별내역서!J49 -> 20751 | J8: =I8*D8 -> 20751 | K8: =E8+G8+I8 -> 1830498 | L8: =F8+H8+J8 -> 1830498 | N8: 010102 | P8: 0101 | R8: 3
A9: 010103 철근콘크리트공사 | D9: 1 | E9: =공종별내역서!F72 -> 3889328 | F9: =E9*D9 -> 3889328 | G9: =공종별내역서!H72 -> 6764597 | H9: =G9*D9 -> 6764597 | I9: =공종별내역서!J72 -> 135674 | J9: =I9*D9 -> 135674 | K9: =E9+G9+I9 -> 10789599 | L9: =F9+H9+J9 -> 10789599 | N9: 010103 | P9: 0101 | R9: 3
A10: 010104 철골공사 | D10: 1 | E10: =공종별내역서!F95 -> 1535184 | F10: =E10*D10 -> 1535184 | G10: =공종별내역서!H95 -> 8878610 | H10: =G10*D10 -> 8878610 | I10: =공종별내역서!J95 -> 443608 | J10: =I10*D10 -> 443608 | K10: =E10+G10+I10 -> 10857402 | L10: =F10+H10+J10 -> 10857402 | N10: 010104 | P10: 0101 | R10: 3
A11: 010105 목공사및수장공사 | D11: 1 | E11: =공종별내역서!F118 -> 74440323 | F11: =E11*D11 -> 74440323 | G11: =공종별내역서!H118 -> 9625781 | H11: =G11*D11 -> 9625781 | I11: =공종별내역서!J118 -> 189549 | J11: =I11*D11 -> 189549 | K11: =E11+G11+I11 -> 84255653 | L11: =F11+H11+J11 -> 84255653 | N11: 010105 | P11: 0101 | R11: 3
A12: 010106 방수공사 | D12: 1 | E12: =공종별내역서!F141 -> 5780733 | F12: =E12*D12 -> 5780733 | G12: =공종별내역서!H141 -> 870462 | H12: =G12*D12 -> 870462 | I12: =공종별내역서!J141 -> 0 | J12: =I12*D12 -> 0 | K12: =E12+G12+I12 -> 6651195 | L12: =F12+H12+J12 -> 6651195 | N12: 010106 | P12: 0101 | R12: 3
A13: 010107 금속공사 | D13: 1 | E13: =공종별내역서!F164 -> 2324048 | F13: =E13*D13 -> 2324048 | G13: =공종별내역서!H164 -> 2228707 | H13: =G13*D13 -> 2228707 | I13: =공종별내역서!J164 -> 34286 | J13: =I13*D13 -> 34286 | K13: =E13+G13+I13 -> 4587041 | L13: =F13+H13+J13 -> 4587041 | N13: 010107 | P13: 0101 | R13: 3
A14: 010108 미장공사 | D14: 1 | E14: =공종별내역서!F187 -> 187200 | F14: =E14*D14 -> 187200 | G14: =공종별내역서!H187 -> 227468 | H14: =G14*D14 -> 227468 | I14: =공종별내역서!J187 -> 0 | J14: =I14*D14 -> 0 | K14: =E14+G14+I14 -> 414668 | L14: =F14+H14+J14 -> 414668 | N14: 010108 | P14: 0101 | R14: 3
A15: 010109 창호및유리공사 | D15: 1 | E15: =공종별내역서!F210 -> 7604308 | F15: =E15*D15 -> 7604308 | G15: =공종별내역서!H210 -> 4669535 | H15: =G15*D15 -> 4669535 | I15: =공종별내역서!J210 -> 128623 | J15: =I15*D15 -> 128623 | K15: =E15+G15+I15 -> 12402466 | L15: =F15+H15+J15 -> 12402466 | N15: 010109 | P15: 0101 | R15: 3
A16: 010110 칠공사 | D16: 1 | E16: =공종별내역서!F233 -> 471750 | F16: =E16*D16 -> 471750 | G16: =공종별내역서!H233 -> 4588584 | H16: =G16*D16 -> 4588584 | I16: =공종별내역서!J233 -> 0 | J16: =I16*D16 -> 0 | K16: =E16+G16+I16 -> 5060334 | L16: =F16+H16+J16 -> 5060334 | N16: 010110 | P16: 0101 | R16: 3
A17: 010111 철거공사 | D17: 1 | E17: =공종별내역서!F256 -> 87036 | F17: =E17*D17 -> 87036 | G17: =공종별내역서!H256 -> 6288868 | H17: =G17*D17 -> 6288868 | I17: =공종별내역서!J256 -> 104864 | J17: =I17*D17 -> 104864 | K17: =E17+G17+I17 -> 6480768 | L17: =F17+H17+J17 -> 6480768 | N17: 010111 | P17: 0101 | R17: 3
A18: 010112 기타공사 | D18: 1 | E18: =공종별내역서!F279 -> 21169900 | F18: =E18*D18 -> 21169900 | G18: =공종별내역서!H279 -> 399199 | H18: =G18*D18 -> 399199 | I18: =공종별내역서!J279 -> 0 | J18: =I18*D18 -> 0 | K18: =E18+G18+I18 -> 21569099 | L18: =F18+H18+J18 -> 21569099 | N18: 010112 | P18: 0101 | R18: 3
A19: 010113 골재비 | D19: 1 | E19: =공종별내역서!F302 -> 131600 | F19: =E19*D19 -> 131600 | G19: =공종별내역서!H302 -> 0 | H19: =G19*D19 -> 0 | I19: =공종별내역서!J302 -> 0 | J19: =I19*D19 -> 0 | K19: =E19+G19+I19 -> 131600 | L19: =F19+H19+J19 -> 131600 | N19: 010113 | P19: 0101 | R19: 3 | S19: <
A20: 010114 건설폐기물처리비 | D20: 1 | E20: =공종별내역서!F325 -> 0 | F20: =E20*D20 -> 0 | G20: =공종별내역서!H325 -> 0 | H20: =G20*D20 -> 0 | I20: =공종별내역서!J325 -> 1948907 | J20: =I20*D20 -> 1948907 | K20: =E20+G20+I20 -> 1948907 | L20: =F20+H20+J20 -> 1948907 | N20: 010114 | Q20: 5 | R20: 3 | T20: =L20*1 -> 1948907
A26: [ 합 계 ] | F26: =F5 -> 117820508 | H26: =H5 -> 47209532 | J26: =J5 -> 1057355 | L26: =L5 -> 166087395

Sheet 공종별내역서
A1: [ CITES동물보호시설전시공간개선설계용역 ]
A2: 품 명 | B2: 규 격 | C2: 단위 | D2: 수량 | E2: 재 료 비 | G2: 노 무 비 | I2: 경 비 | K2: 합 계 | M2: 비 고 | N2: 품목코드 | O2: 변수 | P2: 설정 | Q2: 공종코드 | R2: 일위 | S2: 단산 | T2: 자재 | U2: 손료적용 | V2: 손료저장 | W2: 적용율 | X2: JUK1 | Y2: JUK2 | Z2: JUK3 | AA2: JUK4 | AB2: JUK5 | AC2: JUK6 | AD2: JUK7 | AE2: JUK8 | AF2: JUK9 | AG2: JUK10 | AH2: JUK11 | AI2: JUK12 | AJ2: JUK13 | AK2: JUK14 | AL2: JUK15 | AM2: JUK16 | AN2: JUK17 | AO2: JUK18 | AP2: JUK19 | AQ2: JUK20 | AR2: 자재구분 | AS2: 공종구분 | AT2: 공종레벨 | AU2: 공종+자재 | AV2: 고유번호
E3: 단 가 | F3: 금 액 | G3: 단 가 | H3: 금 액 | I3: 단 가 | J3: 금 액 | K3: 단 가 | L3: 금 액
A4: 010101 가설공사 | Q4: 010101
A5: 강관 조립말비계(이동식)설치 및 해체 | B5: 높이 2m, 3개월 | C5: 대 | D5: 1 | E5: =TRUNC(일위대가목록!E4,0) -> 41435 | F5: =TRUNC(E5*D5, 0) -> 41435 | G5: =TRUNC(일위대가목록!F4,0) -> 94574 | H5: =TRUNC(G5*D5, 0) -> 94574 | I5: =TRUNC(일위대가목록!G4,0) -> 0 | J5: =TRUNC(I5*D5, 0) -> 0 | K5: =TRUNC(E5+G5+I5, 0) -> 136009 | L5: =TRUNC(F5+H5+J5, 0) -> 136009 | M5: 호표 1 | N5: 5BAF268735F4B2A427F6A1E455D185 | Q5: 010101 | R5: T | S5: F | T5: F | AU5: 0101015BAF268735F4B2A427F6A1E455D185 | AV5: 4
A6: 강관 조립말비계(이동식)설치 및 해체 | B6: 높이 4m, 3개월 | C6: 대 | D6: 1 | E6: =TRUNC(일위대가목록!E5,0) -> 54393 | F6: =TRUNC(E6*D6, 0) -> 54393 | G6: =TRUNC(일위대가목록!F5,0) -> 156891 | H6: =TRUNC(G6*D6, 0) -> 156891 | I6: =TRUNC(일위대가목록!G5,0) -> 0 | J6: =TRUNC(I6*D6, 0) -> 0 | K6: =TRUNC(E6+G6+I6, 0) -> 211284 | L6: =TRUNC(F6+H6+J6, 0) -> 211284 | M6: 호표 2 | N6: 5BAF268735F4B2A427F6A1DBE51C4A | Q6: 010101 | R6: T | S6: F | T6: F | AU6: 0101015BAF268735F4B2A427F6A1DBE51C4A | AV6: 5
A7: 건축물현장정리 | B7: 청소 및 뒤정리 | C7: M2 | D7: 141.1 | E7: =TRUNC(일위대가목록!E6,0) -> 0 | F7: =TRUNC(E7*D7, 0) -> 0 | G7: =TRUNC(일위대가목록!F6,0) -> 3441 | H7: =TRUNC(G7*D7, 0) -> 485525 | I7: =TRUNC(일위대가목록!G6,0) -> 0 | J7: =TRUNC(I7*D7, 0) -> 0 | K7: =TRUNC(E7+G7+I7, 0) -> 3441 | L7: =TRUNC(F7+H7+J7, 0) -> 485525 | M7: 호표 3 | N7: 5BAF2682B564B4A4FFB6495375EC39 | Q7: 010101 | R7: T | S7: F | T7: F | AU7: 0101015BAF2682B564B4A4FFB6495375EC39 | AV7: 101
A8: 건축물보양 | B8: 보양지 붙이기 | C8: M2 | D8: 80.9 | E8: =TRUNC(일위대가목록!E7,0) -> 1052 | F8: =TRUNC(E8*D8, 0) -> 85106 | G8: =TRUNC(일위대가목록!F7,0) -> 1720 | H8: =TRUNC(G8*D8, 0) -> 139148 | I8: =TRUNC(일위대가목록!G7,0) -> 0 | J8: =TRUNC(I8*D8, 0) -> 0 | K8: =TRUNC(E8+G8+I8, 0) -> 2772 | L8: =TRUNC(F8+H8+J8, 0) -> 224254 | M8: 호표 4 | N8: 5BAF2682B6743414F6467437F56090 | Q8: 010101 | R8: T | S8: F | T8: F | AU8: 0101015BAF2682B6743414F6467437F56090 | AV8: 7
Q9: 010101
Q10: 010101
Q11: 010101
Q12: 010101
Q13: 010101
Q14: 010101
Q15: 010101
Q16: 010101
Q17: 010101
Q18: 010101
Q19: 010101
Q20: 010101
... Q25: 010101
A26: [ 합 계 ] | F26: =SUMIF(Q5:Q25,"010101",F5:F25) -> 180934 | H26: =SUMIF(Q5:Q25,"010101",H5:H25) -> 876138 | J26: =SUMIF(Q5:Q25,"010101",J5:J25) -> 0 | L26: =SUMIF(Q5:Q25,"010101",L5:L25) -> 1057072 | N26: TOTAL
A27: 010102 토공및지정공사 | Q27: 010102
A28: 인력굴착(토사) / 보통토사 | B28: H=1m 이하(구조물터파기, 흙깍기) | C28: M3 | D28: 21.1 | E28: =TRUNC(일위대가목록!E8,0) -> 0 | F28: =TRUNC(E28*D28, 0) -> 0 | G28: =TRUNC(일위대가목록!F8,0) -> 63314 | H28: =TRUNC(G28*D28, 0) -> 1335925 | I28: =TRUNC(일위대가목록!G8,0) -> 0 | J28: =TRUNC(I28*D28, 0) -> 0 | K28: =TRUNC(E28+G28+I28, 0) -> 63314 | L28: =TRUNC(F28+H28+J28, 0) -> 1335925 | M28: 호표 5 | N28: 5B8A167B93B440B437D62657255CD8 | Q28: 010102 | R28: T | S28: F | T28: F | AU28: 0101025B8A167B93B440B437D62657255CD8 | AV28: 9
A29: 잔토처리 | B29: 인력(현장 내 소운반 깔고 고르기) | C29: M3 | D29: 9.3 | E29: =TRUNC(일위대가목록!E9,0) -> 0 | F29: =TRUNC(E29*D29, 0) -> 0 | G29: =TRUNC(일위대가목록!F9,0) -> 34413 | H29: =TRUNC(G29*D29, 0) -> 320040 | I29: =TRUNC(일위대가목록!G9,0) -> 0 | J29: =TRUNC(I29*D29, 0) -> 0 | K29: =TRUNC(E29+G29+I29, 0) -> 34413 | L29: =TRUNC(F29+H29+J29, 0) -> 320040 | M29: 호표 6 | N29: 5B8A167B93B440B435264CBC752D17 | Q29: 010102 | R29: T | S29: F | T29: F | AU29: 0101025B8A167B93B440B435264CBC752D17 | AV29: 10
A30: 되메우기 및 다짐 | B30: 소형장비 | C30: M3 | D30: 11.8 | E30: =TRUNC(일위대가목록!E10,0) -> 1196 | F30: =TRUNC(E30*D30, 0) -> 14112 | G30: =TRUNC(일위대가목록!F10,0) -> 8228 | H30: =TRUNC(G30*D30, 0) -> 97090 | I30: =TRUNC(일위대가목록!G10,0) -> 1281 | J30: =TRUNC(I30*D30, 0) -> 15115 | K30: =TRUNC(E30+G30+I30, 0) -> 10705 | L30: =TRUNC(F30+H30+J30, 0) -> 126317 | M30: 호표 7 | N30: 5B8A167611B4B804FC3630D6251A9E | Q30: 010102 | R30: T | S30: F | T30: F | AU30: 0101025B8A167611B4B804FC3630D6251A9E | AV30: 11
A31: 기초 지정 | B31: 잡석지정 | C31: M3 | D31: 4 | E31: =TRUNC(일위대가목록!E11,0) -> 1013 | F31: =TRUNC(E31*D31, 0) -> 4052 | G31: =TRUNC(일위대가목록!F11,0) -> 9632 | H31: =TRUNC(G31*D31, 0) -> 38528 | I31: =TRUNC(일위대가목록!G11,0) -> 1409 | J31: =TRUNC(I31*D31, 0) -> 5636 | K31: =TRUNC(E31+G31+I31, 0) -> 12054 | L31: =TRUNC(F31+H31+J31, 0) -> 48216 | M31: 호표 8 | N31: 5B8A16773114554461961C9E2547A4 | Q31: 010102 | R31: T | S31: F | T31: F | AU31: 0101025B8A16773114554461961C9E2547A4 | AV31: 12
Q32: 010102
Q33: 010102
Q34: 010102
Q35: 010102
Q36: 010102
Q37: 010102
Q38: 010102
Q39: 010102
Q40: 010102
Q41: 010102
Q42: 010102
Q43: 010102
... Q48: 010102
A49: [ 합 계 ] | F49: =SUMIF(Q28:Q48,"010102",F28:F48) -> 18164 | H49: =SUMIF(Q28:Q48,"010102",H28:H48) -> 1791583 | J49: =SUMIF(Q28:Q48,"010102",J28:J48) -> 20751 | L49: =SUMIF(Q28:Q48,"010102",L28:L48) -> 1830498 | N49: TOTAL
A50: 010103 철근콘크리트공사 | Q50: 010103
A51: 레미콘 - 서천 | B51: 25-24-15 | C51: M3 | D51: 14.4 | E51: =TRUNC(단가대비표!O34,0) -> 104620 | F51: =TRUNC(E51*D51, 0) -> 1506528 | G51: =TRUNC(단가대비표!P34,0) -> 0 | H51: =TRUNC(G51*D51, 0) -> 0 | I51: =TRUNC(단가대비표!V34,0) -> 0 | J51: =TRUNC(I51*D51, 0) -> 0 | K51: =TRUNC(E51+G51+I51, 0) -> 104620 | L51: =TRUNC(F51+H51+J51, 0) -> 1506528 | N51: 5C86168601B4610411D662525593DA52ED6763 | Q51: 010103 | R51: F | S51: F | T51: T | AU51: 0101035C86168601B4610411D662525593DA52ED6763 | AV51: 16
A52: 레미콘 - 서천 | B52: 25-18-08 | C52: M3 | D52: 1 | E52: =TRUNC(단가대비표!O33,0) -> 93820 | F52: =TRUNC(E52*D52, 0) -> 93820 | G52: =TRUNC(단가대비표!P33,0) -> 0 | H52: =TRUNC(G52*D52, 0) -> 0 | I52: =TRUNC(단가대비표!V33,0) -> 0 | J52: =TRUNC(I52*D52, 0) -> 0 | K52: =TRUNC(E52+G52+I52, 0) -> 93820 | L52: =TRUNC(F52+H52+J52, 0) -> 93820 | N52: 5C86168601B4610411D662525593DA52ED69B1 | Q52: 010103 | R52: F | S52: F | T52: T | AU52: 0101035C86168601B4610411D662525593DA52ED69B1 | AV52: 15
A53: 레디믹스트콘크리트 인력운반 타설 | B53: 철근구조물 | C53: M3 | D53: 14.2 | E53: =TRUNC(일위대가목록!E12,0) -> 0 | F53: =TRUNC(E53*D53, 0) -> 0 | G53: =TRUNC(일위대가목록!F12,0) -> 66841 | H53: =TRUNC(G53*D53, 0) -> 949142 | I53: =TRUNC(일위대가목록!G12,0) -> 1336 | J53: =TRUNC(I53*D53, 0) -> 18971 | K53: =TRUNC(E53+G53+I53, 0) -> 68177 | L53: =TRUNC(F53+H53+J53, 0) -> 968113 | M53: 호표 9 | N53: 5BAF760EF274B1B489B60FB8C53471 | Q53: 010103 | R53: T | S53: F | T53: F | AU53: 0101035BAF760EF274B1B489B60FB8C53471 | AV53: 102
A54: 레디믹스트콘크리트 인력운반 타설 | B54: 무근구조물 | C54: M3 | D54: 1 | E54: =TRUNC(일위대가목록!E13,0) -> 0 | F54: =TRUNC(E54*D54, 0) -> 0 | G54: =TRUNC(일위대가목록!F13,0) -> 57929 | H54: =TRUNC(G54*D54, 0) -> 57929 | I54: =TRUNC(일위대가목록!G13,0) -> 1158 | J54: =TRUNC(I54*D54, 0) -> 1158 | K54: =TRUNC(E54+G54+I54, 0) -> 59087 | L54: =TRUNC(F54+H54+J54, 0) -> 59087 | M54: 호표 10 | N54: 5BAF760EF274B1B489B634FCB51B3B | Q54: 010103 | R54: T | S54: F | T54: F | AU54: 0101035BAF760EF274B1B489B634FCB51B3B | AV54: 103
A55: 유로폼 설치 및 해체 | B55: 6회, 간단, 수직고 7m까지 | C55: M2 | D55: 80 | E55: =TRUNC(일위대가목록!E14,0) -> 3318 | F55: =TRUNC(E55*D55, 0) -> 265440 | G55: =TRUNC(일위대가목록!F14,0) -> 31880 | H55: =TRUNC(G55*D55, 0) -> 2550400 | I55: =TRUNC(일위대가목록!G14,0) -> 956 | J55: =TRUNC(I55*D55, 0) -> 76480 | K55: =TRUNC(E55+G55+I55, 0) -> 36154 | L55: =TRUNC(F55+H55+J55, 0) -> 2892320 | M55: 호표 11 | N55: 5BAF760975E43EA4599641D5A591AA | Q55: 010103 | R55: T | S55: F | T55: F | AU55: 0101035BAF760975E43EA4599641D5A591AA | AV55: 17
A56: 문양거푸집 설치 및 해체 | B56: 송판무늬 | C56: M2 | D56: 32.2 | E56: =TRUNC(일위대가목록!E15,0) -> 33260 | F56: =TRUNC(E56*D56, 0) -> 1070972 | G56: =TRUNC(일위대가목록!F15,0) -> 38940 | H56: =TRUNC(G56*D56, 0) -> 1253868 | I56: =TRUNC(일위대가목록!G15,0) -> 0 | J56: =TRUNC(I56*D56, 0) -> 0 | K56: =TRUNC(E56+G56+I56, 0) -> 72200 | L56: =TRUNC(F56+H56+J56, 0) -> 2324840 | M56: 호표 12 | N56: 5BAF760975E43EA450B67D2325F440 | Q56: 010103 | R56: T | S56: F | T56: F | AU56: 0101035BAF760975E43EA450B67D2325F440 | AV56: 106
A57: 철근콘크리트용봉강 | B57: 철근콘크리트용봉강, 이형봉강(SD400), HD-13, 지정장소도 | C57: 톤 | D57: 1.06 | E57: =TRUNC(단가대비표!O26,0) -> 890000 | F57: =TRUNC(E57*D57, 0) -> 943400 | G57: =TRUNC(단가대비표!P26,0) -> 0 | H57: =TRUNC(G57*D57, 0) -> 0 | I57: =TRUNC(단가대비표!V26,0) -> 0 | J57: =TRUNC(I57*D57, 0) -> 0 | K57: =TRUNC(E57+G57+I57, 0) -> 890000 | L57: =TRUNC(F57+H57+J57, 0) -> 943400 | N57: 5C861686009413F46C06571FF57CC7E2EF812C | Q57: 010103 | R57: F | S57: F | T57: T | AU57: 0101035C861686009413F46C06571FF57CC7E2EF812C | AV57: 14
A58: 철근 현장조립 | B58: Type-Ⅰ, 소량(0.5ton 미만), 1.7ton/일당 | C58: 일당 | D58: 1 | E58: =TRUNC(일위대가목록!E16,0) -> 17005 | F58: =TRUNC(E58*D58, 0) -> 17005 | G58: =TRUNC(일위대가목록!F16,0) -> 1953258 | H58: =TRUNC(G58*D58, 0) -> 1953258 | I58: =TRUNC(일위대가목록!G16,0) -> 39065 | J58: =TRUNC(I58*D58, 0) -> 39065 | K58: =TRUNC(E58+G58+I58, 0) -> 2009328 | L58: =TRUNC(F58+H58+J58, 0) -> 2009328 | M58: 호표 13 | N58: 5BAF760A17E4CA04F126F46D75A378 | Q58: 010103 | R58: T | S58: F | T58: F | AU58: 0101035BAF760A17E4CA04F126F46D75A378 | AV58: 104
A59: 철강설 | B59: 철강설, 고철, 작업설부산물 | C59: 톤 | D59: -0.03 | E59: =TRUNC(단가대비표!O17,0) -> 261250 | F59: =TRUNC(E59*D59, 0) -> -7837 | G59: =TRUNC(단가대비표!P17,0) -> 0 | H59: =TRUNC(G59*D59, 0) -> 0 | I59: =TRUNC(단가대비표!V17,0) -> 0 | J59: =TRUNC(I59*D59, 0) -> 0 | K59: =TRUNC(E59+G59+I59, 0) -> 261250 | L59: =TRUNC(F59+H59+J59, 0) -> -7837 | M59: 수집상차도 | N59: 5CA2E6751F649F348B9667ABA593430702E93E | Q59: 010103 | R59: F | S59: F | T59: T | AU59: 0101035CA2E6751F649F348B9667ABA593430702E93E | AV59: 105
Q60: 010103
Q61: 010103
Q62: 010103
Q63: 010103
Q64: 010103
Q65: 010103
Q66: 010103
Q67: 010103
Q68: 010103
Q69: 010103
Q70: 010103
Q71: 010103
A72: [ 합 계 ] | F72: =SUMIF(Q51:Q71,"010103",F51:F71) -> 3889328 | H72: =SUMIF(Q51:Q71,"010103",H51:H71) -> 6764597 | J72: =SUMIF(Q51:Q71,"010103",J51:J71) -> 135674 | L72: =SUMIF(Q51:Q71,"010103",L51:L71) -> 10789599 | N72: TOTAL
A73: 010104 철골공사 | Q73: 010104
A74: 사육장경량바닥틀제작설치(하부구조물/좌) | B74: 4600*6246*H400, 각관50*50*T2.3mm | C74: 개소 | D74: 1 | E74: =TRUNC(일위대가목록!E17,0) -> 371648 | F74: =TRUNC(E74*D74, 0) -> 371648 | G74: =TRUNC(일위대가목록!F17,0) -> 2149402 | H74: =TRUNC(G74*D74, 0) -> 2149402 | I74: =TRUNC(일위대가목록!G17,0) -> 107392 | J74: =TRUNC(I74*D74, 0) -> 107392 | K74: =TRUNC(E74+G74+I74, 0) -> 2628442 | L74: =TRUNC(F74+H74+J74, 0) -> 2628442 | M74: 호표 14 | N74: 5BAF6627BAF4D4141C066740551BF0 | Q74: 010104 | R74: T | S74: F | T74: F | AU74: 0101045BAF6627BAF4D4141C066740551BF0 | AV74: 20
A75: 사육장경량바닥틀제작설치(상부구조물/좌) | B75: 4600*6246*H400, 각관50*50*T2.3mm | C75: 개소 | D75: 1 | E75: =TRUNC(일위대가목록!E18,0) -> 479384 | F75: =TRUNC(E75*D75, 0) -> 479384 | G75: =TRUNC(일위대가목록!F18,0) -> 2772472 | H75: =TRUNC(G75*D75, 0) -> 2772472 | I75: =TRUNC(일위대가목록!G18,0) -> 138523 | J75: =TRUNC(I75*D75, 0) -> 138523 | K75: =TRUNC(E75+G75+I75, 0) -> 3390379 | L75: =TRUNC(F75+H75+J75, 0) -> 3390379 | M75: 호표 15 | N75: 5BAF6627BAF4D4141C066740551B84 | Q75: 010104 | R75: T | S75: F | T75: F | AU75: 0101045BAF6627BAF4D4141C066740551B84 | AV75: 21
A76: 사육장경량바닥틀제작설치(하부구조물/우) | B76: 4767*6085*H500, 각관50*50*T2.3mm | C76: 개소 | D76: 1 | E76: =TRUNC(일위대가목록!E19,0) -> 366198 | F76: =TRUNC(E76*D76, 0) -> 366198 | G76: =TRUNC(일위대가목록!F19,0) -> 2117879 | H76: =TRUNC(G76*D76, 0) -> 2117879 | I76: =TRUNC(일위대가목록!G19,0) -> 105817 | J76: =TRUNC(I76*D76, 0) -> 105817 | K76: =TRUNC(E76+G76+I76, 0) -> 2589894 | L76: =TRUNC(F76+H76+J76, 0) -> 2589894 | M76: 호표 16 | N76: 5BAF6627BAF4D4141C066740551824 | Q76: 010104 | R76: T | S76: F | T76: F | AU76: 0101045BAF6627BAF4D4141C066740551824 | AV76: 22
A77: 사육장경량바닥틀제작설치(상부구조물/우) | B77: 4767*6085*H500, 각관50*50*T2.3mm | C77: 개소 | D77: 1 | E77: =TRUNC(일위대가목록!E20,0) -> 317954 | F77: =TRUNC(E77*D77, 0) -> 317954 | G77: =TRUNC(일위대가목록!F20,0) -> 1838857 | H77: =TRUNC(G77*D77, 0) -> 1838857 | I77: =TRUNC(일위대가목록!G20,0) -> 91876 | J77: =TRUNC(I77*D77, 0) -> 91876 | K77: =TRUNC(E77+G77+I77, 0) -> 2248687 | L77: =TRUNC(F77+H77+J77, 0) -> 2248687 | M77: 호표 17 | N77: 5BAF6627BAF4D4141C066740551850 | Q77: 010104 | R77: T | S77: F | T77: F | AU77: 0101045BAF6627BAF4D4141C066740551850 | AV77: 23
Q78: 010104
Q79: 010104
Q80: 010104
Q81: 010104
Q82: 010104
Q83: 010104
Q84: 010104
Q85: 010104
Q86: 010104
Q87: 010104
Q88: 010104
Q89: 010104
... Q94: 010104
A95: [ 합 계 ] | F95: =SUMIF(Q74:Q94,"010104",F74:F94) -> 1535184 | H95: =SUMIF(Q74:Q94,"010104",H74:H94) -> 8878610 | J95: =SUMIF(Q74:Q94,"010104",J74:J94) -> 443608 | L95: =SUMIF(Q74:Q94,"010104",L74:L94) -> 10857402 | N95: TOTAL
A96: 010105 목공사및수장공사 | Q96: 010105
A97: 바닥합판 깔기 | B97: 방수합판 12T | C97: M2 | D97: 59.8 | E97: =TRUNC(일위대가목록!E21,0) -> 12186 | F97: =TRUNC(E97*D97, 0) -> 728722 | G97: =TRUNC(일위대가목록!F21,0) -> 8281 | H97: =TRUNC(G97*D97, 0) -> 495203 | I97: =TRUNC(일위대가목록!G21,0) -> 331 | J97: =TRUNC(I97*D97, 0) -> 19793 | K97: =TRUNC(E97+G97+I97, 0) -> 20798 | L97: =TRUNC(F97+H97+J97, 0) -> 1243718 | M97: 호표 18 | N97: 5BAFA6BDF424BFB40186CC6E85B5AC | Q97: 010105 | R97: T | S97: F | T97: F | AU97: 0101055BAFA6BDF424BFB40186CC6E85B5AC | AV97: 25
A98: 목조칸막이 제작설치 | B98: W108mm, 목재틀60*30+내수합판12t 2겹+석고12.5t 2겹 | C98: M2 | D98: 124.2 | E98: =TRUNC(일위대가목록!E22,0) -> 37858 | F98: =TRUNC(E98*D98, 0) -> 4701963 | G98: =TRUNC(일위대가목록!F22,0) -> 61187 | H98: =TRUNC(G98*D98, 0) -> 7599425 | I98: =TRUNC(일위대가목록!G22,0) -> 1070 | J98: =TRUNC(I98*D98, 0) -> 132894 | K98: =TRUNC(E98+G98+I98, 0) -> 100115 | L98: =TRUNC(F98+H98+J98, 0) -> 12434282 | M98: 호표 19 | N98: 5BAFC684D944E5B432D6F28325327D | Q98: 010105 | R98: T | S98: F | T98: F | AU98: 0101055BAFC684D944E5B432D6F28325327D | AV98: 30
A99: 목조칸막이 제작설치 | B99: W108mm, 목재틀60*30+석고12.5t 2겹양면 | C99: M2 | D99: 5.6 | E99: =TRUNC(일위대가목록!E23,0) -> 23833 | F99: =TRUNC(E99*D99, 0) -> 133464 | G99: =TRUNC(일위대가목록!F23,0) -> 39909 | H99: =TRUNC(G99*D99, 0) -> 223490 | I99: =TRUNC(일위대가목록!G23,0) -> 494 | J99: =TRUNC(I99*D99, 0) -> 2766 | K99: =TRUNC(E99+G99+I99, 0) -> 64236 | L99: =TRUNC(F99+H99+J99, 0) -> 359720 | M99: 호표 20 | N99: 5BAFC684D944E5B432D6F28325327F | Q99: 010105 | R99: T | S99: F | T99: F | AU99: 0101055BAFC684D944E5B432D6F28325327F | AV99: 31
A100: 목조칸막이 제작설치 | B100: W108mm, 목재틀60*30+내수합판12t 2겹양면 | C100: M2 | D100: 6.2 | E100: =TRUNC(일위대가목록!E24,0) -> 51883 | F100: =TRUNC(E100*D100, 0) -> 321674 | G100: =TRUNC(일위대가목록!F24,0) -> 82465 | H100: =TRUNC(G100*D100, 0) -> 511283 | I100: =TRUNC(일위대가목록!G24,0) -> 1646 | J100: =TRUNC(I100*D100, 0) -> 10205 | K100: =TRUNC(E100+G100+I100, 0) -> 135994 | L100: =TRUNC(F100+H100+J100, 0) -> 843162 | M100: 호표 21 | N100: 5BAFC684D944E5B432D6F283253279 | Q100: 010105 | R100: T | S100: F | T100: F | AU100: 0101055BAFC684D944E5B432D6F283253279 | AV100: 32
A101: 사육장오두막제작설치 | B101: 1830*1830*H1818, 방부목+합성데크+지붕짚단 | C101: 개소 | D101: 1 | E101: =TRUNC(일위대가목록!E25,0) -> 5554500 | F101: =TRUNC(E101*D101, 0) -> 5554500 | G101: =TRUNC(일위대가목록!F25,0) -> 796380 | H101: =TRUNC(G101*D101, 0) -> 796380 | I101: =TRUNC(일위대가목록!G25,0) -> 23891 | J101: =TRUNC(I101*D101, 0) -> 23891 | K101: =TRUNC(E101+G101+I101, 0) -> 6374771 | L101: =TRUNC(F101+H101+J101, 0) -> 6374771 | M101: 호표 22 | N101: 5BAE36028E846B444656C808351948 | Q101: 010105 | R101: T | S101: F | T101: F | AU101: 0101055BAE36028E846B444656C808351948 | AV101: 33
A102: 【GRC마감】 | E102: =TRUNC(단가대비표!O116,0) -> 0 | F102: =TRUNC(E102*D102, 0) -> 0 | G102: =TRUNC(단가대비표!P116,0) -> 0 | H102: =TRUNC(G102*D102, 0) -> 0 | I102: =TRUNC(단가대비표!V116,0) -> 0 | J102: =TRUNC(I102*D102, 0) -> 0 | K102: =TRUNC(E102+G102+I102, 0) -> 0 | L102: =TRUNC(F102+H102+J102, 0) -> 0 | N102: 5A16B629609460E482862BEAA59E698A9CA095 | Q102: 010105 | R102: F | S102: F | T102: T | AU102: 0101055A16B629609460E482862BEAA59E698A9CA095 | AV102: 112
A103: GRC 야외수영장 | B103: 견적 | C103: 개소 | D103: 1 | E103: =TRUNC(단가대비표!O117,0) -> 12000000 | F103: =TRUNC(E103*D103, 0) -> 12000000 | G103: =TRUNC(단가대비표!P117,0) -> 0 | H103: =TRUNC(G103*D103, 0) -> 0 | I103: =TRUNC(단가대비표!V117,0) -> 0 | J103: =TRUNC(I103*D103, 0) -> 0 | K103: =TRUNC(E103+G103+I103, 0) -> 12000000 | L103: =TRUNC(F103+H103+J103, 0) -> 12000000 | N103: 5A16B629609460E482862BEAA59E698A9CA094 | Q103: 010105 | R103: F | S103: F | T103: T | AU103: 0101055A16B629609460E482862BEAA59E698A9CA094 | AV103: 113
A104: GRC 야외 통나무쉼터 | B104: 견적 | C104: 개소 | D104: 1 | E104: =TRUNC(단가대비표!O118,0) -> 16000000 | F104: =TRUNC(E104*D104, 0) -> 16000000 | G104: =TRUNC(단가대비표!P118,0) -> 0 | H104: =TRUNC(G104*D104, 0) -> 0 | I104: =TRUNC(단가대비표!V118,0) -> 0 | J104: =TRUNC(I104*D104, 0) -> 0 | K104: =TRUNC(E104+G104+I104, 0) -> 16000000 | L104: =TRUNC(F104+H104+J104, 0) -> 16000000 | N104: 5A16B629609460E482862BEAA59E698A9CA097 | Q104: 010105 | R104: F | S104: F | T104: T | AU104: 0101055A16B629609460E482862BEAA59E698A9CA097 | AV104: 114
A105: GRC 실내 수영전시장 | B105: 견적 | C105: 개소 | D105: 1 | E105: =TRUNC(단가대비표!O119,0) -> 22000000 | F105: =TRUNC(E105*D105, 0) -> 22000000 | G105: =TRUNC(단가대비표!P119,0) -> 0 | H105: =TRUNC(G105*D105, 0) -> 0 | I105: =TRUNC(단가대비표!V119,0) -> 0 | J105: =TRUNC(I105*D105, 0) -> 0 | K105: =TRUNC(E105+G105+I105, 0) -> 22000000 | L105: =TRUNC(F105+H105+J105, 0) -> 22000000 | N105: 5A16B629609460E482862BEAA59E698A9CA096 | Q105: 010105 | R105: F | S105: F | T105: T | AU105: 0101055A16B629609460E482862BEAA59E698A9CA096 | AV105: 115
A106: GRC 실내장 외부벽 | B106: 견적 | C106: 개소 | D106: 1 | E106: =TRUNC(단가대비표!O120,0) -> 10000000 | F106: =TRUNC(E106*D106, 0) -> 10000000 | G106: =TRUNC(단가대비표!P120,0) -> 0 | H106: =TRUNC(G106*D106, 0) -> 0 | I106: =TRUNC(단가대비표!V120,0) -> 0 | J106: =TRUNC(I106*D106, 0) -> 0 | K106: =TRUNC(E106+G106+I106, 0) -> 10000000 | L106: =TRUNC(F106+H106+J106, 0) -> 10000000 | N106: 5A16B629609460E482862BEAA59E698A9CA099 | Q106: 010105 | R106: F | S106: F | T106: T | AU106: 0101055A16B629609460E482862BEAA59E698A9CA099 | AV106: 116
A107: GRC 외부출입구 | B107: 견적 | C107: 개소 | D107: 1 | E107: =TRUNC(단가대비표!O123,0) -> 3000000 | F107: =TRUNC(E107*D107, 0) -> 3000000 | G107: =TRUNC(단가대비표!P123,0) -> 0 | H107: =TRUNC(G107*D107, 0) -> 0 | I107: =TRUNC(단가대비표!V123,0) -> 0 | J107: =TRUNC(I107*D107, 0) -> 0 | K107: =TRUNC(E107+G107+I107, 0) -> 3000000 | L107: =TRUNC(F107+H107+J107, 0) -> 3000000 | N107: 5A16B629609460E482862BEAA59E698A9CA1B9 | Q107: 010105 | R107: F | S107: F | T107: T | AU107: 0101055A16B629609460E482862BEAA59E698A9CA1B9 | AV107: 153
Q108: 010105
Q109: 010105
Q110: 010105
Q111: 010105
Q112: 010105
...

Sheet 일위대가목록
B1: 일 위 대 가 목 록
B2: [ CITES동물보호시설전시공간개선설계용역 ]
A3: 코 드 | B3: 품 명 | C3: 규 격 | D3: 단위 | E3: 재 료 비 | F3: 노 무 비 | G3: 경 비 | H3: 합 계 | I3: 번 호 | J3: 비 고 | K3: 노임계수 | L3: 할증 | M3: 품셈개요 | N3: 장비일위
A4: 5BAF268735F4B2A427F6A1E455D185 | B4: 강관 조립말비계(이동식)설치 및 해체 | C4: 높이 2m, 3개월 | D4: 대 | E4: =일위대가!F15 -> 41435 | F4: =일위대가!H15 -> 94574 | G4: =일위대가!J15 -> 0 | H4: =E4+F4+G4 -> 136009 | I4: 호표 1 | M4: 공통 2-7-6, 2-2-5
A5: 5BAF268735F4B2A427F6A1DBE51C4A | B5: 강관 조립말비계(이동식)설치 및 해체 | C5: 높이 4m, 3개월 | D5: 대 | E5: =일위대가!F29 -> 54393 | F5: =일위대가!H29 -> 156891 | G5: =일위대가!J29 -> 0 | H5: =E5+F5+G5 -> 211284 | I5: 호표 2 | M5: 공통 2-7-6, 2-2-5
A6: 5BAF2682B564B4A4FFB6495375EC39 | B6: 건축물현장정리 | C6: 청소 및 뒤정리 | D6: M2 | E6: =일위대가!F33 -> 0 | F6: =일위대가!H33 -> 3441 | G6: =일위대가!J33 -> 0 | H6: =E6+F6+G6 -> 3441 | I6: 호표 3 | M6: 공통 2-11-3 준용
A7: 5BAF2682B6743414F6467437F56090 | B7: 건축물보양 | C7: 보양지 붙이기 | D7: M2 | E7: =일위대가!F39 -> 1052 | F7: =일위대가!H39 -> 1720 | G7: =일위대가!J39 -> 0 | H7: =E7+F7+G7 -> 2772 | I7: 호표 4 | M7: 공통 2-11-1
A8: 5B8A167B93B440B437D62657255CD8 | B8: 인력굴착(토사) / 보통토사 | C8: H=1m 이하(구조물터파기, 흙깍기) | D8: M3 | E8: =일위대가!F43 -> 0 | F8: =일위대가!H43 -> 63314 | G8: =일위대가!J43 -> 0 | H8: =E8+F8+G8 -> 63314 | I8: 호표 5 | M8: 공통 3-1-2
A9: 5B8A167B93B440B435264CBC752D17 | B9: 잔토처리 | C9: 인력(현장 내 소운반 깔고 고르기) | D9: M3 | E9: =일위대가!F47 -> 0 | F9: =일위대가!H47 -> 34413 | G9: =일위대가!J47 -> 0 | H9: =E9+F9+G9 -> 34413 | I9: 호표 6 | M9: 공통 3-1-2 [비고]
A10: 5B8A167611B4B804FC3630D6251A9E | B10: 되메우기 및 다짐 | C10: 소형장비 | D10: M3 | E10: =일위대가!F56 -> 1196 | F10: =일위대가!H56 -> 8228 | G10: =일위대가!J56 -> 1281 | H10: =E10+F10+G10 -> 10705 | I10: 호표 7 | M10: 공통 3-4-6
A11: 5B8A16773114554461961C9E2547A4 | B11: 기초 지정 | C11: 잡석지정 | D11: M3 | E11: =일위대가!F66 -> 1013 | F11: =일위대가!H66 -> 9632 | G11: =일위대가!J66 -> 1409 | H11: =E11+F11+G11 -> 12054 | I11: 호표 8 | M11: 공통 3-4-8
A12: 5BAF760EF274B1B489B60FB8C53471 | B12: 레디믹스트콘크리트 인력운반 타설 | C12: 철근구조물 | D12: M3 | E12: =일위대가!F72 -> 0 | F12: =일위대가!H72 -> 66841 | G12: =일위대가!J72 -> 1336 | H12: =E12+F12+G12 -> 68177 | I12: 호표 9 | M12: 공통 6-1-1
A13: 5BAF760EF274B1B489B634FCB51B3B | B13: 레디믹스트콘크리트 인력운반 타설 | C13: 무근구조물 | D13: M3 | E13: =일위대가!F78 -> 0 | F13: =일위대가!H78 -> 57929 | G13: =일위대가!J78 -> 1158 | H13: =E13+F13+G13 -> 59087 | I13: 호표 10 | M13: 공통 6-1-1
A14: 5BAF760975E43EA4599641D5A591AA | B14: 유로폼 설치 및 해체 | C14: 6회, 간단, 수직고 7m까지 | D14: M2 | E14: =일위대가!F83 -> 3318 | F14: =일위대가!H83 -> 31880 | G14: =일위대가!J83 -> 956 | H14: =E14+F14+G14 -> 36154 | I14: 호표 11 | M14: 공통 6-3-3
A15: 5BAF760975E43EA450B67D2325F440 | B15: 문양거푸집 설치 및 해체 | C15: 송판무늬 | D15: M2 | E15: =일위대가!F94 -> 33260 | F15: =일위대가!H94 -> 38940 | G15: =일위대가!J94 -> 0 | H15: =E15+F15+G15 -> 72200 | I15: 호표 12
A16: 5BAF760A17E4CA04F126F46D75A378 | B16: 철근 현장조립 | C16: Type-Ⅰ, 소량(0.5ton 미만), 1.7ton/일당 | D16: 일당 | E16: =일위대가!F101 -> 17005 | F16: =일위대가!H101 -> 1953258 | G16: =일위대가!J101 -> 39065 | H16: =E16+F16+G16 -> 2009328 | I16: 호표 13 | M16: 공통 6-2-3
A17: 5BAF6627BAF4D4141C066740551BF0 | B17: 사육장경량바닥틀제작설치(하부구조물/좌) | C17: 4600*6246*H400, 각관50*50*T2.3mm | D17: 개소 | E17: =일위대가!F107 -> 371648 | F17: =일위대가!H107 -> 2149402 | G17: =일위대가!J107 -> 107392 | H17: =E17+F17+G17 -> 2628442 | I17: 호표 14
A18: 5BAF6627BAF4D4141C066740551B84 | B18: 사육장경량바닥틀제작설치(상부구조물/좌) | C18: 4600*6246*H400, 각관50*50*T2.3mm | D18: 개소 | E18: =일위대가!F113 -> 479384 | F18: =일위대가!H113 -> 2772472 | G18: =일위대가!J113 -> 138523 | H18: =E18+F18+G18 -> 3390379 | I18: 호표 15
A19: 5BAF6627BAF4D4141C066740551824 | B19: 사육장경량바닥틀제작설치(하부구조물/우) | C19: 4767*6085*H500, 각관50*50*T2.3mm | D19: 개소 | E19: =일위대가!F119 -> 366198 | F19: =일위대가!H119 -> 2117879 | G19: =일위대가!J119 -> 105817 | H19: =E19+F19+G19 -> 2589894 | I19: 호표 16
A20: 5BAF6627BAF4D4141C066740551850 | B20: 사육장경량바닥틀제작설치(상부구조물/우) | C20: 4767*6085*H500, 각관50*50*T2.3mm | D20: 개소 | E20: =일위대가!F125 -> 317954 | F20: =일위대가!H125 -> 1838857 | G20: =일위대가!J125 -> 91876 | H20: =E20+F20+G20 -> 2248687 | I20: 호표 17
A21: 5BAFA6BDF424BFB40186CC6E85B5AC | B21: 바닥합판 깔기 | C21: 방수합판 12T | D21: M2 | E21: =일위대가!F131 -> 12186 | F21: =일위대가!H131 -> 8281 | G21: =일위대가!J131 -> 331 | H21: =E21+F21+G21 -> 20798 | I21: 호표 18
A22: 5BAFC684D944E5B432D6F28325327D | B22: 목조칸막이 제작설치 | C22: W108mm, 목재틀60*30+내수합판12t 2겹+석고12.5t 2겹 | D22: M2 | E22: =일위대가!F137 -> 37858 | F22: =일위대가!H137 -> 61187 | G22: =일위대가!J137 -> 1070 | H22: =E22+F22+G22 -> 100115 | I22: 호표 19
A23: 5BAFC684D944E5B432D6F28325327F | B23: 목조칸막이 제작설치 | C23: W108mm, 목재틀60*30+석고12.5t 2겹양면 | D23: M2 | E23: =일위대가!F142 -> 23833 | F23: =일위대가!H142 -> 39909 | G23: =일위대가!J142 -> 494 | H23: =E23+F23+G23 -> 64236 | I23: 호표 20
A24: 5BAFC684D944E5B432D6F283253279 | B24: 목조칸막이 제작설치 | C24: W108mm, 목재틀60*30+내수합판12t 2겹양면 | D24: M2 | E24: =일위대가!F147 -> 51883 | F24: =일위대가!H147 -> 82465 | G24: =일위대가!J147 -> 1646 | H24: =E24+F24+G24 -> 135994 | I24: 호표 21
A25: 5BAE36028E846B444656C808351948 | B25: 사육장오두막제작설치 | C25: 1830*1830*H1818, 방부목+합성데크+지붕짚단 | D25: 개소 | E25: =일위대가!F155 -> 5554500 | F25: =일위대가!H155 -> 796380 | G25: =일위대가!J155 -> 23891 | H25: =E25+F25+G25 -> 6374771 | I25: 호표 22
A26: 5BAFB6A5D434EC9443F6A077F5EC58 | B26: 수밀코킹(실리콘) | C26: 삼각, 10mm, 창호주위 | D26: M | E26: =일위대가!F160 -> 599 | F26: =일위대가!H160 -> 5228 | G26: =일위대가!J160 -> 0 | H26: =E26+F26+G26 -> 5827 | I26: 호표 23 | M26: 건축 6-6-1
A27: 5BAF96561FE498E491269F99C511CE | B27: 스테인리스핸드레일(충돌방지) | C27: D76.3*1.5t, H:900 | D27: M | E27: =일위대가!F168 -> 33814 | F27: =일위대가!H168 -> 38624 | G27: =일위대가!J168 -> 788 | H27: =E27+F27+G27 -> 73226 | I27: 호표 24
A28: 5BAF96561FE498E491269F99C511BA | B28: 스테인리스핸드레일(유리난간) | C28: 스텐평철+강화유리12T, H:1050 | D28: M | E28: =일위대가!F179 -> 111712 | F28: =일위대가!H179 -> 103546 | G28: =일위대가!J179 -> 1502 | H28: =E28+F28+G28 -> 216760 | I28: 호표 25
A29: 5BAF96561FE498E491269F99C511BF | B29: 스테인리스핸드레일(유리난간) | C29: 스텐평철+강화유리12T, H:1775 | D29: M | E29: =일위대가!F190 -> 167283 | F29: =일위대가!H190 -> 152983 | G29: =일위대가!J190 -> 1991 | H29: =E29+F29+G29 -> 322257 | I29: 호표 26
A30: 5BAF96561FE498E496A6BF32E55C1A | B30: 배너거치대제작설치 | C30: W500*H800, 스텐각관20*20+30*30 | D30: 개소 | E30: =일위대가!F197 -> 17852 | F30: =일위대가!H197 -> 19578 | G30: =일위대가!J197 -> 783 | H30: =E30+F30+G30 -> 38213 | I30: 호표 27
A31: 5BAF9652A1C48824E0167B3835E1CA | B31: 스테인리스점검구 | C31: 바닥, T=3.0, 400*400 | D31: 개 | E31: =일위대가!F205 -> 21521 | F31: =일위대가!H205 -> 34721 | G31: =일위대가!J205 -> 1054 | H31: =E31+F31+G31 -> 57296 | I31: 호표 28
A32: 5BAFF63886C4DD04F3267DC255FA42 | B32: 창문틀 주위 충전 | C32: 발포우레탄 충전 | D32: M | E32: =일위대가!F211 -> 2250 | F32: =일위대가!H211 -> 2734 | G32: =일위대가!J211 -> 0 | H32: =E32+F32+G32 -> 4984 | I32: 호표 29 | M32: 건축 9-3-2
A33: 5BAFF63F31842FF42EF61F94355415 | B33: S1[1.개선공사] | C33: 2.200 x 2.000 = 4.400 | D33: EA | E33: =일위대가!F217 -> 139052 | F33: =일위대가!H217 -> 304256 | G33: =일위대가!J217 -> 13518 | H33: =E33+F33+G33 -> 456826 | I33: 호표 30
A34: 5BAFF63F31842FF42EF61F94355417 | B34: S2[1.개선공사] | C34: 0.400 x 1.500 = 0.600 | D34: EA | E34: =일위대가!F223 -> 62498 | F34: =일위대가!H223 -> 136751 | G34: =일위대가!J223 -> 6076 | H34: =E34+F34+G34 -> 205325 | I34: 호표 31
A35: 5BAFF63F31842FF42EF61F94355410 | B35: S2A[1.개선공사] | C35: 0.400 x 1.400 = 0.560 | D35: EA | E35: =일위대가!F229 -> 59223 | F35: =일위대가!H229 -> 129585 | G35: =일위대가!J229 -> 5757 | H35: =E35+F35+G35 -> 194565 | I35: 호표 32
A36: 5BAFF63F31842FF42EF61F94355411 | B36: S3[1.개선공사] | C36: 4.000 x 2.400 = 9.600 | D36: EA | E36: =일위대가!F236 -> 107784 | F36: =일위대가!H236 -> 292310 | G36: =일위대가!J236 -> 13800 | H36: =E36+F36+G36 -> 413894 | I36: 호표 33
A37: 5BAFF63F31842FF42EF61F94355413 | B37: S4[1.개선공사] | C37: 4.000 x 1.700 = 6.800 | D37: EA | E37: =일위대가!F242 -> 179582 | F37: =일위대가!H242 -> 392936 | G37: =일위대가!J242 -> 17457 | H37: =E37+F37+G37 -> 589975 | I37: 호표 34
A38: 5BAFF63F31842FF42EF61F9435541D | B38: S5[1.개선공사] | C38: 4.000 x 2.400 = 9.600 | D38: EA | E38: =일위대가!F249 -> 2068715 | F38: =일위대가!H249 -> 1079811 | G38: =일위대가!J249 -> 26057 | H38: =E38+F38+G38 -> 3174583 | I38: 호표 35
A39: 5BAFF63F31842FF42EF61F9435553B | B39: S6[1.개선공사] | C39: 1.515 x 0.950 = 1.439 | D39: EA | E39: =일위대가!F256 -> 1051292 | F39: =일위대가!H256 -> 789156 | G39: =일위대가!J256 -> 17548 | H39: =E39+F39+G39 -> 1857996 | I39: 호표 36
A40: 5BAFF63F31842FF42EF61F9435553F | B40: SWD01[1.개선공사] | C40: 1.100 x 2.100 = 2.310 | D40: EA | E40: =일위대가!F264 -> 678745 | F40: =일위대가!H264 -> 96044 | G40: =일위대가!J264 -> 2957 | H40: =E40+F40+G40 -> 777746 | I40: 호표 37
A41: 5BAFF63F31842FF42EF61F94355533 | B41: SWD03[1.개선공사] | C41: 0.900 x 2.100 = 1.890 | D41: EA | E41: =일위대가!F272 -> 519100 | F41: =일위대가!H272 -> 130440 | G41: =일위대가!J272 -> 3853 | H41: =E41+F41+G41 -> 653393 | I41: 호표 38
A42: 5BAFF63F31842FF42EF61F9435553D | B42: SWD02[1.개선공사] | C42: 0.800 x 2.100 = 1.680 | D42: EA | E42: =일위대가!F280 -> 508142 | F42: =일위대가!H280 -> 96044 | G42: =일위대가!J280 -> 2957 | H42: =E42+F42+G42 -> 607143 | I42: 호표 39
A43: 5BAFF63F31842FF42EF61F943556C0 | B43: SWD04[1.개선공사] | C43: 0.970 x 1.500 = 1.455 | D43: EA | E43: =일위대가!F288 -> 410350 | F43: =일위대가!H288 -> 130440 | G43: =일위대가!J288 -> 3853 | H43: =E43+F43+G43 -> 544643 | I43: 호표 40
A44: 5BAFF636D4F47C7460866F1175A044 | B44: 창호유리설치 / 복층유리 | C44: 유리두께 16mm 이하 | D44: M2 | E44: =일위대가!F293 -> 0 | F44: =일위대가!H293 -> 31575 | G44: =일위대가!J293 -> 0 | H44: =E44+F44+G44 -> 31575 | I44: 호표 41 | M44: 건축 10-3-1
A45: 5BAFB6A5D5C43AF426E6F25E053D87 | B45: 유리주위 코킹 | C45: 5*5, 실리콘 | D45: M | E45: =일위대가!F297 -> 299 | F45: =일위대가!H297 -> 0 | G45: =일위대가!J297 -> 0 | H45: =E45+F45+G45 -> 299 | I45: 호표 42 | M45: 건축 6-6-1
A46: 5BAFD6F38BB487C462D631067540B0 | B46: 바탕만들기+수성페인트 롤러칠 | C46: 외부, 2회, 1급, con'c·mortar면 | D46: M2 | E46: =일위대가!F303 -> 1197 | F46: =일위대가!H303 -> 9802 | G46: =일위대가!J303 -> 0 | H46: =E46+F46+G46 -> 10999 | I46: 호표 43 | M46: 건축 11-1-1,-2-2
A47: 5BAFD6F38BB487C46756E49D85B1B7 | B47: 바탕만들기+수성페인트 롤러칠 | C47: 내부, 2회, con'c·mortar면, 친환경 | D47: M2 | E47: =일위대가!F309 -> 1086 | F47: =일위대가!H309 -> 9802 | G47: =일위대가!J309 -> 0 | H47: =E47+F47+G47 -> 10888 | I47: 호표 44 | M47: 건축 11-1-1,-2-2
A48: 5BAFD6F38BB487C46756E4E595E5CD | B48: 바탕만들기+수성페인트 롤러칠 | C48: 내부, 2회, G.B.면 줄퍼티, 친환경 | D48: M2 | E48: =일위대가!F315 -> 1732 | F48: =일위대가!H315 -> 17926 | G48: =일위대가!J315 -> 0 | H48: =E48+F48+G48 -> 19658 | I48: 호표 45 | M48: 건축 11-1-2,-2-2
A49: 5BAE261BB5E43AC4DA661883D5C2C2 | B49: 콘크리트구조물 헐기(인력) | C49: 소형브레이커(전기식), 철근, 2.3m3/일당 | D49: M3 | E49: =일위대가!F322 -> 2673 | F49: =일위대가!H322 -> 267395 | G49: =일위대가!J322 -> 2387 | H49: =E49+F49+G49 -> 272455 | I49: 호표 46 | M49: 유지 3-1-1
A50: 5BAE261BB2147474E6864217B5E94B | B50: 각파이프 및 그레이팅철거(인력) | C50: 바닥 | D50: 일당 | E50: =일위대가!F326 -> 72845 | F50: =일위대가!H326 -> 1191744 | G50: =일위대가!J326 -> 0 | H50: =E50+F50+G50 -> 1264589 | I50: 호표 47
A51: 5BAE261BBEC44B4489F69557E5A96D | B51: 경량칸막이 철거(내부칸막이) | C51: 벽, T100mm | D51: M2 | E51: =일위대가!F330 -> 0 | F51: =일위대가!H330 -> 15157 | G51: =일위대가!J330 -> 0 | H51: =E51+F51+G51 -> 15157 | I51: 호표 48
A52: 5BAE261BBEC44B4489F69557E5AA52 | B52: 경량칸막이 철거(벽측마감) | C52: 벽, T80mm | D52: M2 | E52: =일위대가!F334 -> 0 | F52: =일위대가!H334 -> 15157 | G52: =일위대가!J334 -> 0 | H52: =E52+F52+G52 -> 15157 | I52: 호표 49
A53: 5BAE261BBEC44B4489F69557E5ABB8 | B53: 루버 철거 | C53: 벽, 목재틀50*50+루버T30mm | D53: M2 | E53: =일위대가!F338 -> 0 | F53: =일위대가!H338 -> 10324 | G53: =일위대가!J338 -> 0 | H53: =E53+F53+G53 -> 10324 | I53: 호표 50
A54: 5BAE2618E104C044BD16CC7E95036E | B54: 벤치 철거 | C54: L:1200 | D54: 개 | E54: =일위대가!F342 -> 0 | F54: =일위대가!H342 -> 17206 | G54: =일위대가!J342 -> 0 | H54: =E54+F54+G54 -> 17206 | I54: 호표 51
A55: 5BAE2618E104C044BD16CC7E95036B | B55: 유리수조 철거 | C55: 635*3000 | D55: 개 | E55: =일위대가!F346 -> 0 | F55: =일위대가!H346 -> 32778 | G55: =일위대가!J346 -> 0 | H55: =E55+F55+G55 -> 32778 | I55: 호표 52
A56: 5BAE261BBEC44B4488D65068F5C393 | B56: 보도블럭 철거 | C56: 인력철거 | D56: M2 | E56: =일위대가!F350 -> 118 | F56: =일위대가!H350 -> 3580 | G56: =일위대가!J350 -> 144 | H56: =E56+F56+G56 -> 3842 | I56: 호표 53 | M56: 토목 1-10-21
A57: 5BAE2618E104C044BD16CC7E95027D | B57: 창호 철거(인력) | C57: 강재문 | D57: M2 | E57: =일위대가!F354 -> 0 | F57: =일위대가!H354 -> 19775 | G57: =일위대가!J354 -> 0 | H57: =E57+F57+G57 -> 19775 | I57: 호표 54
A58: 5BAE2618E104C044BD16CC7E95027F | B58: 창호 철거(인력) | C58: 강재창 | D58: M2 | E58: =일위대가!F358 -> 0 | F58: =일위대가!H358 -> 19775 | G58: =일위대가!J358 -> 0 | H58: =E58+F58+G58 -> 19775 | I58: 호표 55
A59: 5BAE2618E104C044BD16CC7E950880 | B59: 가로등 이설 | C59: 기존사용 | D59: 개소 | E59: =일위대가!F364 -> 0 | F59: =일위대가!H364 -> 359710 | G59: =일위대가!J364 -> 10791 | H59: =E59+F59+G59 -> 370501 | I59: 호표 56
A60: 5B8A16750C7469D498369AC6C599E3 | B60: 잔디붙임 | C60: 한국형잔디 | D60: M2 | E60: =일위대가!F370 -> 17000 | F60: =일위대가!H370 -> 6170 | G60: =일위대가!J370 -> 0 | H60: =E60+F60+G60 -> 23170 | I60: 호표 57 | M60: 공통 4-1-1
A61: 5BAFC684D944E5B432D6F283558859 | B61: 씽크대제작설치 | C61: L900(상부스텐마감) <현장설치도> | D61: 개소 | E61: =일위대가!F374 -> 600000 | F61: =일위대가!H374 -> 0 | G61: =일위대가!J374 -> 0 | H61: =E61+F61+G61 -> 600000 | I61: 호표 58
A62: 5BAF2682B5648F64B81678B74552B9 | B62: 건설폐기물 -중간처리 | C62: 폐콘크리트 | D62: 톤 | E62: =일위대가!F378 -> 0 | F62: =일위대가!H378 -> 0 | G62: =일위대가!J378 -> 31142 | H62: =E62+F62+G62 -> 31142 | I62: 호표 59 | M62: 한국건설자원협회
A63: 5BAF2682B5648F64B81678B7752615 | B63: 건설폐기물 -중간처리 | C63: 혼합건설폐기물(건설폐재류+가연성 5%이하) | D63: 톤 | E63: =일위대가!F382 -> 0 | F63: =일위대가!H382 -> 0 | G63: =일위대가!J382 -> 72721 | H63: =E63+F63+G63 -> 72721 | I63: 호표 60 | M63: 한국건설자원협회
A64: 5BAF2682B5648F64BBE6A06F15FF71 | B64: 건설폐기물 -매립 | C64: 혼합건설폐기물(폐유리,폐타일,폐자기+가연성 5%이하) | D64: 톤 | E64: =일위대가!F386 -> 0 | F64: =일위대가!H386 -> 0 | G64: =일위대가!J386 -> 188715 | H64: =E64+F64+G64 -> 188715 | I64: 호표 61 | M64: 한국건설자원협회
A65: 5BAF2682B5648F64BBE6A06F15FF72 | B65: 건설폐기물 -매립 | C65: 혼합건설폐기물(폐보드,폐판넬+가연성 5%이하) | D65: 톤 | E65: =일위대가!F390 -> 0 | F65: =일위대가!H390 -> 0 | G65: =일위대가!J390 -> 192887 | H65: =E65+F65+G65 -> 192887 | I65: 호표 62 | M65: 한국건설자원협회
A66: 5BAF2682B5648F64BBE6A0795595E7 | B66: 건설폐기물 | C66: 폐목재 | D66: 톤 | E66: =일위대가!F394 -> 0 | F66: =일위대가!H394 -> 0 | G66: =일위대가!J394 -> 40910 | H66: =E66+F66+G66 -> 40910 | I66: 호표 63 | M66: 한국목재재활용협회
A67: 5BAF2682B5648F64BBE6A0795595EB | B67: 건설폐기물운반비 | C67: 폐목재 | D67: 톤 | E67: =일위대가!F398 -> 0 | F67: =일위대가!H398 -> 0 | G67: =일위대가!J398 -> 195900 | H67: =E67+F67+G67 -> 195900 | I67: 호표 64 | M67: 한국목재재활용협회
A68: 5BAF2682B5648F64BBE6A0795594DD | B68: 건설폐재류 운반비 | C68: 24톤 덤프트럭, 30km | D68: 톤 | E68: =일위대가!F402 -> 0 | F68: =일위대가!H402 -> 0 | G68: =일위대가!J402 -> 16450 | H68: =E68+F68+G68 -> 16450 | I68: 호표 65 | M68: 한국건설자원협회
A69: 5BAF2682B5648F64BBE6A079559109 | B69: 혼합건설폐기물 운반비 | C69: 24톤 암롤트럭, 30km | D69: 톤 | E69: =일위대가!F406 -> 0 | F69: =일위대가!H406 -> 0 | G69: =일위대가!J406 -> 61880 | H69: =E69+F69+G69 -> 61880 | I69: 호표 66 | M69: 한국건설자원협회
A70: 5BAF268735F4B2A427F6A1F6C5F8B2 | B70: 강관 조립말비계(이동식)설치 및 해체 | C70: 높이 2m, 노무비 | D70: 대 | E70: =일위대가!F411 -> 0 | F70: =일위대가!H411 -> 94574 | G70: =일위대가!J411 -> 0 | H70: =E70+F70+G70 -> 94574 | I70: 호표 67 | M70: 공통 2-7-4
A71: 5BAF268735F4B2A427F6A1F6C5FB06 | B71: 강관 조립말비계(이동식)설치 및 해체 | C71: 높이 4m, 노무비 | D71: 대 | E71: =일위대가!F416 -> 0 | F71: =일위대가!H416 -> 156891 | G71: =일위대가!J416 -> 0 | H71: =E71+F71+G71 -> 156891 | I71: 호표 68 | M71: 공통 2-7-4
A72: 5CB3566520C49224026606C1754A948EB5246C83 | B72: 굴착기(무한궤도) | C72: 0.2㎥ | D72: HR | E72: =일위대가!F423 -> 8070 | F72: =일위대가!H423 -> 59020 | G72: =일위대가!J423 -> 13873 | H72: =E72+F72+G72 -> 80963 | I72: 호표 69 | K72: A | M72: 공통 8-3,4(0201) | N72: T
A73: 5CB3566520C4EA04A0B6FC87053773A15D8EBA8A | B73: 물탱크(살수차) | C73: 5500L | D73: HR | E73: =일위대가!F430 -> 16128 | F73: =일위대가!H430 -> 49778 | G73: =일위대가!J430 -> 9986 | H73: =E73+F73+G73 -> 75892 | I73: 호표 70 | K73: A | M73: 공통 8-3,4(7204) | N73: T
A74: 5CB3566520C481A409B629FB15808269A4B88BF1 | B74: 진동롤러(핸드가이드식) | C74: 0.7ton | D74: HR | E74: =일위대가!F437 -> 3316 | F74: =일위대가!H437 -> 36248 | G74: =일위대가!J437 -> 1967 | H74: =E74+F74+G74 -> 41531 | I74: 호표 71 | K74: A | M74: 공통 8-3,4(1305) | N74: T
A75: 5BAF760975E43EA45886D2CAA571B5 | B75: 유로폼 - 재료비 | C75: 6회, 간단 | D75: 10M2 | E75: =일위대가!F442 -> 33180 | F75: =일위대가!H442 -> 0 | G75: =일위대가!J442 -> 0 | H75: =E75+F75+G75 -> 33180 | I75: 호표 72 | M75: 공통 6-3-3.2
A76: 5BAF760975E43EA45886FD93F57B95 | B76: 유로폼 - 인력투입 | C76: 간단, 수직고 7m까지 | D76: M2 | E76: =일위대가!F448 -> 0 | F76: =일위대가!H448 -> 31880 | G76: =일위대가!J448 -> 956 | H76: =E76+F76+G76 -> 32836 | I76: 호표 73 | M76: 공통 6-3-3.3
A77: 5BAF9658C9A4869472B696C995EE34 | B77: 잡철물 제작 및 설치 | C77: 현장제작 설치(복잡), 일반철재 | D77: kg | E77: =일위대가!F457 -> 207 | F77: =일위대가!H457 -> 6925 | G77: =일위대가!J457 -> 346 | H77: =E77+F77+G77 -> 7478 | I77: 호표 74 | M77: 건축 8-3-1, 비고
A78: 5BAFA6BDF424BFB40186CBD8C5F2B7 | B78: 마루바탕 설치 | C78: 합판 깔기 기준 | D78: M2 | E78: =일위대가!F463 -> 0 | F78: =일위대가!H463 -> 8281 | G78: =일위대가!J463 -> 331 | H78: =E78+F78+G78 -> 8612 | I78: 호표 75 | M78: 건축 4-1-3
A79: 5BAFA6BE9E6484343BD6D86E655556 | B79: 벽체틀 설치(미송) | C79: 60*30, @450*600 | D79: M2 | E79: =일위대가!F469 -> 5459 | F79: =일위대가!H469 -> 9733 | G79: =일위대가!J469 -> 194 | H79: =E79+F79+G79 -> 15386 | I79: 호표 76 | M79: 건축 4-2-1
A80: 5BAFC68A6774C6F48B96DD4BE5EB13 | B80: 벽, 합판붙임 | C80: 12.0mm*2겹(내수합판포함) | D80: M2 | E80: =일위대가!F474 -> 23212 | F80: =일위대가!H474 -> 36366 | G80: =일위대가!J474 -> 726 | H80: =E80+F80+G80 -> 60304 | I80: 호표 77
A81: 5BAFC68A61D45364D056B5D115EDDA | B81: 석고판 나사 고정(바탕용) | C81: 벽, 석고보드(일반),12.5T*2겹 붙임 | D81: M2 | E81: =일위대가!F480 -> 9187 | F81: =일위대가!H480 -> 15088 | G81: =일위대가!J480 -> 150 | H81: =E81+F81+G81 -> 24425 | I81: 호표 78 | M81: 건축 5-3-1
A82: 5BAFA6BE9E64A714365675FC459BE2 | B82: 벽체틀 설치 | C82: 자재 별도 | D82: M2 | E82: =일위대가!F486 -> 0 | F82: =일위대가!H486 -> 9733 | G82: =일위대가!J486 -> 194 | H82: =E82+F82+G82 -> 9927 | I82: 호표 79 | M82: 건축 4-2-1
A83: 5BAFC68A6774C6F48B96DD5EC52137 | B83: 벽체합판 설치 | C83: 합판 별도 | D83: M2 | E83: =일위대가!F492 -> 0 | F83: =일위대가!H492 -> 18183 | G83: =일위대가!J492 -> 363 | H83: =E83+F83+G83 -> 18546 | I83: 호표 80 | M83: 건축 4-2-3
A84: 5BAFC68A61D45364D056B26A05CA29 | B84: 석고판(나사고정) 설치 - 바탕용 | C84: 벽, 2겹 붙임 | D84: M2 | E84: =일위대가!F498 -> 0 | F84: =일위대가!H498 -> 15088 | G84: =일위대가!J498 -> 150 | H84: =E84+F84+G84 -> 15238 | I84: 호표 81 | M84: 건축 5-3-1
A85: 5BAFB6A5D7F408248E8651F84549FC | B85: 수밀코킹 | C85: 재료비 별도 | D85: M | E85: =일위대가!F502 -> 0 | F85: =일위대가!H502 -> 5228 | G85: =일위대가!J502 -> 0 | H85: =E85+F85+G85 -> 5228 | I85: 호표 82 | M85: 건축 6-6-1
A86: 5BAF96561C1444B46EF6DAC795E88A | B86: 스테인리스 CAP | C86: D60*1.2t | D86: 개 | E86: =일위대가!F508 -> 137 | F86: =일위대가!H508 -> 235 | G86: =일위대가!J508 -> 9 | H86: =E86+F86+G86 -> 381 | I86: 호표 83
A87: 5BAF96561C1444B46CC6F91C756457 | B87: 용접식난간 설치 | C87: 현장제작 설치, 경량철물(스테인리스) | D87: kg | E87: =일위대가!F516 -> 142 | F87: =일위대가!H516 -> 7109 | G87: =일위대가!J516 -> 142 | H87: =E87+F87+G87 -> 7393 | I87: 호표 84 | M87: 건축 8-2-1
A88: 5BAF9658C9A48694734603F1F54B5C | B88: 잡철물 제작 및 설치 | C88: 현장제작 설치, 경량철재 | D88: kg | E88: =일위대가!F525 -> 138 | F88: =일위대가!H525 -> 6925 | G88: =일위대가!J525 -> 277 | H88: =E88+F88+G88 -> 7340 | I88: 호표 85 | M88: 건축 8-3-1
A89: 5BAFF639A8545A0498968B1585BC43 | B89: 창호유리설치 / 판유리 | C89: 유리두께 12mm 이하 | D89: M2 | E89: =일위대가!F530 -> 0 | F89: =일위대가!H530 -> 34363 | G89: =일위대가!J530 -> 0 | H89: =E89+F89+G89 -> 34363 | I89: 호표 86 | M89: 건축 10-3-1
A90: 5BAFB6A5D5C41E24BBD63651E5DDC1 | B90: 수밀코킹(실리콘) | C90: 10㎜*10㎜ | D90: M | E90: =일위대가!F535 -> 2024 | F90: =일위대가!H535 -> 5228 | G90: =일위대가!J535 -> 0 | H90: =E90+F90+G90 -> 7252 | I90: 호표 87 | M90: 건축 6-6-1
A91: 5BAFF637FF74ACA4B776F6B655FAB3 | B91: 스텐레스창틀설치 | C91: 창상부, 50*80*1.5mm | D91: M | E91: =일위대가!F539 -> 16375 | F91: =일위대가!H539 -> 35830 | G91: =일위대가!J539 -> 1592 | H91: =E91+F91+G91 -> 53797 | I91: 호표 88
A92: 5BAFF637FF74ACA4B776F6B655FAB0 | B92: 스텐레스창틀설치 | C92: 창측면, 50*80*1.5mm | D92: M | E92: =일위대가!F543 -> 16375 | F92: =일위대가!H543 -> 35830 | G92: =일위대가!J543 -> 1592 | H92: =E92+F92+G92 -> 53797 | I92: 호표 89
A93: 5BAFF637FF74ACA4B776F6B655FAA8 | B93: 스텐레스창틀설치 | C93: 창하부, 30*80*1.5mm | D93: M | E93: =일위대가!F547 -> 17058 | F93: =일위대가!H547 -> 37323 | G93: =일위대가!J547 -> 1658 | H93: =E93+F93+G93 -> 56039 | I93: 호표 90
A94: 5BAFF63C7B24D6F49996E30D758B15 | B94: 스텐레스후레임(헤어라인) | C94: 스텐1.5T(철판1.6T보강) | D94: M2 | E94: =일위대가!F556 -> 68233 | F94: =일위대가!H556 -> 149292 | G94: =일위대가!J556 -> 6635 | H94: =E94+F94+G94 -> 224160 | I94: 호표 91
A95: 5BAF9658C9A4869473462EC935B384 | B95: 잡철물 제작 및 설치 | C95: 현장제작 설치, 일반철재 | D95: kg | E95: =일위대가!F565 -> 159 | F95: =일위대가!H565 -> 5328 | G95: =일위대가!J565 -> 266 | H95: =E95+F95+G95 -> 5753 | I95: 호표 92 | M95: 건축 8-3-1
A96: 5BAFF637FF74ACA4B776F6B655F865 | B96: 스틸후레임설치 | C96: 아연각관후레임, 50*50*2.3mm | D96: M | E96: =일위대가!F571 -> 3826 | F96: =일위대가!H571 -> 17784 | G96: =일위대가!J571 -> 887 | H96: =E96+F96+G96 -> 22497 | I96: 호표 93
A97: 5BAFF637FF74ACA4B776F6B655F866 | B97: 스틸후레임설치 | C97: 아연각관후레임, 100*50*2.3mm | D97: M | E97: =일위대가!F577 -> 5906 | F97: =일위대가!H577 -> 27407 | G97: =일위대가!J577 -> 1368 | H97: =E97+F97+G97 -> 34681 | I97: 호표 94
A98: 5BAFC68A62F4A17420A6C06155B478 | B98: 벽, MDF붙임 | C98: 9.0mm(MDF포함) | D98: M2 | E98: =일위대가!F583 -> 5064 | F98: =일위대가!H583 -> 18183 | G98: =일위대가!J583 -> 363 | H98: =E98+F98+G98 -> 23610 | I98: 호표 95 | M98: 건축 4-2-3
A99: 5BAFF637FF74ACA4B776F6B655F94A | B99: 스텐레스후레임설치 | C99: 셔터후레임, 75*45*1.5mm | D99: M | E99: =일위대가!F587 -> 17399 | F99: =일위대가!H587 -> 38069 | G99: =일위대가!J587 -> 1691 | H99: =E99+F99+G99 -> 57159 | I99: 호표 96
A100: 5BAFF63B56341E9478667787A520A1 | B100: 셔터설치(장치포함) | C100: 셔터면적 m2, 5 ~ 10 미만 | D100: 개소 | E100: =일위대가!F593 -> 0 | F100: =일위대가!H593 -> 897080 | G100: =일위대가!J593 -> 17941 | H100: =E100+F100+G100 -> 915021 | I100: 호표 97 | M100: 건축 10-1-6
...

Sheet 일위대가
A1: [ CITES동물보호시설전시공간개선설계용역 ]
A2: 품 명 | B2: 규 격 | C2: 단위 | D2: 수량 | E2: 재 료 비 | G2: 노 무 비 | I2: 경 비 | K2: 합 계 | M2: 비 고 | N2: 일위대가 | O2: 품목코드 | P2: 일위 | Q2: 단산 | R2: 자재 | S2: 손료적용 | T2: 손료저장 | U2: 적용율 | V2: JUK1 | W2: JUK2 | X2: JUK3 | Y2: JUK4 | Z2: JUK5 | AA2: JUK6 | AB2: JUK7 | AC2: JUK8 | AD2: JUK9 | AE2: JUK10 | AF2: JUK11 | AG2: JUK12 | AH2: JUK13 | AI2: JUK14 | AJ2: JUK15 | AK2: JUK16 | AL2: JUK17 | AM2: JUK18 | AN2: JUK19 | AO2: JUK20 | AP2: 할증적용 | AQ2: 할증저장 | AR2: 할증율 | AS2: HAL1 | AT2: HAL2 | AU2: HAL3 | AV2: 자재구분 | AW2: 일위대가+자재 | AX2: 장비일위 | AY2: 설정 | AZ2: 할증체크
E3: 단 가 | F3: 금 액 | G3: 단 가 | H3: 금 액 | I3: 단 가 | J3: 금 액 | K3: 단 가 | L3: 금 액
A4: 강관 조립말비계(이동식)설치 및 해체 높이 2m, 3개월 대 공통 2-7-6, 2-2-5 ( 호표 1 ) | N4: 5BAF268735F4B2A427F6A1E455D185
A5: 비계안정장치 | B5: 비계안정장치, 비계기본틀, 기둥, 1.2*1.7m | C5: 개 | D5: 0.14 | E5: =단가대비표!O49 -> 28500 | F5: =TRUNC(E5*D5,1) -> 3990 | G5: =단가대비표!P49 -> 0 | H5: =TRUNC(G5*D5,1) -> 0 | I5: =단가대비표!V49 -> 0 | J5: =TRUNC(I5*D5,1) -> 0 | K5: =TRUNC(E5+G5+I5,1) -> 28500 | L5: =TRUNC(F5+H5+J5,1) -> 3990 | N5: 5BAF268735F4B2A427F6A1E455D185 | O5: 5C8616860984C6849BA6A44FD583CD0953A828 | P5: F | Q5: F | R5: T | AW5: 5BAF268735F4B2A427F6A1E455D1855C8616860984C6849BA6A44FD583CD0953A828
A6: 비계안정장치 | B6: 비계안정장치, 가새, 1.2*1.9m | C6: 개 | D6: 0.14 | E6: =단가대비표!O50 -> 9500 | F6: =TRUNC(E6*D6,1) -> 1330 | G6: =단가대비표!P50 -> 0 | H6: =TRUNC(G6*D6,1) -> 0 | I6: =단가대비표!V50 -> 0 | J6: =TRUNC(I6*D6,1) -> 0 | K6: =TRUNC(E6+G6+I6,1) -> 9500 | L6: =TRUNC(F6+H6+J6,1) -> 1330 | N6: 5BAF268735F4B2A427F6A1E455D185 | O6: 5C8616860984C6849BA6A44FD583CD0953A826 | P6: F | Q6: F | R6: T | AW6: 5BAF268735F4B2A427F6A1E455D1855C8616860984C6849BA6A44FD583CD0953A826
A7: 비계안정장치 | B7: 비계안정장치, 수평띠장, 1829mm | C7: 개 | D7: 0.28 | E7: =단가대비표!O51 -> 25000 | F7: =TRUNC(E7*D7,1) -> 7000 | G7: =단가대비표!P51 -> 0 | H7: =TRUNC(G7*D7,1) -> 0 | I7: =단가대비표!V51 -> 0 | J7: =TRUNC(I7*D7,1) -> 0 | K7: =TRUNC(E7+G7+I7,1) -> 25000 | L7: =TRUNC(F7+H7+J7,1) -> 7000 | N7: 5BAF268735F4B2A427F6A1E455D185 | O7: 5C8616860984C6849BA6A44FD583CD0953A70A | P7: F | Q7: F | R7: T | AW7: 5BAF268735F4B2A427F6A1E455D1855C8616860984C6849BA6A44FD583CD0953A70A
A8: 비계안정장치 | B8: 비계안정장치, 손잡이기둥 | C8: 개 | D8: 0.28 | E8: =단가대비표!O54 -> 25000 | F8: =TRUNC(E8*D8,1) -> 7000 | G8: =단가대비표!P54 -> 0 | H8: =TRUNC(G8*D8,1) -> 0 | I8: =단가대비표!V54 -> 0 | J8: =TRUNC(I8*D8,1) -> 0 | K8: =TRUNC(E8+G8+I8,1) -> 25000 | L8: =TRUNC(F8+H8+J8,1) -> 7000 | N8: 5BAF268735F4B2A427F6A1E455D185 | O8: 5C8616860984C6849BA6A44FD583CD0953A70D | P8: F | Q8: F | R8: T | AW8: 5BAF268735F4B2A427F6A1E455D1855C8616860984C6849BA6A44FD583CD0953A70D
A9: 비계안정장치 | B9: 비계안정장치, 손잡이, 1229mm | C9: 개 | D9: 0.14 | E9: =단가대비표!O52 -> 6000 | F9: =TRUNC(E9*D9,1) -> 840 | G9: =단가대비표!P52 -> 0 | H9: =TRUNC(G9*D9,1) -> 0 | I9: =단가대비표!V52 -> 0 | J9: =TRUNC(I9*D9,1) -> 0 | K9: =TRUNC(E9+G9+I9,1) -> 6000 | L9: =TRUNC(F9+H9+J9,1) -> 840 | N9: 5BAF268735F4B2A427F6A1E455D185 | O9: 5C8616860984C6849BA6A44FD583CD0953A70B | P9: F | Q9: F | R9: T | AW9: 5BAF268735F4B2A427F6A1E455D1855C8616860984C6849BA6A44FD583CD0953A70B
A10: 비계안정장치 | B10: 비계안정장치, 손잡이, 1829mm | C10: 개 | D10: 0.28 | E10: =단가대비표!O53 -> 8000 | F10: =TRUNC(E10*D10,1) -> 2240 | G10: =단가대비표!P53 -> 0 | H10: =TRUNC(G10*D10,1) -> 0 | I10: =단가대비표!V53 -> 0 | J10: =TRUNC(I10*D10,1) -> 0 | K10: =TRUNC(E10+G10+I10,1) -> 8000 | L10: =TRUNC(F10+H10+J10,1) -> 2240 | N10: 5BAF268735F4B2A427F6A1E455D185 | O10: 5C8616860984C6849BA6A44FD583CD0953A70C | P10: F | Q10: F | R10: T | AW10: 5BAF268735F4B2A427F6A1E455D1855C8616860984C6849BA6A44FD583CD0953A70C
A11: 비계안정장치 | B11: 비계안정장치, 바퀴 | C11: 개 | D11: 0.36 | E11: =단가대비표!O55 -> 9500 | F11: =TRUNC(E11*D11,1) -> 3420 | G11: =단가대비표!P55 -> 0 | H11: =TRUNC(G11*D11,1) -> 0 | I11: =단가대비표!V55 -> 0 | J11: =TRUNC(I11*D11,1) -> 0 | K11: =TRUNC(E11+G11+I11,1) -> 9500 | L11: =TRUNC(F11+H11+J11,1) -> 3420 | N11: 5BAF268735F4B2A427F6A1E455D185 | O11: 5C8616860984C6849BA6A44FD583CD0953A70E | P11: F | Q11: F | R11: T | AW11: 5BAF268735F4B2A427F6A1E455D1855C8616860984C6849BA6A44FD583CD0953A70E
A12: 비계안정장치 | B12: 비계안정장치, 쟈키 | C12: 개 | D12: 0.36 | E12: =단가대비표!O56 -> 11000 | F12: =TRUNC(E12*D12,1) -> 3960 | G12: =단가대비표!P56 -> 0 | H12: =TRUNC(G12*D12,1) -> 0 | I12: =단가대비표!V56 -> 0 | J12: =TRUNC(I12*D12,1) -> 0 | K12: =TRUNC(E12+G12+I12,1) -> 11000 | L12: =TRUNC(F12+H12+J12,1) -> 3960 | N12: 5BAF268735F4B2A427F6A1E455D185 | O12: 5C8616860984C6849BA6A44FD583CD0953A70F | P12: F | Q12: F | R12: T | AW12: 5BAF268735F4B2A427F6A1E455D1855C8616860984C6849BA6A44FD583CD0953A70F
A13: 비계안정장치 | B13: 비계안정장치, 발판, 40*200*2000 | C13: 장 | D13: 0.63 | E13: =단가대비표!O57 -> 18500 | F13: =TRUNC(E13*D13,1) -> 11655 | G13: =단가대비표!P57 -> 0 | H13: =TRUNC(G13*D13,1) -> 0 | I13: =단가대비표!V57 -> 0 | J13: =TRUNC(I13*D13,1) -> 0 | K13: =TRUNC(E13+G13+I13,1) -> 18500 | L13: =TRUNC(F13+H13+J13,1) -> 11655 | N13: 5BAF268735F4B2A427F6A1E455D185 | O13: 5C8616860984C6849BA6A44FF5B3F11D286920 | P13: F | Q13: F | R13: T | AW13: 5BAF268735F4B2A427F6A1E455D1855C8616860984C6849BA6A44FF5B3F11D286920
A14: 강관 조립말비계(이동식)설치 및 해체 | B14: 높이 2m, 노무비 | C14: 대 | D14: 1 | E14: =일위대가목록!E70 -> 0 | F14: =TRUNC(E14*D14,1) -> 0 | G14: =일위대가목록!F70 -> 94574 | H14: =TRUNC(G14*D14,1) -> 94574 | I14: =일위대가목록!G70 -> 0 | J14: =TRUNC(I14*D14,1) -> 0 | K14: =TRUNC(E14+G14+I14,1) -> 94574 | L14: =TRUNC(F14+H14+J14,1) -> 94574 | M14: 호표 67 | N14: 5BAF268735F4B2A427F6A1E455D185 | O14: 5BAF268735F4B2A427F6A1F6C5F8B2 | P14: T | Q14: F | R14: F | AW14: 5BAF268735F4B2A427F6A1E455D1855BAF268735F4B2A427F6A1F6C5F8B2
A15: [ 합 계 ] | F15: =TRUNC(SUMIF(N5:N14, N4, F5:F14),0) -> 41435 | H15: =TRUNC(SUMIF(N5:N14, N4, H5:H14),0) -> 94574 | J15: =TRUNC(SUMIF(N5:N14, N4, J5:J14),0) -> 0 | L15: =F15+H15+J15 -> 136009 | N15: TOTAL | O15: TOTAL
A17: 강관 조립말비계(이동식)설치 및 해체 높이 4m, 3개월 대 공통 2-7-6, 2-2-5 ( 호표 2 ) | N17: 5BAF268735F4B2A427F6A1DBE51C4A
A18: 비계안정장치 | B18: 비계안정장치, 비계기본틀, 기둥, 1.2*1.7m | C18: 개 | D18: 0.28 | E18: =단가대비표!O49 -> 28500 | F18: =TRUNC(E18*D18,1) -> 7980 | G18: =단가대비표!P49 -> 0 | H18: =TRUNC(G18*D18,1) -> 0 | I18: =단가대비표!V49 -> 0 | J18: =TRUNC(I18*D18,1) -> 0 | K18: =TRUNC(E18+G18+I18,1) -> 28500 | L18: =TRUNC(F18+H18+J18,1) -> 7980 | N18: 5BAF268735F4B2A427F6A1DBE51C4A | O18: 5C8616860984C6849BA6A44FD583CD0953A828 | P18: F | Q18: F | R18: T | AW18: 5BAF268735F4B2A427F6A1DBE51C4A5C8616860984C6849BA6A44FD583CD0953A828
A19: 비계안정장치 | B19: 비계안정장치, 가새, 1.2*1.9m | C19: 개 | D19: 0.28 | E19: =단가대비표!O50 -> 9500 | F19: =TRUNC(E19*D19,1) -> 2660 | G19: =단가대비표!P50 -> 0 | H19: =TRUNC(G19*D19,1) -> 0 | I19: =단가대비표!V50 -> 0 | J19: =TRUNC(I19*D19,1) -> 0 | K19: =TRUNC(E19+G19+I19,1) -> 9500 | L19: =TRUNC(F19+H19+J19,1) -> 2660 | N19: 5BAF268735F4B2A427F6A1DBE51C4A | O19: 5C8616860984C6849BA6A44FD583CD0953A826 | P19: F | Q19: F | R19: T | AW19: 5BAF268735F4B2A427F6A1DBE51C4A5C8616860984C6849BA6A44FD583CD0953A826
A20: 비계안정장치 | B20: 비계안정장치, 수평띠장, 1829mm | C20: 개 | D20: 0.56 | E20: =단가대비표!O51 -> 25000 | F20: =TRUNC(E20*D20,1) -> 14000 | G20: =단가대비표!P51 -> 0 | H20: =TRUNC(G20*D20,1) -> 0 | I20: =단가대비표!V51 -> 0 | J20: =TRUNC(I20*D20,1) -> 0 | K20: =TRUNC(E20+G20+I20,1) -> 25000 | L20: =TRUNC(F20+H20+J20,1) -> 14000 | N20: 5BAF268735F4B2A427F6A1DBE51C4A | O20: 5C8616860984C6849BA6A44FD583CD0953A70A | P20: F | Q20: F | R20: T | AW20: 5BAF268735F4B2A427F6A1DBE51C4A5C8616860984C6849BA6A44FD583CD0953A70A
A21: 비계안정장치 | B21: 비계안정장치, 손잡이기둥 | C21: 개 | D21: 0.28 | E21: =단가대비표!O54 -> 25000 | F21: =TRUNC(E21*D21,1) -> 7000 | G21: =단가대비표!P54 -> 0 | H21: =TRUNC(G21*D21,1) -> 0 | I21: =단가대비표!V54 -> 0 | J21: =TRUNC(I21*D21,1) -> 0 | K21: =TRUNC(E21+G21+I21,1) -> 25000 | L21: =TRUNC(F21+H21+J21,1) -> 7000 | N21: 5BAF268735F4B2A427F6A1DBE51C4A | O21: 5C8616860984C6849BA6A44FD583CD0953A70D | P21: F | Q21: F | R21: T | AW21: 5BAF268735F4B2A427F6A1DBE51C4A5C8616860984C6849BA6A44FD583CD0953A70D
A22: 비계안정장치 | B22: 비계안정장치, 손잡이, 1229mm | C22: 개 | D22: 0.14 | E22: =단가대비표!O52 -> 6000 | F22: =TRUNC(E22*D22,1) -> 840 | G22: =단가대비표!P52 -> 0 | H22: =TRUNC(G22*D22,1) -> 0 | I22: =단가대비표!V52 -> 0 | J22: =TRUNC(I22*D22,1) -> 0 | K22: =TRUNC(E22+G22+I22,1) -> 6000 | L22: =TRUNC(F22+H22+J22,1) -> 840 | N22: 5BAF268735F4B2A427F6A1DBE51C4A | O22: 5C8616860984C6849BA6A44FD583CD0953A70B | P22: F | Q22: F | R22: T | AW22: 5BAF268735F4B2A427F6A1DBE51C4A5C8616860984C6849BA6A44FD583CD0953A70B
A23: 비계안정장치 | B23: 비계안정장치, 손잡이, 1829mm | C23: 개 | D23: 0.28 | E23: =단가대비표!O53 -> 8000 | F23: =TRUNC(E23*D23,1) -> 2240 | G23: =단가대비표!P53 -> 0 | H23: =TRUNC(G23*D23,1) -> 0 | I23: =단가대비표!V53 -> 0 | J23: =TRUNC(I23*D23,1) -> 0 | K23: =TRUNC(E23+G23+I23,1) -> 8000 | L23: =TRUNC(F23+H23+J23,1) -> 2240 | N23: 5BAF268735F4B2A427F6A1DBE51C4A | O23: 5C8616860984C6849BA6A44FD583CD0953A70C | P23: F | Q23: F | R23: T | AW23: 5BAF268735F4B2A427F6A1DBE51C4A5C8616860984C6849BA6A44FD583CD0953A70C
A24: 비계안정장치 | B24: 비계안정장치, 이음철물, 연결핀 | C24: 개 | D24: 0.48 | E24: =단가대비표!O48 -> 1330 | F24: =TRUNC(E24*D24,1) -> 638.4 | G24: =단가대비표!P48 -> 0 | H24: =TRUNC(G24*D24,1) -> 0 | I24: =단가대비표!V48 -> 0 | J24: =TRUNC(I24*D24,1) -> 0 | K24: =TRUNC(E24+G24+I24,1) -> 1330 | L24: =TRUNC(F24+H24+J24,1) -> 638.4 | N24: 5BAF268735F4B2A427F6A1DBE51C4A | O24: 5C8616860984C6849BA6A44FD583CD0953AADB | P24: F | Q24: F | R24: T | AW24: 5BAF268735F4B2A427F6A1DBE51C4A5C8616860984C6849BA6A44FD583CD0953AADB
A25: 비계안정장치 | B25: 비계안정장치, 바퀴 | C25: 개 | D25: 0.36 | E25: =단가대비표!O55 -> 9500 | F25: =TRUNC(E25*D25,1) -> 3420 | G25: =단가대비표!P55 -> 0 | H25: =TRUNC(G25*D25,1) -> 0 | I25: =단가대비표!V55 -> 0 | J25: =TRUNC(I25*D25,1) -> 0 | K25: =TRUNC(E25+G25+I25,1) -> 9500 | L25: =TRUNC(F25+H25+J25,1) -> 3420 | N25: 5BAF268735F4B2A427F6A1DBE51C4A | O25: 5C8616860984C6849BA6A44FD583CD0953A70E | P25: F | Q25: F | R25: T | AW25: 5BAF268735F4B2A427F6A1DBE51C4A5C8616860984C6849BA6A44FD583CD0953A70E
A26: 비계안정장치 | B26: 비계안정장치, 쟈키 | C26: 개 | D26: 0.36 | E26: =단가대비표!O56 -> 11000 | F26: =TRUNC(E26*D26,1) -> 3960 | G26: =단가대비표!P56 -> 0 | H26: =TRUNC(G26*D26,1) -> 0 | I26: =단가대비표!V56 -> 0 | J26: =TRUNC(I26*D26,1) -> 0 | K26: =TRUNC(E26+G26+I26,1) -> 11000 | L26: =TRUNC(F26+H26+J26,1) -> 3960 | N26: 5BAF268735F4B2A427F6A1DBE51C4A | O26: 5C8616860984C6849BA6A44FD583CD0953A70F | P26: F | Q26: F | R26: T | AW26: 5BAF268735F4B2A427F6A1DBE51C4A5C8616860984C6849BA6A44FD583CD0953A70F
A27: 비계안정장치 | B27: 비계안정장치, 발판, 40*200*2000 | C27: 장 | D27: 0.63 | E27: =단가대비표!O57 -> 18500 | F27: =TRUNC(E27*D27,1) -> 11655 | G27: =단가대비표!P57 -> 0 | H27: =TRUNC(G27*D27,1) -> 0 | I27: =단가대비표!V57 -> 0 | J27: =TRUNC(I27*D27,1) -> 0 | K27: =TRUNC(E27+G27+I27,1) -> 18500 | L27: =TRUNC(F27+H27+J27,1) -> 11655 | N27: 5BAF268735F4B2A427F6A1DBE51C4A | O27: 5C8616860984C6849BA6A44FF5B3F11D286920 | P27: F | Q27: F | R27: T | AW27: 5BAF268735F4B2A427F6A1DBE51C4A5C8616860984C6849BA6A44FF5B3F11D286920
A28: 강관 조립말비계(이동식)설치 및 해체 | B28: 높이 4m, 노무비 | C28: 대 | D28: 1 | E28: =일위대가목록!E71 -> 0 | F28: =TRUNC(E28*D28,1) -> 0 | G28: =일위대가목록!F71 -> 156891 | H28: =TRUNC(G28*D28,1) -> 156891 | I28: =일위대가목록!G71 -> 0 | J28: =TRUNC(I28*D28,1) -> 0 | K28: =TRUNC(E28+G28+I28,1) -> 156891 | L28: =TRUNC(F28+H28+J28,1) -> 156891 | M28: 호표 68 | N28: 5BAF268735F4B2A427F6A1DBE51C4A | O28: 5BAF268735F4B2A427F6A1F6C5FB06 | P28: T | Q28: F | R28: F | AW28: 5BAF268735F4B2A427F6A1DBE51C4A5BAF268735F4B2A427F6A1F6C5FB06
A29: [ 합 계 ] | F29: =TRUNC(SUMIF(N18:N28, N17, F18:F28),0) -> 54393 | H29: =TRUNC(SUMIF(N18:N28, N17, H18:H28),0) -> 156891 | J29: =TRUNC(SUMIF(N18:N28, N17, J18:J28),0) -> 0 | L29: =F29+H29+J29 -> 211284 | N29: TOTAL | O29: TOTAL
A31: 건축물현장정리 청소 및 뒤정리 M2 공통 2-11-3 준용 ( 호표 3 ) | N31: 5BAF2682B564B4A4FFB6495375EC39
A32: 보통인부 | B32: 일반공사 직종 | C32: 인 | D32: 0.02 | E32: =단가대비표!O91 -> 0 | F32: =TRUNC(E32*D32,1) -> 0 | G32: =단가대비표!P91 -> 172068 | H32: =TRUNC(G32*D32,1) -> 3441.3 | I32: =단가대비표!V91 -> 0 | J32: =TRUNC(I32*D32,1) -> 0 | K32: =TRUNC(E32+G32+I32,1) -> 172068 | L32: =TRUNC(F32+H32+J32,1) -> 3441.3 | N32: 5BAF2682B564B4A4FFB6495375EC39 | O32: 5B7CF6C2A1242C643E264616F556D09CBBD198 | P32: F | Q32: F | R32: T | AW32: 5BAF2682B564B4A4FFB6495375EC395B7CF6C2A1242C643E264616F556D09CBBD198
A33: [ 합 계 ] | F33: =TRUNC(SUMIF(N32:N32, N31, F32:F32),0) -> 0 | H33: =TRUNC(SUMIF(N32:N32, N31, H32:H32),0) -> 3441 | J33: =TRUNC(SUMIF(N32:N32, N31, J32:J32),0) -> 0 | L33: =F33+H33+J33 -> 3441 | N33: TOTAL | O33: TOTAL
A35: 건축물보양 보양지 붙이기 M2 공통 2-11-1 ( 호표 4 ) | N35: 5BAF2682B6743414F6467437F56090
A36: 공통자재 | B36: 하드롱지 | C36: M2 | D36: 1.2 | E36: =단가대비표!O24 -> 408.35 | F36: =TRUNC(E36*D36,1) -> 490 | G36: =단가대비표!P24 -> 0 | H36: =TRUNC(G36*D36,1) -> 0 | I36: =단가대비표!V24 -> 0 | J36: =TRUNC(I36*D36,1) -> 0 | K36: =TRUNC(E36+G36+I36,1) -> 408.3 | L36: =TRUNC(F36+H36+J36,1) -> 490 | N36: 5BAF2682B6743414F6467437F56090 | O36: 5C90C6ED4704C7D48F1606F825E19A4FE9457D | P36: F | Q36: F | R36: T | AW36: 5BAF2682B6743414F6467437F560905C90C6ED4704C7D48F1606F825E19A4FE9457D
A37: 합성풀 | B37: 합성풀, 건설용 | C37: kg | D37: 0.06 | E37: =단가대비표!O68 -> 9376 | F37: =TRUNC(E37*D37,1) -> 562.5 | G37: =단가대비표!P68 -> 0 | H37: =TRUNC(G37*D37,1) -> 0 | I37: =단가대비표!V68 -> 0 | J37: =TRUNC(I37*D37,1) -> 0 | K37: =TRUNC(E37+G37+I37,1) -> 9376 | L37: =TRUNC(F37+H37+J37,1) -> 562.5 | N37: 5BAF2682B6743414F6467437F56090 | O37: 5C8606E26A34C814C2169CE5454B4CBE49D4F8 | P37: F | Q37: F | R37: T | AW37: 5BAF2682B6743414F6467437F560905C8606E26A34C814C2169CE5454B4CBE49D4F8
A38: 보통인부 | B38: 일반공사 직종 | C38: 인 | D38: 0.01 | E38: =단가대비표!O91 -> 0 | F38: =TRUNC(E38*D38,1) -> 0 | G38: =단가대비표!P91 -> 172068 | H38: =TRUNC(G38*D38,1) -> 1720.6 | I38: =단가대비표!V91 -> 0 | J38: =TRUNC(I38*D38,1) -> 0 | K38: =TRUNC(E38+G38+I38,1) -> 172068 | L38: =TRUNC(F38+H38+J38,1) -> 1720.6 | N38: 5BAF2682B6743414F6467437F56090 | O38: 5B7CF6C2A1242C643E264616F556D09CBBD198 | P38: F | Q38: F | R38: T | AW38: 5BAF2682B6743414F6467437F560905B7CF6C2A1242C643E264616F556D09CBBD198
A39: [ 합 계 ] | F39: =TRUNC(SUMIF(N36:N38, N35, F36:F38),0) -> 1052 | H39: =TRUNC(SUMIF(N36:N38, N35, H36:H38),0) -> 1720 | J39: =TRUNC(SUMIF(N36:N38, N35, J36:J38),0) -> 0 | L39: =F39+H39+J39 -> 2772 | N39: TOTAL | O39: TOTAL
A41: 인력굴착(토사) / 보통토사 H=1m 이하(구조물터파기, 흙깍기) M3 공통 3-1-2 ( 호표 5 ) | N41: 5B8A167B93B440B437D62657255CD8
A42: 특별인부 | B42: 일반공사 직종 | C42: 인 | D42: 0.28 | E42: =단가대비표!O92 -> 0 | F42: =TRUNC(E42*D42,1) -> 0 | G42: =단가대비표!P92 -> 226122 | H42: =TRUNC(G42*D42,1) -> 63314.1 | I42: =단가대비표!V92 -> 0 | J42: =TRUNC(I42*D42,1) -> 0 | K42: =TRUNC(E42+G42+I42,1) -> 226122 | L42: =TRUNC(F42+H42+J42,1) -> 63314.1 | N42: 5B8A167B93B440B437D62657255CD8 | O42: 5B7CF6C2A1242C643E264616F556D09CBBD199 | P42: F | Q42: F | R42: T | AW42: 5B8A167B93B440B437D62657255CD85B7CF6C2A1242C643E264616F556D09CBBD199
A43: [ 합 계 ] | F43: =TRUNC(SUMIF(N42:N42, N41, F42:F42),0) -> 0 | H43: =TRUNC(SUMIF(N42:N42, N41, H42:H42),0) -> 63314 | J43: =TRUNC(SUMIF(N42:N42, N41, J42:J42),0) -> 0 | L43: =F43+H43+J43 -> 63314 | N43: TOTAL | O43: TOTAL
A45: 잔토처리 인력(현장 내 소운반 깔고 고르기) M3 공통 3-1-2 [비고] ( 호표 6 ) | N45: 5B8A167B93B440B435264CBC752D17
A46: 보통인부 | B46: 일반공사 직종 | C46: 인 | D46: 0.2 | E46: =단가대비표!O91 -> 0 | F46: =TRUNC(E46*D46,1) -> 0 | G46: =단가대비표!P91 -> 172068 | H46: =TRUNC(G46*D46,1) -> 34413.6 | I46: =단가대비표!V91 -> 0 | J46: =TRUNC(I46*D46,1) -> 0 | K46: =TRUNC(E46+G46+I46,1) -> 172068 | L46: =TRUNC(F46+H46+J46,1) -> 34413.6 | N46: 5B8A167B93B440B435264CBC752D17 | O46: 5B7CF6C2A1242C643E264616F556D09CBBD198 | P46: F | Q46: F | R46: T | AW46: 5B8A167B93B440B435264CBC752D175B7CF6C2A1242C643E264616F556D09CBBD198
A47: [ 합 계 ] | F47: =TRUNC(SUMIF(N46:N46, N45, F46:F46),0) -> 0 | H47: =TRUNC(SUMIF(N46:N46, N45, H46:H46),0) -> 34413 | J47: =TRUNC(SUMIF(N46:N46, N45, J46:J46),0) -> 0 | L47: =F47+H47+J47 -> 34413 | N47: TOTAL | O47: TOTAL
A49: 되메우기 및 다짐 소형장비 M3 공통 3-4-6 ( 호표 7 ) | N49: 5B8A167611B4B804FC3630D6251A9E
A50: 특별인부 | B50: 일반공사 직종 | C50: 인 | D50: 0.0077 | E50: =단가대비표!O92 -> 0 | F50: =TRUNC(E50*D50,1) -> 0 | G50: =단가대비표!P92 -> 226122 | H50: =TRUNC(G50*D50,1) -> 1741.1 | I50: =단가대비표!V92 -> 0 | J50: =TRUNC(I50*D50,1) -> 0 | K50: =TRUNC(E50+G50+I50,1) -> 226122 | L50: =TRUNC(F50+H50+J50,1) -> 1741.1 | N50: 5B8A167611B4B804FC3630D6251A9E | O50: 5B7CF6C2A1242C643E264616F556D09CBBD199 | P50: F | Q50: F | R50: T | AW50: 5B8A167611B4B804FC3630D6251A9E5B7CF6C2A1242C643E264616F556D09CBBD199
A51: 보통인부 | B51: 일반공사 직종 | C51: 인 | D51: 0.0077 | E51: =단가대비표!O91 -> 0 | F51: =TRUNC(E51*D51,1) -> 0 | G51: =단가대비표!P91 -> 172068 | H51: =TRUNC(G51*D51,1) -> 1324.9 | I51: =단가대비표!V91 -> 0 | J51: =TRUNC(I51*D51,1) -> 0 | K51: =TRUNC(E51+G51+I51,1) -> 172068 | L51: =TRUNC(F51+H51+J51,1) -> 1324.9 | N51: 5B8A167611B4B804FC3630D6251A9E | O51: 5B7CF6C2A1242C643E264616F556D09CBBD198 | P51: F | Q51: F | R51: T | AW51: 5B8A167611B4B804FC3630D6251A9E5B7CF6C2A1242C643E264616F556D09CBBD198
A52: 굴착기(무한궤도) | B52: 0.2㎥ | C52: HR | D52: 0.0615 | E52: =일위대가목록!E72 -> 8070 | F52: =TRUNC(E52*D52,1) -> 496.3 | G52: =일위대가목록!F72 -> 59020 | H52: =TRUNC(G52*D52,1) -> 3629.7 | I52: =일위대가목록!G72 -> 13873 | J52: =TRUNC(I52*D52,1) -> 853.1 | K52: =TRUNC(E52+G52+I52,1) -> 80963 | L52: =TRUNC(F52+H52+J52,1) -> 4979.1 | M52: 호표 69 | N52: 5B8A167611B4B804FC3630D6251A9E | O52: 5CB3566520C49224026606C1754A948EB5246C83 | P52: T | Q52: F | R52: F | AW52: 5B8A167611B4B804FC3630D6251A9E5CB3566520C49224026606C1754A948EB5246C83
A53: 물탱크(살수차) | B53: 5500L | C53: HR | D53: 0.0308 | E53: =일위대가목록!E73 -> 16128 | F53: =TRUNC(E53*D53,1) -> 496.7 | G53: =일위대가목록!F73 -> 49778 | H53: =TRUNC(G53*D53,1) -> 1533.1 | I53: =일위대가목록!G73 -> 9986 | J53: =TRUNC(I53*D53,1) -> 307.5 | K53: =TRUNC(E53+G53+I53,1) -> 75892 | L53: =TRUNC(F53+H53+J53,1) -> 2337.3 | M53: 호표 70 | N53: 5B8A167611B4B804FC3630D6251A9E | O53: 5CB3566520C4EA04A0B6FC87053773A15D8EBA8A | P53: T | Q53: F | R53: F | AW53: 5B8A167611B4B804FC3630D6251A9E5CB3566520C4EA04A0B6FC87053773A15D8EBA8A
A54: 진동롤러(핸드가이드식) | B54: 0.7ton | C54: HR | D54: 0.0615 | E54: =일위대가목록!E74 -> 3316 | F54: =TRUNC(E54*D54,1) -> 203.9 | G54: =일위대가목록!F74 -> 36248 | H54: =TRUNC(G54*D54,1) -> 2229.2 | I54: =일위대가목록!G74 -> 1967 | J54: =TRUNC(I54*D54,1) -> 120.9 | K54: =TRUNC(E54+G54+I54,1) -> 41531 | L54: =TRUNC(F54+H54+J54,1) -> 2554 | M54: 호표 71 | N54: 5B8A167611B4B804FC3630D6251A9E | O54: 5CB3566520C481A409B629FB15808269A4B88BF1 | P54: T | Q54: F | R54: F | V54: 1 | AW54: 5B8A167611B4B804FC3630D6251A9E5CB3566520C481A409B629FB15808269A4B88BF1
A55: 진동롤러(핸드가이드식) 조정원 계산안함 | B55: 조정원의 100% | C55: 식 | D55: -1 | E55: 0 | F55: =TRUNC(E55*D55,1) -> 0 | G55: =TRUNC(SUMIF(V50:V55, RIGHTB(O55, 1), H50:H55)*U55, 2) -> 2229.2 | H55: =TRUNC(G55*D55,1) -> -2229.2 | I55: 0 | J55: =TRUNC(I55*D55,1) -> 0 | K55: =TRUNC(E55+G55+I55,1) -> 2229.2 | L55: =TRUNC(F55+H55+J55,1) -> -2229.2 | N55: 5B8A167611B4B804FC3630D6251A9E | O55: 5AB7E6810CF4E20460D6F097253A001 | P55: F | Q55: F | R55: F | S55: 1 | T55: 1 | U55: 1 | AW55: 5B8A167611B4B804FC3630D6251A9E5AB7E6810CF4E20460D6F097253A001
A56: [ 합 계 ] | F56: =TRUNC(SUMIF(N50:N55, N49, F50:F55),0) -> 1196 | H56: =TRUNC(SUMIF(N50:N55, N49, H50:H55),0) -> 8228 | J56: =TRUNC(SUMIF(N50:N55, N49, J50:J55),0) -> 1281 | L56: =F56+H56+J56 -> 10705 | N56: TOTAL | O56: TOTAL
A58: 기초 지정 잡석지정 M3 공통 3-4-8 ( 호표 8 ) | N58: 5B8A16773114554461961C9E2547A4
A59: 특별인부 | B59: 일반공사 직종 | C59: 인 | D59: 0.011 | E59: =단가대비표!O92 -> 0 | F59: =TRUNC(E59*D59,1) -> 0 | G59: =단가대비표!P92 -> 226122 | H59: =TRUNC(G59*D59,1) -> 2487.3 | I59: =단가대비표!V92 -> 0 | J59: =TRUNC(I59*D59,1) -> 0 | K59: =TRUNC(E59+G59+I59,1) -> 226122 | L59: =TRUNC(F59+H59+J59,1) -> 2487.3 | N59: 5B8A16773114554461961C9E2547A4 | O59: 5B7CF6C2A1242C643E264616F556D09CBBD199 | P59: F | Q59: F | R59: T | AW59: 5B8A16773114554461961C9E2547A45B7CF6C2A1242C643E264616F556D09CBBD199
A60: 보통인부 | B60: 일반공사 직종 | C60: 인 | D60: 0.011 | E60: =단가대비표!O91 -> 0 | F60: =TRUNC(E60*D60,1) -> 0 | G60: =단가대비표!P91 -> 172068 | H60: =TRUNC(G60*D60,1) -> 1892.7 | I60: =단가대비표!V91 -> 0 | J60: =TRUNC(I60*D60,1) -> 0 | K60: =TRUNC(E60+G60+I60,1) -> 172068 | L60: =TRUNC(F60+H60+J60,1) -> 1892.7 | N60: 5B8A16773114554461961C9E2547A4 | O60: 5B7CF6C2A1242C643E264616F556D09CBBD198 | P60: F | Q60: F | R60: T | AW60: 5B8A16773114554461961C9E2547A45B7CF6C2A1242C643E264616F556D09CBBD198
A61: 굴착기(무한궤도) | B61: 0.2㎥ | C61: HR | D61: 0.089 | E61: =일위대가목록!E72 -> 8070 | F61: =TRUNC(E61*D61,1) -> 718.2 | G61: =일위대가목록!F72 -> 59020 | H61: =TRUNC(G61*D61,1) -> 5252.7 | I61: =일위대가목록!G72 -> 13873 | J61: =TRUNC(I61*D61,1) -> 1234.6 | K61: =TRUNC(E61+G61+I61,1) -> 80963 | L61: =TRUNC(F61+H61+J61,1) -> 7205.5 | M61: 호표 69 | N61: 5B8A16773114554461961C9E2547A4 | O61: 5CB3566520C49224026606C1754A948EB5246C83 | P61: T | Q61: F | R61: F | AW61: 5B8A16773114554461961C9E2547A45CB3566520C49224026606C1754A948EB5246C83
A62: 진동롤러(핸드가이드식) | B62: 0.7ton | C62: HR | D62: 0.089 | E62: =일위대가목록!E74 -> 3316 | F62: =TRUNC(E62*D62,1) -> 295.1 | G62: =일위대가목록!F74 -> 36248 | H62: =TRUNC(G62*D62,1) -> 3226 | I62: =일위대가목록!G74 -> 1967 | J62: =TRUNC(I62*D62,1) -> 175 | K62: =TRUNC(E62+G62+I62,1) -> 41531 | L62: =TRUNC(F62+H62+J62,1) -> 3696.1 | M62: 호표 71 | N62: 5B8A16773114554461961C9E2547A4 | O62: 5CB3566520C481A409B629FB15808269A4B88BF1 | P62: T | Q62: F | R62: F | V62: 1 | AW62: 5B8A16773114554461961C9E2547A45CB3566520C481A409B629FB15808269A4B88BF1
A63: 진동롤러(핸드가이드식) 조정원 계산안함 | B63: 조정원의 100% | C63: 식 | D63: -1 | E63: 0 | F63: =TRUNC(E63*D63,1) -> 0 | G63: =TRUNC(SUMIF(V59:V65, RIGHTB(O63, 1), H59:H65)*U63, 2) -> 3226 | H63: =TRUNC(G63*D63,1) -> -3226 | I63: 0 | J63: =TRUNC(I63*D63,1) -> 0 | K63: =TRUNC(E63+G63+I63,1) -> 3226 | L63: =TRUNC(F63+H63+J63,1) -> -3226 | N63: 5B8A16773114554461961C9E2547A4 | O63: 5AB7E6810CF4E20460D6F097253A001 | P63: F | Q63: F | R63: F | S63: 1 | T63: 1 | U63: 1 | AW63: 5B8A16773114554461961C9E2547A45AB7E6810CF4E20460D6F097253A001
A64: 자갈 | B64: (별도), 40mm, #467 | C64: M3 | D64: 0.3 | E64: =단가대비표!O12 -> 0 | F64: =TRUNC(E64*D64,1) -> 0 | G64: =단가대비표!P12 -> 0 | H64: =TRUNC(G64*D64,1) -> 0 | I64: =단가대비표!V12 -> 0 | J64: =TRUNC(I64*D64,1) -> 0 | K64: =TRUNC(E64+G64+I64,1) -> 0 | L64: =TRUNC(F64+H64+J64,1) -> 0 | M64: 별도 | N64: 5B8A16773114554461961C9E2547A4 | O64: 5CA2E675171431B4A0E6E8E4C562DEEB9DB31E | P64: F | Q64: F | R64: T | AW64: 5B8A16773114554461961C9E2547A45CA2E675171431B4A0E6E8E4C562DEEB9DB31E
A65: 잡석 | B65: (별도) | C65: M3 | D65: 1.1 | E65: =단가대비표!O14 -> 0 | F65: =TRUNC(E65*D65,1) -> 0 | G65: =단가대비표!P14 -> 0 | H65: =TRUNC(G65*D65,1) -> 0 | I65: =단가대비표!V14 -> 0 | J65: =TRUNC(I65*D65,1) -> 0 | K65: =TRUNC(E65+G65+I65,1) -> 0 | L65: =TRUNC(F65+H65+J65,1) -> 0 | M65: 별도 | N65: 5B8A16773114554461961C9E2547A4 | O65: 5CA2E675171431B4A8262C24E55974EE2C45B4 | P65: F | Q65: F | R65: T | AW65: 5B8A16773114554461961C9E2547A45CA2E675171431B4A8262C24E55974EE2C45B4
A66: [ 합 계 ] | F66: =TRUNC(SUMIF(N59:N65, N58, F59:F65),0) -> 1013 | H66: =TRUNC(SUMIF(N59:N65, N58, H59:H65),0) -> 9632 | J66: =TRUNC(SUMIF(N59:N65, N58, J59:J65),0) -> 1409 | L66: =F66+H66+J66 -> 12054 | N66: TOTAL | O66: TOTAL
A68: 레디믹스트콘크리트 인력운반 타설 철근구조물 M3 공통 6-1-1 ( 호표 9 ) | N68: 5BAF760EF274B1B489B60FB8C53471
A69: 콘크리트공 | B69: 일반공사 직종 | C69: 인 | D69: 0.15 | E69: =단가대비표!O98 -> 0 | F69: =TRUNC(E69*D69,1) -> 0 | G69: =단가대비표!P98 -> 273540 | H69: =TRUNC(G69*D69,1) -> 41031 | I69: =단가대비표!V98 -> 0 | J69: =TRUNC(I69*D69,1) -> 0 | K69: =TRUNC(E69+G69+I69,1) -> 273540 | L69: =TRUNC(F69+H69+J69,1) -> 41031 | N69: 5BAF760EF274B1B489B60FB8C53471 | O69: 5B7CF6C2A1242C643E264616F556D09CBBD0F0 | P69: F | Q69: F | R69: T | V69: 1 | AW69: 5BAF760EF274B1B489B60FB8C534715B7CF6C2A1242C643E264616F556D09CBBD0F0
A70: 보통인부 | B70: 일반공사 직종 | C70: 인 | D70: 0.15 | E70: =단가대비표!O91 -> 0 | F70: =TRUNC(E70*D70,1) -> 0 | G70: =단가대비표!P91 -> 172068 | H70: =TRUNC(G70*D70,1) -> 25810.2 | I70: =단가대비표!V91 -> 0 | J70: =TRUNC(I70*D70,1) -> 0 | K70: =TRUNC(E70+G70+I70,1) -> 172068 | L70: =TRUNC(F70+H70+J70,1) -> 25810.2 | N70: 5BAF760EF274B1B489B60FB8C53471 | O70: 5B7CF6C2A1242C643E264616F556D09CBBD198 | P70: F | Q70: F | R70: T | V70: 1 | AW70: 5BAF760EF274B1B489B60FB8C534715B7CF6C2A1242C643E264616F556D09CBBD198
A71: 공구손료 | B71: 인력품의 2% | C71: 식 | D71: 1 | E71: 0 | F71: =TRUNC(E71*D71,1) -> 0 | G71: 0 | H71: =TRUNC(G71*D71,1) -> 0 | I71: =TRUNC(SUMIF(V69:V71, RIGHTB(O71, 1), H69:H71)*U71, 2) -> 1336.82 | J71: =TRUNC(I71*D71,1) -> 1336.8 | K71: =TRUNC(E71+G71+I71,1) -> 1336.8 | L71: =TRUNC(F71+H71+J71,1) -> 1336.8 | N71: 5BAF760EF274B1B489B60FB8C53471 | O71: 5AB7E6810CF4E20460D6F097253A001 | P71: F | Q71: F | R71: F | S71: 1 | T71: 2 | U71: 0.02 | AW71: 5BAF760EF274B1B489B60FB8C534715AB7E6810CF4E20460D6F097253A001
A72: [ 합 계 ] | F72: =TRUNC(SUMIF(N69:N71, N68, F69:F71),0) -> 0 | H72: =TRUNC(SUMIF(N69:N71, N68, H69:H71),0) -> 66841 | J72: =TRUNC(SUMIF(N69:N71, N68, J69:J71),0) -> 1336 | L72: =F72+H72+J72 -> 68177 | N72: TOTAL | O72: TOTAL
A74: 레디믹스트콘크리트 인력운반 타설 무근구조물 M3 공통 6-1-1 ( 호표 10 ) | N74: 5BAF760EF274B1B489B634FCB51B3B
A75: 콘크리트공 | B75: 일반공사 직종 | C75: 인 | D75: 0.13 | E75: =단가대비표!O98 -> 0 | F75: =TRUNC(E75*D75,1) -> 0 | G75: =단가대비표!P98 -> 273540 | H75: =TRUNC(G75*D75,1) -> 35560.2 | I75: =단가대비표!V98 -> 0 | J75: =TRUNC(I75*D75,1) -> 0 | K75: =TRUNC(E75+G75+I75,1) -> 273540 | L75: =TRUNC(F75+H75+J75,1) -> 35560.2 | N75: 5BAF760EF274B1B489B634FCB51B3B | O75: 5B7CF6C2A1242C643E264616F556D09CBBD0F0 | P75: F | Q75: F | R75: T | V75: 1 | AW75: 5BAF760EF274B1B489B634FCB51B3B5B7CF6C2A1242C643E264616F556D09CBBD0F0
A76: 보통인부 | B76: 일반공사 직종 | C76: 인 | D76: 0.13 | E76: =단가대비표!O91 -> 0 | F76: =TRUNC(E76*D76,1) -> 0 | G76: =단가대비표!P91 -> 172068 | H76: =TRUNC(G76*D76,1) -> 22368.8 | I76: =단가대비표!V91 -> 0 | J76: =TRUNC(I76*D76,1) -> 0 | K76: =TRUNC(E76+G76+I76,1) -> 172068 | L76: =TRUNC(F76+H76+J76,1) -> 22368.8 | N76: 5BAF760EF274B1B489B634FCB51B3B | O76: 5B7CF6C2A1242C643E264616F556D09CBBD198 | P76: F | Q76: F | R76: T | V76: 1 | AW76: 5BAF760EF274B1B489B634FCB51B3B5B7CF6C2A1242C643E264616F556D09CBBD198
A77: 공구손료 | B77: 인력품의 2% | C77: 식 | D77: 1 | E77: 0 | F77: =TRUNC(E77*D77,1) -> 0 | G77: 0 | H77: =TRUNC(G77*D77,1) -> 0 | I77: =TRUNC(SUMIF(V75:V77, RIGHTB(O77, 1), H75:H77)*U77, 2) -> 1158.58 | J77: =TRUNC(I77*D77,1) -> 1158.5 | K77: =TRUNC(E77+G77+I77,1) -> 1158.5 | L77: =TRUNC(F77+H77+J77,1) -> 1158.5 | N77: 5BAF760EF274B1B489B634FCB51B3B | O77: 5AB7E6810CF4E20460D6F097253A001 | P77: F | Q77: F | R77: F | S77: 1 | T77: 2 | U77: 0.02 | AW77: 5BAF760EF274B1B489B634FCB51B3B5AB7E6810CF4E20460D6F097253A001
A78: [ 합 계 ] | F78: =TRUNC(SUMIF(N75:N77, N74, F75:F77),0) -> 0 | H78: =TRUNC(SUMIF(N75:N77, N74, H75:H77),0) -> 57929 | J78: =TRUNC(SUMIF(N75:N77, N74, J75:J77),0) -> 1158 | L78: =F78+H78+J78 -> 59087 | N78: TOTAL | O78: TOTAL
A80: 유로폼 설치 및 해체 6회, 간단, 수직고 7m까지 M2 공통 6-3-3 ( 호표 11 ) | N80: 5BAF760975E43EA4599641D5A591AA
A81: 유로폼 - 재료비 | B81: 6회, 간단 | C81: 10M2 | D81: 0.1 | E81: =일위대가목록!E75 -> 33180 | F81: =TRUNC(E81*D81,1) -> 3318 | G81: =일위대가목록!F75 -> 0 | H81: =TRUNC(G81*D81,1) -> 0 | I81: =일위대가목록!G75 -> 0 | J81: =TRUNC(I81*D81,1) -> 0 | K81: =TRUNC(E81+G81+I81,1) -> 33180 | L81: =TRUNC(F81+H81+J81,1) -> 3318 | M81: 호표 72 | N81: 5BAF760975E43EA4599641D5A591AA | O81: 5BAF760975E43EA45886D2CAA571B5 | P81: T | Q81: F | R81: F | AW81: 5BAF760975E43EA4599641D5A591AA5BAF760975E43EA45886D2CAA571B5
A82: 유로폼 - 인력투입 | B82: 간단, 수직고 7m까지 | C82: M2 | D82: 1 | E82: =일위대가목록!E76 -> 0 | F82: =TRUNC(E82*D82,1) -> 0 | G82: =일위대가목록!F76 -> 31880 | H82: =TRUNC(G82*D82,1) -> 31880 | I82: =일위대가목록!G76 -> 956 | J82: =TRUNC(I82*D82,1) -> 956 | K82: =TRUNC(E82+G82+I82,1) -> 32836 | L82: =TRUNC(F82+H82+J82,1) -> 32836 | M82: 호표 73 | N82: 5BAF760975E43EA4599641D5A591AA | O82: 5BAF760975E43EA45886FD93F57B95 | P82: T | Q82: F | R82: F | AW82: 5BAF760975E43EA4599641D5A591AA5BAF760975E43EA45886FD93F57B95
A83: [ 합 계 ] | F83: =TRUNC(SUMIF(N81:N82, N80, F81:F82),0) -> 3318 | H83: =TRUNC(SUMIF(N81:N82, N80, H81:H82),0) -> 31880 | J83: =TRUNC(SUMIF(N81:N82, N80, J81:J82),0) -> 956 | L83: =F83+H83+J83 -> 36154 | N83: TOTAL | O83: TOTAL
A85: 문양거푸집 설치 및 해체 송판무늬 M2 ( 호표 12 ) | N85: 5BAF760975E43EA450B67D2325F440
A86: 건설용거푸집 | B86: 건설용거푸집, 강, 600*1200*63.5mm | C86: 매 | D86: 1 | E86: =단가대비표!O58 -> 27075 | F86: =TRUNC(E86*D86,1) -> 27075 | G86: =단가대비표!P58 -> 0 | H86: =TRUNC(G86*D86,1) -> 0 | I86: =단가대비표!V58 -> 0 | J86: =TRUNC(I86*D86,1) -> 0 | K86: =TRUNC(E86+G86+I86,1) -> 27075 | L86: =TRUNC(F86+H86+J86,1) -> 27075 | N86: 5BAF760975E43EA450B67D2325F440 | O86: 5C8616860984411415A6038185DF66C3E12CF1 | P86: F | Q86: F | R86: T | V86: 1 | AW86: 5BAF760975E43EA450B67D2325F4405C8616860984411415A6038185DF66C3E12CF1
A87: 보조 자재(각재, 핀, 볼트 등) | B87: 주재료비의 20% | C87: 식 | D87: 1 | E87: =TRUNC(SUMIF(V86:V93, RIGHTB(O87, 1), F86:F93)*U87, 2) -> 5415 | F87: =TRUNC(E87*D87,1) -> 5415 | G87: 0 | H87: =TRUNC(G87*D87,1) -> 0 | I87: 0 | J87: =TRUNC(I87*D87,1) -> 0 | K87: =TRUNC(E87+G87+I87,1) -> 5415 | L87: =TRUNC(F87+H87+J87,1) -> 5415 | N87: 5BAF760975E43EA450B67D2325F440 | O87: 5AB7E6810CF4E20460D6F097253A001 | P87: F | Q87: F | R87: F | S87: 0 | T87: 0 | U87: 0.2 | W87: 2 | AW87: 5BAF760975E43EA450B67D2325F4405AB7E6810CF4E20460D6F097253A001
A88: 건설용거푸집액세서리 | B88: 건설용거푸집액세서리, 플랫타이, 4*19*200mm | C88: 개 | D88: 2.14 | E88: =단가대비표!O59 -> 133 | F88: =TRUNC(E88*D88,1) -> 284.6 | G88: =단가대비표!P59 -> 0 | H88: =TRUNC(G88*D88,1) -> 0 | I88: =단가대비표!V59 -> 0 | J88: =TRUNC(I88*D88,1) -> 0 | K88: =TRUNC(E88+G88+I88,1) -> 133 | L88: =TRUNC(F88+H88+J88,1) -> 284.6 | N88: 5BAF760975E43EA450B67D2325F440 | O88: 5C8616860984411415A61C3045B9C737DF0E3C | P88: F | Q88: F | R88: T | AW88: 5BAF760975E43EA450B67D2325F4405C8616860984411415A61C3045B9C737DF0E3C
A89: 건축용스페이서 | B89: 건축용스페이서, 세퍼레이트, 200mm | C89: 개 | D89: 2.14 | E89: =단가대비표!O60 -> 380 | F89: =TRUNC(E89*D89,1) -> 813.2 | G89: =단가대비표!P60 -> 0 | H89: =TRUNC(G89*D89,1) -> 0 | I89: =단가대비표!V60 -> 0 | J89: =TRUNC(I89*D89,1) -> 0 | K89: =TRUNC(E89+G89+I89,1) -> 380 | L89: =TRUNC(F89+H89+J89,1) -> 813.2 | N89: 5BAF760975E43EA450B67D2325F440 | O89: 5C8616860984411415A62E5AC5FF328EA407FC | P89: F | Q89: F | R89: T | AW89: 5BAF760975E43EA450B67D2325F4405C8616860984411415A62E5AC5FF328EA407FC
A90: 박리제 | B90: 박리제, 목재용, 수성 | C90: L | D90: 0.19 | E90: =단가대비표!O21 -> 1125 | F90: =TRUNC(E90*D90,1) -> 213.7 | G90: =단가대비표!P21 -> 0 | H90: =TRUNC(G90*D90,1) -> 0 | I90: =단가대비표!V21 -> 0 | J90: =TRUNC(I90*D90,1) -> 0 | K90: =TRUNC(E90+G90+I90,1) -> 1125 | L90: =TRUNC(F90+H90+J90,1) -> 213.7 | N90: 5BAF760975E43EA450B67D2325F440 | O90: 5CA2D66C7F34433409A67F39D5FFC29982B543 | P90: F | Q90: F | R90: T | AW90: 5BAF760975E43EA450B67D2325F4405CA2D66C7F34433409A67F39D5FFC29982B543
A91: 형틀목공 | B91: 일반공사 직종 | C91: 인 | D91: 0.11 | E91: =단가대비표!O94 -> 0 | F91: =TRUNC(E91*D91,1) -> 0 | G91: =단가대비표!P94 -> 275790 | H91: =TRUNC(G91*D91,1) -> 30336.9 | I91: =단가대비표!V94 -> 0 | J91: =TRUNC(I91*D91,1) -> 0 | K91: =TRUNC(E91+G91+I91,1) -> 275790 | L91: =TRUNC(F91+H91+J91,1) -> 30336.9 | N91: 5BAF760975E43EA450B67D2325F440 | O91: 5B7CF6C2A1242C643E264616F556D09CBBD19D | P91: F | Q91: F | R91: T | AW91: 5BAF760975E43EA450B67D2325F4405B7CF6C2A1242C643E264616F556D09CBBD19D
A92: 보통인부 | B92: 일반공사 직종 | C92: 인 | D92: 0.05 | E92: =단가대비표!O91 -> 0 | F92: =TRUNC(E92*D92,1) -> 0 | G92: =단가대비표!P91 -> 172068 | H92: =TRUNC(G92*D92,1) -> 8603.4 | I92: =단가대비표!V91 -> 0 | J92: =TRUNC(I92*D92,1) -> 0 | K92: =TRUNC(E92+G92+I92,1) -> 172068 | L92: =TRUNC(F92+H92+J92,1) -> 8603.4 | N92: 5BAF760975E43EA450B67D2325F440 | O92: 5B7CF6C2A1242C643E264616F556D09CBBD198 | P92: F | Q92: F | R92: T | AW92: 5BAF760975E43EA450B67D2325F4405B7CF6C2A1242C643E264616F556D09CBBD198
A93: 사용고재 | B93: 보조 자재비의 -10% | C93: 식 | D93: -1 | E93: =TRUNC(SUMIF(W86:W93, RIGHTB(O93, 1), F86:F93)*U93, 2) -> 541.5 | F93: =TRUNC(E93*D93,1) -> -541.5 | G93: 0 | H93: =TRUNC(G93*D93,1) -> 0 | I93: 0 | J93: =TRUNC(I93*D93,1) -> 0 | K93: =TRUNC(E93+G93+I93,1) -> 541.5 | L93: =TRUNC(F93+H93+J93,1) -> -541.5 | N93: 5BAF760975E43EA450B67D2325F440 | O93: 5AB7E6810CF4E20460D6F0972539002 | P93: F | Q93: F | R93: F | S93: 0 | T93: 0 | U93: 0.1 | AW93: 5BAF760975E43EA450B67D2325F4405AB7E6810CF4E20460D6F0972539002
A94: [ 합 계 ] | F94: =TRUNC(SUMIF(N86:N93, N85, F86:F93),0) -> 33260 | H94: =TRUNC(SUMIF(N86:N93, N85, H86:H93),0) -> 38940 | J94: =TRUNC(SUMIF(N86:N93, N85, J86:J93),0) -> 0 | L94: =F94+H94+J94 -> 72200 | N94: TOTAL | O94: TOTAL
A96: 철근 현장조립 Type-Ⅰ, 소량(0.5ton 미만), 1.7ton/일당 일당 공통 6-2-3 ( 호표 13 ) | N96: 5BAF760A17E4CA04F126F46D75A378
A97: 철근공 | B97: 일반공사 직종 | C97: 인 | D97: 6 | E97: =단가대비표!O95 -> 0 | F97: =TRUNC(E97*D97,1) -> 0 | G97: =단가대비표!P95 -> 268187 | H97: =TRUNC(G97*D97,1) -> 1609122 | I97: =단가대비표!V95 -> 0 | J97: =TRUNC(I97*D97,1) -> 0 | K97: =TRUNC(E97+G97+I97,1) -> 268187 | L97: =TRUNC(F97+H97+J97,1) -> 1609122 | N97: 5BAF760A17E4CA04F126F46D75A378 | O97: 5B7CF6C2A1242C643E264616F556D09CBBD192 | P97: F | Q97: F | R97: T | V97: 1 | AW97: 5BAF760A17E4CA04F126F46D75A3785B7CF6C2A1242C643E264616F556D09CBBD192
A98: 보통인부 | B98: 일반공사 직종 | C98: 인 | D98: 2 | E98: =단가대비표!O91 -> 0 | F98: =TRUNC(E98*D98,1) -> 0 | G98: =단가대비표!P91 -> 172068 | H98: =TRUNC(G98*D98,1) -> 344136 | I98: =단가대비표!V91 -> 0 | J98: =TRUNC(I98*D98,1) -> 0 | K98: =TRUNC(E98+G98+I98,1) -> 172068 | L98: =TRUNC(F98+H98+J98,1) -> 344136 | N98: 5BAF760A17E4CA04F126F46D75A378 | O98: 5B7CF6C2A1242C643E264616F556D09CBBD198 | P98: F | Q98: F | R98: T | V98: 1 | AW98: 5BAF760A17E4CA04F126F46D75A3785B7CF6C2A1242C643E264616F556D09CBBD198
A99: 공구손료 | B99: 인력품의 2% | C99: 식 | D99: 1 | E99: 0 | F99: =TRUNC(E99*D99,1) -> 0 | G99: 0 | H99: =TRUNC(G99*D99,1) -> 0 | I99: =TRUNC(SUMIF(V97:V100, RIGHTB(O99, 1), H97:H100)*U99, 2) -> 39065.16 | J99: =TRUNC(I99*D99,1) -> 39065.1 | K99: =TRUNC(E99+G99+I99,1) -> 39065.1 | L99: =TRUNC(F99+H99+J99,1) -> 39065.1 | N99: 5BAF760A17E4CA04F126F46D75A378 | O99: 5AB7E6810CF4E20460D6F097253A001 | P99: F | Q99: F | R99: F | S99: 1 | T99: 2 | U99: 0.02 | AW99: 5BAF760A17E4CA04F126F46D75A3785AB7E6810CF4E20460D6F097253A001
A100: 철선 | B100: 철선, 어닐링, ∮0.9mm | C100: kg | D100: 11.05 | E100: =단가대비표!O61 -> 1539 | F100: =TRUNC(E100*D100,1) -> 17005.9 | G100: =단가대비표!P61 -> 0 | H100: =TRUNC(G100*D100,1) -> 0 | I100: =단가대비표!V61 -> 0 | J100: =TRUNC(I100*D100,1) -> 0 | K100: =TRUNC(E100+G100+I100,1) -> 1539 | L100: =TRUNC(F100+H100+J100,1) -> 17005.9 | N100: 5BAF760A17E4CA04F126F46D75A378 | O100: 5C8606E146E412B454E641A635B6FFBADDF628 | P100: F | Q100: F | R100: T | AW100: 5BAF760A17E4CA04F126F46D75A3785C8606E146E412B454E641A635B6FFBADDF628
A101: [ 합 계 ] | F101: =TRUNC(SUMIF(N97:N100, N96, F97:F100),0) -> 17005 | H101: =TRUNC(SUMIF(N97:N100, N96, H97:H100),0) -> 1953258 | J101: =TRUNC(SUMIF(N97:N100, N96, J97:J100),0) -> 39065 | L101: =F101+H101+J101 -> 2009328 | N101: TOTAL | O101: TOTAL
A103: 사육장경량바닥틀제작설치(하부구조물/좌) 4600*6246*H400, 각관50*50*T2.3mm 개소 ( 호표 14 ) | N103: 5BAF6627BAF4D4141C066740551BF0
A104: 아연도각관 | B104: 50*30*t2.3mm, 2.616kg/m | C104: M | D104: 124.58 | E104: =단가대비표!O75 -> 2500 | F104: =TRUNC(E104*D104,1) -> 311450 | G104: =단가대비표!P75 -> 0 | H104: =TRUNC(G104*D104,1) -> 0 | I104: =단가대비표!V75 -> 0 | J104: =TRUNC(I104*D104,1) -> 0 | K104: =TRUNC(E104+G104+I104,1) -> 2500 | L104: =TRUNC(F104+H104+J104,1) -> 311450 | N104: 5BAF6627BAF4D4141C066740551BF0 | O104: 5CF90654C6747BC484B6AC88F5482F8F10B3AB | P104: F | Q104: F | R104: T | AW104: 5BAF6627BAF4D4141C066740551BF05CF90654C6747BC484B6AC88F5482F8F10B3AB
A105: 잡철물 제작 및 설치 | B105: 현장제작 설치(복잡), 일반철재 | C105: kg | D105: 310.383 | E105: =일위대가목록!E77 -> 207 | F105: =TRUNC(E105*D105,1) -> 64249.2 | G105: =일위대가목록!F77 -> 6925 | H105: =TRUNC(G105*D105,1) -> 2149402.2 | I105: =일위대가목록!G77 -> 346 | J105: =TRUNC(I105*D105,1) -> 107392.5 | K105: =TRUNC(E105+G105+I105,1) -> 7478 | L105: =TRUNC(F105+H105+J105,1) -> 2321043.9 | M105: 호표 74 | N105: 5BAF6627BAF4D4141C066740551BF0 | O105: 5BAF9658C9A4869472B696C995EE34 | P105: T | Q105: F | R105: F | AW105: 5BAF6627BAF4D4141C066740551BF05BAF9658C9A4869472B696C995EE34
A106: 철강설 | B106: 철강설, 고철, 작업설부산물 | C106: kg | D106: -15.519 | E106: =단가대비표!O18 -> 261 | F106: =TRUNC(E106*D106,1) -> -4050.4 | G106: =단가대비표!P18 -> 0 | H106: =TRUNC(G106*D106,1) -> 0 | I106: =단가대비표!V18 -> 0 | J106: =TRUNC(I106*D106,1) -> 0 | K106: =TRUNC(E106+G106+I106,1) -> 261 | L106: =TRUNC(F106+H106+J106,1) -> -4050.4 | M106: 수집상차도 | N106: 5BAF6627BAF4D4141C066740551BF0 | O106: 5CA2E6751F649F348B9667ABA593430702E93D | P106: F | Q106: F | R106: T | AW106: 5BAF6627BAF4D4141C066740551BF05CA2E6751F649F348B9667ABA593430702E93D
A107: [ 합 계 ] | F107: =TRUNC(SUMIF(N104:N106, N103, F104:F106),0) -> 371648 | H107: =TRUNC(SUMIF(N104:N106, N103, H104:H106),0) -> 2149402 | J107: =TRUNC(SUMIF(N104:N106, N103, J104:J106),0) -> 107392 | L107: =F107+H107+J107 -> 2628442 | N107: TOTAL | O107: TOTAL
A109: 사육장경량바닥틀제작설치(상부구조물/좌) 4600*6246*H400, 각관50*50*T2.3mm 개소 ( 호표 15 ) | N109: 5BAF6627BAF4D4141C066740551B84
A110: 아연도각관 | B110: 50*30*t2.3mm, 2.616kg/m | C110: M | D110: 160.694 | E110: =단가대비표!O75 -> 2500 | F110: =TRUNC(E110*D110,1) -> 401735 | G110: =단가대비표!P75 -> 0 | H110: =TRUNC(G110*D110,1) -> 0 | I110: =단가대비표!V75 -> 0 | J110: =TRUNC(I110*D110,1) -> 0 | K110: =TRUNC(E110+G110+I110,1) -> 2500 | L110: =TRUNC(F110+H110+J110,1) -> 401735 | N110: 5BAF6627BAF4D4141C066740551B84 | O110: 5CF90654C6747BC484B6AC88F5482F8F10B3AB | P110: F | Q110: F | R110: T | AW110: 5BAF6627BAF4D4141C066740551B845CF90654C6747BC484B6AC88F5482F8F10B3AB
A111: 잡철물 제작 및 설치 | B111: 현장제작 설치(복잡), 일반철재 | C111: kg | D111: 400.357 | E111: =일위대가목록!E77 -> 207 | F111: =TRUNC(E111*D111,1) -> 82873.8 | G111: =일위대가목록!F77 -> 6925 | H111: =TRUNC(G111*D111,1) -> 2772472.2 | I111: =일위대가목록!G77 -> 346 | J111: =TRUNC(I111*D111,1) -> 138523.5 | K111: =TRUNC(E111+G111+I111,1) -> 7478 | L111: =TRUNC(F111+H111+J111,1) -> 2993869.5 | M111: 호표 74 | N111: 5BAF6627BAF4D4141C066740551B84 | O111: 5BAF9658C9A4869472B696C995EE34 | P111: T | Q111: F | R111: F | AW111: 5BAF6627BAF4D4141C066740551B845BAF9658C9A4869472B696C995EE34
A112: 철강설 | B112: 철강설, 고철, 작업설부산물 | C112: kg | D112: -20.017 | E112: =단가대비표!O18 -> 261 | F112: =TRUNC(E112*D112,1) -> -5224.4 | G112: =단가대비표!P18 -> 0 | H112: =TRUNC(G112*D112,1) -> 0 | I112: =단가대비표!V18 -> 0 | J112: =TRUNC(I112*D112,1) -> 0 | K112: =TRUNC(E112+G112+I112,1) -> 261 | L112: =TRUNC(F112+H112+J112,1) -> -5224.4 | M112: 수집상차도 | N112: 5BAF6627BAF4D4141C066740551B84 | O112: 5CA2E6751F649F348B9667ABA593430702E93D | P112: F | Q112: F | R112: T | AW112: 5BAF6627BAF4D4141C066740551B845CA2E6751F649F348B9667ABA593430702E93D
A113: [ 합 계 ] | F113: =TRUNC(SUMIF(N110:N112, N109, F110:F112),0) -> 479384 | H113: =TRUNC(SUMIF(N110:N112, N109, H110:H112),0) -> 2772472 | J113: =TRUNC(SUMIF(N110:N112, N109, J110:J112),0) -> 138523 | L113: =F113+H113+J113 -> 3390379 | N113: TOTAL | O113: TOTAL
A115: 사육장경량바닥틀제작설치(하부구조물/우) 4767*6085*H500, 각관50*50*T2.3mm 개소 ( 호표 16 ) | N115: 5BAF6627BAF4D4141C066740551824
...

Sheet 단가산출목록
B1: 단 가 산 출 목 록
B2: [ CITES동물보호시설전시공간개선설계용역 ]
A3: 코 드 | B3: 품 명 | C3: 규 격 | D3: 단위 | E3: 재 료 비 | F3: 노 무 비 | G3: 경 비 | H3: 합 계 | I3: 번 호 | J3: 비 고 | K3: START | L3: 품셈개요
A4: 5BAF169D2994CCC4F256D3CB455B2B | B4: 폐기물소운반 | C4: 인력소운반 L=30M | D4: 톤 | E4: =단가산출서!B29 -> 0 | F4: =단가산출서!C29 -> 52620 | G4: =단가산출서!D29 -> 0 | H4: =단가산출서!E29 -> 52620 | I4: 산근 1 | K4: 5BAF169D2994CCC4F256D3CB455B2B | L4: 공통 1-2-7
A5: 5B8B461E062457A477A62EBE75315A | B5: 보도용 블록 인력철거 | C5: A-TYPE: 공원, 단지내 보도 | D5: M2 | E5: =단가산출서!B54 -> 118 | F5: =단가산출서!C54 -> 3580 | G5: =단가산출서!D54 -> 144 | H5: =단가산출서!E54 -> 3842 | I5: 산근 2 | K5: 5B8B461E062457A477A62EBE75315A | L5: 토목 1-10-21

Sheet 단가산출서
A1: 단 가 산 출 서
A2: [ CITES동물보호시설전시공간개선설계용역 ]
A3: 산 출 내 역 | B3: 재 료 비 | C3: 노 무 비 | D3: 경 비 | E3: 합 계 | F3: 비 고 | G3: START | H3: 코드 | I3: 품명 | J3: 규격 | K3: 단위 | L3: 수량 | M3: 변수 | N3: 값 | O3: 소계 | P3: 소계 | Q3: 소계 | R3: 소계 | S3: 소계 | T3: 총계
A4: 폐기물소운반 인력소운반 L=30M 톤 공통 1-2-7 ( 산근 1 ) | G4: 5BAF169D2994CCC4F256D3CB455B2B | I4: 폐기물소운반 | J4: 인력소운반 L=30M | K4: 톤
G5: 5BAF169D2994CCC4F256D3CB455B2B | H5: C | L5: 1
B6: 0 | C6: 0 | D6: 0 | E6: 0 | G6: 5BAF169D2994CCC4F256D3CB455B2B | H6: C!
A7: 공통 1-2-7 | B7: 0 | C7: 0 | D7: 0 | E7: 0 | G7: 5BAF169D2994CCC4F256D3CB455B2B | H7: C! | I7: '공통 1-2-7'
B8: 0 | C8: 0 | D8: 0 | E8: 0 | G8: 5BAF169D2994CCC4F256D3CB455B2B | H8: C!
A9: 인력운반: L = 30M | B9: 0 | C9: 0 | D9: 0 | E9: 0 | G9: 5BAF169D2994CCC4F256D3CB455B2B | H9: C! | I9: '인력운반: L = 30M'
B10: 0 | C10: 0 | D10: 0 | E10: 0 | G10: 5BAF169D2994CCC4F256D3CB455B2B | H10: C!
A11: L 운반거리(M) = 30 | B11: 0 | C11: 0 | D11: 0 | E11: 0 | G11: 5BAF169D2994CCC4F256D3CB455B2B | H11: C! | I11: L '운반거리(M)' = 30
B12: 0 | C12: 0 | D12: 0 | E12: 0 | G12: 5BAF169D2994CCC4F256D3CB455B2B | H12: C!
A13: T1 1일 실작업시간(480분-30분간) = 480 - 30 = 450 | B13: 0 | C13: 0 | D13: 0 | E13: 0 | G13: 5BAF169D2994CCC4F256D3CB455B2B | H13: C! | I13: T1'1일 실작업시간(480분-30분간)' = 480 - 30 = ?
B14: 0 | C14: 0 | D14: 0 | E14: 0 | G14: 5BAF169D2994CCC4F256D3CB455B2B | H14: C!
A15: T2 적재적하소요시간(분) = 2 | B15: 0 | C15: 0 | D15: 0 | E15: 0 | G15: 5BAF169D2994CCC4F256D3CB455B2B | H15: C! | I15: T2'적재적하소요시간(분)' = 2
B16: 0 | C16: 0 | D16: 0 | E16: 0 | G16: 5BAF169D2994CCC4F256D3CB455B2B | H16: C!
A17: V 왕복평균속도(M/HR) = 2500 | B17: 0 | C17: 0 | D17: 0 | E17: 0 | G17: 5BAF169D2994CCC4F256D3CB455B2B | H17: C! | I17: V '왕복평균속도(m/hr)' = 2500
B18: 0 | C18: 0 | D18: 0 | E18: 0 | G18: 5BAF169D2994CCC4F256D3CB455B2B | H18: C!
A19: N 1일운반횟수(회) =(V*T1)/((120*L)+(V*T2))= 130.81 | B19: 0 | C19: 0 | D19: 0 | E19: 0 | G19: 5BAF169D2994CCC4F256D3CB455B2B | H19: C! | I19: N '1일운반횟수(회)' =(V*T1)/((120*L)+(V*T2))= ?
B20: 0 | C20: 0 | D20: 0 | E20: 0 | G20: 5BAF169D2994CCC4F256D3CB455B2B | H20: C!
A21: Q 1회운반량(KG) = 25 | B21: 0 | C21: 0 | D21: 0 | E21: 0 | G21: 5BAF169D2994CCC4F256D3CB455B2B | H21: C! | I21: q '1회운반량(KG)'= 25
B22: 0 | C22: 0 | D22: 0 | E22: 0 | G22: 5BAF169D2994CCC4F256D3CB455B2B | H22: C!
A23: Q 1일운반량(TON) = N*Q/1000 = 3.27 | B23: 0 | C23: 0 | D23: 0 | E23: 0 | G23: 5BAF169D2994CCC4F256D3CB455B2B | H23: C! | I23: Q '1일운반량(TON)'= N*q/1000 = ?
B24: 0 | C24: 0 | D24: 0 | E24: 0 | G24: 5BAF169D2994CCC4F256D3CB455B2B | H24: C!
B25: 0 | C25: 0 | D25: 0 | E25: 0 | G25: 5BAF169D2994CCC4F256D3CB455B2B | H25: C!
A26: 172068 인 /Q = 52620.1 | B26: 0 | C26: 52620.1 | D26: 0 | E26: 52620.1 | G26: 5BAF169D2994CCC4F256D3CB455B2B | H26: C! | I26: ~L001010101000002.T~'인'/Q = ?LA+
B27: 0 | C27: 0 | D27: 0 | E27: 0 | G27: 5BAF169D2994CCC4F256D3CB455B2B | H27: C!
A28: 소 계 | B28: 0 | C28: 52620.1 | D28: 0 | E28: 52620.1 | G28: 5BAF169D2994CCC4F256D3CB455B2B | H28: C! | I28: >'소 계'
A29: 총 계 | B29: 0 | C29: 52620 | D29: 0 | E29: 52620
A31: 보도용 블록 인력철거 A-TYPE: 공원, 단지내 보도 M2 토목 1-10-21 ( 산근 2 ) | G31: 5B8B461E062457A477A62EBE75315A | I31: 보도용 블록 인력철거 | J31: A-TYPE: 공원, 단지내 보도 | K31: M2
G32: 5B8B461E062457A477A62EBE75315A | H32: C | L32: 1
B33: 0 | C33: 0 | D33: 0 | E33: 0 | G33: 5B8B461E062457A477A62EBE75315A | H33: C!
A34: Q1 1일시공량(M2/일) =360 | B34: 0 | C34: 0 | D34: 0 | E34: 0 | G34: 5B8B461E062457A477A62EBE75315A | H34: C! | I34: q1'1일시공량(M2/일)' =360
A35: Q 시간당 작업량(M2/HR) =Q1/8= 45 | B35: 0 | C35: 0 | D35: 0 | E35: 0 | G35: 5B8B461E062457A477A62EBE75315A | H35: C! | I35: Q '시간당 작업량(M2/HR)' =q1/8=?
B36: 0 | C36: 0 | D36: 0 | E36: 0 | G36: 5B8B461E062457A477A62EBE75315A | H36: C!
A37: ◈배치인원 | B37: 0 | C37: 0 | D37: 0 | E37: 0 | G37: 5B8B461E062457A477A62EBE75315A | H37: C! | I37: '◈배치인원'
A38: [1]=0, [2]=0 | B38: 0 | C38: 0 | D38: 0 | E38: 0 | G38: 5B8B461E062457A477A62EBE75315A | H38: C! | I38: [1]=0, [2]=0
B39: 0 | C39: 0 | D39: 0 | E39: 0 | G39: 5B8B461E062457A477A62EBE75315A | H39: C!
A40: 1.인력 | B40: 0 | C40: 0 | D40: 0 | E40: 0 | G40: 5B8B461E062457A477A62EBE75315A | H40: C! | I40: '1.인력'
A41: 포 장 공 2인/8HR*작업시간 | B41: 0 | C41: 0 | D41: 0 | E41: 0 | G41: 5B8B461E062457A477A62EBE75315A | H41: C! | I41: '포 장 공 2인/8HR*작업시간'
A42: 노무비: 273308*2/8/45 = 1518.3 | B42: 0 | C42: 1518.3 | D42: 0 | E42: 1518.3 | G42: 5B8B461E062457A477A62EBE75315A | H42: C! | I42: '노무비:' ~L001010101000019.L~*2/8/{Q} =?LA+:LA1
A43: 보통인부 2인/8HR*작업시간 | B43: 0 | C43: 0 | D43: 0 | E43: 0 | G43: 5B8B461E062457A477A62EBE75315A | H43: C! | I43: '보통인부 2인/8HR*작업시간'
A44: 노무비: 172068*2/8/45 = 955.9 | B44: 0 | C44: 955.9 | D44: 0 | E44: 955.9 | G44: 5B8B461E062457A477A62EBE75315A | H44: C! | I44: '노무비:' ~L001010101000002.L~*2/8/{Q} =?LA+:LA2
A45: 소 계 | B45: 0 | C45: 2474.2 | D45: 0 | E45: 2474.2 | G45: 5B8B461E062457A477A62EBE75315A | H45: C! | I45: >'소 계'
B46: 0 | C46: 0 | D46: 0 | E46: 0 | G46: 5B8B461E062457A477A62EBE75315A | H46: C!
A47: ◈사용기계 | B47: 0 | C47: 0 | D47: 0 | E47: 0 | G47: 5B8B461E062457A477A62EBE75315A | H47: C! | I47: '◈사용기계 '
B48: 0 | C48: 0 | D48: 0 | E48: 0 | G48: 5B8B461E062457A477A62EBE75315A | H48: C!
A49: 2.트럭(덤프트럭 준용) 2.5톤 | B49: 0 | C49: 0 | D49: 0 | E49: 0 | G49: 5B8B461E062457A477A62EBE75315A | H49: C! | I49: '2.트럭(덤프트럭 준용) 2.5톤'
A50: 재료비: 5338 / 45= 118.6 | B50: 118.6 | C50: 0 | D50: 0 | E50: 118.6 | G50: 5B8B461E062457A477A62EBE75315A | H50: C! | I50: '재료비:' ~00000602002500000.M~ / {Q}=?MA+
A51: 노무비: 49778 / 45= 1106.1 | B51: 0 | C51: 1106.1 | D51: 0 | E51: 1106.1 | G51: 5B8B461E062457A477A62EBE75315A | H51: C! | I51: '노무비:' ~00000602002500000.L~ / {Q}=?LA+
A52: 경 비: 6522 / 45= 144.9 | B52: 0 | C52: 0 | D52: 144.9 | E52: 144.9 | G52: 5B8B461E062457A477A62EBE75315A | H52: C! | I52: '경 비:' ~00000602002500000.E~ / {Q}=?EQ+
A53: 소 계 | B53: 118.6 | C53: 1106.1 | D53: 144.9 | E53: 1369.6 | G53: 5B8B461E062457A477A62EBE75315A | H53: C! | I53: >'소 계'
A54: 총 계 | B54: 118 | C54: 3580 | D54: 144 | E54: 3842

Sheet 단가대비표
A1: 단 가 대 비 표
A2: [ CITES동물보호시설전시공간개선설계용역 ]
A3: 코 드 | B3: 품 명 | C3: 규격 | D3: 단위 | E3: 재 료 비 | P3: 노 무 비 | Q3: 경 비 | W3: 번 호 | X3: 비 고 | Y3: 품목구분 | Z3: 노임구분 | AA3: 소수점처리 | AB3: 자재구분
E4: 조달청가격 | F4: PAGE | G4: 거래가격 | H4: PAGE | I4: 유통물가 | J4: PAGE | K4: 물가자료 | L4: PAGE | M4: 조사가격 | N4: PAGE | O4: 적용단가 | Q4: 조달청가격 | R4: 거래가격 | S4: 유통물가 | T4: 물가자료 | U4: 조사가격 | V4: 적용단가
A5: 5CB3566520C49224026606C1754A948EB5246C | B5: 굴착기(무한궤도) | C5: 0.2㎥ | D5: 대 | E5: 0 | G5: 0 | I5: 0 | K5: 0 | M5: 0 | O5: 0 | P5: 0 | Q5: 0 | R5: 0 | S5: 0 | T5: 0 | U5: 66538 | V5: =SMALL(Q5:U5,COUNTIF(Q5:U5,0)+1) -> 66538 | W5: 자재 1 | X5: 천원
A6: 5CB3566520C49264FDA6AE4F8569D91BEBE868 | B6: 덤프트럭 | C6: 2.5ton | D6: 대 | E6: 0 | G6: 0 | I6: 0 | K6: 0 | M6: 0 | O6: 0 | P6: 0 | Q6: 0 | R6: 0 | S6: 0 | T6: 0 | U6: 21982 | V6: =SMALL(Q6:U6,COUNTIF(Q6:U6,0)+1) -> 21982 | W6: 자재 2 | X6: 천원
A7: 5CB3566520C481A409B629FB15808269A4B88B | B7: 진동롤러(핸드가이드식) | C7: 0.7ton | D7: 대 | E7: 0 | G7: 0 | I7: 0 | K7: 0 | M7: 0 | O7: 0 | P7: 0 | Q7: 0 | R7: 0 | S7: 0 | T7: 0 | U7: 6966 | V7: =SMALL(Q7:U7,COUNTIF(Q7:U7,0)+1) -> 6966 | W7: 자재 3 | X7: 천원
A8: 5CB3566520C4CF64A296763765640F434B18BE | B8: 소형브레이커(전기식) | C8: 1.5kw | D8: 대 | E8: 0 | G8: 0 | I8: 0 | K8: 0 | M8: 0 | O8: 0 | P8: 0 | Q8: 0 | R8: 0 | S8: 0 | T8: 0 | U8: 1375 | V8: =SMALL(Q8:U8,COUNTIF(Q8:U8,0)+1) -> 1375 | W8: 자재 4 | X8: 천원
A9: 5CB3566520C4EA04A0B6FC87053773A15D8EBA | B9: 물탱크(살수차) | C9: 5500L | D9: 대 | E9: 0 | G9: 0 | I9: 0 | K9: 0 | M9: 0 | O9: 0 | P9: 0 | Q9: 0 | R9: 0 | S9: 0 | T9: 0 | U9: 47263 | V9: =SMALL(Q9:U9,COUNTIF(Q9:U9,0)+1) -> 47263 | W9: 자재 5 | X9: 천원
A10: 5CA2F61BFFD43F04DEC602DC55F1ED1DE8050F | B10: 잔디 | C10: 잔디, 한국형잔디, 0.4*0.1*0.015 | D10: M2 | E10: 0 | G10: 17000 | H10: 403 | I10: 0 | K10: 0 | M10: 0 | O10: =SMALL(E10:M10,COUNTIF(E10:M10,0)+1) -> 17000 | P10: 0 | Q10: 0 | R10: 0 | S10: 0 | T10: 0 | U10: 0 | V10: 0 | W10: 자재 6
A11: 5CA2E675171431B4A0E6E8E4C562DEEB9DBE2C | B11: 자갈 | C11: 자갈, 도착도, #467 | D11: M3 | E11: 0 | G11: 0 | I11: 0 | K11: 29000 | L11: 62 | M11: 0 | O11: =SMALL(E11:M11,COUNTIF(E11:M11,0)+1) -> 29000 | P11: 0 | Q11: 0 | R11: 0 | S11: 0 | T11: 0 | U11: 0 | V11: 0 | W11: 자재 7
A12: 5CA2E675171431B4A0E6E8E4C562DEEB9DB31E | B12: 자갈 | C12: (별도), 40mm, #467 | D12: M3 | E12: 0 | G12: 0 | I12: 0 | K12: 0 | M12: 0 | O12: 0 | P12: 0 | Q12: 0 | R12: 0 | S12: 0 | T12: 0 | U12: 0 | V12: 0 | W12: 자재 8 | X12: 별도
A13: 5CA2E675171431B4A8262C24E55974EE2C4492 | B13: 잡석 | C13: 잡석, 도착도, 지정용 | D13: M3 | E13: 0 | G13: 0 | I13: 0 | K13: 22000 | L13: 62 | M13: 0 | O13: =SMALL(E13:M13,COUNTIF(E13:M13,0)+1) -> 22000 | P13: 0 | Q13: 0 | R13: 0 | S13: 0 | T13: 0 | U13: 0 | V13: 0 | W13: 자재 9
A14: 5CA2E675171431B4A8262C24E55974EE2C45B4 | B14: 잡석 | C14: (별도) | D14: M3 | E14: 0 | G14: 0 | I14: 0 | K14: 0 | M14: 0 | O14: 0 | P14: 0 | Q14: 0 | R14: 0 | S14: 0 | T14: 0 | U14: 0 | V14: 0 | W14: 자재 10 | X14: 별도
A15: 5CA2E6751454C824E2B64EACC5D6B58101CA8E | B15: 내수합판 | C15: 내수합판, 1급, 12*1220*2440mm | D15: M2 | E15: 11268 | G15: 11287.28 | H15: 667 | I15: 11556.03 | J15: 407 | K15: 0 | M15: 0 | O15: =SMALL(E15:M15,COUNTIF(E15:M15,0)+1) -> 11268 | P15: 0 | Q15: 0 | R15: 0 | S15: 0 | T15: 0 | U15: 0 | V15: 0 | W15: 자재 11
A16: 5CA2E6751454C824E2B6697815746C23B3E69D | B16: 중밀도섬유판 | C16: 중밀도섬유판, 9.0*1220*2440mm | D16: M2 | E16: 4683 | G16: 5811.6 | H16: 668 | I16: 4837.4 | J16: 409 | K16: 0 | M16: 0 | O16: =SMALL(E16:M16,COUNTIF(E16:M16,0)+1) -> 4683 | P16: 0 | Q16: 0 | R16: 0 | S16: 0 | T16: 0 | U16: 0 | V16: 0 | W16: 자재 12
A17: 5CA2E6751F649F348B9667ABA593430702E93E | B17: 철강설 | C17: 철강설, 고철, 작업설부산물 | D17: 톤 | E17: 261250 | G17: 380000 | H17: 1472 | I17: 367000 | J17: 1198 | K17: 0 | M17: 0 | O17: =SMALL(E17:M17,COUNTIF(E17:M17,0)+1) -> 261250 | P17: 0 | Q17: 0 | R17: 0 | S17: 0 | T17: 0 | U17: 0 | V17: 0 | W17: 자재 13 | X17: 수집상차도
A18: 5CA2E6751F649F348B9667ABA593430702E93D | B18: 철강설 | C18: 철강설, 고철, 작업설부산물 | D18: kg | E18: 261 | G18: 380 | H18: 1472 | I18: 367 | J18: 1198 | K18: 0 | M18: 0 | O18: =SMALL(E18:M18,COUNTIF(E18:M18,0)+1) -> 261 | P18: 0 | Q18: 0 | R18: 0 | S18: 0 | T18: 0 | U18: 0 | V18: 0 | W18: 자재 14 | X18: 수집상차도
A19: 5CA2E6751F649F348B9667ABA593430702E818 | B19: 철강설 | C19: 철강설, 스텐레스, 작업설부산물 | D19: kg | E19: 1377.5 | G19: 1850 | H19: 1472 | I19: 1750 | J19: 1198 | K19: 0 | M19: 0 | O19: =SMALL(E19:M19,COUNTIF(E19:M19,0)+1) -> 1377.5 | P19: 0 | Q19: 0 | R19: 0 | S19: 0 | T19: 0 | U19: 0 | V19: 0 | W19: 자재 15 | X19: 수집상차도
A20: 5CA2D66C73045B3497E6D2E6B535942BA7088D | B20: 산소가스 | C20: 산소가스, 6000L | D20: 병 | E20: 0 | G20: 25000 | H20: 1451 | I20: 20000 | J20: 1190 | K20: 0 | M20: 0 | O20: =SMALL(E20:M20,COUNTIF(E20:M20,0)+1) -> 20000 | P20: 0 | Q20: 0 | R20: 0 | S20: 0 | T20: 0 | U20: 0 | V20: 0 | W20: 자재 16 | X20: 대기압상태기준
A21: 5CA2D66C7F34433409A67F39D5FFC29982B543 | B21: 박리제 | C21: 박리제, 목재용, 수성 | D21: L | E21: 1125 | G21: 2050 | H21: 172 | I21: 1250 | J21: 85 | K21: 0 | M21: 0 | O21: =SMALL(E21:M21,COUNTIF(E21:M21,0)+1) -> 1125 | P21: 0 | Q21: 0 | R21: 0 | S21: 0 | T21: 0 | U21: 0 | V21: 0 | W21: 자재 17
A22: 5CA2A69898D4E9F46446D09D55FC21B7268256 | B22: 경유 | C22: 경유, 저유황 | D22: L | E22: 1334 | G22: 1473.63 | H22: 1451 | I22: 1480.9 | J22: 1189 | K22: 0 | M22: 0 | O22: =SMALL(E22:M22,COUNTIF(E22:M22,0)+1) -> 1334 | P22: 0 | Q22: 0 | R22: 0 | S22: 0 | T22: 0 | U22: 0 | V22: 0 | W22: 자재 18
A23: 5CA2A69899E47BC462A68343B5CBF460C2721A | B23: 아세틸렌가스 | C23: 아세틸렌가스, kg | D23: kg | E23: 15213 | G23: 52000 | H23: 1451 | I23: 30000 | J23: 1190 | K23: 0 | M23: 0 | O23: =SMALL(E23:M23,COUNTIF(E23:M23,0)+1) -> 15213 | P23: 0 | Q23: 0 | R23: 0 | S23: 0 | T23: 0 | U23: 0 | V23: 0 | W23: 자재 19
A24: 5C90C6ED4704C7D48F1606F825E19A4FE9457D | B24: 공통자재 | C24: 하드롱지 | D24: M2 | E24: 470 | G24: 408.35 | H24: 692 | I24: 0 | K24: 0 | M24: 0 | O24: =SMALL(E24:M24,COUNTIF(E24:M24,0)+1) -> 408.35 | P24: 0 | Q24: 0 | R24: 0 | S24: 0 | T24: 0 | U24: 0 | V24: 0 | W24: 자재 20
A25: 5C861686009413F46D1670D6E5804CB475B125 | B25: 평강 | C25: 평강, STS304, 7∼30t*30∼150mm | D25: KG | E25: 0 | G25: 7350 | H25: 75 | I25: 6800 | J25: 40 | K25: 0 | M25: 0 | O25: =SMALL(E25:M25,COUNTIF(E25:M25,0)+1) -> 6800 | P25: 0 | Q25: 0 | R25: 0 | S25: 0 | T25: 0 | U25: 0 | V25: 0 | W25: 자재 21
A26: 5C861686009413F46C06571FF57CC7E2EF812C | B26: 철근콘크리트용봉강 | C26: 철근콘크리트용봉강, 이형봉강(SD400), HD-13, 지정장소도 | D26: 톤 | E26: 0 | G26: 890000 | H26: 49 | I26: 0 | K26: 965000 | L26: 2 | M26: 0 | O26: =SMALL(E26:M26,COUNTIF(E26:M26,0)+1) -> 890000 | P26: 0 | Q26: 0 | R26: 0 | S26: 0 | T26: 0 | U26: 0 | V26: 0 | W26: 자재 22
A27: 5C86168600942C2403160657D5C27E2BA84290 | B27: 일반구조용압연강판 | C27: 일반구조용압연강판, 1.6mm | D27: kg | E27: 877 | G27: 905.9 | H27: 63 | I27: 1378.5 | J27: 26 | K27: 0 | M27: 0 | O27: =SMALL(E27:M27,COUNTIF(E27:M27,0)+1) -> 877 | P27: 0 | Q27: 0 | R27: 0 | S27: 0 | T27: 0 | U27: 0 | V27: 0 | W27: 자재 23
A28: 5C86168600942C24031610CE85F5ED257CA475 | B28: 스테인리스강판 | C28: 스테인리스강판, STS304, 1.2mm | D28: kg | E28: 3610 | G28: 3850 | H28: 74 | I28: 3838 | J28: 36 | K28: 0 | M28: 0 | O28: =SMALL(E28:M28,COUNTIF(E28:M28,0)+1) -> 3610 | P28: 0 | Q28: 0 | R28: 0 | S28: 0 | T28: 0 | U28: 0 | V28: 0 | W28: 자재 24
A29: 5C86168600942C24031610CE85F5ED257CA7C8 | B29: 스테인리스강판 | C29: 스테인리스강판, STS304, 3.0mm | D29: kg | E29: 3650 | G29: 3700 | H29: 74 | I29: 4141 | J29: 36 | K29: 0 | M29: 0 | O29: =SMALL(E29:M29,COUNTIF(E29:M29,0)+1) -> 3650 | P29: 0 | Q29: 0 | R29: 0 | S29: 0 | T29: 0 | U29: 0 | V29: 0 | W29: 자재 25
A30: 5C86168600942C24031610CE85F5ED257D470D | B30: 스테인리스강판(후판) | C30: STS304, NO1, 9∼12mm | D30: kg | E30: 0 | G30: 4200 | H30: 74 | I30: 4242 | J30: 36 | K30: 0 | M30: 0 | O30: =SMALL(E30:M30,COUNTIF(E30:M30,0)+1) -> 4200 | P30: 0 | Q30: 0 | R30: 0 | S30: 0 | T30: 0 | U30: 0 | V30: 0 | W30: 자재 26
A31: 5C86168600942C24031610CE85F5ED2467D0C1 | B31: 스테인리스헤어라인판(STS 304) (HL) | C31: 스테인리스헤어라인판, 1.5mm, 대리점상차도 | D31: kg | E31: 0 | G31: 4440 | H31: 74 | I31: 4161 | J31: 36 | K31: 0 | M31: 0 | O31: =SMALL(E31:M31,COUNTIF(E31:M31,0)+1) -> 4161 | P31: 0 | Q31: 0 | R31: 0 | S31: 0 | T31: 0 | U31: 0 | V31: 0 | W31: 자재 27
A32: 5C86168600943E14DE26439055A36C4DDE8A53 | B32: 각재 | C32: 각재, 미송 | D32: 재 | E32: 2433 | G32: 2500 | H32: 148 | I32: 2358 | J32: 73 | K32: 0 | M32: 0 | O32: =SMALL(E32:M32,COUNTIF(E32:M32,0)+1) -> 2358 | P32: 0 | Q32: 0 | R32: 0 | S32: 0 | T32: 0 | U32: 0 | V32: 0 | W32: 자재 28
A33: 5C86168601B4610411D662525593DA52ED69B1 | B33: 레미콘 - 서천 | C33: 25-18-08 | D33: M3 | E33: 0 | G33: 0 | I33: 0 | K33: 93820 | L33: 71 | M33: 0 | O33: =SMALL(E33:M33,COUNTIF(E33:M33,0)+1) -> 93820 | P33: 0 | Q33: 0 | R33: 0 | S33: 0 | T33: 0 | U33: 0 | V33: 0 | W33: 자재 29
A34: 5C86168601B4610411D662525593DA52ED6763 | B34: 레미콘 - 서천 | C34: 25-24-15 | D34: M3 | E34: 0 | G34: 0 | I34: 0 | K34: 104620 | L34: 71 | M34: 0 | O34: =SMALL(E34:M34,COUNTIF(E34:M34,0)+1) -> 104620 | P34: 0 | Q34: 0 | R34: 0 | S34: 0 | T34: 0 | U34: 0 | V34: 0 | W34: 자재 30
A35: 5C86168601B461D4E1067F2395B59C4986D8C8 | B35: FRP방수시공 | C35: 3PLY | D35: M2 | E35: 0 | G35: 0 | I35: 0 | K35: 0 | M35: 95000 | N35: 견적 | O35: =SMALL(E35:M35,COUNTIF(E35:M35,0)+1) -> 95000 | P35: 0 | Q35: 0 | R35: 0 | S35: 0 | T35: 0 | U35: 0 | V35: 0 | W35: 자재 31
A36: 5C8616860404A5041E8634FF35852CBDBA2F8D | B36: 발포우레탄충진 | C36: 창호주위 | D36: M3 | E36: 0 | G36: 0 | I36: 0 | K36: 250000 | L36: 685 | M36: 0 | O36: =SMALL(E36:M36,COUNTIF(E36:M36,0)+1) -> 250000 | P36: 0 | Q36: 0 | R36: 0 | S36: 0 | T36: 0 | U36: 0 | V36: 0 | W36: 자재 32
A37: 5C861686051437C48216D2325545139861765A | B37: 셔터박스(스텐) | C37: SST 1.6T 3면 | D37: M | E37: 172300 | G37: 0 | I37: 0 | K37: 0 | M37: 0 | O37: =SMALL(E37:M37,COUNTIF(E37:M37,0)+1) -> 172300 | P37: 0 | Q37: 0 | R37: 0 | S37: 0 | T37: 0 | U37: 0 | V37: 0 | W37: 자재 33
A38: 5C861686051437C48216D23245B675EB81EF72 | B38: 스테인리스판 셔터 | C38: T1.6mm | D38: M2 | E38: 0 | G38: 0 | I38: 0 | K38: 120000 | L38: 648 | M38: 0 | O38: =SMALL(E38:M38,COUNTIF(E38:M38,0)+1) -> 120000 | P38: 0 | Q38: 0 | R38: 0 | S38: 0 | T38: 0 | U38: 0 | V38: 0 | W38: 자재 34 | X38: 시공도
A39: 5C861686051437C48216D23245B675EB81EE0D | B39: 스테인리스단열 셔터 | C39: 소형단열셔터(창문형) | D39: M2 | E39: 0 | G39: 0 | I39: 0 | K39: 400000 | L39: 648 | M39: 0 | O39: =SMALL(E39:M39,COUNTIF(E39:M39,0)+1) -> 400000 | P39: 0 | Q39: 0 | R39: 0 | S39: 0 | T39: 0 | U39: 0 | V39: 0 | W39: 자재 35 | X39: 시공도
A40: 5C86168606349724A2E6487FA515D71FA91D9B | B40: 인테리어필름 | C40: 목무늬방염<현장설치도> | D40: M2 | E40: 0 | G40: 0 | I40: 0 | K40: 30000 | L40: 684 | M40: 0 | O40: =SMALL(E40:M40,COUNTIF(E40:M40,0)+1) -> 30000 | P40: 0 | Q40: 0 | R40: 0 | S40: 0 | T40: 0 | U40: 0 | V40: 0 | W40: 자재 36
A41: 5C86168606349724A2E6861A45E1EF919622F6 | B41: 석고보드 | C41: 석고보드, 평보드, 12.5*900*2400mm(㎡) | D41: M2 | E41: 4221 | G41: 4166.66 | H41: 671 | I41: 4277.77 | J41: 408 | K41: 0 | M41: 0 | O41: =SMALL(E41:M41,COUNTIF(E41:M41,0)+1) -> 4166.66 | P41: 0 | Q41: 0 | R41: 0 | S41: 0 | T41: 0 | U41: 0 | V41: 0 | W41: 자재 37
A42: 5C861686063497149B86B15B755523CE045B21 | B42: 씽크대 | C42: L900(상부스텐마감) | D42: EA | E42: 0 | G42: 0 | I42: 0 | K42: 0 | M42: 600000 | O42: =SMALL(E42:M42,COUNTIF(E42:M42,0)+1) -> 600000 | P42: 0 | Q42: 0 | R42: 0 | S42: 0 | T42: 0 | U42: 0 | V42: 0 | W42: 자재 38
A43: 5C86168606349704F526E838E5EE578BFB7DEB | B43: 실내원두막 | C43: 1830*1830*H1818mm | D43: 개소 | E43: 0 | G43: 0 | I43: 0 | K43: 5290000 | L43: 408 | M43: 0 | O43: =SMALL(E43:M43,COUNTIF(E43:M43,0)+1) -> 5290000 | P43: 0 | Q43: 0 | R43: 0 | S43: 0 | T43: 0 | U43: 0 | V43: 0 | W43: 자재 39
A44: 5C86168607D4EF4419A69422159F57612CBFED | B44: 합성수지도어 및 문틀 | C44: 문짝(문틀포함) 100mm | D44: M2 | E44: 0 | G44: 270799 | H44: 640 | I44: 0 | K44: 0 | M44: 0 | O44: =SMALL(E44:M44,COUNTIF(E44:M44,0)+1) -> 270799 | P44: 0 | Q44: 0 | R44: 0 | S44: 0 | T44: 0 | U44: 0 | V44: 0 | W44: 자재 40
A45: 5C86168607D4EF543756E9BA257FE5D45584B8 | B45: 강화유리 | C45: 강화유리, 투명, 12mm | D45: M2 | E45: 41040 | G45: 44200 | H45: 662 | I45: 43200 | J45: 463 | K45: 0 | M45: 0 | O45: =SMALL(E45:M45,COUNTIF(E45:M45,0)+1) -> 41040 | P45: 0 | Q45: 0 | R45: 0 | S45: 0 | T45: 0 | U45: 0 | V45: 0 | W45: 자재 41
A46: 5C86168607D4EF543756E9BA350DE576A49FEB | B46: 강화유리 | C46: 강화유리, 투명, 15mm | D46: M2 | E46: 0 | G46: 50900 | H46: 442 | I46: 0 | K46: 0 | M46: 0 | O46: =SMALL(E46:M46,COUNTIF(E46:M46,0)+1) -> 50900 | P46: 0 | Q46: 0 | R46: 0 | S46: 0 | T46: 0 | U46: 0 | V46: 0 | W46: 자재 42
A47: 5C86168607D46B547A363A588595795F8B1840 | B47: 스텐방화문 | C47: 문틀:45*100*1.2T | D47: M2 | E47: 0 | G47: 0 | I47: 0 | K47: 0 | M47: 250000 | O47: =SMALL(E47:M47,COUNTIF(E47:M47,0)+1) -> 250000 | P47: 0 | Q47: 0 | R47: 0 | S47: 0 | T47: 0 | U47: 0 | V47: 0 | W47: 자재 43
A48: 5C8616860984C6849BA6A44FD583CD0953AADB | B48: 비계안정장치 | C48: 비계안정장치, 이음철물, 연결핀 | D48: 개 | E48: 1330 | G48: 1400 | H48: 166 | I48: 0 | K48: 0 | M48: 0 | O48: =SMALL(E48:M48,COUNTIF(E48:M48,0)+1) -> 1330 | P48: 0 | Q48: 0 | R48: 0 | S48: 0 | T48: 0 | U48: 0 | V48: 0 | W48: 자재 44
A49: 5C8616860984C6849BA6A44FD583CD0953A828 | B49: 비계안정장치 | C49: 비계안정장치, 비계기본틀, 기둥, 1.2*1.7m | D49: 개 | E49: 28500 | G49: 30000 | H49: 167 | I49: 0 | K49: 0 | M49: 0 | O49: =SMALL(E49:M49,COUNTIF(E49:M49,0)+1) -> 28500 | P49: 0 | Q49: 0 | R49: 0 | S49: 0 | T49: 0 | U49: 0 | V49: 0 | W49: 자재 45
A50: 5C8616860984C6849BA6A44FD583CD0953A826 | B50: 비계안정장치 | C50: 비계안정장치, 가새, 1.2*1.9m | D50: 개 | E50: 9500 | G50: 10000 | H50: 166 | I50: 0 | K50: 0 | M50: 0 | O50: =SMALL(E50:M50,COUNTIF(E50:M50,0)+1) -> 9500 | P50: 0 | Q50: 0 | R50: 0 | S50: 0 | T50: 0 | U50: 0 | V50: 0 | W50: 자재 46
A51: 5C8616860984C6849BA6A44FD583CD0953A70A | B51: 비계안정장치 | C51: 비계안정장치, 수평띠장, 1829mm | D51: 개 | E51: 0 | G51: 25000 | H51: 166 | I51: 0 | K51: 0 | M51: 0 | O51: =SMALL(E51:M51,COUNTIF(E51:M51,0)+1) -> 25000 | P51: 0 | Q51: 0 | R51: 0 | S51: 0 | T51: 0 | U51: 0 | V51: 0 | W51: 자재 47
A52: 5C8616860984C6849BA6A44FD583CD0953A70B | B52: 비계안정장치 | C52: 비계안정장치, 손잡이, 1229mm | D52: 개 | E52: 0 | G52: 6000 | H52: 167 | I52: 0 | K52: 0 | M52: 0 | O52: =SMALL(E52:M52,COUNTIF(E52:M52,0)+1) -> 6000 | P52: 0 | Q52: 0 | R52: 0 | S52: 0 | T52: 0 | U52: 0 | V52: 0 | W52: 자재 48
A53: 5C8616860984C6849BA6A44FD583CD0953A70C | B53: 비계안정장치 | C53: 비계안정장치, 손잡이, 1829mm | D53: 개 | E53: 0 | G53: 8000 | H53: 167 | I53: 0 | K53: 0 | M53: 0 | O53: =SMALL(E53:M53,COUNTIF(E53:M53,0)+1) -> 8000 | P53: 0 | Q53: 0 | R53: 0 | S53: 0 | T53: 0 | U53: 0 | V53: 0 | W53: 자재 49
A54: 5C8616860984C6849BA6A44FD583CD0953A70D | B54: 비계안정장치 | C54: 비계안정장치, 손잡이기둥 | D54: 개 | E54: 0 | G54: 25000 | H54: 167 | I54: 0 | K54: 0 | M54: 0 | O54: =SMALL(E54:M54,COUNTIF(E54:M54,0)+1) -> 25000 | P54: 0 | Q54: 0 | R54: 0 | S54: 0 | T54: 0 | U54: 0 | V54: 0 | W54: 자재 50
A55: 5C8616860984C6849BA6A44FD583CD0953A70E | B55: 비계안정장치 | C55: 비계안정장치, 바퀴 | D55: 개 | E55: 0 | G55: 9500 | H55: 166 | I55: 0 | K55: 0 | M55: 0 | O55: =SMALL(E55:M55,COUNTIF(E55:M55,0)+1) -> 9500 | P55: 0 | Q55: 0 | R55: 0 | S55: 0 | T55: 0 | U55: 0 | V55: 0 | W55: 자재 51
A56: 5C8616860984C6849BA6A44FD583CD0953A70F | B56: 비계안정장치 | C56: 비계안정장치, 쟈키 | D56: 개 | E56: 0 | G56: 11000 | H56: 166 | I56: 0 | K56: 0 | M56: 0 | O56: =SMALL(E56:M56,COUNTIF(E56:M56,0)+1) -> 11000 | P56: 0 | Q56: 0 | R56: 0 | S56: 0 | T56: 0 | U56: 0 | V56: 0 | W56: 자재 52
A57: 5C8616860984C6849BA6A44FF5B3F11D286920 | B57: 비계안정장치 | C57: 비계안정장치, 발판, 40*200*2000 | D57: 장 | E57: 0 | G57: 0 | I57: 0 | K57: 18500 | L57: 106 | M57: 0 | O57: =SMALL(E57:M57,COUNTIF(E57:M57,0)+1) -> 18500 | P57: 0 | Q57: 0 | R57: 0 | S57: 0 | T57: 0 | U57: 0 | V57: 0 | W57: 자재 53
A58: 5C8616860984411415A6038185DF66C3E12CF1 | B58: 건설용거푸집 | C58: 건설용거푸집, 강, 600*1200*63.5mm | D58: 매 | E58: 27075 | G58: 29000 | H58: 166 | I58: 34840 | J58: 84 | K58: 0 | M58: 0 | O58: =SMALL(E58:M58,COUNTIF(E58:M58,0)+1) -> 27075 | P58: 0 | Q58: 0 | R58: 0 | S58: 0 | T58: 0 | U58: 0 | V58: 0 | W58: 자재 54
A59: 5C8616860984411415A61C3045B9C737DF0E3C | B59: 건설용거푸집액세서리 | C59: 건설용거푸집액세서리, 플랫타이, 4*19*200mm | D59: 개 | E59: 133 | G59: 370 | H59: 174 | I59: 140 | J59: 86 | K59: 0 | M59: 0 | O59: =SMALL(E59:M59,COUNTIF(E59:M59,0)+1) -> 133 | P59: 0 | Q59: 0 | R59: 0 | S59: 0 | T59: 0 | U59: 0 | V59: 0 | W59: 자재 55
A60: 5C8616860984411415A62E5AC5FF328EA407FC | B60: 건축용스페이서 | C60: 건축용스페이서, 세퍼레이트, 200mm | D60: 개 | E60: 0 | G60: 380 | H60: 174 | I60: 430 | J60: 87 | K60: 0 | M60: 0 | O60: =SMALL(E60:M60,COUNTIF(E60:M60,0)+1) -> 380 | P60: 0 | Q60: 0 | R60: 0 | S60: 0 | T60: 0 | U60: 0 | V60: 0 | W60: 자재 56
A61: 5C8606E146E412B454E641A635B6FFBADDF628 | B61: 철선 | C61: 철선, 어닐링, ∮0.9mm | D61: kg | E61: 1539 | G61: 1780 | H61: 84 | I61: 1830 | J61: 42 | K61: 0 | M61: 0 | O61: =SMALL(E61:M61,COUNTIF(E61:M61,0)+1) -> 1539 | P61: 0 | Q61: 0 | R61: 0 | S61: 0 | T61: 0 | U61: 0 | V61: 0 | W61: 자재 57
A62: 5C8606E145C437445A56F26D252615449EC9BC | B62: 세트앵커 | C62: 세트앵커, M10*L75mm | D62: 개 | E62: 0 | G62: 170 | H62: 94 | I62: 160 | J62: 53 | K62: 160 | L62: 53 | M62: 0 | O62: =SMALL(E62:M62,COUNTIF(E62:M62,0)+1) -> 160 | P62: 0 | Q62: 0 | R62: 0 | S62: 0 | T62: 0 | U62: 0 | V62: 0 | W62: 자재 58
A63: 5C8606E145C4371486F6DED8855D29744640EE | B63: 도어힌지 | C63: 도어힌지, 황동 | D63: 개 | E63: 0 | G63: 0 | I63: 0 | K63: 8400 | L63: 617 | M63: 0 | O63: =SMALL(E63:M63,COUNTIF(E63:M63,0)+1) -> 8400 | P63: 0 | Q63: 0 | R63: 0 | S63: 0 | T63: 0 | U63: 0 | V63: 0 | W63: 자재 59
A64: 5C8606E145C4371486F6DED8855D297447BAA0 | B64: 도어힌지 | C64: 도어힌지, 스테인리스강 | D64: 개 | E64: 0 | G64: 0 | I64: 0 | K64: 6200 | L64: 617 | M64: 0 | O64: =SMALL(E64:M64,COUNTIF(E64:M64,0)+1) -> 6200 | P64: 0 | Q64: 0 | R64: 0 | S64: 0 | T64: 0 | U64: 0 | V64: 0 | W64: 자재 60
A65: 5C8606E145C4371486F6DED8855A54F6702267 | B65: 창호철물 | C65: 푸시버튼 | D65: 개 | E65: 0 | G65: 0 | I65: 0 | K65: 0 | M65: 3000 | O65: =SMALL(E65:M65,COUNTIF(E65:M65,0)+1) -> 3000 | P65: 0 | Q65: 0 | R65: 0 | S65: 0 | T65: 0 | U65: 0 | V65: 0 | W65: 자재 61
A66: 5C8606E145C437D4B7266B1675E12C562C3038 | B66: 도어핸들 | C66: 도어핸들, LEVER 스테인리스 | D66: 조 | E66: 0 | G66: 28000 | H66: 656 | I66: 0 | K66: 0 | M66: 0 | O66: =SMALL(E66:M66,COUNTIF(E66:M66,0)+1) -> 28000 | P66: 0 | Q66: 0 | R66: 0 | S66: 0 | T66: 0 | U66: 0 | V66: 0 | W66: 자재 62
A67: 5C8606E145C437D4B7266B1675E12C562C303E | B67: 도어핸들 | C67: 도어핸들, LEVER 황동 | D67: 조 | E67: 0 | G67: 28000 | H67: 656 | I67: 0 | K67: 0 | M67: 0 | O67: =SMALL(E67:M67,COUNTIF(E67:M67,0)+1) -> 28000 | P67: 0 | Q67: 0 | R67: 0 | S67: 0 | T67: 0 | U67: 0 | V67: 0 | W67: 자재 63
A68: 5C8606E26A34C814C2169CE5454B4CBE49D4F8 | B68: 합성풀 | C68: 합성풀, 건설용 | D68: kg | E68: 9376 | G68: 0 | I68: 0 | K68: 0 | M68: 0 | O68: =SMALL(E68:M68,COUNTIF(E68:M68,0)+1) -> 9376 | P68: 0 | Q68: 0 | R68: 0 | S68: 0 | T68: 0 | U68: 0 | V68: 0 | W68: 자재 64
A69: 5C8606E26A34C814C216DA54954BB273D4C64E | B69: 퍼티 | C69: 퍼티, 친환경, 내부 | D69: kg | E69: 0 | G69: 872 | H69: 622 | I69: 728 | J69: 469 | K69: 0 | M69: 0 | O69: =SMALL(E69:M69,COUNTIF(E69:M69,0)+1) -> 728 | P69: 0 | Q69: 0 | R69: 0 | S69: 0 | T69: 0 | U69: 0 | V69: 0 | W69: 자재 65
A70: 5C8606E26A34C814C216DA54954BB273D79A2F | B70: 퍼티 | C70: 퍼티, 319퍼티, 백색 | D70: kg | E70: 3125.8 | G70: 3125.44 | H70: 622 | I70: 0 | K70: 0 | M70: 0 | O70: =SMALL(E70:M70,COUNTIF(E70:M70,0)+1) -> 3125.44 | P70: 0 | Q70: 0 | R70: 0 | S70: 0 | T70: 0 | U70: 0 | V70: 0 | W70: 자재 66 | X70: 1L=1.55kg
A71: 5C8606E26BC45C34BA16001755ECEB663CCCED | B71: 수성페인트 | C71: 수성페인트, 친환경, 내부 | D71: L | E71: 0 | G71: 4194 | H71: 619 | I71: 0 | K71: 0 | M71: 0 | O71: =SMALL(E71:M71,COUNTIF(E71:M71,0)+1) -> 4194 | P71: 0 | Q71: 0 | R71: 0 | S71: 0 | T71: 0 | U71: 0 | V71: 0 | W71: 자재 67
A72: 5C8606E26BC45C34BA160017759C71A9C2E5C4 | B72: 수성페인트 | C72: 수성페인트, KSM6010-1종1급, 백색 | D72: L | E72: 4152 | G72: 6688.88 | H72: 614 | I72: 8500 | J72: 468 | K72: 0 | M72: 0 | O72: =SMALL(E72:M72,COUNTIF(E72:M72,0)+1) -> 4152 | P72: 0 | Q72: 0 | R72: 0 | S72: 0 | T72: 0 | U72: 0 | V72: 0 | W72: 자재 68
A73: 5C8606E26BC45C148D36AE7055C9A80914261F | B73: 실링재 | C73: 실링재, 실리콘, 비초산, 유리용, 창호주위 | D73: L | E73: 10321 | G73: 18500 | H73: 607 | I73: 9999 | J73: 395 | K73: 0 | M73: 0 | O73: =SMALL(E73:M73,COUNTIF(E73:M73,0)+1) -> 9999 | P73: 0 | Q73: 0 | R73: 0 | S73: 0 | T73: 0 | U73: 0 | V73: 0 | W73: 자재 69
A74: 5C8606E26BC45C148D36AE7055C9A809142195 | B74: 실링재 | C74: 실링재, 실리콘, 비초산, 건축외장용, 비오염 | D74: L | E74: 16872 | G74: 18000 | H74: 606 | I74: 0 | K74: 0 | M74: 0 | O74: =SMALL(E74:M74,COUNTIF(E74:M74,0)+1) -> 16872 | P74: 0 | Q74: 0 | R74: 0 | S74: 0 | T74: 0 | U74: 0 | V74: 0 | W74: 자재 70
A75: 5CF90654C6747BC484B6AC88F5482F8F10B3AB | B75: 아연도각관 | C75: 50*30*t2.3mm, 2.616kg/m | D75: M | E75: 2500 | G75: 3600 | H75: 71 | I75: 0 | K75: 0 | M75: 0 | O75: =SMALL(E75:M75,COUNTIF(E75:M75,0)+1) -> 2500 | P75: 0 | Q75: 0 | R75: 0 | S75: 0 | T75: 0 | U75: 0 | V75: 0 | W75: 자재 71
A76: 5CF90654C6747BC484B6AC88F5482F8F10B3AE | B76: 아연도각관 | C76: 50*50*t2.3mm, 3.338kg/m | D76: M | E76: 3180 | G76: 4590 | H76: 71 | I76: 0 | K76: 0 | M76: 0 | O76: =SMALL(E76:M76,COUNTIF(E76:M76,0)+1) -> 3180 | P76: 0 | Q76: 0 | R76: 0 | S76: 0 | T76: 0 | U76: 0 | V76: 0 | W76: 자재 72
A77: 5CF90654C6747BC484B6AC88F5482F8F10B679 | B77: 아연도각관 | C77: 100*50*t2.3mm, 5.144kg/m | D77: M | E77: 4910 | G77: 7040 | H77: 71 | I77: 0 | K77: 0 | M77: 0 | O77: =SMALL(E77:M77,COUNTIF(E77:M77,0)+1) -> 4910 | P77: 0 | Q77: 0 | R77: 0 | S77: 0 | T77: 0 | U77: 0 | V77: 0 | W77: 자재 73
A78: 5CF90654C6747BC484B64A3E45D1C59672C5B8 | B78: 기계구조용스테인리스강관 | C78: 기계구조용스테인리스강관, ∮76.3*1.5mm | D78: M | E78: 16750 | G78: 16160 | H78: 79 | I78: 23040 | J78: 38 | K78: 0 | M78: 0 | O78: =SMALL(E78:M78,COUNTIF(E78:M78,0)+1) -> 16160 | P78: 0 | Q78: 0 | R78: 0 | S78: 0 | T78: 0 | U78: 0 | V78: 0 | W78: 자재 74
A79: 5CF90654C6747BC484B64A3E45D1C59672C1D7 | B79: 기계구조용스테인리스강관 | C79: 기계구조용스테인리스강관, 사각관, 20*20*1.5mm | D79: M | E79: 5740 | G79: 5540 | H79: 77 | I79: 7970 | J79: 39 | K79: 0 | M79: 0 | O79: =SMALL(E79:M79,COUNTIF(E79:M79,0)+1) -> 5540 | P79: 0 | Q79: 0 | R79: 0 | S79: 0 | T79: 0 | U79: 0 | V79: 0 | W79: 자재 75
A80: 5CF90654C6747BC484B64A3E45D1C59672CEAE | B80: 기계구조용스테인리스강관 | C80: 기계구조용스테인리스강관, 사각관, 30*30*1.5mm | D80: M | E80: 7040 | G80: 8320 | H80: 77 | I80: 11940 | J80: 39 | K80: 0 | M80: 0 | O80: =SMALL(E80:M80,COUNTIF(E80:M80,0)+1) -> 7040 | P80: 0 | Q80: 0 | R80: 0 | S80: 0 | T80: 0 | U80: 0 | V80: 0 | W80: 자재 76
A81: 5BE7E67111F473B498C6FA68F5405D8230B13A | B81: 폐콘크리트 | C81: 이물질이 없는 순수한 폐콘크리트 | D81: TON | E81: 0 | G81: 0 | I81: 0 | K81: 0 | M81: 0 | O81: 0 | P81: 0 | Q81: 0 | R81: 0 | S81: 0 | T81: 0 | U81: 31142 | V81: =SMALL(Q81:U81,COUNTIF(Q81:U81,0)+1) -> 31142 | W81: 자재 77 | Y81: C
A82: 5BE7E67111F473B498C6FA68F5405D8230B6BD | B82: 혼합건설폐기물 | C82: 건설폐재류에 가연성 5% 이하 혼합 | D82: TON | E82: 0 | G82: 0 | I82: 0 | K82: 0 | M82: 0 | O82: 0 | P82: 0 | Q82: 0 | R82: 0 | S82: 0 | T82: 0 | U82: 72721 | V82: =SMALL(Q82:U82,COUNTIF(Q82:U82,0)+1) -> 72721 | W82: 자재 78 | Y82: C
A83: 5BE7E67111F473B498C6FA68F5405D8237E190 | B83: 혼합건설폐기물 | C83: 불연성 건설폐기물에 가연성 5% 이하 혼합 | D83: TON | E83: 0 | G83: 0 | I83: 0 | K83: 0 | M83: 0 | O83: 0 | P83: 0 | Q83: 0 | R83: 0 | S83: 0 | T83: 0 | U83: 188715 | V83: =SMALL(Q83:U83,COUNTIF(Q83:U83,0)+1) -> 188715 | W83: 자재 79 | Y83: C
A84: 5BE7E67111F473B498C6FA68F5405D8236D8F1 | B84: 혼합건설폐기물 | C84: 그 밖의 건설폐기물에 가연성 5% 이하 혼합 | D84: TON | E84: 0 | G84: 0 | I84: 0 | K84: 0 | M84: 0 | O84: 0 | P84: 0 | Q84: 0 | R84: 0 | S84: 0 | T84: 0 | U84: 192887 | V84: =SMALL(Q84:U84,COUNTIF(Q84:U84,0)+1) -> 192887 | W84: 자재 80 | Y84: C
A85: 5BE7E67111F473B498C6FA68F5405D823530A0 | B85: 혼합건설폐기물 | C85: 폐목재 | D85: TON | E85: 0 | G85: 0 | I85: 0 | K85: 0 | L85: 부록149 | M85: 0 | O85: 0 | P85: 0 | Q85: 0 | R85: 0 | S85: 0 | T85: 40910 | U85: 0 | V85: =SMALL(Q85:U85,COUNTIF(Q85:U85,0)+1) -> 40910 | W85: 자재 81
A86: 5BE7E67111F473B498C6FA68F5405D823537D1 | B86: 폐기물운반비 | C86: 폐목재 | D86: TON | E86: 0 | G86: 0 | I86: 0 | K86: 0 | L86: 부록149 | M86: 0 | O86: 0 | P86: 0 | Q86: 0 | R86: 0 | S86: 0 | T86: 195900 | U86: 0 | V86: =SMALL(Q86:U86,COUNTIF(Q86:U86,0)+1) -> 195900 | W86: 자재 82
A87: 5BE7E67111F473B498C6FA68F54162C629878B | B87: 건설폐재류 상차비 | D87: 톤 | E87: 0 | G87: 0 | H87: 1586 | I87: 0 | K87: 0 | M87: 0 | O87: 0 | P87: 0 | Q87: 0 | R87: 3890 | S87: 0 | T87: 0 | U87: 0 | V87: =SMALL(Q87:U87,COUNTIF(Q87:U87,0)+1) -> 3890 | W87: 자재 83 | Y87: C
A88: 5BE7E67111F473B498C6FA68F54162C6298788 | B88: 혼합건설폐기물 상차비 | C88: (매립지반입대상 폐기물 포함) | D88: 톤 | E88: 0 | G88: 0 | H88: 1586 | I88: 0 | K88: 0 | M88: 0 | O88: 0 | P88: 0 | Q88: 0 | R88: 6420 | S88: 0 | T88: 0 | U88: 0 | V88: =SMALL(Q88:U88,COUNTIF(Q88:U88,0)+1) -> 6420 | W88: 자재 84 | Y88: C
A89: 5BE7E67111F473B498C6FA68F54162C62986E2 | B89: 건설폐재류 운반비 | C89: 24톤 덤프트럭, 30km | D89: TON | E89: 0 | G89: 0 | H89: 1586 | I89: 0 | K89: 0 | M89: 0 | O89: 0 | P89: 0 | Q89: 0 | R89: 16450 | S89: 0 | T89: 0 | U89: 0 | V89: =SMALL(Q89:U89,COUNTIF(Q89:U89,0)+1) -> 16450 | W89: 자재 85 | Y89: C
A90: 5BE7E67111F473B498C6FA68F54162C629832E | B90: 혼합건설폐기물 운반비 | C90: 24톤 암롤트럭, 30km | D90: TON | E90: 0 | G90: 0 | H90: 1584 | I90: 0 | K90: 0 | M90: 0 | N90: 1584 | O90: 0 | P90: 0 | Q90: 0 | R90: 61880 | S90: 0 | T90: 0 | U90: 0 | V90: =SMALL(Q90:U90,COUNTIF(Q90:U90,0)+1) -> 61880 | W90: 자재 86 | Y90: C
A91: 5B7CF6C2A1242C643E264616F556D09CBBD198 | B91: 보통인부 | C91: 일반공사 직종 | D91: 인 | E91: 0 | G91: 0 | I91: 0 | K91: 0 | M91: 0 | O91: 0 | P91: 172068 | Q91: 0 | R91: 0 | S91: 0 | T91: 0 | U91: 0 | V91: 0 | W91: 노임 1 | X91: 2026년상반기 | Y91: B
A92: 5B7CF6C2A1242C643E264616F556D09CBBD199 | B92: 특별인부 | C92: 일반공사 직종 | D92: 인 | E92: 0 | G92: 0 | I92: 0 | K92: 0 | M92: 0 | O92: 0 | P92: 226122 | Q92: 0 | R92: 0 | S92: 0 | T92: 0 | U92: 0 | V92: 0 | W92: 노임 2 | X92: 2026년상반기 | Y92: B
A93: 5B7CF6C2A1242C643E264616F556D09CBBD19C | B93: 비계공 | C93: 일반공사 직종 | D93: 인 | E93: 0 | G93: 0 | I93: 0 | K93: 0 | M93: 0 | O93: 0 | P93: 281939 | Q93: 0 | R93: 0 | S93: 0 | T93: 0 | U93: 0 | V93: 0 | W93: 노임 3 | X93: 2026년상반기 | Y93: B
A94: 5B7CF6C2A1242C643E264616F556D09CBBD19D | B94: 형틀목공 | C94: 일반공사 직종 | D94: 인 | E94: 0 | G94: 0 | I94: 0 | K94: 0 | M94: 0 | O94: 0 | P94: 275790 | Q94: 0 | R94: 0 | S94: 0 | T94: 0 | U94: 0 | V94: 0 | W94: 노임 4 | X94: 2026년상반기 | Y94: B
A95: 5B7CF6C2A1242C643E264616F556D09CBBD192 | B95: 철근공 | C95: 일반공사 직종 | D95: 인 | E95: 0 | G95: 0 | I95: 0 | K95: 0 | M95: 0 | O95: 0 | P95: 268187 | Q95: 0 | R95: 0 | S95: 0 | T95: 0 | U95: 0 | V95: 0 | W95: 노임 5 | X95: 2026년상반기 | Y95: B
A96: 5B7CF6C2A1242C643E264616F556D09CBBD193 | B96: 철공 | C96: 일반공사 직종 | D96: 인 | E96: 0 | G96: 0 | I96: 0 | K96: 0 | M96: 0 | O96: 0 | P96: 239808 | Q96: 0 | R96: 0 | S96: 0 | T96: 0 | U96: 0 | V96: 0 | W96: 노임 6 | X96: 2026년상반기 | Y96: B
A97: 5B7CF6C2A1242C643E264616F556D09CBBD0F1 | B97: 용접공 | C97: 일반공사 직종 | D97: 인 | E97: 0 | G97: 0 | I97: 0 | K97: 0 | M97: 0 | O97: 0 | P97: 282536 | Q97: 0 | R97: 0 | S97: 0 | T97: 0 | U97: 0 | V97: 0 | W97: 노임 7 | X97: 2026년상반기 | Y97: B
A98: 5B7CF6C2A1242C643E264616F556D09CBBD0F0 | B98: 콘크리트공 | C98: 일반공사 직종 | D98: 인 | E98: 0 | G98: 0 | I98: 0 | K98: 0 | M98: 0 | O98: 0 | P98: 273540 | Q98: 0 | R98: 0 | S98: 0 | T98: 0 | U98: 0 | V98: 0 | W98: 노임 8 | X98: 2026년상반기 | Y98: B
A99: 5B7CF6C2A1242C643E264616F556D09CBBD0F6 | B99: 착암공 | C99: 일반공사 직종 | D99: 인 | E99: 0 | G99: 0 | I99: 0 | K99: 0 | M99: 0 | O99: 0 | P99: 222306 | Q99: 0 | R99: 0 | S99: 0 | T99: 0 | U99: 0 | V99: 0 | W99: 노임 9 | X99: 2026년상반기 | Y99: B
A100: 5B7CF6C2A1242C643E264616F556D09CBBD0FA | B100: 포장공 | C100: 일반공사 직종 | D100: 인 | E100: 0 | G100: 0 | I100: 0 | K100: 0 | M100: 0 | O100: 0 | P100: 273308 | Q100: 0 | R100: 0 | S100: 0 | T100: 0 | U100: 0 | V100: 0 | W100: 노임 10 | X100: 2026년상반기 | Y100: B
...
