Workbook

Sheet 원가계산서
B1: 공 사 원 가 계 산 서
B2: 공사명 : 1100고지 습지보호지역 노후탐방로 정비사업 | F2: 금액 : 이억팔천이백삼십사만원(￦282,340,000)
B3: 비 목 | E3: 금 액 | F3: 구 성 비 | G3: 비 고
A4: A1 | B4: 순 공 사 원 가 | C4: 재 료 비 | D4: 직 접 재 료 비 | E4: =TRUNC(공종별집계표!F5, 0) -> 155667130
A5: A2 | D5: 간 접 재 료 비 | E5: 0
A6: A3 | D6: 작업설, 부산물(△) | E6: 0
A7: AS | D7: [ 소 계 ] | E7: =TRUNC(E4+E5-E6, 0) -> 155667130
A8: B1 | C8: 노 무 비 | D8: 직 접 노 무 비 | E8: =TRUNC(공종별집계표!H5, 0) -> 32261176
A9: B2 | D9: 간 접 노 무 비 | E9: =TRUNC(E8*0.184, 0) -> 5936056 | F9: 직접노무비 * 18.4%
A10: BS | D10: [ 소 계 ] | E10: =TRUNC(E8+E9, 0) -> 38197232
A11: C1 | C11: 경 비 | D11: 운 반 비 | E11: =TRUNC(공종별집계표!T10, 0) -> 2116006
A12: C2 | D12: 경 비 | E12: =TRUNC(공종별집계표!J5, 0) -> 4705933
A13: C4 | D13: 산 재 보 험 료 | E13: =TRUNC(E10*0.0356, 0) -> 1359821 | F13: 노무비 * 3.56%
A14: C5 | D14: 고 용 보 험 료 | E14: =TRUNC(E10*0.0101, 0) -> 385792 | F14: 노무비 * 1.01%
A15: C6 | D15: 국민 건강 보험료 | E15: =TRUNC(E8*0.03595, 0) -> 1159789 | F15: 직접노무비 * 3.595%
A16: CB | D16: 노인장기요양보험료 | E16: =TRUNC(E15*0.1314, 0) -> 152396 | F16: 건강보험료 * 13.14%
A17: C7 | D17: 국민 연금 보험료 | E17: =TRUNC(E8*0.0475, 0) -> 1532405 | F17: 직접노무비 * 4.75%
A18: C8 | D18: 퇴직 공제 부금비 | E18: =TRUNC(E8*0.023, 0) -> 742007 | F18: 직접노무비 * 2.3%
A19: CA | D19: 산업안전보건관리비 | E19: =TRUNC((E7+E8)*0.0311, 0) -> 5844570 | F19: (재료비+직노) * 3.11%
A20: CF | D20: 건설폐기물처리비 | E20: =TRUNC(공종별집계표!T11, 0) -> 6401399
A21: CG | D21: 기 타 경 비 | E21: =TRUNC((E7+E10)*0.049, 0) -> 9499353 | F21: (재료비+노무비) * 4.9%
A22: CH | D22: 환 경 보 전 비 | E22: =TRUNC((E7+E8+E11+E12)*0.003, 0) -> 584250 | F22: (재료비+직노+경비) * 0.3%
A23: CK | D23: 하도급지급보증수수료 | E23: =TRUNC((E7+E8+E11+E12)*0, 0) -> 0 | F23: (재료비+직노+경비) * 0% | G23: 전문공사제외
A24: CL | D24: 건설기계대여금지급보증서발급수수료 | E24: =TRUNC((E7+E8+E11+E12)*0, 0) -> 0 | F24: (재료비+직노+경비) * 0% | G24: 건설기계업체별400만원미만제외
A25: CS | D25: [ 소 계 ] | E25: =TRUNC(E11+E12+E13+E14+E15+E17+E18+E19+E16+E20+E21+E22+E23+E24, 0) -> 34483721
A26: S1 | B26: 계 | E26: =TRUNC(E7+E10+E25, 0) -> 228348083
A27: D1 | B27: 일 반 관 리 비 | E27: =TRUNC(E26*0.08, 0) -> 18267846 | F27: 계 * 8%
A28: D2 | B28: 이 윤 | E28: =TRUNC((E10+E25+E27)*0.15, 0) -> 13642319 | F28: (노무비+경비+일반관리비) * 15%
A29: D5 | B29: 철 거 고 재 | E29: =TRUNC(공종별집계표!T12, 0) -> -3584759
A30: D9 | B30: 공 급 가 액 | E30: =TRUNC(E26+E27+E28+E29, 0) -> 256673489
A31: DB | B31: 부 가 가 치 세 | E31: =TRUNC(E30*0.1, 0) -> 25667348 | F31: 공급가액 * 10%
A32: DH | B32: 도 급 액 | E32: =TRUNC(E30+E31, -3) -> 282340000 | F32: 천원미만절사
A33: S2 | B33: 총 공 사 비 | E33: =TRUNC(E32+0, 0) -> 282340000

Sheet 공종별집계표
A1: 공 종 별 집 계 표
A2: [ 1100고지 습지보호지역 노후탐방로 정비사업 ]
A3: 품 명 | B3: 규 격 | C3: 단위 | D3: 수량 | E3: 재 료 비 | G3: 노 무 비 | I3: 경 비 | K3: 합 계 | M3: 비 고 | N3: 공종코드 | O3: 변수 | P3: 상위공종 | Q3: 공종구분 | R3: 공종레벨 | S3: 공종소계 | T3: 원가계산서 연결금액
E4: 단 가 | F4: 금 액 | G4: 단 가 | H4: 금 액 | I4: 단 가 | J4: 금 액 | K4: 단 가 | L4: 금 액
A5: 01 1100고지 습지보호지역 노후탐방로 정비사업 | D5: 1 | E5: =F6 -> 155667130 | F5: =E5*D5 -> 155667130 | G5: =H6 -> 32261176 | H5: =G5*D5 -> 32261176 | I5: =J6 -> 4705933 | J5: =I5*D5 -> 4705933 | K5: =E5+G5+I5 -> 192634239 | L5: =F5+H5+J5 -> 192634239 | N5: 01 | R5: 1
A6: 0101 『노후탐방로 정비사업』 | D6: 1 | E6: =F7+F8+F9 -> 155667130 | F6: =E6*D6 -> 155667130 | G6: =H7+H8+H9 -> 32261176 | H6: =G6*D6 -> 32261176 | I6: =J7+J8+J9 -> 4705933 | J6: =I6*D6 -> 4705933 | K6: =E6+G6+I6 -> 192634239 | L6: =F6+H6+J6 -> 192634239 | N6: 0101 | P6: 01 | R6: 2
A7: 010101 철 거 공 사 | D7: 1 | E7: =공종별내역서!F27 -> 615 | F7: =E7*D7 -> 615 | G7: =공종별내역서!H27 -> 790506 | H7: =G7*D7 -> 790506 | I7: =공종별내역서!J27 -> 15120 | J7: =I7*D7 -> 15120 | K7: =E7+G7+I7 -> 806241 | L7: =F7+H7+J7 -> 806241 | N7: 010101 | P7: 0101 | R7: 3
A8: 010102 부 대 공 사 | D8: 1 | E8: =공종별내역서!F50 -> 155666515 | F8: =E8*D8 -> 155666515 | G8: =공종별내역서!H50 -> 31470670 | H8: =G8*D8 -> 31470670 | I8: =공종별내역서!J50 -> 4613674 | J8: =I8*D8 -> 4613674 | K8: =E8+G8+I8 -> 191750859 | L8: =F8+H8+J8 -> 191750859 | N8: 010102 | P8: 0101 | R8: 3
A9: 010103 건설폐기물상차비 | D9: 1 | E9: =공종별내역서!F73 -> 0 | F9: =E9*D9 -> 0 | G9: =공종별내역서!H73 -> 0 | H9: =G9*D9 -> 0 | I9: =공종별내역서!J73 -> 77139 | J9: =I9*D9 -> 77139 | K9: =E9+G9+I9 -> 77139 | L9: =F9+H9+J9 -> 77139 | N9: 010103 | P9: 0101 | R9: 3
A10: 0102 『운 반 비』 | D10: 1 | E10: =공종별내역서!F96 -> 0 | F10: =E10*D10 -> 0 | G10: =공종별내역서!H96 -> 0 | H10: =G10*D10 -> 0 | I10: =공종별내역서!J96 -> 2116006 | J10: =I10*D10 -> 2116006 | K10: =E10+G10+I10 -> 2116006 | L10: =F10+H10+J10 -> 2116006 | N10: 0102 | Q10: 3 | R10: 2 | T10: =L10*1 -> 2116006
A11: 0103 『건설폐기물처리비』 | D11: 1 | E11: =공종별내역서!F119 -> 0 | F11: =E11*D11 -> 0 | G11: =공종별내역서!H119 -> 0 | H11: =G11*D11 -> 0 | I11: =공종별내역서!J119 -> 6401399 | J11: =I11*D11 -> 6401399 | K11: =E11+G11+I11 -> 6401399 | L11: =F11+H11+J11 -> 6401399 | N11: 0103 | Q11: B | R11: 2 | T11: =L11*1 -> 6401399
A12: 0104 『철 거 고 재』 | D12: 1 | E12: =공종별내역서!F142 -> -3584759 | F12: =E12*D12 -> -3584759 | G12: =공종별내역서!H142 -> 0 | H12: =G12*D12 -> 0 | I12: =공종별내역서!J142 -> 0 | J12: =I12*D12 -> 0 | K12: =E12+G12+I12 -> -3584759 | L12: =F12+H12+J12 -> -3584759 | N12: 0104 | Q12: C | R12: 2 | T12: =L12*1 -> -3584759
A27: [ 합 계 ] | F27: =F5 -> 155667130 | H27: =H5 -> 32261176 | J27: =J5 -> 4705933 | L27: =L5 -> 192634239

Sheet 공종별내역서
A1: 공 종 별 내 역 서
A2: [ 1100고지 습지보호지역 노후탐방로 정비사업 ]
A3: 품 명 | B3: 규 격 | C3: 단위 | D3: 수량 | E3: 재 료 비 | G3: 노 무 비 | I3: 경 비 | K3: 합 계 | M3: 비 고 | N3: 품목코드 | O3: 변수 | P3: 설정 | Q3: 공종코드 | R3: 일위 | S3: 단산 | T3: 자재 | U3: 손료적용 | V3: 손료저장 | W3: 적용율 | X3: JUK1 | Y3: JUK2 | Z3: JUK3 | AA3: JUK4 | AB3: JUK5 | AC3: JUK6 | AD3: JUK7 | AE3: JUK8 | AF3: JUK9 | AG3: JUK10 | AH3: JUK11 | AI3: JUK12 | AJ3: JUK13 | AK3: JUK14 | AL3: JUK15 | AM3: JUK16 | AN3: JUK17 | AO3: JUK18 | AP3: JUK19 | AQ3: JUK20 | AR3: 자재구분 | AS3: 공종구분 | AT3: 공종레벨 | AU3: 공종+자재 | AV3: 고유번호
E4: 단 가 | F4: 금 액 | G4: 단 가 | H4: 금 액 | I4: 단 가 | J4: 금 액 | K4: 단 가 | L4: 금 액
A5: 010101 철 거 공 사 | B5: 『노후탐방로 정비사업』 | Q5: 010101
A6: 합성목재데크 철거 | C6: M2 | D6: 65.94 | E6: =TRUNC(일위대가목록!E4,0) -> 0 | F6: =TRUNC(E6*D6, 0) -> 0 | G6: =TRUNC(일위대가목록!F4,0) -> 11054 | H6: =TRUNC(G6*D6, 0) -> 728900 | I6: =TRUNC(일위대가목록!G4,0) -> 221 | J6: =TRUNC(I6*D6, 0) -> 14572 | K6: =TRUNC(E6+G6+I6, 0) -> 11275 | L6: =TRUNC(F6+H6+J6, 0) -> 743472 | M6: 호표 1 | N6: 51A942C36257E5F4CC28023CE1671B | Q6: 010101 | R6: T | S6: F | T6: F | AU6: 01010151A942C36257E5F4CC28023CE1671B | AV6: 5
A7: 콘크리트구조물 헐기(인력) | B7: 소형브레이커(전기식), 무근, 2.7m3/일당 | C7: M3 | D7: 0.27 | E7: =TRUNC(일위대가목록!E5,0) -> 2281 | F7: =TRUNC(E7*D7, 0) -> 615 | G7: =TRUNC(일위대가목록!F5,0) -> 228171 | H7: =TRUNC(G7*D7, 0) -> 61606 | I7: =TRUNC(일위대가목록!G5,0) -> 2033 | J7: =TRUNC(I7*D7, 0) -> 548 | K7: =TRUNC(E7+G7+I7, 0) -> 232485 | L7: =TRUNC(F7+H7+J7, 0) -> 62769 | M7: 호표 2 | N7: 51A8C2130C507B641118163F8D773F | Q7: 010101 | R7: T | S7: F | T7: F | AU7: 01010151A8C2130C507B641118163F8D773F | AV7: 34
Q8: 010101
Q9: 010101
Q10: 010101
Q11: 010101
Q12: 010101
Q13: 010101
Q14: 010101
Q15: 010101
Q16: 010101
Q17: 010101
Q18: 010101
Q19: 010101
... Q26: 010101
A27: [ 합 계 ] | F27: =SUMIF(Q6:Q26,"010101",F6:F26) -> 615 | H27: =SUMIF(Q6:Q26,"010101",H6:H26) -> 790506 | J27: =SUMIF(Q6:Q26,"010101",J6:J26) -> 15120 | L27: =SUMIF(Q6:Q26,"010101",L6:L26) -> 806241 | N27: TOTAL
A28: 010102 부 대 공 사 | B28: 『노후탐방로 정비사업』 | Q28: 010102
A29: 합성목재데크 설치 | B29: T25*W150, 솔리드, 평구조 | C29: M2 | D29: 67.64 | E29: =TRUNC(일위대가목록!E6,0) -> 106848 | F29: =TRUNC(E29*D29, 0) -> 7227198 | G29: =TRUNC(일위대가목록!F6,0) -> 56002 | H29: =TRUNC(G29*D29, 0) -> 3787975 | I29: =TRUNC(일위대가목록!G6,0) -> 1120 | J29: =TRUNC(I29*D29, 0) -> 75756 | K29: =TRUNC(E29+G29+I29, 0) -> 163970 | L29: =TRUNC(F29+H29+J29, 0) -> 11090929 | M29: 호표 3 | N29: 51A942C36257E5F4CC28023CE1671D | Q29: 010102 | R29: T | S29: F | T29: F | AU29: 01010251A942C36257E5F4CC28023CE1671D | AV29: 7
A30: 합성목재난간 철거 후 재설치 | B30: 속기둥 미철거, 기둥간격 2m, 가로대 4개, 브라켓형 | C30: M | D30: 1375 | E30: =TRUNC(일위대가목록!E7,0) -> 0 | F30: =TRUNC(E30*D30, 0) -> 0 | G30: =TRUNC(일위대가목록!F7,0) -> 19269 | H30: =TRUNC(G30*D30, 0) -> 26494875 | I30: =TRUNC(일위대가목록!G7,0) -> 0 | J30: =TRUNC(I30*D30, 0) -> 0 | K30: =TRUNC(E30+G30+I30, 0) -> 19269 | L30: =TRUNC(F30+H30+J30, 0) -> 26494875 | M30: 호표 4 | N30: 51A9C2F3CE5198F42118F5F345CAB0 | Q30: 010102 | R30: T | S30: F | T30: F | AU30: 01010251A9C2F3CE5198F42118F5F345CAB0 | AV30: 48
A31: 합성목재기둥 | B31: 100*100*1200 | C31: EA | D31: 738 | E31: =TRUNC(단가대비표!O40,0) -> 28750 | F31: =TRUNC(E31*D31, 0) -> 21217500 | G31: =TRUNC(단가대비표!P40,0) -> 0 | H31: =TRUNC(G31*D31, 0) -> 0 | I31: =TRUNC(단가대비표!V40,0) -> 0 | J31: =TRUNC(I31*D31, 0) -> 0 | K31: =TRUNC(E31+G31+I31, 0) -> 28750 | L31: =TRUNC(F31+H31+J31, 0) -> 21217500 | N31: 50114213B7510B14513861737717ECA0F12F43 | Q31: 010102 | R31: F | S31: F | T31: T | AU31: 01010250114213B7510B14513861737717ECA0F12F43 | AV31: 36
A32: 합성목재기둥 상부캡 | C32: EA | D32: 738 | E32: =TRUNC(단가대비표!O41,0) -> 6900 | F32: =TRUNC(E32*D32, 0) -> 5092200 | G32: =TRUNC(단가대비표!P41,0) -> 0 | H32: =TRUNC(G32*D32, 0) -> 0 | I32: =TRUNC(단가대비표!V41,0) -> 0 | J32: =TRUNC(I32*D32, 0) -> 0 | K32: =TRUNC(E32+G32+I32, 0) -> 6900 | L32: =TRUNC(F32+H32+J32, 0) -> 5092200 | N32: 50114213B7510B14513861737717ECA0F12F42 | Q32: 010102 | R32: F | S32: F | T32: T | AU32: 01010250114213B7510B14513861737717ECA0F12F42 | AV32: 37
A33: 합성목재기둥 하부캡 | C33: EA | D33: 738 | E33: =TRUNC(단가대비표!O42,0) -> 6900 | F33: =TRUNC(E33*D33, 0) -> 5092200 | G33: =TRUNC(단가대비표!P42,0) -> 0 | H33: =TRUNC(G33*D33, 0) -> 0 | I33: =TRUNC(단가대비표!V42,0) -> 0 | J33: =TRUNC(I33*D33, 0) -> 0 | K33: =TRUNC(E33+G33+I33, 0) -> 6900 | L33: =TRUNC(F33+H33+J33, 0) -> 5092200 | N33: 50114213B7510B14513861737717ECA0F12F41 | Q33: 010102 | R33: F | S33: F | T33: T | AU33: 01010250114213B7510B14513861737717ECA0F12F41 | AV33: 38
A34: 하이브리드 가로대 | B34: 75*45*2000 | C34: EA | D34: 2356 | E34: =TRUNC(단가대비표!O43,0) -> 35650 | F34: =TRUNC(E34*D34, 0) -> 83991400 | G34: =TRUNC(단가대비표!P43,0) -> 0 | H34: =TRUNC(G34*D34, 0) -> 0 | I34: =TRUNC(단가대비표!V43,0) -> 0 | J34: =TRUNC(I34*D34, 0) -> 0 | K34: =TRUNC(E34+G34+I34, 0) -> 35650 | L34: =TRUNC(F34+H34+J34, 0) -> 83991400 | N34: 50114213B7510B14513861737717ECA0F12F40 | Q34: 010102 | R34: F | S34: F | T34: T | AU34: 01010250114213B7510B14513861737717ECA0F12F40 | AV34: 39
A35: 하이브리드 가로대 브라켓 | C35: EA | D35: 4712 | E35: =TRUNC(단가대비표!O44,0) -> 6900 | F35: =TRUNC(E35*D35, 0) -> 32512800 | G35: =TRUNC(단가대비표!P44,0) -> 0 | H35: =TRUNC(G35*D35, 0) -> 0 | I35: =TRUNC(단가대비표!V44,0) -> 0 | J35: =TRUNC(I35*D35, 0) -> 0 | K35: =TRUNC(E35+G35+I35, 0) -> 6900 | L35: =TRUNC(F35+H35+J35, 0) -> 32512800 | N35: 50114213B7510B14513861737717ECA0F12F4F | Q35: 010102 | R35: F | S35: F | T35: T | AU35: 01010250114213B7510B14513861737717ECA0F12F4F | AV35: 40
A36: 재료 및 폐기물 소운반 | B36: 100M 운반 기준 | C36: TON | D36: 49.39 | E36: =TRUNC(일위대가목록!E8,0) -> 0 | F36: =TRUNC(E36*D36, 0) -> 0 | G36: =TRUNC(일위대가목록!F8,0) -> 0 | H36: =TRUNC(G36*D36, 0) -> 0 | I36: =TRUNC(일위대가목록!G8,0) -> 91000 | J36: =TRUNC(I36*D36, 0) -> 4494490 | K36: =TRUNC(E36+G36+I36, 0) -> 91000 | L36: =TRUNC(F36+H36+J36, 0) -> 4494490 | M36: 호표 5 | N36: 51A932F33D510884DBF8C83EB4F84D | Q36: 010102 | R36: T | S36: F | T36: F | AU36: 01010251A932F33D510884DBF8C83EB4F84D | AV36: 9
A37: 콘크리트기초 설치 | B37: 300*300*300 | C37: EA | D37: 13 | E37: =TRUNC(일위대가목록!E9,0) -> 10321 | F37: =TRUNC(E37*D37, 0) -> 134173 | G37: =TRUNC(일위대가목록!F9,0) -> 25594 | H37: =TRUNC(G37*D37, 0) -> 332722 | I37: =TRUNC(일위대가목록!G9,0) -> 154 | J37: =TRUNC(I37*D37, 0) -> 2002 | K37: =TRUNC(E37+G37+I37, 0) -> 36069 | L37: =TRUNC(F37+H37+J37, 0) -> 468897 | M37: 호표 6 | N37: 51A932F33D510884DBF8C83EB4F848 | Q37: 010102 | R37: T | S37: F | T37: F | AU37: 01010251A932F33D510884DBF8C83EB4F848 | AV37: 41
A38: 아연도각관 설치 | B38: 100*100*2.3T | C38: M | D38: 4.1 | E38: =TRUNC(일위대가목록!E10,0) -> 19829 | F38: =TRUNC(E38*D38, 0) -> 81298 | G38: =TRUNC(일위대가목록!F10,0) -> 37029 | H38: =TRUNC(G38*D38, 0) -> 151818 | I38: =TRUNC(일위대가목록!G10,0) -> 1848 | J38: =TRUNC(I38*D38, 0) -> 7576 | K38: =TRUNC(E38+G38+I38, 0) -> 58706 | L38: =TRUNC(F38+H38+J38, 0) -> 240692 | M38: 호표 7 | N38: 51A932F33D510884DBF8C83EB4F7A6 | Q38: 010102 | R38: T | S38: F | T38: F | AU38: 01010251A932F33D510884DBF8C83EB4F7A6 | AV38: 42
A39: 아연도각관 설치 | B39: 100*50*2.1T | C39: M | D39: 21.2 | E39: =TRUNC(일위대가목록!E11,0) -> 13574 | F39: =TRUNC(E39*D39, 0) -> 287768 | G39: =TRUNC(일위대가목록!F11,0) -> 25197 | H39: =TRUNC(G39*D39, 0) -> 534176 | I39: =TRUNC(일위대가목록!G11,0) -> 1257 | J39: =TRUNC(I39*D39, 0) -> 26648 | K39: =TRUNC(E39+G39+I39, 0) -> 40028 | L39: =TRUNC(F39+H39+J39, 0) -> 848592 | M39: 호표 8 | N39: 51A932F33D510884DBF8C83EB4F7A3 | Q39: 010102 | R39: T | S39: F | T39: F | AU39: 01010251A932F33D510884DBF8C83EB4F7A3 | AV39: 43
A40: 아연도각관 설치 화스너 설치 | B40: ㄱ-75*75*3T | C40: EA | D40: 26 | E40: =TRUNC(일위대가목록!E12,0) -> 1153 | F40: =TRUNC(E40*D40, 0) -> 29978 | G40: =TRUNC(일위대가목록!F12,0) -> 6504 | H40: =TRUNC(G40*D40, 0) -> 169104 | I40: =TRUNC(일위대가목록!G12,0) -> 277 | J40: =TRUNC(I40*D40, 0) -> 7202 | K40: =TRUNC(E40+G40+I40, 0) -> 7934 | L40: =TRUNC(F40+H40+J40, 0) -> 206284 | M40: 호표 9 | N40: 51A932F33D510884DBF8C83EB4F680 | Q40: 010102 | R40: T | S40: F | T40: F | AU40: 01010251A932F33D510884DBF8C83EB4F680 | AV40: 44
Q41: 010102
Q42: 010102
Q43: 010102
Q44: 010102
Q45: 010102
Q46: 010102
Q47: 010102
Q48: 010102
Q49: 010102
A50: [ 합 계 ] | F50: =SUMIF(Q29:Q49,"010102",F29:F49) -> 155666515 | H50: =SUMIF(Q29:Q49,"010102",H29:H49) -> 31470670 | J50: =SUMIF(Q29:Q49,"010102",J29:J49) -> 4613674 | L50: =SUMIF(Q29:Q49,"010102",L29:L49) -> 191750859 | N50: TOTAL
A51: 010103 건설폐기물상차비 | B51: 『노후탐방로 정비사업』 | Q51: 010103
A52: 건설폐재류 상차비 | C52: TON | D52: 0.62 | E52: =TRUNC(단가대비표!O22,0) -> 0 | F52: =TRUNC(E52*D52, 0) -> 0 | G52: =TRUNC(단가대비표!P22,0) -> 0 | H52: =TRUNC(G52*D52, 0) -> 0 | I52: =TRUNC(단가대비표!V22,0) -> 3890 | J52: =TRUNC(I52*D52, 0) -> 2411 | K52: =TRUNC(E52+G52+I52, 0) -> 3890 | L52: =TRUNC(F52+H52+J52, 0) -> 2411 | N52: 51E482230F57CD44CD08156A5D3EF2B279D66E | Q52: 010103 | R52: F | S52: F | T52: T | AU52: 01010351E482230F57CD44CD08156A5D3EF2B279D66E | AV52: 46
A53: 혼합건설폐기물 상차비 | C53: TON | D53: 11.64 | E53: =TRUNC(단가대비표!O23,0) -> 0 | F53: =TRUNC(E53*D53, 0) -> 0 | G53: =TRUNC(단가대비표!P23,0) -> 0 | H53: =TRUNC(G53*D53, 0) -> 0 | I53: =TRUNC(단가대비표!V23,0) -> 6420 | J53: =TRUNC(I53*D53, 0) -> 74728 | K53: =TRUNC(E53+G53+I53, 0) -> 6420 | L53: =TRUNC(F53+H53+J53, 0) -> 74728 | N53: 51E482230F57CD44CD08156A5D3EF2B279D66C | Q53: 010103 | R53: F | S53: F | T53: T | AU53: 01010351E482230F57CD44CD08156A5D3EF2B279D66C | AV53: 12
Q54: 010103
Q55: 010103
Q56: 010103
Q57: 010103
Q58: 010103
Q59: 010103
Q60: 010103
Q61: 010103
Q62: 010103
Q63: 010103
Q64: 010103
Q65: 010103
... Q72: 010103
A73: [ 합 계 ] | F73: =SUMIF(Q52:Q72,"010103",F52:F72) -> 0 | H73: =SUMIF(Q52:Q72,"010103",H52:H72) -> 0 | J73: =SUMIF(Q52:Q72,"010103",J52:J72) -> 77139 | L73: =SUMIF(Q52:Q72,"010103",L52:L72) -> 77139 | N73: TOTAL
A74: 0102 『운 반 비』 | Q74: 0102
A75: 합성목재기둥, 캡, 하이브리드가로대 운반비 | B75: 8TON, 생산지 > 목포항 > 상선 > 제주항 > 현장 | C75: 대 | D75: 1 | E75: =TRUNC(단가산출목록!E4,0) -> 0 | F75: =TRUNC(E75*D75, 0) -> 0 | G75: =TRUNC(단가산출목록!F4,0) -> 0 | H75: =TRUNC(G75*D75, 0) -> 0 | I75: =TRUNC(단가산출목록!G4,0) -> 2116006 | J75: =TRUNC(I75*D75, 0) -> 2116006 | K75: =TRUNC(E75+G75+I75, 0) -> 2116006 | L75: =TRUNC(F75+H75+J75, 0) -> 2116006 | M75: 산근 1 | N75: 51A892D3CB583B942D1836F4061283 | Q75: 0102 | R75: F | S75: T | T75: F | AU75: 010251A892D3CB583B942D1836F4061283 | AV75: 50
Q76: 0102
Q77: 0102
Q78: 0102
Q79: 0102
Q80: 0102
Q81: 0102
Q82: 0102
Q83: 0102
Q84: 0102
Q85: 0102
Q86: 0102
Q87: 0102
... Q95: 0102
A96: [ 합 계 ] | F96: =SUMIF(Q75:Q95,"0102",F75:F95) -> 0 | H96: =SUMIF(Q75:Q95,"0102",H75:H95) -> 0 | J96: =SUMIF(Q75:Q95,"0102",J75:J95) -> 2116006 | L96: =SUMIF(Q75:Q95,"0102",L75:L95) -> 2116006 | N96: TOTAL
A97: 0103 『건설폐기물처리비』 | Q97: 0103
A98: 건설폐기물처리비 | B98: 건설폐재류 | C98: TON | D98: 0.62 | E98: =TRUNC(단가대비표!O20,0) -> 0 | F98: =TRUNC(E98*D98, 0) -> 0 | G98: =TRUNC(단가대비표!P20,0) -> 0 | H98: =TRUNC(G98*D98, 0) -> 0 | I98: =TRUNC(단가대비표!V20,0) -> 450000 | J98: =TRUNC(I98*D98, 0) -> 279000 | K98: =TRUNC(E98+G98+I98, 0) -> 450000 | L98: =TRUNC(F98+H98+J98, 0) -> 279000 | N98: 51E482230F57CD44CD08156A5D3F9BEA864C8A | Q98: 0103 | R98: F | S98: F | T98: T | AU98: 010351E482230F57CD44CD08156A5D3F9BEA864C8A | AV98: 45
A99: 건설폐기물처리비 | B99: 혼합건설폐기물 | C99: TON | D99: 11.64 | E99: =TRUNC(단가대비표!O21,0) -> 0 | F99: =TRUNC(E99*D99, 0) -> 0 | G99: =TRUNC(단가대비표!P21,0) -> 0 | H99: =TRUNC(G99*D99, 0) -> 0 | I99: =TRUNC(단가대비표!V21,0) -> 450000 | J99: =TRUNC(I99*D99, 0) -> 5238000 | K99: =TRUNC(E99+G99+I99, 0) -> 450000 | L99: =TRUNC(F99+H99+J99, 0) -> 5238000 | N99: 51E482230F57CD44CD08156A5D3F9BEA864C8C | Q99: 0103 | R99: F | S99: F | T99: T | AU99: 010351E482230F57CD44CD08156A5D3F9BEA864C8C | AV99: 11
A100: 건설폐재류 운반비 | B100: 15톤 덤프트럭, 30km | C100: TON | D100: 0.62 | E100: =TRUNC(단가대비표!O24,0) -> 0 | F100: =TRUNC(E100*D100, 0) -> 0 | G100: =TRUNC(단가대비표!P24,0) -> 0 | H100: =TRUNC(G100*D100, 0) -> 0 | I100: =TRUNC(단가대비표!V24,0) -> 19700 | J100: =TRUNC(I100*D100, 0) -> 12214 | K100: =TRUNC(E100+G100+I100, 0) -> 19700 | L100: =TRUNC(F100+H100+J100, 0) -> 12214 | N100: 51E482230F57CD44CD08156A5D3EF2B279D4A0 | Q100: 0103 | R100: F | S100: F | T100: T | AU100: 010351E482230F57CD44CD08156A5D3EF2B279D4A0 | AV100: 47
A101: 혼합건설폐기물 운반비 | B101: 16톤 암롤트럭, 30km | C101: TON | D101: 11.64 | E101: =TRUNC(단가대비표!O25,0) -> 0 | F101: =TRUNC(E101*D101, 0) -> 0 | G101: =TRUNC(단가대비표!P25,0) -> 0 | H101: =TRUNC(G101*D101, 0) -> 0 | I101: =TRUNC(단가대비표!V25,0) -> 74930 | J101: =TRUNC(I101*D101, 0) -> 872185 | K101: =TRUNC(E101+G101+I101, 0) -> 74930 | L101: =TRUNC(F101+H101+J101, 0) -> 872185 | N101: 51E482230F57CD44CD08156A5D3EF2B279D39A | Q101: 0103 | R101: F | S101: F | T101: T | AU101: 010351E482230F57CD44CD08156A5D3EF2B279D39A | AV101: 13
Q102: 0103
Q103: 0103
Q104: 0103
Q105: 0103
Q106: 0103
Q107: 0103
Q108: 0103
Q109: 0103
Q110: 0103
Q111: 0103
Q112: 0103
Q113: 0103
... Q118: 0103
A119: [ 합 계 ] | F119: =SUMIF(Q98:Q118,"0103",F98:F118) -> 0 | H119: =SUMIF(Q98:Q118,"0103",H98:H118) -> 0 | J119: =SUMIF(Q98:Q118,"0103",J98:J118) -> 6401399 | L119: =SUMIF(Q98:Q118,"0103",L98:L118) -> 6401399 | N119: TOTAL
A120: 0104 『철 거 고 재』 | Q120: 0104
A121: 철거고재 | B121: 고철 | C121: kg | D121: -6949.61 | E121: =TRUNC(단가대비표!O11,0) -> 360 | F121: =TRUNC(E121*D121, 0) -> -2501859 | G121: =TRUNC(단가대비표!P11,0) -> 0 | H121: =TRUNC(G121*D121, 0) -> 0 | I121: =TRUNC(단가대비표!V11,0) -> 0 | J121: =TRUNC(I121*D121, 0) -> 0 | K121: =TRUNC(E121+G121+I121, 0) -> 360 | L121: =TRUNC(F121+H121+J121, 0) -> -2501859 | N121: 56AC8213F55B0BA4CF180607A8A2FD2B42BCB9 | Q121: 0104 | R121: F | S121: F | T121: T | AU121: 010456AC8213F55B0BA4CF180607A8A2FD2B42BCB9 | AV121: 15
A122: 철거고재 | B122: 알루미늄 | C122: kg | D122: -309.4 | E122: =TRUNC(단가대비표!O12,0) -> 3500 | F122: =TRUNC(E122*D122, 0) -> -1082900 | G122: =TRUNC(단가대비표!P12,0) -> 0 | H122: =TRUNC(G122*D122, 0) -> 0 | I122: =TRUNC(단가대비표!V12,0) -> 0 | J122: =TRUNC(I122*D122, 0) -> 0 | K122: =TRUNC(E122+G122+I122, 0) -> 3500 | L122: =TRUNC(F122+H122+J122, 0) -> -1082900 | N122: 56AC8213F55B0BA4CF180607A94EE6A72BEF61 | Q122: 0104 | R122: F | S122: F | T122: T | AU122: 010456AC8213F55B0BA4CF180607A94EE6A72BEF61 | AV122: 16
Q123: 0104
...

Sheet 일위대가목록
B1: 일 위 대 가 목 록
B2: [ 1100고지 습지보호지역 노후탐방로 정비사업 ]
A3: 코 드 | B3: 품 명 | C3: 규 격 | D3: 단위 | E3: 재 료 비 | F3: 노 무 비 | G3: 경 비 | H3: 합 계 | I3: 번 호 | J3: 비 고 | K3: 노임계수 | L3: 할증 | M3: 품셈개요 | N3: 장비일위
A4: 51A942C36257E5F4CC28023CE1671B | B4: 합성목재데크 철거 | D4: M2 | E4: =일위대가!F9 -> 0 | F4: =일위대가!H9 -> 11054 | G4: =일위대가!J9 -> 221 | H4: =E4+F4+G4 -> 11275 | I4: 호표 1 | M4: 건축 4-3-4의 20%
A5: 51A8C2130C507B641118163F8D773F | B5: 콘크리트구조물 헐기(인력) | C5: 소형브레이커(전기식), 무근, 2.7m3/일당 | D5: M3 | E5: =일위대가!F16 -> 2281 | F5: =일위대가!H16 -> 228171 | G5: =일위대가!J16 -> 2033 | H5: =E5+F5+G5 -> 232485 | I5: 호표 2 | M5: 유지 3-1-1
A6: 51A942C36257E5F4CC28023CE1671D | B6: 합성목재데크 설치 | C6: T25*W150, 솔리드, 평구조 | D6: M2 | E6: =일위대가!F24 -> 106848 | F6: =일위대가!H24 -> 56002 | G6: =일위대가!J24 -> 1120 | H6: =E6+F6+G6 -> 163970 | I6: 호표 3 | M6: 건축 4-3-4
A7: 51A9C2F3CE5198F42118F5F345CAB0 | B7: 합성목재난간 철거 후 재설치 | C7: 속기둥 미철거, 기둥간격 2m, 가로대 4개, 브라켓형 | D7: M | E7: =일위대가!F29 -> 0 | F7: =일위대가!H29 -> 19269 | G7: =일위대가!J29 -> 0 | H7: =E7+F7+G7 -> 19269 | I7: 호표 4 | M7: 공2-8-10,금액준용
A8: 51A932F33D510884DBF8C83EB4F84D | B8: 재료 및 폐기물 소운반 | C8: 100M 운반 기준 | D8: TON | E8: =일위대가!F33 -> 0 | F8: =일위대가!H33 -> 0 | G8: =일위대가!J33 -> 91000 | H8: =E8+F8+G8 -> 91000 | I8: 호표 5 | M8: 삭제 토목 9-3
A9: 51A932F33D510884DBF8C83EB4F848 | B9: 콘크리트기초 설치 | C9: 300*300*300 | D9: EA | E9: =일위대가!F39 -> 10321 | F9: =일위대가!H39 -> 25594 | G9: =일위대가!J39 -> 154 | H9: =E9+F9+G9 -> 36069 | I9: 호표 6 | M9: 삭제 토목 9-3
A10: 51A932F33D510884DBF8C83EB4F7A6 | B10: 아연도각관 설치 | C10: 100*100*2.3T | D10: M | E10: =일위대가!F45 -> 19829 | F10: =일위대가!H45 -> 37029 | G10: =일위대가!J45 -> 1848 | H10: =E10+F10+G10 -> 58706 | I10: 호표 7 | M10: 삭제 토목 9-3
A11: 51A932F33D510884DBF8C83EB4F7A3 | B11: 아연도각관 설치 | C11: 100*50*2.1T | D11: M | E11: =일위대가!F51 -> 13574 | F11: =일위대가!H51 -> 25197 | G11: =일위대가!J51 -> 1257 | H11: =E11+F11+G11 -> 40028 | I11: 호표 8 | M11: 삭제 토목 9-3
A12: 51A932F33D510884DBF8C83EB4F680 | B12: 아연도각관 설치 화스너 설치 | C12: ㄱ-75*75*3T | D12: EA | E12: =일위대가!F59 -> 1153 | F12: =일위대가!H59 -> 6504 | G12: =일위대가!J59 -> 277 | H12: =E12+F12+G12 -> 7934 | I12: 호표 9 | M12: 삭제 토목 9-3
A13: 56BD0213665E5E84F148F407D3E83AF8A25F4779 | B13: 소형브레이커(전기식) | C13: 1.5kw | D13: HR | E13: =일위대가!F63 -> 0 | F13: =일위대가!H63 -> 0 | G13: =일위대가!J63 -> 343 | H13: =E13+F13+G13 -> 343 | I13: 호표 10 | M13: 공통 8-3(5220) | N13: T
A14: 51A99243905577A46B08A0BC62ECA7 | B14: 합판거푸집 설치 및 해체 | C14: 간단 6회, 수직고 7m까지 | D14: M2 | E14: =일위대가!F68 -> 15527 | F14: =일위대가!H68 -> 34461 | G14: =일위대가!J68 -> 344 | H14: =E14+F14+G14 -> 50332 | I14: 호표 11 | M14: 공통 6-3-1
A15: 51A99243E8566AC45BF82ACDD3C9D6 | B15: 배합설계 재료 | C15: 골재 25mm, 배합종류 (B) | D15: M3 | E15: =일위대가!F74 -> 121255 | F15: =일위대가!H74 -> 0 | G15: =일위대가!J74 -> 0 | H15: =E15+F15+G15 -> 121255 | I15: 호표 12 | M15: 토목 6-1-1.1
A16: 51A99243E8566AC476982A80AB3143 | B16: 콘크리트 인력비빔 타설 | C16: 무근구조물 | D16: M3 | E16: =일위대가!F79 -> 0 | F16: =일위대가!H79 -> 373604 | G16: =일위대가!J79 -> 0 | H16: =E16+F16+G16 -> 373604 | I16: 호표 13 | M16: 공통 6-1-2
A17: 51A99243905577A46B184726B421E2 | B17: 합판거푸집 - 자재비 | C17: 6회 | D17: M2 | E17: =일위대가!F86 -> 15527 | F17: =일위대가!H86 -> 0 | G17: =일위대가!J86 -> 0 | H17: =E17+F17+G17 -> 15527 | I17: 호표 14 | M17: 공통 6-3-1
A18: 51A99243905577A46B184726B420DC | B18: 합판거푸집 - 인력투입 | C18: 간단, 수직고 7m까지 | D18: M2 | E18: =일위대가!F92 -> 0 | F18: =일위대가!H92 -> 34461 | G18: =일위대가!J92 -> 344 | H18: =E18+F18+G18 -> 34805 | I18: 호표 15 | M18: 공통 6-3-1
A19: 51A97273605D95D4A1980EBDF967D6 | B19: 잡철물 제작 및 설치 | C19: 현장제작 설치, 일반철재 | D19: kg | E19: =일위대가!F101 -> 159 | F19: =일위대가!H101 -> 5328 | G19: =일위대가!J101 -> 266 | H19: =E19+F19+G19 -> 5753 | I19: 호표 16 | M19: 건축 8-3-1
A20: 51A9727329547A2459A8DAA63C872B | B20: 인서트(Insert) 설치(콘크리트) | C20: 세트앵커, M10*L75mm | D20: 개 | E20: =일위대가!F106 -> 164 | F20: =일위대가!H106 -> 2311 | G20: =일위대가!J106 -> 92 | H20: =E20+F20+G20 -> 2567 | I20: 호표 17 | M20: 건축 8-1-4
A21: 51A9727329547A2459A8DAA63F59DC | B21: 인서트(Insert) 설치 | C21: 설치대상 - 콘크리트 | D21: 개 | E21: =일위대가!F111 -> 0 | F21: =일위대가!H111 -> 2311 | G21: =일위대가!J111 -> 92 | H21: =E21+F21+G21 -> 2403 | I21: 호표 18 | M21: 건축 8-1-4
A22: 56BD0213665E5904C7684E375FF077B90D5A1469 | B22: 카고트럭 | C22: 8ton | D22: HR | E22: =일위대가!F118 -> 37269 | F22: =일위대가!H118 -> 59020 | G22: =일위대가!J118 -> 10613 | H22: =E22+F22+G22 -> 106902 | I22: 호표 19 | K22: A | M22: 공통 8-3,4(2702) | N22: T

Sheet 일위대가
A1: 일 위 대 가
A2: [ 1100고지 습지보호지역 노후탐방로 정비사업 ]
A3: 품 명 | B3: 규 격 | C3: 단위 | D3: 수량 | E3: 재 료 비 | G3: 노 무 비 | I3: 경 비 | K3: 합 계 | M3: 비 고 | N3: 일위대가 | O3: 품목코드 | P3: 일위 | Q3: 단산 | R3: 자재 | S3: 손료적용 | T3: 손료저장 | U3: 적용율 | V3: JUK1 | W3: JUK2 | X3: JUK3 | Y3: JUK4 | Z3: JUK5 | AA3: JUK6 | AB3: JUK7 | AC3: JUK8 | AD3: JUK9 | AE3: JUK10 | AF3: JUK11 | AG3: JUK12 | AH3: JUK13 | AI3: JUK14 | AJ3: JUK15 | AK3: JUK16 | AL3: JUK17 | AM3: JUK18 | AN3: JUK19 | AO3: JUK20 | AP3: 할증적용 | AQ3: 할증저장 | AR3: 할증율 | AS3: HAL1 | AT3: HAL2 | AU3: HAL3 | AV3: 자재구분 | AW3: 일위대가+자재 | AX3: 장비일위 | AY3: 설정 | AZ3: 할증체크
E4: 단 가 | F4: 금 액 | G4: 단 가 | H4: 금 액 | I4: 단 가 | J4: 금 액 | K4: 단 가 | L4: 금 액
A5: 합성목재데크 철거 M2 건축 4-3-4의 20% ( 호표 1 ) | N5: 51A942C36257E5F4CC28023CE1671B
A6: 건축목공 | B6: 일반공사 직종 | C6: 인 | D6: 0.033 | E6: =단가대비표!O34 -> 0 | F6: =TRUNC(E6*D6,1) -> 0 | G6: =단가대비표!P34 -> 277642 | H6: =TRUNC(G6*D6,1) -> 9162.1 | I6: =단가대비표!V34 -> 0 | J6: =TRUNC(I6*D6,1) -> 0 | K6: =TRUNC(E6+G6+I6,1) -> 277642 | L6: =TRUNC(F6+H6+J6,1) -> 9162.1 | N6: 51A942C36257E5F4CC28023CE1671B | O6: 51719253125C245445081F4DD68F06458909E0 | P6: F | Q6: F | R6: T | V6: 1 | AW6: 51A942C36257E5F4CC28023CE1671B51719253125C245445081F4DD68F06458909E0
A7: 보통인부 | B7: 일반공사 직종 | C7: 인 | D7: 0.011 | E7: =단가대비표!O27 -> 0 | F7: =TRUNC(E7*D7,1) -> 0 | G7: =단가대비표!P27 -> 172068 | H7: =TRUNC(G7*D7,1) -> 1892.7 | I7: =단가대비표!V27 -> 0 | J7: =TRUNC(I7*D7,1) -> 0 | K7: =TRUNC(E7+G7+I7,1) -> 172068 | L7: =TRUNC(F7+H7+J7,1) -> 1892.7 | N7: 51A942C36257E5F4CC28023CE1671B | O7: 51719253125C245445081F4DD68F0645890B92 | P7: F | Q7: F | R7: T | V7: 1 | AW7: 51A942C36257E5F4CC28023CE1671B51719253125C245445081F4DD68F0645890B92
A8: 공구손료 | B8: 인력품의 2% | C8: 식 | D8: 1 | E8: 0 | F8: =TRUNC(E8*D8,1) -> 0 | G8: 0 | H8: =TRUNC(G8*D8,1) -> 0 | I8: =TRUNC(SUMIF(V6:V8, RIGHTB(O8, 1), H6:H8)*U8, 2) -> 221.09 | J8: =TRUNC(I8*D8,1) -> 221 | K8: =TRUNC(E8+G8+I8,1) -> 221 | L8: =TRUNC(F8+H8+J8,1) -> 221 | N8: 51A942C36257E5F4CC28023CE1671B | O8: 50B082A32352B3B46428C94F24D3001 | P8: F | Q8: F | R8: F | S8: 1 | T8: 2 | U8: 0.02 | AW8: 51A942C36257E5F4CC28023CE1671B50B082A32352B3B46428C94F24D3001
A9: [ 합 계 ] | F9: =TRUNC(SUMIF(N6:N8, N5, F6:F8),0) -> 0 | H9: =TRUNC(SUMIF(N6:N8, N5, H6:H8),0) -> 11054 | J9: =TRUNC(SUMIF(N6:N8, N5, J6:J8),0) -> 221 | L9: =F9+H9+J9 -> 11275 | N9: TOTAL | O9: TOTAL
A11: 콘크리트구조물 헐기(인력) 소형브레이커(전기식), 무근, 2.7m3/일당 M3 유지 3-1-1 ( 호표 2 ) | N11: 51A8C2130C507B641118163F8D773F
A12: 착암공 | B12: 일반공사 직종 | C12: 인 | D12: 0.74 | E12: =단가대비표!O33 -> 0 | F12: =TRUNC(E12*D12,1) -> 0 | G12: =단가대비표!P33 -> 222306 | H12: =TRUNC(G12*D12,1) -> 164506.4 | I12: =단가대비표!V33 -> 0 | J12: =TRUNC(I12*D12,1) -> 0 | K12: =TRUNC(E12+G12+I12,1) -> 222306 | L12: =TRUNC(F12+H12+J12,1) -> 164506.4 | N12: 51A8C2130C507B641118163F8D773F | O12: 51719253125C245445081F4DD68F0645890A8F | P12: F | Q12: F | R12: T | V12: 1 | AW12: 51A8C2130C507B641118163F8D773F51719253125C245445081F4DD68F0645890A8F
A13: 보통인부 | B13: 일반공사 직종 | C13: 인 | D13: 0.37 | E13: =단가대비표!O27 -> 0 | F13: =TRUNC(E13*D13,1) -> 0 | G13: =단가대비표!P27 -> 172068 | H13: =TRUNC(G13*D13,1) -> 63665.1 | I13: =단가대비표!V27 -> 0 | J13: =TRUNC(I13*D13,1) -> 0 | K13: =TRUNC(E13+G13+I13,1) -> 172068 | L13: =TRUNC(F13+H13+J13,1) -> 63665.1 | N13: 51A8C2130C507B641118163F8D773F | O13: 51719253125C245445081F4DD68F0645890B92 | P13: F | Q13: F | R13: T | V13: 1 | AW13: 51A8C2130C507B641118163F8D773F51719253125C245445081F4DD68F0645890B92
A14: 소형브레이커(전기식) | B14: 1.5kw | C14: HR | D14: 5.93 | E14: =일위대가목록!E13 -> 0 | F14: =TRUNC(E14*D14,1) -> 0 | G14: =일위대가목록!F13 -> 0 | H14: =TRUNC(G14*D14,1) -> 0 | I14: =일위대가목록!G13 -> 343 | J14: =TRUNC(I14*D14,1) -> 2033.9 | K14: =TRUNC(E14+G14+I14,1) -> 343 | L14: =TRUNC(F14+H14+J14,1) -> 2033.9 | M14: 호표 10 | N14: 51A8C2130C507B641118163F8D773F | O14: 56BD0213665E5E84F148F407D3E83AF8A25F4779 | P14: T | Q14: F | R14: F | AW14: 51A8C2130C507B641118163F8D773F56BD0213665E5E84F148F407D3E83AF8A25F4779
A15: 잡재료 | B15: 인력품의 1% | C15: 식 | D15: 1 | E15: =TRUNC(SUMIF(V12:V15, RIGHTB(O15, 1), H12:H15)*U15, 2) -> 2281.71 | F15: =TRUNC(E15*D15,1) -> 2281.7 | G15: 0 | H15: =TRUNC(G15*D15,1) -> 0 | I15: 0 | J15: =TRUNC(I15*D15,1) -> 0 | K15: =TRUNC(E15+G15+I15,1) -> 2281.7 | L15: =TRUNC(F15+H15+J15,1) -> 2281.7 | N15: 51A8C2130C507B641118163F8D773F | O15: 50B082A32352B3B46428C94F24D3001 | P15: F | Q15: F | R15: F | S15: 1 | T15: 0 | U15: 0.01 | AW15: 51A8C2130C507B641118163F8D773F50B082A32352B3B46428C94F24D3001
A16: [ 합 계 ] | F16: =TRUNC(SUMIF(N12:N15, N11, F12:F15),0) -> 2281 | H16: =TRUNC(SUMIF(N12:N15, N11, H12:H15),0) -> 228171 | J16: =TRUNC(SUMIF(N12:N15, N11, J12:J15),0) -> 2033 | L16: =F16+H16+J16 -> 232485 | N16: TOTAL | O16: TOTAL
A18: 합성목재데크 설치 T25*W150, 솔리드, 평구조 M2 건축 4-3-4 ( 호표 3 ) | N18: 51A942C36257E5F4CC28023CE1671D
A19: 합성목재데크 | B19: T25, 솔리드 | C19: M2 | D19: 1.05 | E19: =단가대비표!O39 -> 96000 | F19: =TRUNC(E19*D19,1) -> 100800 | G19: =단가대비표!P39 -> 0 | H19: =TRUNC(G19*D19,1) -> 0 | I19: =단가대비표!V39 -> 0 | J19: =TRUNC(I19*D19,1) -> 0 | K19: =TRUNC(E19+G19+I19,1) -> 96000 | L19: =TRUNC(F19+H19+J19,1) -> 100800 | N19: 51A942C36257E5F4CC28023CE1671D | O19: 50114213B7510B14513861737717ECA0F12EA1 | P19: F | Q19: F | R19: T | V19: 1 | AW19: 51A942C36257E5F4CC28023CE1671D50114213B7510B14513861737717ECA0F12EA1
A20: 잡재료 및 소모재료(데크 연결용 클립, 고정피스 등 | B20: 주재료비의 6% | C20: 식 | D20: 1 | E20: =TRUNC(SUMIF(V19:V23, RIGHTB(O20, 1), F19:F23)*U20, 2) -> 6048 | F20: =TRUNC(E20*D20,1) -> 6048 | G20: 0 | H20: =TRUNC(G20*D20,1) -> 0 | I20: 0 | J20: =TRUNC(I20*D20,1) -> 0 | K20: =TRUNC(E20+G20+I20,1) -> 6048 | L20: =TRUNC(F20+H20+J20,1) -> 6048 | N20: 51A942C36257E5F4CC28023CE1671D | O20: 50B082A32352B3B46428C94F24D3001 | P20: F | Q20: F | R20: F | S20: 0 | T20: 0 | U20: 0.06 | AW20: 51A942C36257E5F4CC28023CE1671D50B082A32352B3B46428C94F24D0002
A21: 건축목공 | B21: 일반공사 직종 | C21: 인 | D21: 0.167 | E21: =단가대비표!O34 -> 0 | F21: =TRUNC(E21*D21,1) -> 0 | G21: =단가대비표!P34 -> 277642 | H21: =TRUNC(G21*D21,1) -> 46366.2 | I21: =단가대비표!V34 -> 0 | J21: =TRUNC(I21*D21,1) -> 0 | K21: =TRUNC(E21+G21+I21,1) -> 277642 | L21: =TRUNC(F21+H21+J21,1) -> 46366.2 | N21: 51A942C36257E5F4CC28023CE1671D | O21: 51719253125C245445081F4DD68F06458909E0 | P21: F | Q21: F | R21: T | W21: 2 | AW21: 51A942C36257E5F4CC28023CE1671D51719253125C245445081F4DD68F06458909E0
A22: 보통인부 | B22: 일반공사 직종 | C22: 인 | D22: 0.056 | E22: =단가대비표!O27 -> 0 | F22: =TRUNC(E22*D22,1) -> 0 | G22: =단가대비표!P27 -> 172068 | H22: =TRUNC(G22*D22,1) -> 9635.8 | I22: =단가대비표!V27 -> 0 | J22: =TRUNC(I22*D22,1) -> 0 | K22: =TRUNC(E22+G22+I22,1) -> 172068 | L22: =TRUNC(F22+H22+J22,1) -> 9635.8 | N22: 51A942C36257E5F4CC28023CE1671D | O22: 51719253125C245445081F4DD68F0645890B92 | P22: F | Q22: F | R22: T | W22: 2 | AW22: 51A942C36257E5F4CC28023CE1671D51719253125C245445081F4DD68F0645890B92
A23: 공구손료 | B23: 인력품의 2% | C23: 식 | D23: 1 | E23: 0 | F23: =TRUNC(E23*D23,1) -> 0 | G23: 0 | H23: =TRUNC(G23*D23,1) -> 0 | I23: =TRUNC(SUMIF(W19:W23, RIGHTB(O23, 1), H19:H23)*U23, 2) -> 1120.04 | J23: =TRUNC(I23*D23,1) -> 1120 | K23: =TRUNC(E23+G23+I23,1) -> 1120 | L23: =TRUNC(F23+H23+J23,1) -> 1120 | N23: 51A942C36257E5F4CC28023CE1671D | O23: 50B082A32352B3B46428C94F24D0002 | P23: F | Q23: F | R23: F | S23: 1 | T23: 2 | U23: 0.02 | AW23: 51A942C36257E5F4CC28023CE1671D50B082A32352B3B46428C94F24D3001
A24: [ 합 계 ] | F24: =TRUNC(SUMIF(N19:N23, N18, F19:F23),0) -> 106848 | H24: =TRUNC(SUMIF(N19:N23, N18, H19:H23),0) -> 56002 | J24: =TRUNC(SUMIF(N19:N23, N18, J19:J23),0) -> 1120 | L24: =F24+H24+J24 -> 163970 | N24: TOTAL | O24: TOTAL
A26: 합성목재난간 철거 후 재설치 속기둥 미철거, 기둥간격 2m, 가로대 4개, 브라켓형 M 공2-8-10,금액준용 ( 호표 4 ) | N26: 51A9C2F3CE5198F42118F5F345CAB0
A27: 특별인부 | B27: 일반공사 직종 | C27: 인 | D27: 0.07 | E27: =단가대비표!O28 -> 0 | F27: =TRUNC(E27*D27,1) -> 0 | G27: =단가대비표!P28 -> 226122 | H27: =TRUNC(G27*D27,1) -> 15828.5 | I27: =단가대비표!V28 -> 0 | J27: =TRUNC(I27*D27,1) -> 0 | K27: =TRUNC(E27+G27+I27,1) -> 226122 | L27: =TRUNC(F27+H27+J27,1) -> 15828.5 | N27: 51A9C2F3CE5198F42118F5F345CAB0 | O27: 51719253125C245445081F4DD68F0645890B93 | P27: F | Q27: F | R27: T | AW27: 51A9C2F3CE5198F42118F5F345CAB051719253125C245445081F4DD68F0645890B93
A28: 보통인부 | B28: 일반공사 직종 | C28: 인 | D28: 0.02 | E28: =단가대비표!O27 -> 0 | F28: =TRUNC(E28*D28,1) -> 0 | G28: =단가대비표!P27 -> 172068 | H28: =TRUNC(G28*D28,1) -> 3441.3 | I28: =단가대비표!V27 -> 0 | J28: =TRUNC(I28*D28,1) -> 0 | K28: =TRUNC(E28+G28+I28,1) -> 172068 | L28: =TRUNC(F28+H28+J28,1) -> 3441.3 | N28: 51A9C2F3CE5198F42118F5F345CAB0 | O28: 51719253125C245445081F4DD68F0645890B92 | P28: F | Q28: F | R28: T | AW28: 51A9C2F3CE5198F42118F5F345CAB051719253125C245445081F4DD68F0645890B92
A29: [ 합 계 ] | F29: =TRUNC(SUMIF(N27:N28, N26, F27:F28),0) -> 0 | H29: =TRUNC(SUMIF(N27:N28, N26, H27:H28),0) -> 19269 | J29: =TRUNC(SUMIF(N27:N28, N26, J27:J28),0) -> 0 | L29: =F29+H29+J29 -> 19269 | N29: TOTAL | O29: TOTAL
A31: 재료 및 폐기물 소운반 100M 운반 기준 TON 삭제 토목 9-3 ( 호표 5 ) | N31: 51A932F33D510884DBF8C83EB4F84D
A32: 인력 소운반 | B32: L=100m | C32: kg | D32: 1000 | E32: =단가산출목록!E5 -> 0 | F32: =TRUNC(E32*D32,1) -> 0 | G32: =단가산출목록!F5 -> 0 | H32: =TRUNC(G32*D32,1) -> 0 | I32: =단가산출목록!G5 -> 91 | J32: =TRUNC(I32*D32,1) -> 91000 | K32: =TRUNC(E32+G32+I32,1) -> 91 | L32: =TRUNC(F32+H32+J32,1) -> 91000 | M32: 산근 2 | N32: 51A932F33D510884DBF8C83EB4F84D | O32: 518542136852B4E46468EDF79F1312 | P32: F | Q32: T | R32: F | AW32: 51A932F33D510884DBF8C83EB4F84D518542136852B4E46468EDF79F1312
A33: [ 합 계 ] | F33: =TRUNC(SUMIF(N32:N32, N31, F32:F32),0) -> 0 | H33: =TRUNC(SUMIF(N32:N32, N31, H32:H32),0) -> 0 | J33: =TRUNC(SUMIF(N32:N32, N31, J32:J32),0) -> 91000 | L33: =F33+H33+J33 -> 91000 | N33: TOTAL | O33: TOTAL
A35: 콘크리트기초 설치 300*300*300 EA 삭제 토목 9-3 ( 호표 6 ) | N35: 51A932F33D510884DBF8C83EB4F848
A36: 합판거푸집 설치 및 해체 | B36: 간단 6회, 수직고 7m까지 | C36: M2 | D36: 0.45 | E36: =일위대가목록!E14 -> 15527 | F36: =TRUNC(E36*D36,1) -> 6987.1 | G36: =일위대가목록!F14 -> 34461 | H36: =TRUNC(G36*D36,1) -> 15507.4 | I36: =일위대가목록!G14 -> 344 | J36: =TRUNC(I36*D36,1) -> 154.8 | K36: =TRUNC(E36+G36+I36,1) -> 50332 | L36: =TRUNC(F36+H36+J36,1) -> 22649.3 | M36: 호표 11 | N36: 51A932F33D510884DBF8C83EB4F848 | O36: 51A99243905577A46B08A0BC62ECA7 | P36: T | Q36: F | R36: F | AW36: 51A932F33D510884DBF8C83EB4F84851A99243905577A46B08A0BC62ECA7
A37: 배합설계 재료 | B37: 골재 25mm, 배합종류 (B) | C37: M3 | D37: 0.0275 | E37: =일위대가목록!E15 -> 121255 | F37: =TRUNC(E37*D37,1) -> 3334.5 | G37: =일위대가목록!F15 -> 0 | H37: =TRUNC(G37*D37,1) -> 0 | I37: =일위대가목록!G15 -> 0 | J37: =TRUNC(I37*D37,1) -> 0 | K37: =TRUNC(E37+G37+I37,1) -> 121255 | L37: =TRUNC(F37+H37+J37,1) -> 3334.5 | M37: 호표 12 | N37: 51A932F33D510884DBF8C83EB4F848 | O37: 51A99243E8566AC45BF82ACDD3C9D6 | P37: T | Q37: F | R37: F | AW37: 51A932F33D510884DBF8C83EB4F84851A99243E8566AC45BF82ACDD3C9D6
A38: 콘크리트 인력비빔 타설 | B38: 무근구조물 | C38: M3 | D38: 0.027 | E38: =일위대가목록!E16 -> 0 | F38: =TRUNC(E38*D38,1) -> 0 | G38: =일위대가목록!F16 -> 373604 | H38: =TRUNC(G38*D38,1) -> 10087.3 | I38: =일위대가목록!G16 -> 0 | J38: =TRUNC(I38*D38,1) -> 0 | K38: =TRUNC(E38+G38+I38,1) -> 373604 | L38: =TRUNC(F38+H38+J38,1) -> 10087.3 | M38: 호표 13 | N38: 51A932F33D510884DBF8C83EB4F848 | O38: 51A99243E8566AC476982A80AB3143 | P38: T | Q38: F | R38: F | AW38: 51A932F33D510884DBF8C83EB4F84851A99243E8566AC476982A80AB3143
A39: [ 합 계 ] | F39: =TRUNC(SUMIF(N36:N38, N35, F36:F38),0) -> 10321 | H39: =TRUNC(SUMIF(N36:N38, N35, H36:H38),0) -> 25594 | J39: =TRUNC(SUMIF(N36:N38, N35, J36:J38),0) -> 154 | L39: =F39+H39+J39 -> 36069 | N39: TOTAL | O39: TOTAL
A41: 아연도각관 설치 100*100*2.3T M 삭제 토목 9-3 ( 호표 7 ) | N41: 51A932F33D510884DBF8C83EB4F7A6
A42: 아연도각관 | B42: 100*100*t2.3mm, 6.95kg/m | C42: M | D42: 1.05 | E42: =단가대비표!O19 -> 17915.73 | F42: =TRUNC(E42*D42,1) -> 18811.5 | G42: =단가대비표!P19 -> 0 | H42: =TRUNC(G42*D42,1) -> 0 | I42: =단가대비표!V19 -> 0 | J42: =TRUNC(I42*D42,1) -> 0 | K42: =TRUNC(E42+G42+I42,1) -> 17915.7 | L42: =TRUNC(F42+H42+J42,1) -> 18811.5 | N42: 51A932F33D510884DBF8C83EB4F7A6 | O42: 56F4B273E25BD8845AE80A3800BC83EAC93853 | P42: F | Q42: F | R42: T | AW42: 51A932F33D510884DBF8C83EB4F7A656F4B273E25BD8845AE80A3800BC83EAC93853
A43: 잡철물 제작 및 설치 | B43: 현장제작 설치, 일반철재 | C43: kg | D43: 6.95 | E43: =일위대가목록!E19 -> 159 | F43: =TRUNC(E43*D43,1) -> 1105 | G43: =일위대가목록!F19 -> 5328 | H43: =TRUNC(G43*D43,1) -> 37029.6 | I43: =일위대가목록!G19 -> 266 | J43: =TRUNC(I43*D43,1) -> 1848.7 | K43: =TRUNC(E43+G43+I43,1) -> 5753 | L43: =TRUNC(F43+H43+J43,1) -> 39983.3 | M43: 호표 16 | N43: 51A932F33D510884DBF8C83EB4F7A6 | O43: 51A97273605D95D4A1980EBDF967D6 | P43: T | Q43: F | R43: F | AW43: 51A932F33D510884DBF8C83EB4F7A651A97273605D95D4A1980EBDF967D6
A44: 철강설 | B44: 철강설, 고철, 작업설부산물 | C44: kg | D44: -0.2433 | E44: =단가대비표!O10 -> 360 | F44: =TRUNC(E44*D44,1) -> -87.5 | G44: =단가대비표!P10 -> 0 | H44: =TRUNC(G44*D44,1) -> 0 | I44: =단가대비표!V10 -> 0 | J44: =TRUNC(I44*D44,1) -> 0 | K44: =TRUNC(E44+G44+I44,1) -> 360 | L44: =TRUNC(F44+H44+J44,1) -> -87.5 | M44: 수집상차도 | N44: 51A932F33D510884DBF8C83EB4F7A6 | O44: 56AC8213F55B0BA4CF180607A8A2FD2B42BCB8 | P44: F | Q44: F | R44: T | AW44: 51A932F33D510884DBF8C83EB4F7A656AC8213F55B0BA4CF180607A8A2FD2B42BCB8
A45: [ 합 계 ] | F45: =TRUNC(SUMIF(N42:N44, N41, F42:F44),0) -> 19829 | H45: =TRUNC(SUMIF(N42:N44, N41, H42:H44),0) -> 37029 | J45: =TRUNC(SUMIF(N42:N44, N41, J42:J44),0) -> 1848 | L45: =F45+H45+J45 -> 58706 | N45: TOTAL | O45: TOTAL
A47: 아연도각관 설치 100*50*2.1T M 삭제 토목 9-3 ( 호표 8 ) | N47: 51A932F33D510884DBF8C83EB4F7A3
A48: 아연도각관 | B48: 100*50*t2.1mm, 4.7292kg/m | C48: M | D48: 1.05 | E48: =단가대비표!O18 -> 12268.38 | F48: =TRUNC(E48*D48,1) -> 12881.7 | G48: =단가대비표!P18 -> 0 | H48: =TRUNC(G48*D48,1) -> 0 | I48: =단가대비표!V18 -> 0 | J48: =TRUNC(I48*D48,1) -> 0 | K48: =TRUNC(E48+G48+I48,1) -> 12268.3 | L48: =TRUNC(F48+H48+J48,1) -> 12881.7 | N48: 51A932F33D510884DBF8C83EB4F7A3 | O48: 56F4B273E25BD8845AE80BC26544644F1FF55B | P48: F | Q48: F | R48: T | AW48: 51A932F33D510884DBF8C83EB4F7A356F4B273E25BD8845AE80BC26544644F1FF55B
A49: 잡철물 제작 및 설치 | B49: 현장제작 설치, 일반철재 | C49: kg | D49: 4.7292 | E49: =일위대가목록!E19 -> 159 | F49: =TRUNC(E49*D49,1) -> 751.9 | G49: =일위대가목록!F19 -> 5328 | H49: =TRUNC(G49*D49,1) -> 25197.1 | I49: =일위대가목록!G19 -> 266 | J49: =TRUNC(I49*D49,1) -> 1257.9 | K49: =TRUNC(E49+G49+I49,1) -> 5753 | L49: =TRUNC(F49+H49+J49,1) -> 27206.9 | M49: 호표 16 | N49: 51A932F33D510884DBF8C83EB4F7A3 | O49: 51A97273605D95D4A1980EBDF967D6 | P49: T | Q49: F | R49: F | AW49: 51A932F33D510884DBF8C83EB4F7A351A97273605D95D4A1980EBDF967D6
A50: 철강설 | B50: 철강설, 고철, 작업설부산물 | C50: kg | D50: -0.1655 | E50: =단가대비표!O10 -> 360 | F50: =TRUNC(E50*D50,1) -> -59.5 | G50: =단가대비표!P10 -> 0 | H50: =TRUNC(G50*D50,1) -> 0 | I50: =단가대비표!V10 -> 0 | J50: =TRUNC(I50*D50,1) -> 0 | K50: =TRUNC(E50+G50+I50,1) -> 360 | L50: =TRUNC(F50+H50+J50,1) -> -59.5 | M50: 수집상차도 | N50: 51A932F33D510884DBF8C83EB4F7A3 | O50: 56AC8213F55B0BA4CF180607A8A2FD2B42BCB8 | P50: F | Q50: F | R50: T | AW50: 51A932F33D510884DBF8C83EB4F7A356AC8213F55B0BA4CF180607A8A2FD2B42BCB8
A51: [ 합 계 ] | F51: =TRUNC(SUMIF(N48:N50, N47, F48:F50),0) -> 13574 | H51: =TRUNC(SUMIF(N48:N50, N47, H48:H50),0) -> 25197 | J51: =TRUNC(SUMIF(N48:N50, N47, J48:J50),0) -> 1257 | L51: =F51+H51+J51 -> 40028 | N51: TOTAL | O51: TOTAL
A53: 아연도각관 설치 화스너 설치 ㄱ-75*75*3T EA 삭제 토목 9-3 ( 호표 9 ) | N53: 51A932F33D510884DBF8C83EB4F680
A54: 일반구조용압연강판 | B54: 일반구조용압연강판, 3.0∼4.0mm | C54: kg | D54: 0.3886 | E54: =단가대비표!O13 -> 1011 | F54: =TRUNC(E54*D54,1) -> 392.8 | G54: =단가대비표!P13 -> 0 | H54: =TRUNC(G54*D54,1) -> 0 | I54: =단가대비표!V13 -> 0 | J54: =TRUNC(I54*D54,1) -> 0 | K54: =TRUNC(E54+G54+I54,1) -> 1011 | L54: =TRUNC(F54+H54+J54,1) -> 392.8 | N54: 51A932F33D510884DBF8C83EB4F680 | O54: 5681C2930B55E2B44398EBB0C82946EE6FE886 | P54: F | Q54: F | R54: T | AW54: 51A932F33D510884DBF8C83EB4F6805681C2930B55E2B44398EBB0C82946EE6FE886
A55: 아연도금 | C55: kg | D55: 0.3886 | E55: =단가대비표!O14 -> 980 | F55: =TRUNC(E55*D55,1) -> 380.8 | G55: =단가대비표!P14 -> 0 | H55: =TRUNC(G55*D55,1) -> 0 | I55: =단가대비표!V14 -> 0 | J55: =TRUNC(I55*D55,1) -> 0 | K55: =TRUNC(E55+G55+I55,1) -> 980 | L55: =TRUNC(F55+H55+J55,1) -> 380.8 | N55: 51A932F33D510884DBF8C83EB4F680 | O55: 5681C2930B55E2B43138E8D868F2BA3E23EE6B | P55: F | Q55: F | R55: T | AW55: 51A932F33D510884DBF8C83EB4F6805681C2930B55E2B43138E8D868F2BA3E23EE6B
A56: 잡철물 제작 및 설치 | B56: 현장제작 설치, 일반철재 | C56: kg | D56: 0.3533 | E56: =일위대가목록!E19 -> 159 | F56: =TRUNC(E56*D56,1) -> 56.1 | G56: =일위대가목록!F19 -> 5328 | H56: =TRUNC(G56*D56,1) -> 1882.3 | I56: =일위대가목록!G19 -> 266 | J56: =TRUNC(I56*D56,1) -> 93.9 | K56: =TRUNC(E56+G56+I56,1) -> 5753 | L56: =TRUNC(F56+H56+J56,1) -> 2032.3 | M56: 호표 16 | N56: 51A932F33D510884DBF8C83EB4F680 | O56: 51A97273605D95D4A1980EBDF967D6 | P56: T | Q56: F | R56: F | AW56: 51A932F33D510884DBF8C83EB4F68051A97273605D95D4A1980EBDF967D6
A57: 철강설 | B57: 철강설, 고철, 작업설부산물 | C57: kg | D57: -0.0124 | E57: =단가대비표!O10 -> 360 | F57: =TRUNC(E57*D57,1) -> -4.4 | G57: =단가대비표!P10 -> 0 | H57: =TRUNC(G57*D57,1) -> 0 | I57: =단가대비표!V10 -> 0 | J57: =TRUNC(I57*D57,1) -> 0 | K57: =TRUNC(E57+G57+I57,1) -> 360 | L57: =TRUNC(F57+H57+J57,1) -> -4.4 | M57: 수집상차도 | N57: 51A932F33D510884DBF8C83EB4F680 | O57: 56AC8213F55B0BA4CF180607A8A2FD2B42BCB8 | P57: F | Q57: F | R57: T | AW57: 51A932F33D510884DBF8C83EB4F68056AC8213F55B0BA4CF180607A8A2FD2B42BCB8
A58: 인서트(Insert) 설치(콘크리트) | B58: 세트앵커, M10*L75mm | C58: 개 | D58: 2 | E58: =일위대가목록!E20 -> 164 | F58: =TRUNC(E58*D58,1) -> 328 | G58: =일위대가목록!F20 -> 2311 | H58: =TRUNC(G58*D58,1) -> 4622 | I58: =일위대가목록!G20 -> 92 | J58: =TRUNC(I58*D58,1) -> 184 | K58: =TRUNC(E58+G58+I58,1) -> 2567 | L58: =TRUNC(F58+H58+J58,1) -> 5134 | M58: 호표 17 | N58: 51A932F33D510884DBF8C83EB4F680 | O58: 51A9727329547A2459A8DAA63C872B | P58: T | Q58: F | R58: F | AW58: 51A932F33D510884DBF8C83EB4F68051A9727329547A2459A8DAA63C872B
A59: [ 합 계 ] | F59: =TRUNC(SUMIF(N54:N58, N53, F54:F58),0) -> 1153 | H59: =TRUNC(SUMIF(N54:N58, N53, H54:H58),0) -> 6504 | J59: =TRUNC(SUMIF(N54:N58, N53, J54:J58),0) -> 277 | L59: =F59+H59+J59 -> 7934 | N59: TOTAL | O59: TOTAL
A61: 소형브레이커(전기식) 1.5kw HR 공통 8-3(5220) ( 호표 10 ) | N61: 56BD0213665E5E84F148F407D3E83AF8A25F4779
A62: 소형브레이커(전기식) | B62: 1.5kw | C62: 대 | D62: 0.25 | E62: =단가대비표!O6 -> 0 | F62: =TRUNC(E62*D62,1) -> 0 | G62: =단가대비표!P6 -> 0 | H62: =TRUNC(G62*D62,1) -> 0 | I62: =단가대비표!V6 -> 1375 | J62: =TRUNC(I62*D62,1) -> 343.7 | K62: =TRUNC(E62+G62+I62,1) -> 1375 | L62: =TRUNC(F62+H62+J62,1) -> 343.7 | M62: 천원 | N62: 56BD0213665E5E84F148F407D3E83AF8A25F4779 | O62: 56BD0213665E5E84F148F407D3E83AF8A25F47 | P62: F | Q62: F | R62: T | AW62: 56BD0213665E5E84F148F407D3E83AF8A25F477956BD0213665E5E84F148F407D3E83AF8A25F47
A63: [ 합 계 ] | F63: =TRUNC(SUMIF(N62:N62, N61, F62:F62),0) -> 0 | H63: =TRUNC(SUMIF(N62:N62, N61, H62:H62),0) -> 0 | J63: =TRUNC(SUMIF(N62:N62, N61, J62:J62),0) -> 343 | L63: =F63+H63+J63 -> 343 | N63: TOTAL | O63: TOTAL
A65: 합판거푸집 설치 및 해체 간단 6회, 수직고 7m까지 M2 공통 6-3-1 ( 호표 11 ) | N65: 51A99243905577A46B08A0BC62ECA7
A66: 합판거푸집 - 자재비 | B66: 6회 | C66: M2 | D66: 1 | E66: =일위대가목록!E17 -> 15527 | F66: =TRUNC(E66*D66,1) -> 15527 | G66: =일위대가목록!F17 -> 0 | H66: =TRUNC(G66*D66,1) -> 0 | I66: =일위대가목록!G17 -> 0 | J66: =TRUNC(I66*D66,1) -> 0 | K66: =TRUNC(E66+G66+I66,1) -> 15527 | L66: =TRUNC(F66+H66+J66,1) -> 15527 | M66: 호표 14 | N66: 51A99243905577A46B08A0BC62ECA7 | O66: 51A99243905577A46B184726B421E2 | P66: T | Q66: F | R66: F | AW66: 51A99243905577A46B08A0BC62ECA751A99243905577A46B184726B421E2
A67: 합판거푸집 - 인력투입 | B67: 간단, 수직고 7m까지 | C67: M2 | D67: 1 | E67: =일위대가목록!E18 -> 0 | F67: =TRUNC(E67*D67,1) -> 0 | G67: =일위대가목록!F18 -> 34461 | H67: =TRUNC(G67*D67,1) -> 34461 | I67: =일위대가목록!G18 -> 344 | J67: =TRUNC(I67*D67,1) -> 344 | K67: =TRUNC(E67+G67+I67,1) -> 34805 | L67: =TRUNC(F67+H67+J67,1) -> 34805 | M67: 호표 15 | N67: 51A99243905577A46B08A0BC62ECA7 | O67: 51A99243905577A46B184726B420DC | P67: T | Q67: F | R67: F | AW67: 51A99243905577A46B08A0BC62ECA751A99243905577A46B184726B420DC
A68: [ 합 계 ] | F68: =TRUNC(SUMIF(N66:N67, N65, F66:F67),0) -> 15527 | H68: =TRUNC(SUMIF(N66:N67, N65, H66:H67),0) -> 34461 | J68: =TRUNC(SUMIF(N66:N67, N65, J66:J67),0) -> 344 | L68: =F68+H68+J68 -> 50332 | N68: TOTAL | O68: TOTAL
A70: 배합설계 재료 골재 25mm, 배합종류 (B) M3 토목 6-1-1.1 ( 호표 12 ) | N70: 51A99243E8566AC45BF82ACDD3C9D6
A71: 시멘트 | B71: 제주 | C71: kg | D71: 346 | E71: =단가대비표!O16 -> 202.27 | F71: =TRUNC(E71*D71,1) -> 69985.4 | G71: =단가대비표!P16 -> 0 | H71: =TRUNC(G71*D71,1) -> 0 | I71: =단가대비표!V16 -> 0 | J71: =TRUNC(I71*D71,1) -> 0 | K71: =TRUNC(E71+G71+I71,1) -> 202.2 | L71: =TRUNC(F71+H71+J71,1) -> 69985.4 | M71: 별도 | N71: 51A99243E8566AC45BF82ACDD3C9D6 | O71: 5681C2930B54D8F46D987D438DE35419BFFA51 | P71: F | Q71: F | R71: T | AW71: 51A99243E8566AC45BF82ACDD3C9D65681C2930B54D8F46D987D438DE35419BFFA51
A72: 모래 | B72: 제주 | C72: M3 | D72: 0.5175 | E72: =단가대비표!O8 -> 60000 | F72: =TRUNC(E72*D72,1) -> 31050 | G72: =단가대비표!P8 -> 0 | H72: =TRUNC(G72*D72,1) -> 0 | I72: =단가대비표!V8 -> 0 | J72: =TRUNC(I72*D72,1) -> 0 | K72: =TRUNC(E72+G72+I72,1) -> 60000 | L72: =TRUNC(F72+H72+J72,1) -> 31050 | M72: 별도 | N72: 51A99243E8566AC45BF82ACDD3C9D6 | O72: 56AC8213F553355463483D345EC1DB6F7CE90E | P72: F | Q72: F | R72: T | AW72: 51A99243E8566AC45BF82ACDD3C9D656AC8213F553355463483D345EC1DB6F7CE90E
A73: 자갈 | B73: 제주, 25mm, #57 | C73: M3 | D73: 0.5947 | E73: =단가대비표!O7 -> 34000 | F73: =TRUNC(E73*D73,1) -> 20219.8 | G73: =단가대비표!P7 -> 0 | H73: =TRUNC(G73*D73,1) -> 0 | I73: =단가대비표!V7 -> 0 | J73: =TRUNC(I73*D73,1) -> 0 | K73: =TRUNC(E73+G73+I73,1) -> 34000 | L73: =TRUNC(F73+H73+J73,1) -> 20219.8 | M73: 별도 | N73: 51A99243E8566AC45BF82ACDD3C9D6 | O73: 56AC8213F55335547DA85EDA9687F06FF0101A | P73: F | Q73: F | R73: T | AW73: 51A99243E8566AC45BF82ACDD3C9D656AC8213F55335547DA85EDA9687F06FF0101A
A74: [ 합 계 ] | F74: =TRUNC(SUMIF(N71:N73, N70, F71:F73),0) -> 121255 | H74: =TRUNC(SUMIF(N71:N73, N70, H71:H73),0) -> 0 | J74: =TRUNC(SUMIF(N71:N73, N70, J71:J73),0) -> 0 | L74: =F74+H74+J74 -> 121255 | N74: TOTAL | O74: TOTAL
A76: 콘크리트 인력비빔 타설 무근구조물 M3 공통 6-1-2 ( 호표 13 ) | N76: 51A99243E8566AC476982A80AB3143
A77: 콘크리트공 | B77: 일반공사 직종 | C77: 인 | D77: 0.85 | E77: =단가대비표!O32 -> 0 | F77: =TRUNC(E77*D77,1) -> 0 | G77: =단가대비표!P32 -> 273540 | H77: =TRUNC(G77*D77,1) -> 232509 | I77: =단가대비표!V32 -> 0 | J77: =TRUNC(I77*D77,1) -> 0 | K77: =TRUNC(E77+G77+I77,1) -> 273540 | L77: =TRUNC(F77+H77+J77,1) -> 232509 | N77: 51A99243E8566AC476982A80AB3143 | O77: 51719253125C245445081F4DD68F0645890A89 | P77: F | Q77: F | R77: T | AW77: 51A99243E8566AC476982A80AB314351719253125C245445081F4DD68F0645890A89
A78: 보통인부 | B78: 일반공사 직종 | C78: 인 | D78: 0.82 | E78: =단가대비표!O27 -> 0 | F78: =TRUNC(E78*D78,1) -> 0 | G78: =단가대비표!P27 -> 172068 | H78: =TRUNC(G78*D78,1) -> 141095.7 | I78: =단가대비표!V27 -> 0 | J78: =TRUNC(I78*D78,1) -> 0 | K78: =TRUNC(E78+G78+I78,1) -> 172068 | L78: =TRUNC(F78+H78+J78,1) -> 141095.7 | N78: 51A99243E8566AC476982A80AB3143 | O78: 51719253125C245445081F4DD68F0645890B92 | P78: F | Q78: F | R78: T | AW78: 51A99243E8566AC476982A80AB314351719253125C245445081F4DD68F0645890B92
A79: [ 합 계 ] | F79: =TRUNC(SUMIF(N77:N78, N76, F77:F78),0) -> 0 | H79: =TRUNC(SUMIF(N77:N78, N76, H77:H78),0) -> 373604 | J79: =TRUNC(SUMIF(N77:N78, N76, J77:J78),0) -> 0 | L79: =F79+H79+J79 -> 373604 | N79: TOTAL | O79: TOTAL
A81: 합판거푸집 - 자재비 6회 M2 공통 6-3-1 ( 호표 14 ) | N81: 51A99243905577A46B184726B421E2
A82: 내수합판 | B82: 내수합판, 1급, 12*1220*2440mm | C82: M2 | D82: 1.03 | E82: =단가대비표!O9 -> 15016.12 | F82: =TRUNC(E82*D82,1) -> 15466.6 | G82: =단가대비표!P9 -> 0 | H82: =TRUNC(G82*D82,1) -> 0 | I82: =단가대비표!V9 -> 0 | J82: =TRUNC(I82*D82,1) -> 0 | K82: =TRUNC(E82+G82+I82,1) -> 15016.1 | L82: =TRUNC(F82+H82+J82,1) -> 15466.6 | M82: 금액제외 | O82: 56AC8213F5506294A428F48A141F3D2132BD73 | P82: F | Q82: F | R82: T | V82: 1 | AW82: 51A99243905577A46B184726B421E256AC8213F5506294A428F48A141F3D2132BD73 | AY82: -
A83: 각재 | B83: 각재, 외송 | C83: M3 | D83: 0.038 | E83: =단가대비표!O15 -> 718740 | F83: =TRUNC(E83*D83,1) -> 27312.1 | G83: =단가대비표!P15 -> 0 | H83: =TRUNC(G83*D83,1) -> 0 | I83: =단가대비표!V15 -> 0 | J83: =TRUNC(I83*D83,1) -> 0 | K83: =TRUNC(E83+G83+I83,1) -> 718740 | L83: =TRUNC(F83+H83+J83,1) -> 27312.1 | M83: 금액제외 | O83: 5681C2930B55E354A948BF76544327F70ACCB7 | P83: F | Q83: F | R83: T | V83: 1 | AW83: 51A99243905577A46B184726B421E25681C2930B55E354A948BF76544327F70ACCB7 | AY83: -
A84: 적용비율 | B84: 주재료비의 32.7% | C84: 식 | D84: 1 | E84: =TRUNC(SUMIF(V82:V85, RIGHTB(O84, 1), F82:F85)*U84, 2) -> 13988.63 | F84: =TRUNC(E84*D84,1) -> 13988.6 | G84: 0 | H84: =TRUNC(G84*D84,1) -> 0 | I84: 0 | J84: =TRUNC(I84*D84,1) -> 0 | K84: =TRUNC(E84+G84+I84,1) -> 13988.6 | L84: =TRUNC(F84+H84+J84,1) -> 13988.6 | N84: 51A99243905577A46B184726B421E2 | O84: 50B082A32352B3B46428C94F24D3001 | P84: F | Q84: F | R84: F | S84: 0 | T84: 0 | U84: 0.327 | W84: 2 | AW84: 51A99243905577A46B184726B421E250B082A32352B3B46428C94F24D7005
A85: 소모자재(박리재 등) | B85: 주재료비의 11% | C85: 식 | D85: 1 | E85: =TRUNC(SUMIF(W82:W85, RIGHTB(O85, 1), F82:F85)*U85, 2) -> 1538.74 | F85: =TRUNC(E85*D85,1) -> 1538.7 | G85: 0 | H85: =TRUNC(G85*D85,1) -> 0 | I85: 0 | J85: =TRUNC(I85*D85,1) -> 0 | K85: =TRUNC(E85+G85+I85,1) -> 1538.7 | L85: =TRUNC(F85+H85+J85,1) -> 1538.7 | N85: 51A99243905577A46B184726B421E2 | O85: 50B082A32352B3B46428C94F24D0002 | P85: F | Q85: F | R85: F | S85: 0 | T85: 0 | U85: 0.11 | AW85: 51A99243905577A46B184726B421E250B082A32352B3B46428C94F24D1003
A86: [ 합 계 ] | F86: =TRUNC(SUMIF(N82:N85, N81, F82:F85),0) -> 15527 | H86: =TRUNC(SUMIF(N82:N85, N81, H82:H85),0) -> 0 | J86: =TRUNC(SUMIF(N82:N85, N81, J82:J85),0) -> 0 | L86: =F86+H86+J86 -> 15527 | N86: TOTAL | O86: TOTAL
A88: 합판거푸집 - 인력투입 간단, 수직고 7m까지 M2 공통 6-3-1 ( 호표 15 ) | N88: 51A99243905577A46B184726B420DC
A89: 형틀목공 | B89: 일반공사 직종 | C89: 인 | D89: 0.1 | E89: =단가대비표!O29 -> 0 | F89: =TRUNC(E89*D89,1) -> 0 | G89: =단가대비표!P29 -> 275790 | H89: =TRUNC(G89*D89,1) -> 27579 | I89: =단가대비표!V29 -> 0 | J89: =TRUNC(I89*D89,1) -> 0 | K89: =TRUNC(E89+G89+I89,1) -> 275790 | L89: =TRUNC(F89+H89+J89,1) -> 27579 | N89: 51A99243905577A46B184726B420DC | O89: 51719253125C245445081F4DD68F0645890B97 | P89: F | Q89: F | R89: T | V89: 1 | AW89: 51A99243905577A46B184726B420DC51719253125C245445081F4DD68F0645890B97
A90: 보통인부 | B90: 일반공사 직종 | C90: 인 | D90: 0.04 | E90: =단가대비표!O27 -> 0 | F90: =TRUNC(E90*D90,1) -> 0 | G90: =단가대비표!P27 -> 172068 | H90: =TRUNC(G90*D90,1) -> 6882.7 | I90: =단가대비표!V27 -> 0 | J90: =TRUNC(I90*D90,1) -> 0 | K90: =TRUNC(E90+G90+I90,1) -> 172068 | L90: =TRUNC(F90+H90+J90,1) -> 6882.7 | N90: 51A99243905577A46B184726B420DC | O90: 51719253125C245445081F4DD68F0645890B92 | P90: F | Q90: F | R90: T | V90: 1 | AW90: 51A99243905577A46B184726B420DC51719253125C245445081F4DD68F0645890B92
A91: 공구손료 | B91: 인력품의 1% | C91: 식 | D91: 1 | E91: 0 | F91: =TRUNC(E91*D91,1) -> 0 | G91: 0 | H91: =TRUNC(G91*D91,1) -> 0 | I91: =TRUNC(SUMIF(V89:V91, RIGHTB(O91, 1), H89:H91)*U91, 2) -> 344.61 | J91: =TRUNC(I91*D91,1) -> 344.6 | K91: =TRUNC(E91+G91+I91,1) -> 344.6 | L91: =TRUNC(F91+H91+J91,1) -> 344.6 | N91: 51A99243905577A46B184726B420DC | O91: 50B082A32352B3B46428C94F24D3001 | P91: F | Q91: F | R91: F | S91: 1 | T91: 2 | U91: 0.01 | AW91: 51A99243905577A46B184726B420DC50B082A32352B3B46428C94F24D3001
A92: [ 합 계 ] | F92: =TRUNC(SUMIF(N89:N91, N88, F89:F91),0) -> 0 | H92: =TRUNC(SUMIF(N89:N91, N88, H89:H91),0) -> 34461 | J92: =TRUNC(SUMIF(N89:N91, N88, J89:J91),0) -> 344 | L92: =F92+H92+J92 -> 34805 | N92: TOTAL | O92: TOTAL
A94: 잡철물 제작 및 설치 현장제작 설치, 일반철재 kg 건축 8-3-1 ( 호표 16 ) | N94: 51A97273605D95D4A1980EBDF967D6
A95: 철공 | B95: 일반공사 직종 | C95: 인 | D95: 0.01238 | E95: =단가대비표!O30 -> 0 | F95: =TRUNC(E95*D95,1) -> 0 | G95: =단가대비표!P30 -> 239808 | H95: =TRUNC(G95*D95,1) -> 2968.8 | I95: =단가대비표!V30 -> 0 | J95: =TRUNC(I95*D95,1) -> 0 | K95: =TRUNC(E95+G95+I95,1) -> 239808 | L95: =TRUNC(F95+H95+J95,1) -> 2968.8 | N95: 51A97273605D95D4A1980EBDF967D6 | O95: 51719253125C245445081F4DD68F0645890B99 | P95: F | Q95: F | R95: T | V95: 1 | W95: 2 | AW95: 51A97273605D95D4A1980EBDF967D651719253125C245445081F4DD68F0645890B99
A96: 용접공 | B96: 일반공사 직종 | C96: 인 | D96: 0.00338 | E96: =단가대비표!O31 -> 0 | F96: =TRUNC(E96*D96,1) -> 0 | G96: =단가대비표!P31 -> 282536 | H96: =TRUNC(G96*D96,1) -> 954.9 | I96: =단가대비표!V31 -> 0 | J96: =TRUNC(I96*D96,1) -> 0 | K96: =TRUNC(E96+G96+I96,1) -> 282536 | L96: =TRUNC(F96+H96+J96,1) -> 954.9 | N96: 51A97273605D95D4A1980EBDF967D6 | O96: 51719253125C245445081F4DD68F0645890A88 | P96: F | Q96: F | R96: T | V96: 1 | W96: 2 | AW96: 51A97273605D95D4A1980EBDF967D651719253125C245445081F4DD68F0645890A88
A97: 특별인부 | B97: 일반공사 직종 | C97: 인 | D97: 0.0045 | E97: =단가대비표!O28 -> 0 | F97: =TRUNC(E97*D97,1) -> 0 | G97: =단가대비표!P28 -> 226122 | H97: =TRUNC(G97*D97,1) -> 1017.5 | I97: =단가대비표!V28 -> 0 | J97: =TRUNC(I97*D97,1) -> 0 | K97: =TRUNC(E97+G97+I97,1) -> 226122 | L97: =TRUNC(F97+H97+J97,1) -> 1017.5 | N97: 51A97273605D95D4A1980EBDF967D6 | O97: 51719253125C245445081F4DD68F0645890B93 | P97: F | Q97: F | R97: T | V97: 1 | W97: 2 | AW97: 51A97273605D95D4A1980EBDF967D651719253125C245445081F4DD68F0645890B93
A98: 보통인부 | B98: 일반공사 직종 | C98: 인 | D98: 0.00225 | E98: =단가대비표!O27 -> 0 | F98: =TRUNC(E98*D98,1) -> 0 | G98: =단가대비표!P27 -> 172068 | H98: =TRUNC(G98*D98,1) -> 387.1 | I98: =단가대비표!V27 -> 0 | J98: =TRUNC(I98*D98,1) -> 0 | K98: =TRUNC(E98+G98+I98,1) -> 172068 | L98: =TRUNC(F98+H98+J98,1) -> 387.1 | N98: 51A97273605D95D4A1980EBDF967D6 | O98: 51719253125C245445081F4DD68F0645890B92 | P98: F | Q98: F | R98: T | V98: 1 | W98: 2 | AW98: 51A97273605D95D4A1980EBDF967D651719253125C245445081F4DD68F0645890B92
A99: 공구손료 | B99: 인력품의 5% | C99: 식 | D99: 1 | E99: 0 | F99: =TRUNC(E99*D99,1) -> 0 | G99: 0 | H99: =TRUNC(G99*D99,1) -> 0 | I99: =TRUNC(SUMIF(V95:V100, RIGHTB(O99, 1), H95:H100)*U99, 2) -> 266.41 | J99: =TRUNC(I99*D99,1) -> 266.4 | K99: =TRUNC(E99+G99+I99,1) -> 266.4 | L99: =TRUNC(F99+H99+J99,1) -> 266.4 | N99: 51A97273605D95D4A1980EBDF967D6 | O99: 50B082A32352B3B46428C94F24D3001 | P99: F | Q99: F | R99: F | S99: 1 | T99: 2 | U99: 0.05 | AW99: 51A97273605D95D4A1980EBDF967D650B082A32352B3B46428C94F24D3001
A100: 잡재료 | B100: 인력품의 3% | C100: 식 | D100: 1 | E100: =TRUNC(SUMIF(W95:W100, RIGHTB(O100, 1), H95:H100)*U100, 2) -> 159.84 | F100: =TRUNC(E100*D100,1) -> 159.8 | G100: 0 | H100: =TRUNC(G100*D100,1) -> 0 | I100: 0 | J100: =TRUNC(I100*D100,1) -> 0 | K100: =TRUNC(E100+G100+I100,1) -> 159.8 | L100: =TRUNC(F100+H100+J100,1) -> 159.8 | N100: 51A97273605D95D4A1980EBDF967D6 | O100: 50B082A32352B3B46428C94F24D0002 | P100: F | Q100: F | R100: F | S100: 1 | T100: 0 | U100: 0.03 | AW100: 51A97273605D95D4A1980EBDF967D650B082A32352B3B46428C94F24D0002
A101: [ 합 계 ] | F101: =TRUNC(SUMIF(N95:N100, N94, F95:F100),0) -> 159 | H101: =TRUNC(SUMIF(N95:N100, N94, H95:H100),0) -> 5328 | J101: =TRUNC(SUMIF(N95:N100, N94, J95:J100),0) -> 266 | L101: =F101+H101+J101 -> 5753 | N101: TOTAL | O101: TOTAL
A103: 인서트(Insert) 설치(콘크리트) 세트앵커, M10*L75mm 개 건축 8-1-4 ( 호표 17 ) | N103: 51A9727329547A2459A8DAA63C872B
A104: 세트앵커 | B104: 세트앵커, M10*L75mm | C104: 개 | D104: 1.03 | E104: =단가대비표!O17 -> 160 | F104: =TRUNC(E104*D104,1) -> 164.8 | G104: =단가대비표!P17 -> 0 | H104: =TRUNC(G104*D104,1) -> 0 | I104: =단가대비표!V17 -> 0 | J104: =TRUNC(I104*D104,1) -> 0 | K104: =TRUNC(E104+G104+I104,1) -> 160 | L104: =TRUNC(F104+H104+J104,1) -> 164.8 | N104: 51A9727329547A2459A8DAA63C872B | O104: 5681D2B36B5EE2F43288D294900DF4F910FC47 | P104: F | Q104: F | R104: T | AW104: 51A9727329547A2459A8DAA63C872B5681D2B36B5EE2F43288D294900DF4F910FC47
A105: 인서트(Insert) 설치 | B105: 설치대상 - 콘크리트 | C105: 개 | D105: 1 | E105: =일위대가목록!E21 -> 0 | F105: =TRUNC(E105*D105,1) -> 0 | G105: =일위대가목록!F21 -> 2311 | H105: =TRUNC(G105*D105,1) -> 2311 | I105: =일위대가목록!G21 -> 92 | J105: =TRUNC(I105*D105,1) -> 92 | K105: =TRUNC(E105+G105+I105,1) -> 2403 | L105: =TRUNC(F105+H105+J105,1) -> 2403 | M105: 호표 18 | N105: 51A9727329547A2459A8DAA63C872B | O105: 51A9727329547A2459A8DAA63F59DC | P105: T | Q105: F | R105: F | AW105: 51A9727329547A2459A8DAA63C872B51A9727329547A2459A8DAA63F59DC
A106: [ 합 계 ] | F106: =TRUNC(SUMIF(N104:N105, N103, F104:F105),0) -> 164 | H106: =TRUNC(SUMIF(N104:N105, N103, H104:H105),0) -> 2311 | J106: =TRUNC(SUMIF(N104:N105, N103, J104:J105),0) -> 92 | L106: =F106+H106+J106 -> 2567 | N106: TOTAL | O106: TOTAL
A108: 인서트(Insert) 설치 설치대상 - 콘크리트 개 건축 8-1-4 ( 호표 18 ) | N108: 51A9727329547A2459A8DAA63F59DC
A109: 내장공 | B109: 일반공사 직종 | C109: 인 | D109: 0.009 | E109: =단가대비표!O35 -> 0 | F109: =TRUNC(E109*D109,1) -> 0 | G109: =단가대비표!P35 -> 256883 | H109: =TRUNC(G109*D109,1) -> 2311.9 | I109: =단가대비표!V35 -> 0 | J109: =TRUNC(I109*D109,1) -> 0 | K109: =TRUNC(E109+G109+I109,1) -> 256883 | L109: =TRUNC(F109+H109+J109,1) -> 2311.9 | N109: 51A9727329547A2459A8DAA63F59DC | O109: 51719253125C245445081F4DD68F06458908DC | P109: F | Q109: F | R109: T | V109: 1 | AW109: 51A9727329547A2459A8DAA63F59DC51719253125C245445081F4DD68F06458908DC
A110: 공구손료 | B110: 인력품의 4% | C110: 식 | D110: 1 | E110: 0 | F110: =TRUNC(E110*D110,1) -> 0 | G110: 0 | H110: =TRUNC(G110*D110,1) -> 0 | I110: =TRUNC(SUMIF(V109:V110, RIGHTB(O110, 1), H109:H110)*U110, 2) -> 92.47 | J110: =TRUNC(I110*D110,1) -> 92.4 | K110: =TRUNC(E110+G110+I110,1) -> 92.4 | L110: =TRUNC(F110+H110+J110,1) -> 92.4 | N110: 51A9727329547A2459A8DAA63F59DC | O110: 50B082A32352B3B46428C94F24D3001 | P110: F | Q110: F | R110: F | S110: 1 | T110: 2 | U110: 0.04 | AW110: 51A9727329547A2459A8DAA63F59DC50B082A32352B3B46428C94F24D3001
A111: [ 합 계 ] | F111: =TRUNC(SUMIF(N109:N110, N108, F109:F110),0) -> 0 | H111: =TRUNC(SUMIF(N109:N110, N108, H109:H110),0) -> 2311 | J111: =TRUNC(SUMIF(N109:N110, N108, J109:J110),0) -> 92 | L111: =F111+H111+J111 -> 2403 | N111: TOTAL | O111: TOTAL
A113: 카고트럭 8ton HR 공통 8-3,4(2702) ( 호표 19 ) | N113: 56BD0213665E5904C7684E375FF077B90D5A1469
A114: 카고트럭 | B114: 8ton | C114: 대 | D114: 0.2576 | E114: =단가대비표!O5 -> 0 | F114: =TRUNC(E114*D114,1) -> 0 | G114: =단가대비표!P5 -> 0 | H114: =TRUNC(G114*D114,1) -> 0 | I114: =단가대비표!V5 -> 41200 | J114: =TRUNC(I114*D114,1) -> 10613.1 | K114: =TRUNC(E114+G114+I114,1) -> 41200 | L114: =TRUNC(F114+H114+J114,1) -> 10613.1 | M114: 천원 | N114: 56BD0213665E5904C7684E375FF077B90D5A1469 | O114: 56BD0213665E5904C7684E375FF4D2A936FDB7 | P114: F | Q114: F | R114: T | AW114: 56BD0213665E5904C7684E375FF077B90D5A146956BD0213665E5904C7684E375FF4D2A936FDB7
A115: 경유 | B115: 저유황 0.001% | C115: L | D115: 16.5 | E115: =단가대비표!O26 -> 1625 | F115: =TRUNC(E115*D115,1) -> 26812.5 | G115: =단가대비표!P26 -> 0 | H115: =TRUNC(G115*D115,1) -> 0 | I115: =단가대비표!V26 -> 0 | J115: =TRUNC(I115*D115,1) -> 0 | K115: =TRUNC(E115+G115+I115,1) -> 1625 | L115: =TRUNC(F115+H115+J115,1) -> 26812.5 | N115: 56BD0213665E5904C7684E375FF077B90D5A1469 | O115: 51E3C263A65BE11438F88BB5A24341D51863B4 | P115: F | Q115: F | R115: T | V115: 1 | AW115: 56BD0213665E5904C7684E375FF077B90D5A146951E3C263A65BE11438F88BB5A24341D51863B4
A116: 잡재료 | B116: 주연료비의 39% | C116: 식 | D116: 1 | E116: =TRUNC(SUMIF(V114:V117, RIGHTB(O116, 1), F114:F117)*U116, 2) -> 10456.87 | F116: =TRUNC(E116*D116,1) -> 10456.8 | G116: 0 | H116: =TRUNC(G116*D116,1) -> 0 | I116: 0 | J116: =TRUNC(I116*D116,1) -> 0 | K116: =TRUNC(E116+G116+I116,1) -> 10456.8 | L116: =TRUNC(F116+H116+J116,1) -> 10456.8 | N116: 56BD0213665E5904C7684E375FF077B90D5A1469 | O116: 50B082A32352B3B46428C94F24D3001 | P116: F | Q116: F | R116: F | S116: 0 | T116: 0 | U116: 0.39 | AW116: 56BD0213665E5904C7684E375FF077B90D5A146950B082A32352B3B46428C94F24D3001
A117: 건설기계운전사 | B117: 일반공사 직종 | C117: 인 | D117: 1 | E117: =TRUNC(단가대비표!O36*1/8*16/12*25/20, 1) -> 0 | F117: =TRUNC(E117*D117,1) -> 0 | G117: =TRUNC(단가대비표!P36*1/8*16/12*25/20, 1) -> 59020.2 | H117: =TRUNC(G117*D117,1) -> 59020.2 | I117: =TRUNC(단가대비표!V36*1/8*16/12*25/20, 1) -> 0 | J117: =TRUNC(I117*D117,1) -> 0 | K117: =TRUNC(E117+G117+I117,1) -> 59020.2 | L117: =TRUNC(F117+H117+J117,1) -> 59020.2 | N117: 56BD0213665E5904C7684E375FF077B90D5A1469 | O117: 51719253125C245445081F4DD68F0645890F03 | P117: F | Q117: F | R117: T | AW117: 56BD0213665E5904C7684E375FF077B90D5A146951719253125C245445081F4DD68F0645890F03 | AX117: T
A118: [ 합 계 ] | F118: =TRUNC(SUMIF(N114:N117, N113, F114:F117),0) -> 37269 | H118: =TRUNC(SUMIF(N114:N117, N113, H114:H117),0) -> 59020 | J118: =TRUNC(SUMIF(N114:N117, N113, J114:J117),0) -> 10613 | L118: =F118+H118+J118 -> 106902 | N118: TOTAL | O118: TOTAL

Sheet 단가산출목록
B1: 단 가 산 출 목 록
B2: [ 1100고지 습지보호지역 노후탐방로 정비사업 ]
A3: 코 드 | B3: 품 명 | C3: 규 격 | D3: 단위 | E3: 재 료 비 | F3: 노 무 비 | G3: 경 비 | H3: 합 계 | I3: 번 호 | J3: 비 고 | K3: START | L3: 품셈개요
A4: 51A892D3CB583B942D1836F4061283 | B4: 합성목재기둥, 캡, 하이브리드가로대 운반비 | C4: 8TON, 생산지 > 목포항 > 상선 > 제주항 > 현장 | D4: 대 | E4: =단가산출서!B45 -> 0 | F4: =단가산출서!C45 -> 0 | G4: =단가산출서!D45 -> 2116006 | H4: =단가산출서!E45 -> 2116006 | I4: 산근 1 | K4: 51A892D3CB583B942D1836F4061283
A5: 518542136852B4E46468EDF79F1312 | B5: 인력 소운반 | C5: L=100m | D5: kg | E5: =단가산출서!B63 -> 0 | F5: =단가산출서!C63 -> 0 | G5: =단가산출서!D63 -> 91 | H5: =단가산출서!E63 -> 91 | I5: 산근 2 | K5: 518542136852B4E46468EDF79F1312 | L5: 토목 9-3

Sheet 단가산출서
A1: 단 가 산 출 서
A2: [ 1100고지 습지보호지역 노후탐방로 정비사업 ]
A3: 산 출 내 역 | B3: 재 료 비 | C3: 노 무 비 | D3: 경 비 | E3: 합 계 | F3: 비 고 | G3: START | H3: 코드 | I3: 품명 | J3: 규격 | K3: 단위 | L3: 수량 | M3: 변수 | N3: 값 | O3: 소계 | P3: 소계 | Q3: 소계 | R3: 소계 | S3: 소계 | T3: 총계
A4: 합성목재기둥, 캡, 하이브리드가로대 운반비 8TON, 생산지 > 목포항 > 상선 > 제주항 > 현장 대 ( 산근 1 ) | G4: 51A892D3CB583B942D1836F4061283 | I4: 합성목재기둥, 캡, 하이브리드가로대 운반비 | J4: 8TON, 생산지 > 목포항 > 상선 > 제주항 > 현장 | K4: 대
G5: 51A892D3CB583B942D1836F4061283 | H5: C | L5: 1
A6: 제주도 내 운반거리 L=363KM 카고트럭 25ton 대당 | B6: 0 | C6: 0 | D6: 0 | E6: 0 | G6: 51A892D3CB583B942D1836F4061283 | H6: C! | I6: '제주도 내 운반거리 L=363KM 카고트럭 25ton 대당 '
A7: 적용기준: 생산공장 > 목포항 > 제주항 > 현장 | B7: 0 | C7: 0 | D7: 0 | E7: 0 | G7: 51A892D3CB583B942D1836F4061283 | H7: C! | I7: '적용기준: 생산공장 > 목포항 > 제주항 > 현장'
A8: 목포항 상차도는 업체부담 적재 없음 | B8: 0 | C8: 0 | D8: 0 | E8: 0 | G8: 51A892D3CB583B942D1836F4061283 | H8: C! | I8: '목포항 상차도는 업체부담 적재 없음'
B9: 0 | C9: 0 | D9: 0 | E9: 0 | G9: 51A892D3CB583B942D1836F4061283 | H9: C!
A10: 차량속도= 20KM/V1 40KM/V2 20KM/V3 | B10: 0 | C10: 0 | D10: 0 | E10: 0 | G10: 51A892D3CB583B942D1836F4061283 | H10: C! | I10: '차량속도= 20KM/V1 40KM/V2 20KM/V3 '
A11: 제주항 ○----------0-------------0----------○13KM | B11: 0 | C11: 0 | D11: 0 | E11: 0 | G11: 51A892D3CB583B942D1836F4061283 | H11: C! | I11: '제주항 ○----------0-------------0----------○13KM '
A12: 운반거리=목포항+제주항L1=2.0KM,시내L2=360.5KM,현장L3=0.5KM | B12: 0 | C12: 0 | D12: 0 | E12: 0 | G12: 51A892D3CB583B942D1836F4061283 | H12: C! | I12: '운반거리=목포항+제주항L1=2.0KM,시내L2=360.5KM,현장L3=0.5KM'
B13: 0 | C13: 0 | D13: 0 | E13: 0 | G13: 51A892D3CB583B942D1836F4061283 | H13: C!
A14: 1.카고트럭 8톤 HR | B14: 0 | C14: 0 | D14: 0 | E14: 0 | G14: 51A892D3CB583B942D1836F4061283 | H14: C! | I14: '1.카고트럭 8톤 HR '
A15: L1 목포항 및 제주항 내 운반거리(KM) =2.0 | B15: 0 | C15: 0 | D15: 0 | E15: 0 | G15: 51A892D3CB583B942D1836F4061283 | H15: C! | I15: L1 '목포항 및 제주항 내 운반거리(KM)' =2.0 | M15: L1 | N15: 2
A16: L2 도로주행 운반거리(KM) =360.5 | B16: 0 | C16: 0 | D16: 0 | E16: 0 | G16: 51A892D3CB583B942D1836F4061283 | H16: C! | I16: L2 '도로주행 운반거리(KM)' =360.5 | M16: L2 | N16: 360.5
A17: L3 공사장내 운반거리(KM) =0.5 | B17: 0 | C17: 0 | D17: 0 | E17: 0 | G17: 51A892D3CB583B942D1836F4061283 | H17: C! | I17: L3 '공사장내 운반거리(KM)' =0.5 | M17: L3 | N17: 0.5
A18: V1 목포항 및 제주항 내 운반속도(KM/HR) =20 | B18: 0 | C18: 0 | D18: 0 | E18: 0 | G18: 51A892D3CB583B942D1836F4061283 | H18: C! | I18: V1 '목포항 및 제주항 내 운반속도(KM/HR)' =20 | M18: V1 | N18: 20
A19: V2 도로주행 운반속도(KM/HR) =40 | B19: 0 | C19: 0 | D19: 0 | E19: 0 | G19: 51A892D3CB583B942D1836F4061283 | H19: C! | I19: V2 '도로주행 운반속도(KM/HR)' =40 | M19: V2 | N19: 40
A20: V3 공사장내 운반속도(KM/HR) =20 | B20: 0 | C20: 0 | D20: 0 | E20: 0 | G20: 51A892D3CB583B942D1836F4061283 | H20: C! | I20: V3 '공사장내 운반속도(KM/HR)' =20 | M20: V3 | N20: 20
A21: T1 목포항대기시간및상선(MIN) =60 | B21: 0 | C21: 0 | D21: 0 | E21: 0 | G21: 51A892D3CB583B942D1836F4061283 | H21: C! | I21: t1 '목포항대기시간및상선(MIN)' =60 | M21: T1 | N21: 60
A22: T2 목포항>제주항운행시간(MIN) =270 | B22: 0 | C22: 0 | D22: 0 | E22: 0 | G22: 51A892D3CB583B942D1836F4061283 | H22: C! | I22: t2 '목포항>제주항운행시간(MIN)' =270 | M22: T2 | N22: 270
A23: T3 제주항대기시간및하선(MIN) =30 | B23: 0 | C23: 0 | D23: 0 | E23: 0 | G23: 51A892D3CB583B942D1836F4061283 | H23: C! | I23: t3 '제주항대기시간및하선(MIN)' =30 | M23: T3 | N23: 30
A24: T4 제주도내 운반 편도시간(MIN) =((L2/V2)+(L3/V3))*60= 542.25 | B24: 0 | C24: 0 | D24: 0 | E24: 0 | G24: 51A892D3CB583B942D1836F4061283 | H24: C! | I24: t4 '제주도내 운반 편도시간(MIN)' =((L2/V2)+(L3/V3))*60=? | M24: T4 | N24: 542.25
A25: T5 적하시간(MIN) =30 | B25: 0 | C25: 0 | D25: 0 | E25: 0 | G25: 51A892D3CB583B942D1836F4061283 | H25: C! | I25: t5 '적하시간(MIN)'=30 | M25: T5 | N25: 30
A26: T6 세륜시간 (MIN) =1.5 | B26: 0 | C26: 0 | D26: 0 | E26: 0 | G26: 51A892D3CB583B942D1836F4061283 | H26: C! | I26: t6 '세륜시간 (MIN)' =1.5 | M26: T6 | N26: 1.5
... A29: Z 차량실시간 =(T1+T3+T4+T5+T6)/60= 11.0625 | B29: 0 | C29: 0 | D29: 0 | E29: 0 | G29: 51A892D3CB583B942D1836F4061283 | H29: C! | I29: Z '차량실시간' =(t1+t3+t4+t5+t6)/60=? | M29: Z | N29: 11.0625
B30: 0 | C30: 0 | D30: 0 | E30: 0 | G30: 51A892D3CB583B942D1836F4061283 | H30: C!
A31: =" 재료비: "&일위대가목록!E22&"*"&N29&"="&D31 -> 재료비: 37269*11.0625=412288.3 | B31: 0 | C31: 0 | D31: =TRUNC(일위대가목록!E22*N29,1) -> 412288.3 | E31: =SUM(B31,C31,D31) -> 412288.3 | G31: 51A892D3CB583B942D1836F4061283 | H31: C! | I31: '재료비:' ~00002702002000002.M~ * {Z} =?EQ+ | N31: =TRUNC(일위대가목록!E22*N29,1) -> 412288.3 | O31: T11 | P31: T21 | Q31: T31 | R31: T41 | S31: T51 | T31: TT
A32: =" 노무비: "&일위대가목록!F22&"*"&N28&"="&D32 -> 노무비: 59020*15.563=918528.2 | B32: 0 | C32: 0 | D32: =TRUNC(일위대가목록!F22*N28,1) -> 918528.2 | E32: =SUM(B32,C32,D32) -> 918528.2 | G32: 51A892D3CB583B942D1836F4061283 | H32: C! | I32: '노무비:' ~00002702002000002.L~ * {Q} =?EQ+ | N32: =TRUNC(일위대가목록!F22*N28,1) -> 918528.2 | O32: T11 | P32: T21 | Q32: T31 | R32: T41 | S32: T51 | T32: TT
A33: =" 경 비: "&일위대가목록!G22&"*"&N28&"="&D33 -> 경 비: 10613*15.563=165170.1 | B33: 0 | C33: 0 | D33: =TRUNC(일위대가목록!G22*N28,1) -> 165170.1 | E33: =SUM(B33,C33,D33) -> 165170.1 | G33: 51A892D3CB583B942D1836F4061283 | H33: C! | I33: '경 비:' ~00002702002000002.E~ * {Q} =?EQ+ | N33: =TRUNC(일위대가목록!G22*N28,1) -> 165170.1 | O33: T11 | P33: T21 | Q33: T31 | R33: T41 | S33: T51 | T33: TT
A34: 소 계 | B34: =TRUNC(SUMIF(O6:O33, "T11", B6:B33), 1) -> 0 | C34: =TRUNC(SUMIF(O6:O33, "T11", C6:C33), 1) -> 0 | D34: =TRUNC(SUMIF(O6:O33, "T11", D6:D33), 1) -> 1495986.6 | E34: =TRUNC(SUM(B34,C34, D34), 1) -> 1495986.6 | G34: 51A892D3CB583B942D1836F4061283 | H34: C! | I34: >'소 계' | M34: T1
B35: 0 | C35: 0 | D35: 0 | E35: 0 | G35: 51A892D3CB583B942D1836F4061283 | H35: C!
A36: 2. 운전자 선박 요금 | B36: 0 | C36: 0 | D36: 0 | E36: 0 | G36: 51A892D3CB583B942D1836F4061283 | H36: C! | I36: '2. 운전자 선박 요금'
A37: 퀸제누비아 씨월드고속훼리홈페이지 금액적용 | B37: 0 | C37: 0 | D37: 0 | E37: 0 | G37: 51A892D3CB583B942D1836F4061283 | H37: C! | I37: '퀸제누비아 씨월드고속훼리홈페이지 금액적용'
A38: =" 경: "&단가대비표!V38&"*1="&D38 -> 경: 32300*1=32300 | B38: 0 | C38: 0 | D38: =TRUNC(단가대비표!V38*1,1) -> 32300 | E38: =SUM(B38,C38,D38) -> 32300 | G38: 51A892D3CB583B942D1836F4061283 | H38: C! | I38: '경:' ~ZA25051200000612.E~* 1 =?EQ+ | N38: =TRUNC(단가대비표!V38*1,1) -> 32300 | O38: T12 | P38: T21 | Q38: T31 | R38: T41 | S38: T51 | T38: TT
A39: 소 계 | B39: =TRUNC(SUMIF(O35:O38, "T12", B35:B38), 1) -> 0 | C39: =TRUNC(SUMIF(O35:O38, "T12", C35:C38), 1) -> 0 | D39: =TRUNC(SUMIF(O35:O38, "T12", D35:D38), 1) -> 32300 | E39: =TRUNC(SUM(B39,C39, D39), 1) -> 32300 | G39: 51A892D3CB583B942D1836F4061283 | H39: C! | I39: >'소 계' | M39: T1
B40: 0 | C40: 0 | D40: 0 | E40: 0 | G40: 51A892D3CB583B942D1836F4061283 | H40: C!
A41: 3. 화물차 선박 요금 | B41: 0 | C41: 0 | D41: 0 | E41: 0 | G41: 51A892D3CB583B942D1836F4061283 | H41: C! | I41: '3. 화물차 선박 요금'
A42: 퀸제누비아 씨월드고속훼리홈페이지 금액적용 | B42: 0 | C42: 0 | D42: 0 | E42: 0 | G42: 51A892D3CB583B942D1836F4061283 | H42: C! | I42: '퀸제누비아 씨월드고속훼리홈페이지 금액적용'
A43: =" 경비: "&단가대비표!V37&"*1="&D43 -> 경비: 587720*1=587720 | B43: 0 | C43: 0 | D43: =TRUNC(단가대비표!V37*1,1) -> 587720 | E43: =SUM(B43,C43,D43) -> 587720 | G43: 51A892D3CB583B942D1836F4061283 | H43: C! | I43: '경비:' ~ZA25051200000611.E~* 1 =?EQ+ | N43: =TRUNC(단가대비표!V37*1,1) -> 587720 | O43: T13 | P43: T21 | Q43: T31 | R43: T41 | S43: T51 | T43: TT
A44: 소 계 | B44: =TRUNC(SUMIF(O40:O43, "T13", B40:B43), 1) -> 0 | C44: =TRUNC(SUMIF(O40:O43, "T13", C40:C43), 1) -> 0 | D44: =TRUNC(SUMIF(O40:O43, "T13", D40:D43), 1) -> 587720 | E44: =TRUNC(SUM(B44,C44, D44), 1) -> 587720 | G44: 51A892D3CB583B942D1836F4061283 | H44: C! | I44: >'소 계' | M44: T1
A45: 총 계 | B45: =TRUNC(SUMIF(T5:T44, "TT", B5:B44), 0) -> 0 | C45: =TRUNC(SUMIF(T5:T44, "TT", C5:C44), 0) -> 0 | D45: =TRUNC(SUMIF(T5:T44, "TT", D5:D44), 0) -> 2116006 | E45: =TRUNC(SUM(B45,C45, D45), 0) -> 2116006
A47: 인력 소운반 L=100m kg 토목 9-3 ( 산근 2 ) | G47: 518542136852B4E46468EDF79F1312 | I47: 인력 소운반 | J47: L=100m | K47: kg
G48: 518542136852B4E46468EDF79F1312 | H48: C | K48: M3 | L48: 1
A49: 인력소운반지게(TON/HR)TON당 | B49: 0 | C49: 0 | D49: 0 | E49: 0 | G49: 518542136852B4E46468EDF79F1312 | H49: C! | I49: '인력소운반지게(TON/HR)TON당'
A50: T1 1일 실작업시간(480분-30분)) =450 | B50: 0 | C50: 0 | D50: 0 | E50: 0 | G50: 518542136852B4E46468EDF79F1312 | H50: C! | I50: T1 '1일 실작업시간(480분-30분))' =450 | M50: T1 | N50: 450
A51: Q1 1회 적재량(KG) =25 | B51: 0 | C51: 0 | D51: 0 | E51: 0 | G51: 518542136852B4E46468EDF79F1312 | H51: C! | I51: q1 '1회 적재량(KG)' =25 | M51: Q1 | N51: 25
A52: L 운반거리(M) =100 | B52: 0 | C52: 0 | D52: 0 | E52: 0 | G52: 518542136852B4E46468EDF79F1312 | H52: C! | I52: L '운반거리(M)' =100 | M52: L | N52: 100
A53: V 운반속도양호3,000(M/HR),보통2,500(M/HR)불량2,000(M/HR) =3000 | B53: 0 | C53: 0 | D53: 0 | E53: 0 | G53: 518542136852B4E46468EDF79F1312 | H53: C! | I53: V '운반속도양호3,000(M/HR),보통2,500(M/HR)불량2,000(M/HR)'=3000 | M53: V | N53: 3000
A54: T2 적재적하시간(MIN) 토사류1.5분,석재류 2분 =2 | B54: 0 | C54: 0 | D54: 0 | E54: 0 | G54: 518542136852B4E46468EDF79F1312 | H54: C! | I54: t2 '적재적하시간(MIN) 토사류1.5분,석재류 2분' =2 | M54: T2 | N54: 2
A55: N 1일 운반횟수 =(V*T1)/((120*L)+(V*T2))= 75 | B55: 0 | C55: 0 | D55: 0 | E55: 0 | G55: 518542136852B4E46468EDF79F1312 | H55: C! | I55: N '1일 운반횟수'=(V*T1)/((120*L)+(V*T2))=? | M55: N | N55: 75
A56: Q 시간당 작업(KG/HR) =N*Q1= 1875 | B56: 0 | C56: 0 | D56: 0 | E56: 0 | G56: 518542136852B4E46468EDF79F1312 | H56: C! | I56: Q '시간당 작업(KG/HR)' =N*q1=? | M56: Q | N56: 1875
A57: =" 노무비: "&단가대비표!P27&"/"&N56&"="&D57 -> 노무비: 172068/1875=91.7 | B57: 0 | C57: 0 | D57: =TRUNC(단가대비표!P27/N56,1) -> 91.7 | E57: =SUM(B57,C57,D57) -> 91.7 | G57: 518542136852B4E46468EDF79F1312 | H57: C! | I57: '노무비:' ~L001010101000002.L~ / {Q} =?EQ+ | N57: =TRUNC(단가대비표!P27/N56,1) -> 91.7 | O57: T11 | P57: T21 | Q57: T31 | R57: T41 | S57: T51 | T57: TT
A58: 소 계 | B58: =TRUNC(SUMIF(O49:O57, "T11", B49:B57), 1) -> 0 | C58: =TRUNC(SUMIF(O49:O57, "T11", C49:C57), 1) -> 0 | D58: =TRUNC(SUMIF(O49:O57, "T11", D49:D57), 1) -> 91.7 | E58: =TRUNC(SUM(B58,C58, D58), 1) -> 91.7 | G58: 518542136852B4E46468EDF79F1312 | H58: C! | I58: >'소 계' | M58: T1
B59: 0 | C59: 0 | D59: 0 | E59: 0 | G59: 518542136852B4E46468EDF79F1312 | H59: C!
B60: 0 | C60: 0 | D60: 0 | E60: 0 | G60: 518542136852B4E46468EDF79F1312 | H60: C!
B61: 0 | C61: 0 | D61: 0 | E61: 0 | G61: 518542136852B4E46468EDF79F1312 | H61: C!
B62: 0 | C62: 0 | D62: 0 | E62: 0 | G62: 518542136852B4E46468EDF79F1312 | H62: C!
A63: 총 계 | B63: =TRUNC(SUMIF(T48:T62, "TT", B48:B62), 0) -> 0 | C63: =TRUNC(SUMIF(T48:T62, "TT", C48:C62), 0) -> 0 | D63: =TRUNC(SUMIF(T48:T62, "TT", D48:D62), 0) -> 91 | E63: =TRUNC(SUM(B63,C63, D63), 0) -> 91

Sheet 단가대비표
A1: 단 가 대 비 표
A2: [ 1100고지 습지보호지역 노후탐방로 정비사업 ]
A3: 코 드 | B3: 품 명 | C3: 규격 | D3: 단위 | E3: 재 료 비 | P3: 노 무 비 | Q3: 경 비 | W3: 번 호 | X3: 비 고 | Y3: 품목구분 | Z3: 노임구분 | AA3: 소수점처리 | AB3: 자재구분
E4: 조달청가격 | F4: PAGE | G4: 거래가격 | H4: PAGE | I4: 유통물가 | J4: PAGE | K4: 조사1/자료 | L4: PAGE | M4: 조사2/정보 | N4: PAGE | O4: 적용단가 | Q4: 조달청가격 | R4: 거래가격 | S4: 유통물가 | T4: 조사1/자료 | U4: 조사2/정보 | V4: 적용단가
A5: 0000270200600006 | B5: 카고트럭 | C5: 8ton | D5: 대 | E5: 0 | G5: 0 | H5: 25년 | I5: 0 | J5: 건설기계시가 | K5: 0 | L5: GRANTO13T카고 | M5: 0 | N5: 준용 | O5: 0 | P5: 0 | Q5: 0 | R5: 0 | S5: 0 | T5: 41200 | U5: 0 | V5: =SMALL(Q5:U5,COUNTIF(Q5:U5,0)+1) -> 41200 | W5: 자재 1 | X5: 천원
A6: 0000522000150000 | B6: 소형브레이커(전기식) | C6: 1.5kw | D6: 대 | E6: 0 | G6: 0 | I6: 0 | K6: 0 | M6: 0 | O6: 0 | P6: 0 | Q6: 0 | R6: 0 | S6: 0 | T6: 0 | U6: 1375 | V6: =SMALL(Q6:U6,COUNTIF(Q6:U6,0)+1) -> 1375 | W6: 자재 2 | X6: 천원
A7: 1111161120142610 | B7: 자갈 | C7: 제주, 25mm, #57 | D7: M3 | E7: 0 | G7: 0 | I7: 0 | K7: 34000 | L7: 62 | M7: 0 | O7: =SMALL(E7:M7,COUNTIF(E7:M7,0)+1) -> 34000 | P7: 0 | Q7: 0 | R7: 0 | S7: 0 | T7: 0 | U7: 0 | V7: 0 | W7: 자재 3
A8: 1111170120142524 | B8: 모래 | C8: 제주 | D8: M3 | E8: 0 | G8: 0 | I8: 0 | K8: 0 | M8: 60000 | N8: 55 | O8: =SMALL(E8:M8,COUNTIF(E8:M8,0)+1) -> 60000 | P8: 0 | Q8: 0 | R8: 0 | S8: 0 | T8: 0 | U8: 0 | V8: 0 | W8: 자재 4
A9: 1112200120142458 | B9: 내수합판 | C9: 내수합판, 1급, 12*1220*2440mm | D9: M2 | E9: 0 | G9: 0 | I9: 0 | K9: 0 | M9: 15016.12 | N9: 587 | O9: =SMALL(E9:M9,COUNTIF(E9:M9,0)+1) -> 15016.12 | P9: 0 | Q9: 0 | R9: 0 | S9: 0 | T9: 0 | U9: 0 | V9: 0 | W9: 자재 5
A10: 1119160220292342 | B10: 철강설 | C10: 철강설, 고철, 작업설부산물 | D10: kg | E10: 0 | G10: 360 | H10: 1472 | I10: 0 | J10: 1198 | K10: 0 | M10: 0 | O10: =SMALL(E10:M10,COUNTIF(E10:M10,0)+1) -> 360 | P10: 0 | Q10: 0 | R10: 0 | S10: 0 | T10: 0 | U10: 0 | V10: 0 | W10: 자재 6 | X10: 수집상차도
A11: 1119160220292343 | B11: 철거고재 | C11: 고철 | D11: kg | E11: 0 | G11: 360 | H11: 1472 | I11: 0 | K11: 0 | M11: 0 | O11: =SMALL(E11:M11,COUNTIF(E11:M11,0)+1) -> 360 | P11: 0 | Q11: 0 | R11: 0 | S11: 0 | T11: 0 | U11: 0 | V11: 0 | W11: 자재 7 | X11: 수집상차도
A12: 1119160221867609 | B12: 철거고재 | C12: 알루미늄 | D12: kg | E12: 0 | G12: 0 | I12: 3500 | J12: 1198 | K12: 0 | M12: 0 | O12: =SMALL(E12:M12,COUNTIF(E12:M12,0)+1) -> 3500 | P12: 0 | Q12: 0 | R12: 0 | S12: 0 | T12: 0 | U12: 0 | V12: 0 | W12: 자재 8 | X12: 수집상차도
A13: 3010220420287280 | B13: 일반구조용압연강판 | C13: 일반구조용압연강판, 3.0∼4.0mm | D13: kg | E13: 0 | G13: 0 | I13: 0 | K13: 0 | M13: 1011 | N13: 14 | O13: =SMALL(E13:M13,COUNTIF(E13:M13,0)+1) -> 1011 | P13: 0 | Q13: 0 | R13: 0 | S13: 0 | T13: 0 | U13: 0 | V13: 0 | W13: 자재 9
A14: 3010250420900010 | B14: 아연도금 | D14: kg | E14: 0 | G14: 0 | I14: 0 | K14: 0 | M14: 980 | N14: 83 | O14: =SMALL(E14:M14,COUNTIF(E14:M14,0)+1) -> 980 | P14: 0 | Q14: 0 | R14: 0 | S14: 0 | T14: 0 | U14: 0 | V14: 0 | W14: 자재 10
A15: 3010369820141038 | B15: 각재 | C15: 각재, 외송 | D15: M3 | E15: 0 | G15: 0 | I15: 0 | K15: 718740 | L15: 98 | M15: 0 | O15: =SMALL(E15:M15,COUNTIF(E15:M15,0)+1) -> 718740 | P15: 0 | Q15: 0 | R15: 0 | S15: 0 | T15: 0 | U15: 0 | V15: 0 | W15: 자재 11
A16: 3011160120142681 | B16: 시멘트 | C16: 제주 | D16: kg | E16: 0 | G16: 0 | I16: 0 | K16: 202.27 | L16: 65 | M16: 215.9 | N16: 58 | O16: =SMALL(E16:M16,COUNTIF(E16:M16,0)+1) -> 202.27 | P16: 0 | Q16: 0 | R16: 0 | S16: 0 | T16: 0 | U16: 0 | V16: 0 | W16: 자재 12
A17: 3116210220135743 | B17: 세트앵커 | C17: 세트앵커, M10*L75mm | D17: 개 | E17: 0 | G17: 170 | H17: 94 | I17: 160 | J17: 53 | K17: 0 | M17: 0 | O17: =SMALL(E17:M17,COUNTIF(E17:M17,0)+1) -> 160 | P17: 0 | Q17: 0 | R17: 0 | S17: 0 | T17: 0 | U17: 0 | V17: 0 | W17: 자재 13
A18: 4014218623002246 | B18: 아연도각관 | C18: 100*50*t2.1mm, 4.7292kg/m | D18: M | E18: 0 | G18: 0 | I18: 0 | K18: 0 | M18: 12268.38 | N18: 22 | O18: =SMALL(E18:M18,COUNTIF(E18:M18,0)+1) -> 12268.38 | P18: 0 | Q18: 0 | R18: 0 | S18: 0 | T18: 0 | U18: 0 | V18: 0 | W18: 자재 14
A19: 4014218720110591 | B19: 아연도각관 | C19: 100*100*t2.3mm, 6.95kg/m | D19: M | E19: 0 | G19: 0 | I19: 0 | K19: 0 | M19: 17915.73 | N19: 22 | O19: =SMALL(E19:M19,COUNTIF(E19:M19,0)+1) -> 17915.73 | P19: 0 | Q19: 0 | R19: 0 | S19: 0 | T19: 0 | U19: 0 | V19: 0 | W19: 자재 15
A20: E001010115010523 | B20: 건설폐기물처리비 | C20: 건설폐재류 | D20: TON | E20: 0 | G20: 0 | I20: 0 | K20: 0 | L20: 청봉환경 | M20: 0 | O20: 0 | P20: 0 | Q20: 0 | R20: 0 | S20: 0 | T20: 450000 | U20: 0 | V20: =SMALL(Q20:U20,COUNTIF(Q20:U20,0)+1) -> 450000 | W20: 자재 16 | Y20: C
A21: E001010115010525 | B21: 건설폐기물처리비 | C21: 혼합건설폐기물 | D21: TON | E21: 0 | G21: 0 | I21: 0 | K21: 0 | L21: 청봉환경 | M21: 0 | O21: 0 | P21: 0 | Q21: 0 | R21: 0 | S21: 0 | T21: 450000 | U21: 0 | V21: =SMALL(Q21:U21,COUNTIF(Q21:U21,0)+1) -> 450000 | W21: 자재 17 | Y21: C
A22: E001010115110601 | B22: 건설폐재류 상차비 | D22: TON | E22: 0 | G22: 0 | I22: 0 | K22: 0 | M22: 0 | N22: 1586 | O22: 0 | P22: 0 | Q22: 0 | R22: 0 | S22: 0 | T22: 0 | U22: 3890 | V22: =SMALL(Q22:U22,COUNTIF(Q22:U22,0)+1) -> 3890 | W22: 자재 18 | Y22: C
A23: E001010115110603 | B23: 혼합건설폐기물 상차비 | D23: TON | E23: 0 | G23: 0 | I23: 0 | K23: 0 | M23: 0 | N23: 1586 | O23: 0 | P23: 0 | Q23: 0 | R23: 0 | S23: 0 | T23: 0 | U23: 6420 | V23: =SMALL(Q23:U23,COUNTIF(Q23:U23,0)+1) -> 6420 | W23: 자재 19 | Y23: C
A24: E001010115110621 | B24: 건설폐재류 운반비 | C24: 15톤 덤프트럭, 30km | D24: TON | E24: 0 | G24: 0 | I24: 0 | K24: 0 | M24: 0 | N24: 1586 | O24: 0 | P24: 0 | Q24: 0 | R24: 0 | S24: 0 | T24: 0 | U24: 19700 | V24: =SMALL(Q24:U24,COUNTIF(Q24:U24,0)+1) -> 19700 | W24: 자재 20 | Y24: C
A25: E001010115110651 | B25: 혼합건설폐기물 운반비 | C25: 16톤 암롤트럭, 30km | D25: TON | E25: 0 | G25: 0 | I25: 0 | K25: 0 | M25: 0 | N25: 1586 | O25: 0 | P25: 0 | Q25: 0 | R25: 0 | S25: 0 | T25: 0 | U25: 74930 | V25: =SMALL(Q25:U25,COUNTIF(Q25:U25,0)+1) -> 74930 | W25: 자재 21 | Y25: C
A26: EDU0202433021000 | B26: 경유 | C26: 저유황 0.001% | D26: L | E26: 1625 | G26: 0 | I26: 0 | K26: 1625 | L26: 조사단가 | M26: 0 | O26: =SMALL(E26:M26,COUNTIF(E26:M26,0)+1) -> 1625 | P26: 0 | Q26: 0 | R26: 0 | S26: 0 | T26: 0 | U26: 0 | V26: 0 | W26: 자재 22
A27: L001010101000002 | B27: 보통인부 | C27: 일반공사 직종 | D27: 인 | E27: 0 | G27: 0 | I27: 0 | K27: 0 | M27: 0 | O27: 0 | P27: 172068 | Q27: 0 | R27: 0 | S27: 0 | T27: 0 | U27: 0 | V27: 0 | W27: 노임 1 | Y27: B
A28: L001010101000003 | B28: 특별인부 | C28: 일반공사 직종 | D28: 인 | E28: 0 | G28: 0 | I28: 0 | K28: 0 | M28: 0 | O28: 0 | P28: 226122 | Q28: 0 | R28: 0 | S28: 0 | T28: 0 | U28: 0 | V28: 0 | W28: 노임 2 | Y28: B
A29: L001010101000007 | B29: 형틀목공 | C29: 일반공사 직종 | D29: 인 | E29: 0 | G29: 0 | I29: 0 | K29: 0 | M29: 0 | O29: 0 | P29: 275790 | Q29: 0 | R29: 0 | S29: 0 | T29: 0 | U29: 0 | V29: 0 | W29: 노임 3 | Y29: B
A30: L001010101000009 | B30: 철공 | C30: 일반공사 직종 | D30: 인 | E30: 0 | G30: 0 | I30: 0 | K30: 0 | M30: 0 | O30: 0 | P30: 239808 | Q30: 0 | R30: 0 | S30: 0 | T30: 0 | U30: 0 | V30: 0 | W30: 노임 4 | Y30: B
A31: L001010101000012 | B31: 용접공 | C31: 일반공사 직종 | D31: 인 | E31: 0 | G31: 0 | I31: 0 | K31: 0 | M31: 0 | O31: 0 | P31: 282536 | Q31: 0 | R31: 0 | S31: 0 | T31: 0 | U31: 0 | V31: 0 | W31: 노임 5 | Y31: B
A32: L001010101000013 | B32: 콘크리트공 | C32: 일반공사 직종 | D32: 인 | E32: 0 | G32: 0 | I32: 0 | K32: 0 | M32: 0 | O32: 0 | P32: 273540 | Q32: 0 | R32: 0 | S32: 0 | T32: 0 | U32: 0 | V32: 0 | W32: 노임 6 | Y32: B
A33: L001010101000015 | B33: 착암공 | C33: 일반공사 직종 | D33: 인 | E33: 0 | G33: 0 | I33: 0 | K33: 0 | M33: 0 | O33: 0 | P33: 222306 | Q33: 0 | R33: 0 | S33: 0 | T33: 0 | U33: 0 | V33: 0 | W33: 노임 7 | Y33: B
A34: L001010101000023 | B34: 건축목공 | C34: 일반공사 직종 | D34: 인 | E34: 0 | G34: 0 | I34: 0 | K34: 0 | M34: 0 | O34: 0 | P34: 277642 | Q34: 0 | R34: 0 | S34: 0 | T34: 0 | U34: 0 | V34: 0 | W34: 노임 8 | Y34: B
A35: L001010101000030 | B35: 내장공 | C35: 일반공사 직종 | D35: 인 | E35: 0 | G35: 0 | I35: 0 | K35: 0 | M35: 0 | O35: 0 | P35: 256883 | Q35: 0 | R35: 0 | S35: 0 | T35: 0 | U35: 0 | V35: 0 | W35: 노임 9 | Y35: B
A36: L001010101000048 | B36: 건설기계운전사 | C36: 일반공사 직종 | D36: 인 | E36: 0 | G36: 0 | I36: 0 | K36: 0 | M36: 0 | O36: 0 | P36: 283297 | Q36: 0 | R36: 0 | S36: 0 | T36: 0 | U36: 0 | V36: 0 | W36: 노임 10 | Y36: B
A37: ZA25051200000611 | B37: 8톤 트럭 요금 | C37: 8톤 영차 | D37: 대 | E37: 0 | G37: 0 | I37: 0 | K37: 0 | M37: 0 | O37: 0 | P37: 0 | Q37: 0 | R37: 0 | S37: 0 | T37: 587720 | U37: 0 | V37: =SMALL(Q37:U37,COUNTIF(Q37:U37,0)+1) -> 587720 | W37: 자재 23
A38: ZA25051200000612 | B38: 트럭운전자 요금 | C38: 이코노미 | D38: 인 | E38: 0 | G38: 0 | I38: 0 | K38: 0 | M38: 0 | O38: 0 | P38: 0 | Q38: 0 | R38: 0 | S38: 0 | T38: 32300 | U38: 0 | V38: =SMALL(Q38:U38,COUNTIF(Q38:U38,0)+1) -> 32300 | W38: 자재 24
A39: ZA26012100000001 | B39: 합성목재데크 | C39: T25, 솔리드 | D39: M2 | E39: 0 | G39: 0 | I39: 0 | K39: 0 | M39: 96000 | N39: 77 | O39: =SMALL(E39:M39,COUNTIF(E39:M39,0)+1) -> 96000 | P39: 0 | Q39: 0 | R39: 0 | S39: 0 | T39: 0 | U39: 0 | V39: 0 | W39: 자재 25
A40: ZA26012100000014 | B40: 합성목재기둥 | C40: 100*100*1200 | D40: EA | E40: 0 | G40: 0 | I40: 0 | K40: 0 | L40: 조사단가 | M40: 28750 | O40: =SMALL(E40:M40,COUNTIF(E40:M40,0)+1) -> 28750 | P40: 0 | Q40: 0 | R40: 0 | S40: 0 | T40: 0 | U40: 0 | V40: 0 | W40: 자재 26
A41: ZA26012100000015 | B41: 합성목재기둥 상부캡 | D41: EA | E41: 0 | G41: 0 | I41: 0 | K41: 0 | L41: 조사단가 | M41: 6900 | O41: =SMALL(E41:M41,COUNTIF(E41:M41,0)+1) -> 6900 | P41: 0 | Q41: 0 | R41: 0 | S41: 0 | T41: 0 | U41: 0 | V41: 0 | W41: 자재 27
A42: ZA26012100000016 | B42: 합성목재기둥 하부캡 | D42: EA | E42: 0 | G42: 0 | I42: 0 | K42: 0 | L42: 조사단가 | M42: 6900 | O42: =SMALL(E42:M42,COUNTIF(E42:M42,0)+1) -> 6900 | P42: 0 | Q42: 0 | R42: 0 | S42: 0 | T42: 0 | U42: 0 | V42: 0 | W42: 자재 28
A43: ZA26012100000017 | B43: 하이브리드 가로대 | C43: 75*45*2000 | D43: EA | E43: 0 | G43: 0 | I43: 0 | K43: 0 | L43: 조사단가 | M43: 35650 | O43: =SMALL(E43:M43,COUNTIF(E43:M43,0)+1) -> 35650 | P43: 0 | Q43: 0 | R43: 0 | S43: 0 | T43: 0 | U43: 0 | V43: 0 | W43: 자재 29
A44: ZA26012100000018 | B44: 하이브리드 가로대 브라켓 | D44: EA | E44: 0 | G44: 0 | I44: 0 | K44: 0 | L44: 조사단가 | M44: 6900 | O44: =SMALL(E44:M44,COUNTIF(E44:M44,0)+1) -> 6900 | P44: 0 | Q44: 0 | R44: 0 | S44: 0 | T44: 0 | U44: 0 | V44: 0 | W44: 자재 30

Sheet  공사설정 
A1: 이 Sheet는 수정하지 마십시요
A2: 공사구분 | B2: A | C2: 타이틀 | D2: T
A3: 확정내역 | B3: 원내역
A4: 자재단가적용 | B4: 5
A5: 경비단가적용 | B5: 5
A6: 품목코드형식 | B6: XXXX-XXXX-XXXXXXXXX
A7: 내역금액소수점처리 | B7: C | C7: T
A8: 일위대가내역소수점처리 | B8: C | C8: 2
A9: 단가명 | B9: 조달청가격 | C9: 거래가격 | D9: 유통물가 | E9: 조사1/자료 | F9: 조사2/정보 | G9: TTTTT
A10: 환율 | B10: 1472 | C10: 0 | D10: 0
A11: 시간당작업량 | B11: R | C11: 4
A12: 1회 사이클시간 | B12: R | C12: 4
A13: 시간당 작업사이클 | B13: R | C13: 3
A14: 일반변수 | B14: R | C14: 5
A15: 시간당 노임산출 계수 | B15: A | C15: 1/8*16/12*25/20 | D15: 1/8*16/12*25/20 | E15: 1/8*16/12*25/20 | F15: 1
A16: 재료비 할증 계수 | B16: 1.11 | C16: 1.12
A17: 노무비 할증 계수 | B17: 1 | C17: 1.5 | D17: 1.16 | E17: 1.6 | F17: 1.6 | G17: 1.6 | H17: 1.94 | I17: 1.94 | J17: 1.94 | K17: 1 | L17: 1 | M17: 1
A18: 경비 할증 계수 | B18: 1.25 | C18: 1.071
A19: 내역,일위대가 품명,규격,단위 따로적용
A20: 내역단가 소수점처리 | B20: C | C20: 1
A21: 코드 | B21: 공종구분명 | C21: 원가비목코드
A22: 1 | B22: 작 업 부 산 물 | C22: A3
A23: 2
A24: 3 | B24: 운 반 비 | C24: C1
A25: 4
A26: 5 | B26: 공 통 가 설 비 | C26: C3
A27: 6
A28: 7 | B28: 품 질 관 리 비 | C28: CD
A29: 8
A30: 9 | B30: 안 전 관 리 비 | C30: CE
A31: A | B31: ....
A32: B | B32: 건설폐기물처리비 | C32: CF
A33: C | B33: 철 거 고 재 | C33: D5
A34: D | B34: ....
A35: E | B35: 미확정설계공정(P.S) | C35: D7
A36: F | B36: ....
A37: G | B37: 도급자관급자재 | C37: DK
A38: H | B38: 관급자관급자재 | C38: DL
A39: I | B39: ....
A40: J | B40: ....
A43: 단가 순서 | B43: 1234

Sheet Sheet1
