Workbook

Sheet 공종별집계표
A1: 공 종 별 집 계 표
A2: [ 국립생태원 에코케어센터 건립공사 실시설계용역(전기) ]
A3: 품 명 | B3: 규 격 | C3: 단위 | D3: 수량 | E3: 재 료 비 | G3: 노 무 비 | I3: 경 비 | K3: 합 계 | M3: 비 고 | N3: 공종코드 | O3: 변수 | P3: 상위공종 | Q3: 공종구분 | R3: 공종레벨 | S3: 공종소계 | T3: 원가계산서 연결금액
E4: 단 가 | F4: 금 액 | G4: 단 가 | H4: 금 액 | I4: 단 가 | J4: 금 액 | K4: 단 가 | L4: 금 액
A5: 01 국립생태원 에코케어센터 건립공사 실시설계용역(전기) | D5: 1 | E5: =F6+F7+F8+F9+F10+F11 -> 0 | F5: =E5*D5 -> 0 | G5: =H6+H7+H8+H9+H10+H11 -> 0 | H5: =G5*D5 -> 0 | I5: =J6+J7+J8+J9+J10+J11 -> 0 | J5: =I5*D5 -> 0 | K5: =E5+G5+I5 -> 0 | L5: =F5+H5+J5 -> 0 | N5: 01 | R5: 1
A6: 0101 전력간선 설비공사 | D6: 1 | E6: =공종별내역서!F29 -> 0 | F6: =E6*D6 -> 0 | G6: =공종별내역서!H29 -> 0 | H6: =G6*D6 -> 0 | I6: =공종별내역서!J29 -> 0 | J6: =I6*D6 -> 0 | K6: =E6+G6+I6 -> 0 | L6: =F6+H6+J6 -> 0 | N6: 0101 | P6: 01 | R6: 2
A7: 0102 동력 설비공사 | D7: 1 | E7: =공종별내역서!F55 -> 0 | F7: =E7*D7 -> 0 | G7: =공종별내역서!H55 -> 0 | H7: =G7*D7 -> 0 | I7: =공종별내역서!J55 -> 0 | J7: =I7*D7 -> 0 | K7: =E7+G7+I7 -> 0 | L7: =F7+H7+J7 -> 0 | N7: 0102 | P7: 01 | R7: 2
A8: 0103 전등 설비공사 | D8: 1 | E8: =공종별내역서!F81 -> 0 | F8: =E8*D8 -> 0 | G8: =공종별내역서!H81 -> 0 | H8: =G8*D8 -> 0 | I8: =공종별내역서!J81 -> 0 | J8: =I8*D8 -> 0 | K8: =E8+G8+I8 -> 0 | L8: =F8+H8+J8 -> 0 | N8: 0103 | P8: 01 | R8: 2
A9: 0104 전열 설비공사 | D9: 1 | E9: =공종별내역서!F107 -> 0 | F9: =E9*D9 -> 0 | G9: =공종별내역서!H107 -> 0 | H9: =G9*D9 -> 0 | I9: =공종별내역서!J107 -> 0 | J9: =I9*D9 -> 0 | K9: =E9+G9+I9 -> 0 | L9: =F9+H9+J9 -> 0 | N9: 0104 | P9: 01 | R9: 2
A10: 0105 냉난방전원 설비공사 | D10: 1 | E10: =공종별내역서!F133 -> 0 | F10: =E10*D10 -> 0 | G10: =공종별내역서!H133 -> 0 | H10: =G10*D10 -> 0 | I10: =공종별내역서!J133 -> 0 | J10: =I10*D10 -> 0 | K10: =E10+G10+I10 -> 0 | L10: =F10+H10+J10 -> 0 | N10: 0105 | P10: 01 | R10: 2
A11: 0106 바닥난방 설비공사 | D11: 1 | E11: =공종별내역서!F159 -> 0 | F11: =E11*D11 -> 0 | G11: =공종별내역서!H159 -> 0 | H11: =G11*D11 -> 0 | I11: =공종별내역서!J159 -> 0 | J11: =I11*D11 -> 0 | K11: =E11+G11+I11 -> 0 | L11: =F11+H11+J11 -> 0 | N11: 0106 | P11: 01 | R11: 2
A12: 0107 사급자재 | D12: 1 | E12: =공종별내역서!F185 -> 0 | F12: =E12*D12 -> 0 | G12: =공종별내역서!H185 -> 0 | H12: =G12*D12 -> 0 | I12: =공종별내역서!J185 -> 0 | J12: =I12*D12 -> 0 | K12: =E12+G12+I12 -> 0 | L12: =F12+H12+J12 -> 0 | N12: 0107 | Q12: 4 | R12: 2 | T12: =L12*1 -> 0
A13: 0108 관급자재 | D13: 1 | E13: =공종별내역서!F211 -> 0 | F13: =E13*D13 -> 0 | G13: =공종별내역서!H211 -> 0 | H13: =G13*D13 -> 0 | I13: =공종별내역서!J211 -> 0 | J13: =I13*D13 -> 0 | K13: =E13+G13+I13 -> 0 | L13: =F13+H13+J13 -> 0 | N13: 0108 | Q13: 3 | R13: 2 | T13: =L13*1 -> 0
A29: [ 합 계 ] | F29: =F5 -> 0 | H29: =H5 -> 0 | J29: =J5 -> 0 | L29: =L5 -> 0

Sheet 공종별내역서
A1: [ 국립생태원 에코케어센터 건립공사 실시설계용역(전기) ]
A2: 품 명 | B2: 규 격 | C2: 단위 | D2: 수량 | E2: 재 료 비 | G2: 노 무 비 | I2: 경 비 | K2: 합 계 | M2: 비 고 | N2: 품목코드 | O2: 변수 | P2: 설정 | Q2: 공종코드 | R2: 일위 | S2: 단산 | T2: 자재 | U2: 손료적용 | V2: 손료저장 | W2: 적용율 | X2: JUK1 | Y2: JUK2 | Z2: JUK3 | AA2: JUK4 | AB2: JUK5 | AC2: JUK6 | AD2: JUK7 | AE2: JUK8 | AF2: JUK9 | AG2: JUK10 | AH2: JUK11 | AI2: JUK12 | AJ2: JUK13 | AK2: JUK14 | AL2: JUK15 | AM2: JUK16 | AN2: JUK17 | AO2: JUK18 | AP2: JUK19 | AQ2: JUK20 | AR2: 자재구분 | AS2: 공종구분 | AT2: 공종레벨 | AU2: 공종+자재 | AV2: 고유번호
E3: 단 가 | F3: 금 액 | G3: 단 가 | H3: 금 액 | I3: 단 가 | J3: 금 액 | K3: 단 가 | L3: 금 액
A4: 0101 전력간선 설비공사 | Q4: 0101
A5: 분전반 설치 | B5: 4P 400AF | C5: 대 | D5: 1 | E5: =TRUNC(일위대가목록!E4,0) -> 0 | F5: =TRUNC(E5*D5, 0) -> 0 | G5: =TRUNC(일위대가목록!F4,0) -> 0 | H5: =TRUNC(G5*D5, 0) -> 0 | I5: =TRUNC(일위대가목록!G4,0) -> 0 | J5: =TRUNC(I5*D5, 0) -> 0 | K5: =TRUNC(E5+G5+I5, 0) -> 0 | L5: =TRUNC(F5+H5+J5, 0) -> 0 | N5: 51C6822337035264FF2F76975F96DA | Q5: 0101 | R5: T | S5: F | T5: F | AU5: 010151C6822337035264FF2F76975F96DA | AV5: 2369
A6: 분전반 설치 | B6: 4P 100AF | C6: 대 | D6: 1 | E6: =TRUNC(일위대가목록!E5,0) -> 0 | F6: =TRUNC(E6*D6, 0) -> 0 | G6: =TRUNC(일위대가목록!F5,0) -> 0 | H6: =TRUNC(G6*D6, 0) -> 0 | I6: =TRUNC(일위대가목록!G5,0) -> 0 | J6: =TRUNC(I6*D6, 0) -> 0 | K6: =TRUNC(E6+G6+I6, 0) -> 0 | L6: =TRUNC(F6+H6+J6, 0) -> 0 | N6: 51C6822337035264FF2F76975F9427 | Q6: 0101 | R6: T | S6: F | T6: F | AU6: 010151C6822337035264FF2F76975F9427 | AV6: 2367
A7: 분전반 설치 | B7: 4P 50AF | C7: 대 | D7: 1 | E7: =TRUNC(일위대가목록!E6,0) -> 0 | F7: =TRUNC(E7*D7, 0) -> 0 | G7: =TRUNC(일위대가목록!F6,0) -> 0 | H7: =TRUNC(G7*D7, 0) -> 0 | I7: =TRUNC(일위대가목록!G6,0) -> 0 | J7: =TRUNC(I7*D7, 0) -> 0 | K7: =TRUNC(E7+G7+I7, 0) -> 0 | L7: =TRUNC(F7+H7+J7, 0) -> 0 | N7: 51C6822337035264FF2F76975F9424 | Q7: 0101 | R7: T | S7: F | T7: F | AU7: 010151C6822337035264FF2F76975F9424 | AV7: 2368
A8: 0.6/1kV XLPE절연비닐시스케이블 | B8: F-CV 150㎟ - 1C x 4열 | C8: m | D8: 980 | E8: =TRUNC(일위대가목록!E7,0) -> 0 | F8: =TRUNC(E8*D8, 0) -> 0 | G8: =TRUNC(일위대가목록!F7,0) -> 0 | H8: =TRUNC(G8*D8, 0) -> 0 | I8: =TRUNC(일위대가목록!G7,0) -> 0 | J8: =TRUNC(I8*D8, 0) -> 0 | K8: =TRUNC(E8+G8+I8, 0) -> 0 | L8: =TRUNC(F8+H8+J8, 0) -> 0 | N8: 51C682230A0337623119CA8B1F17F1 | Q8: 0101 | R8: T | S8: F | T8: F | AU8: 010151C682230A0337623119CA8B1F17F1 | AV8: 2378
A9: 0.6/1kV XLPE절연비닐시스케이블 | B9: F-CV 10㎟ - 4C | C9: m | D9: 18 | E9: =TRUNC(일위대가목록!E8,0) -> 0 | F9: =TRUNC(E9*D9, 0) -> 0 | G9: =TRUNC(일위대가목록!F8,0) -> 0 | H9: =TRUNC(G9*D9, 0) -> 0 | I9: =TRUNC(일위대가목록!G8,0) -> 0 | J9: =TRUNC(I9*D9, 0) -> 0 | K9: =TRUNC(E9+G9+I9, 0) -> 0 | L9: =TRUNC(F9+H9+J9, 0) -> 0 | N9: 51C682230A0337623119CA8B1E77BD | Q9: 0101 | R9: T | S9: F | T9: F | AU9: 010151C682230A0337623119CA8B1E77BD | AV9: 1699
A10: 접지용 절연전선 | B10: F-GV 95㎟ 관로 | C10: m | D10: 245 | E10: =TRUNC(일위대가목록!E9,0) -> 0 | F10: =TRUNC(E10*D10, 0) -> 0 | G10: =TRUNC(일위대가목록!F9,0) -> 0 | H10: =TRUNC(G10*D10, 0) -> 0 | I10: =TRUNC(일위대가목록!G9,0) -> 0 | J10: =TRUNC(I10*D10, 0) -> 0 | K10: =TRUNC(E10+G10+I10, 0) -> 0 | L10: =TRUNC(F10+H10+J10, 0) -> 0 | N10: 51C682230A03266CEB0C8615F3E005 | Q10: 0101 | R10: T | S10: F | T10: F | AU10: 010151C682230A03266CEB0C8615F3E005 | AV10: 1726
A11: 접지용 절연전선 | B11: F-GV 10㎟ 관로 | C11: m | D11: 18 | E11: =TRUNC(일위대가목록!E10,0) -> 0 | F11: =TRUNC(E11*D11, 0) -> 0 | G11: =TRUNC(일위대가목록!F10,0) -> 0 | H11: =TRUNC(G11*D11, 0) -> 0 | I11: =TRUNC(일위대가목록!G10,0) -> 0 | J11: =TRUNC(I11*D11, 0) -> 0 | K11: =TRUNC(E11+G11+I11, 0) -> 0 | L11: =TRUNC(F11+H11+J11, 0) -> 0 | N11: 51C682230A03266CEB0C8615F3E7B4 | Q11: 0101 | R11: T | S11: F | T11: F | AU11: 010151C682230A03266CEB0C8615F3E7B4 | AV11: 1701
A12: 경질비닐(HI-PVC)전선관 | B12: HI 42C 매입 | C12: M | D12: 18 | E12: =TRUNC(일위대가목록!E11,0) -> 0 | F12: =TRUNC(E12*D12, 0) -> 0 | G12: =TRUNC(일위대가목록!F11,0) -> 0 | H12: =TRUNC(G12*D12, 0) -> 0 | I12: =TRUNC(일위대가목록!G11,0) -> 0 | J12: =TRUNC(I12*D12, 0) -> 0 | K12: =TRUNC(E12+G12+I12, 0) -> 0 | L12: =TRUNC(F12+H12+J12, 0) -> 0 | N12: 51C682230A03996BB67AF2B8595CA9 | Q12: 0101 | R12: T | S12: F | T12: F | AU12: 010151C682230A03996BB67AF2B8595CA9 | AV12: 1703
A13: 파상형경질비닐(ELP)전선관 | B13: ELP 125Φ | C13: M | D13: 30 | E13: =TRUNC(일위대가목록!E12,0) -> 0 | F13: =TRUNC(E13*D13, 0) -> 0 | G13: =TRUNC(일위대가목록!F12,0) -> 0 | H13: =TRUNC(G13*D13, 0) -> 0 | I13: =TRUNC(일위대가목록!G12,0) -> 0 | J13: =TRUNC(I13*D13, 0) -> 0 | K13: =TRUNC(E13+G13+I13, 0) -> 0 | L13: =TRUNC(F13+H13+J13, 0) -> 0 | N13: 51C682230A031465D96D3CC4AC846D | Q13: 0101 | R13: T | S13: F | T13: F | AU13: 010151C682230A031465D96D3CC4AC846D | AV13: 2346
A14: 케이블 트레이 | B14: ST 300 x 100H | C14: m | D14: 40 | E14: =TRUNC(일위대가목록!E13,0) -> 0 | F14: =TRUNC(E14*D14, 0) -> 0 | G14: =TRUNC(일위대가목록!F13,0) -> 0 | H14: =TRUNC(G14*D14, 0) -> 0 | I14: =TRUNC(일위대가목록!G13,0) -> 0 | J14: =TRUNC(I14*D14, 0) -> 0 | K14: =TRUNC(E14+G14+I14, 0) -> 0 | L14: =TRUNC(F14+H14+J14, 0) -> 0 | N14: 51C682230A034169BCE8468938F368 | Q14: 0101 | R14: T | S14: F | T14: F | AU14: 010151C682230A034169BCE8468938F368 | AV14: 2330
A15: 케이블트레이 지지대 | B15: 300W | C15: 개소 | D15: 20 | E15: =TRUNC(일위대가목록!E14,0) -> 0 | F15: =TRUNC(E15*D15, 0) -> 0 | G15: =TRUNC(일위대가목록!F14,0) -> 0 | H15: =TRUNC(G15*D15, 0) -> 0 | I15: =TRUNC(일위대가목록!G14,0) -> 0 | J15: =TRUNC(I15*D15, 0) -> 0 | K15: =TRUNC(E15+G15+I15, 0) -> 0 | L15: =TRUNC(F15+H15+J15, 0) -> 0 | N15: 51C682230A034169BCE8468938F367 | Q15: 0101 | R15: T | S15: F | T15: F | AU15: 010151C682230A034169BCE8468938F367 | AV15: 2331
A16: 터파기 및 되메우기(기계) | B16: 500x600x600 | C16: m | D16: 30 | E16: =TRUNC(일위대가목록!E15,0) -> 0 | F16: =TRUNC(E16*D16, 0) -> 0 | G16: =TRUNC(일위대가목록!F15,0) -> 0 | H16: =TRUNC(G16*D16, 0) -> 0 | I16: =TRUNC(일위대가목록!G15,0) -> 0 | J16: =TRUNC(I16*D16, 0) -> 0 | K16: =TRUNC(E16+G16+I16, 0) -> 0 | L16: =TRUNC(F16+H16+J16, 0) -> 0 | N16: 518D025372037D6D9AC584049555D2 | Q16: 0101 | R16: T | S16: F | T16: F | AU16: 0101518D025372037D6D9AC584049555D2 | AV16: 2332
... A19: 관로구방수 | B19: ø125 | C19: 개소 | D19: 1 | E19: =TRUNC(일위대가목록!E18,0) -> 0 | F19: =TRUNC(E19*D19, 0) -> 0 | G19: =TRUNC(일위대가목록!F18,0) -> 0 | H19: =TRUNC(G19*D19, 0) -> 0 | I19: =TRUNC(일위대가목록!G18,0) -> 0 | J19: =TRUNC(I19*D19, 0) -> 0 | K19: =TRUNC(E19+G19+I19, 0) -> 0 | L19: =TRUNC(F19+H19+J19, 0) -> 0 | N19: 51C682230A035260AAC40B19337926 | Q19: 0101 | R19: T | S19: F | T19: F | AU19: 010151C682230A035260AAC40B19337926 | AV19: 2376
A29: [ 합 계 ] | F29: =SUM(F5:F28) -> 0 | H29: =SUM(H5:H28) -> 0 | J29: =SUM(J5:J28) -> 0 | L29: =SUM(L5:L28) -> 0 | N29: TOTAL
A30: 0102 동력 설비공사 | Q30: 0102
A31: 0.6/1kV XLPE절연비닐시스케이블 | B31: F-CV 70㎟ - 1C x 4열 | C31: m | D31: 56 | E31: =TRUNC(일위대가목록!E19,0) -> 0 | F31: =TRUNC(E31*D31, 0) -> 0 | G31: =TRUNC(일위대가목록!F19,0) -> 0 | H31: =TRUNC(G31*D31, 0) -> 0 | I31: =TRUNC(일위대가목록!G19,0) -> 0 | J31: =TRUNC(I31*D31, 0) -> 0 | K31: =TRUNC(E31+G31+I31, 0) -> 0 | L31: =TRUNC(F31+H31+J31, 0) -> 0 | N31: 51C682230A0337623119CA8B1E77BA | Q31: 0102 | R31: T | S31: F | T31: F | AU31: 010251C682230A0337623119CA8B1E77BA | AV31: 1721
A32: 0.6/1kV XLPE절연비닐시스케이블 | B32: F-CV 4㎟ - 4C | C32: m | D32: 114 | E32: =TRUNC(일위대가목록!E20,0) -> 0 | F32: =TRUNC(E32*D32, 0) -> 0 | G32: =TRUNC(일위대가목록!F20,0) -> 0 | H32: =TRUNC(G32*D32, 0) -> 0 | I32: =TRUNC(일위대가목록!G20,0) -> 0 | J32: =TRUNC(I32*D32, 0) -> 0 | K32: =TRUNC(E32+G32+I32, 0) -> 0 | L32: =TRUNC(F32+H32+J32, 0) -> 0 | N32: 51C682230A0337623119CA8B1E77B3 | Q32: 0102 | R32: T | S32: F | T32: F | AU32: 010251C682230A0337623119CA8B1E77B3 | AV32: 2334
A33: 제어용 비닐시스 케이블 | B33: F-CVV 2.5㎟-3C | C33: m | D33: 33 | E33: =TRUNC(일위대가목록!E21,0) -> 0 | F33: =TRUNC(E33*D33, 0) -> 0 | G33: =TRUNC(일위대가목록!F21,0) -> 0 | H33: =TRUNC(G33*D33, 0) -> 0 | I33: =TRUNC(일위대가목록!G21,0) -> 0 | J33: =TRUNC(I33*D33, 0) -> 0 | K33: =TRUNC(E33+G33+I33, 0) -> 0 | L33: =TRUNC(F33+H33+J33, 0) -> 0 | N33: 51C682230A03376234ED6A6337AEAD | Q33: 0102 | R33: T | S33: F | T33: F | AU33: 010251C682230A03376234ED6A6337AEAD | AV33: 1962
A34: 경질비닐(HI-PVC)전선관 | B34: HI 28C 매입 | C34: M | D34: 110 | E34: =TRUNC(일위대가목록!E22,0) -> 0 | F34: =TRUNC(E34*D34, 0) -> 0 | G34: =TRUNC(일위대가목록!F22,0) -> 0 | H34: =TRUNC(G34*D34, 0) -> 0 | I34: =TRUNC(일위대가목록!G22,0) -> 0 | J34: =TRUNC(I34*D34, 0) -> 0 | K34: =TRUNC(E34+G34+I34, 0) -> 0 | L34: =TRUNC(F34+H34+J34, 0) -> 0 | N34: 51C682230A03996BB67AF2B8595CAF | Q34: 0102 | R34: T | S34: F | T34: F | AU34: 010251C682230A03996BB67AF2B8595CAF | AV34: 2349
A35: 경질비닐(HI-PVC)전선관 | B35: HI 16C 매입 | C35: M | D35: 32 | E35: =TRUNC(일위대가목록!E23,0) -> 0 | F35: =TRUNC(E35*D35, 0) -> 0 | G35: =TRUNC(일위대가목록!F23,0) -> 0 | H35: =TRUNC(G35*D35, 0) -> 0 | I35: =TRUNC(일위대가목록!G23,0) -> 0 | J35: =TRUNC(I35*D35, 0) -> 0 | K35: =TRUNC(E35+G35+I35, 0) -> 0 | L35: =TRUNC(F35+H35+J35, 0) -> 0 | N35: 51C682230A03996BB67AF2B8595CAD | Q35: 0102 | R35: T | S35: F | T35: F | AU35: 010251C682230A03996BB67AF2B8595CAD | AV35: 2350
A36: 금속가요(FX)전선관 | B36: FX 22C 콘크리트 노출 | C36: M | D36: 4 | E36: =TRUNC(일위대가목록!E24,0) -> 0 | F36: =TRUNC(E36*D36, 0) -> 0 | G36: =TRUNC(일위대가목록!F24,0) -> 0 | H36: =TRUNC(G36*D36, 0) -> 0 | I36: =TRUNC(일위대가목록!G24,0) -> 0 | J36: =TRUNC(I36*D36, 0) -> 0 | K36: =TRUNC(E36+G36+I36, 0) -> 0 | L36: =TRUNC(F36+H36+J36, 0) -> 0 | N36: 51C682230A03996BB67AF2B8595E5B | Q36: 0102 | R36: T | S36: F | T36: F | AU36: 010251C682230A03996BB67AF2B8595E5B | AV36: 2351
A37: 풀박스 | B37: 150x150x100 천장 | C37: 개소 | D37: 1 | E37: =TRUNC(일위대가목록!E16,0) -> 0 | F37: =TRUNC(E37*D37, 0) -> 0 | G37: =TRUNC(일위대가목록!F16,0) -> 0 | H37: =TRUNC(G37*D37, 0) -> 0 | I37: =TRUNC(일위대가목록!G16,0) -> 0 | J37: =TRUNC(I37*D37, 0) -> 0 | K37: =TRUNC(E37+G37+I37, 0) -> 0 | L37: =TRUNC(F37+H37+J37, 0) -> 0 | N37: 51C682230A03996BB44D980937DE3A | Q37: 0102 | R37: T | S37: F | T37: F | AU37: 010251C682230A03996BB44D980937DE3A | AV37: 1901
A55: [ 합 계 ] | F55: =SUM(F31:F54) -> 0 | H55: =SUM(H31:H54) -> 0 | J55: =SUM(J31:J54) -> 0 | L55: =SUM(L31:L54) -> 0 | N55: TOTAL
A56: 0103 전등 설비공사 | Q56: 0103
A57: 조명기구(직부등) | B57: LED 38W | C57: 등 | D57: 23 | E57: =TRUNC(일위대가목록!E25,0) -> 0 | F57: =TRUNC(E57*D57, 0) -> 0 | G57: =TRUNC(일위대가목록!F25,0) -> 0 | H57: =TRUNC(G57*D57, 0) -> 0 | I57: =TRUNC(일위대가목록!G25,0) -> 0 | J57: =TRUNC(I57*D57, 0) -> 0 | K57: =TRUNC(E57+G57+I57, 0) -> 0 | L57: =TRUNC(F57+H57+J57, 0) -> 0 | N57: 51C682230A03996BB44D9ACD07A882 | Q57: 0103 | R57: T | S57: F | T57: F | AU57: 010351C682230A03996BB44D9ACD07A882 | AV57: 1806
A58: 조명기구(직부등) | B58: LED 12W | C58: 등 | D58: 6 | E58: =TRUNC(일위대가목록!E26,0) -> 0 | F58: =TRUNC(E58*D58, 0) -> 0 | G58: =TRUNC(일위대가목록!F26,0) -> 0 | H58: =TRUNC(G58*D58, 0) -> 0 | I58: =TRUNC(일위대가목록!G26,0) -> 0 | J58: =TRUNC(I58*D58, 0) -> 0 | K58: =TRUNC(E58+G58+I58, 0) -> 0 | L58: =TRUNC(F58+H58+J58, 0) -> 0 | N58: 51C682230A03996BB44D9ACD07A880 | Q58: 0103 | R58: T | S58: F | T58: F | AU58: 010351C682230A03996BB44D9ACD07A880 | AV58: 1808
A59: 조명기구(센서등) | B59: LED 12W | C59: 등 | D59: 10 | E59: =TRUNC(일위대가목록!E27,0) -> 0 | F59: =TRUNC(E59*D59, 0) -> 0 | G59: =TRUNC(일위대가목록!F27,0) -> 0 | H59: =TRUNC(G59*D59, 0) -> 0 | I59: =TRUNC(일위대가목록!G27,0) -> 0 | J59: =TRUNC(I59*D59, 0) -> 0 | K59: =TRUNC(E59+G59+I59, 0) -> 0 | L59: =TRUNC(F59+H59+J59, 0) -> 0 | N59: 51C682230A03996BB44D9ACD07A887 | Q59: 0103 | R59: T | S59: F | T59: F | AU59: 010351C682230A03996BB44D9ACD07A887 | AV59: 1809
A60: 조명기구(사각매입등) | B60: LED 11W | C60: 등 | D60: 33 | E60: =TRUNC(일위대가목록!E28,0) -> 0 | F60: =TRUNC(E60*D60, 0) -> 0 | G60: =TRUNC(일위대가목록!F28,0) -> 0 | H60: =TRUNC(G60*D60, 0) -> 0 | I60: =TRUNC(일위대가목록!G28,0) -> 0 | J60: =TRUNC(I60*D60, 0) -> 0 | K60: =TRUNC(E60+G60+I60, 0) -> 0 | L60: =TRUNC(F60+H60+J60, 0) -> 0 | N60: 51C682230A03996BB44D9ACD07A886 | Q60: 0103 | R60: T | S60: F | T60: F | AU60: 010351C682230A03996BB44D9ACD07A886 | AV60: 1810
A61: 조명기구(벽부등) | B61: LED 9W | C61: 등 | D61: 2 | E61: =TRUNC(일위대가목록!E29,0) -> 0 | F61: =TRUNC(E61*D61, 0) -> 0 | G61: =TRUNC(일위대가목록!F29,0) -> 0 | H61: =TRUNC(G61*D61, 0) -> 0 | I61: =TRUNC(일위대가목록!G29,0) -> 0 | J61: =TRUNC(I61*D61, 0) -> 0 | K61: =TRUNC(E61+G61+I61, 0) -> 0 | L61: =TRUNC(F61+H61+J61, 0) -> 0 | N61: 51C682230A03996BB44D9ACD07A885 | Q61: 0103 | R61: T | S61: F | T61: F | AU61: 010351C682230A03996BB44D9ACD07A885 | AV61: 1811
A62: 단로 스위치 | B62: 1구 | C62: 개 | D62: 6 | E62: =TRUNC(일위대가목록!E30,0) -> 0 | F62: =TRUNC(E62*D62, 0) -> 0 | G62: =TRUNC(일위대가목록!F30,0) -> 0 | H62: =TRUNC(G62*D62, 0) -> 0 | I62: =TRUNC(일위대가목록!G30,0) -> 0 | J62: =TRUNC(I62*D62, 0) -> 0 | K62: =TRUNC(E62+G62+I62, 0) -> 0 | L62: =TRUNC(F62+H62+J62, 0) -> 0 | N62: 51C682230A03996BB44D9CFA7B53B2 | Q62: 0103 | R62: T | S62: F | T62: F | AU62: 010351C682230A03996BB44D9CFA7B53B2 | AV62: 581
A63: 단로 스위치 | B63: 2구 | C63: 개 | D63: 2 | E63: =TRUNC(일위대가목록!E31,0) -> 0 | F63: =TRUNC(E63*D63, 0) -> 0 | G63: =TRUNC(일위대가목록!F31,0) -> 0 | H63: =TRUNC(G63*D63, 0) -> 0 | I63: =TRUNC(일위대가목록!G31,0) -> 0 | J63: =TRUNC(I63*D63, 0) -> 0 | K63: =TRUNC(E63+G63+I63, 0) -> 0 | L63: =TRUNC(F63+H63+J63, 0) -> 0 | N63: 51C682230A03996BB44D9CFA7B53B3 | Q63: 0103 | R63: T | S63: F | T63: F | AU63: 010351C682230A03996BB44D9CFA7B53B3 | AV63: 582
A64: 단로 스위치 | B64: 3구 | C64: 개 | D64: 6 | E64: =TRUNC(일위대가목록!E32,0) -> 0 | F64: =TRUNC(E64*D64, 0) -> 0 | G64: =TRUNC(일위대가목록!F32,0) -> 0 | H64: =TRUNC(G64*D64, 0) -> 0 | I64: =TRUNC(일위대가목록!G32,0) -> 0 | J64: =TRUNC(I64*D64, 0) -> 0 | K64: =TRUNC(E64+G64+I64, 0) -> 0 | L64: =TRUNC(F64+H64+J64, 0) -> 0 | N64: 51C682230A03996BB44D9CFA7B53B0 | Q64: 0103 | R64: T | S64: F | T64: F | AU64: 010351C682230A03996BB44D9CFA7B53B0 | AV64: 604
A65: 콘센트 설치 | B65: 2P 1구 250V 15A 매입 접지 | C65: 개 | D65: 10 | E65: =TRUNC(일위대가목록!E33,0) -> 0 | F65: =TRUNC(E65*D65, 0) -> 0 | G65: =TRUNC(일위대가목록!F33,0) -> 0 | H65: =TRUNC(G65*D65, 0) -> 0 | I65: =TRUNC(일위대가목록!G33,0) -> 0 | J65: =TRUNC(I65*D65, 0) -> 0 | K65: =TRUNC(E65+G65+I65, 0) -> 0 | L65: =TRUNC(F65+H65+J65, 0) -> 0 | N65: 51C682230A03996BB44D9CFA7A4E0C | Q65: 0103 | R65: T | S65: F | T65: F | AU65: 010351C682230A03996BB44D9CFA7A4E0C | AV65: 583
A66: 박스 | B66: 4각 54 mm | C66: 개 | D66: 4 | E66: =TRUNC(일위대가목록!E34,0) -> 0 | F66: =TRUNC(E66*D66, 0) -> 0 | G66: =TRUNC(일위대가목록!F34,0) -> 0 | H66: =TRUNC(G66*D66, 0) -> 0 | I66: =TRUNC(일위대가목록!G34,0) -> 0 | J66: =TRUNC(I66*D66, 0) -> 0 | K66: =TRUNC(E66+G66+I66, 0) -> 0 | L66: =TRUNC(F66+H66+J66, 0) -> 0 | N66: 51C682230A03996BB67AF191B3DF94 | Q66: 0103 | R66: T | S66: F | T66: F | AU66: 010351C682230A03996BB67AF191B3DF94 | AV66: 584
A67: 박스 | B67: 8각 54 mm | C67: 개 | D67: 51 | E67: =TRUNC(일위대가목록!E35,0) -> 0 | F67: =TRUNC(E67*D67, 0) -> 0 | G67: =TRUNC(일위대가목록!F35,0) -> 0 | H67: =TRUNC(G67*D67, 0) -> 0 | I67: =TRUNC(일위대가목록!G35,0) -> 0 | J67: =TRUNC(I67*D67, 0) -> 0 | K67: =TRUNC(E67+G67+I67, 0) -> 0 | L67: =TRUNC(F67+H67+J67, 0) -> 0 | N67: 51C682230A03996BB67AF191B3DF93 | Q67: 0103 | R67: T | S67: F | T67: F | AU67: 010351C682230A03996BB67AF191B3DF93 | AV67: 585
A68: 박스 | B68: SW 44 mm 1개용 | C68: 개 | D68: 22 | E68: =TRUNC(일위대가목록!E36,0) -> 0 | F68: =TRUNC(E68*D68, 0) -> 0 | G68: =TRUNC(일위대가목록!F36,0) -> 0 | H68: =TRUNC(G68*D68, 0) -> 0 | I68: =TRUNC(일위대가목록!G36,0) -> 0 | J68: =TRUNC(I68*D68, 0) -> 0 | K68: =TRUNC(E68+G68+I68, 0) -> 0 | L68: =TRUNC(F68+H68+J68, 0) -> 0 | N68: 51C682230A03996BB67AF191B3DF96 | Q68: 0103 | R68: T | S68: F | T68: F | AU68: 010351C682230A03996BB67AF191B3DF96 | AV68: 586
...

Sheet 일위대가목록
A1: 일 위 대 가 목 록
A2: [ 국립생태원 에코케어센터 건립공사 실시설계용역(전기) ]
A3: 코 드 | B3: 품 명 | C3: 규 격 | D3: 단위 | E3: 재 료 비 | F3: 노 무 비 | G3: 경 비 | H3: 합 계 | I3: 번 호 | J3: 비 고 | K3: 노임계수 | L3: 할증 | M3: 품셈개요 | N3: 장비일위
A4: 51C6822337035264FF2F76975F96DA | B4: 분전반 설치 | C4: 4P 400AF | D4: 대 | E4: =일위대가!F6 -> 0 | F4: =일위대가!H6 -> 0 | G4: =일위대가!J6 -> 0 | H4: =E4+F4+G4 -> 0 | I4: 호표 1
A5: 51C6822337035264FF2F76975F9427 | B5: 분전반 설치 | C5: 4P 100AF | D5: 대 | E5: =일위대가!F10 -> 0 | F5: =일위대가!H10 -> 0 | G5: =일위대가!J10 -> 0 | H5: =E5+F5+G5 -> 0 | I5: 호표 2
A6: 51C6822337035264FF2F76975F9424 | B6: 분전반 설치 | C6: 4P 50AF | D6: 대 | E6: =일위대가!F14 -> 0 | F6: =일위대가!H14 -> 0 | G6: =일위대가!J14 -> 0 | H6: =E6+F6+G6 -> 0 | I6: 호표 3
A7: 51C682230A0337623119CA8B1F17F1 | B7: 0.6/1kV XLPE절연비닐시스케이블 | C7: F-CV 150㎟ - 1C x 4열 | D7: m | E7: =일위대가!F21 -> 0 | F7: =일위대가!H21 -> 0 | G7: =일위대가!J21 -> 0 | H7: =E7+F7+G7 -> 0 | I7: 호표 4 | M7: 전기 5-11
A8: 51C682230A0337623119CA8B1E77BD | B8: 0.6/1kV XLPE절연비닐시스케이블 | C8: F-CV 10㎟ - 4C | D8: m | E8: =일위대가!F28 -> 0 | F8: =일위대가!H28 -> 0 | G8: =일위대가!J28 -> 0 | H8: =E8+F8+G8 -> 0 | I8: 호표 5 | M8: 전기 5-11
A9: 51C682230A03266CEB0C8615F3E005 | B9: 접지용 절연전선 | C9: F-GV 95㎟ 관로 | D9: m | E9: =일위대가!F35 -> 0 | F9: =일위대가!H35 -> 0 | G9: =일위대가!J35 -> 0 | H9: =E9+F9+G9 -> 0 | I9: 호표 6 | M9: 전기 3-38
A10: 51C682230A03266CEB0C8615F3E7B4 | B10: 접지용 절연전선 | C10: F-GV 10㎟ 관로 | D10: m | E10: =일위대가!F42 -> 0 | F10: =일위대가!H42 -> 0 | G10: =일위대가!J42 -> 0 | H10: =E10+F10+G10 -> 0 | I10: 호표 7 | M10: 전기 3-38
A11: 51C682230A03996BB67AF2B8595CA9 | B11: 경질비닐(HI-PVC)전선관 | C11: HI 42C 매입 | D11: M | E11: =일위대가!F49 -> 0 | F11: =일위대가!H49 -> 0 | G11: =일위대가!J49 -> 0 | H11: =E11+F11+G11 -> 0 | I11: 호표 8 | M11: 전기 5-1
A12: 51C682230A031465D96D3CC4AC846D | B12: 파상형경질비닐(ELP)전선관 | C12: ELP 125Φ | D12: M | E12: =일위대가!F58 -> 0 | F12: =일위대가!H58 -> 0 | G12: =일위대가!J58 -> 0 | H12: =E12+F12+G12 -> 0 | I12: 호표 9 | M12: 전기 4-31
A13: 51C682230A034169BCE8468938F368 | B13: 케이블 트레이 | C13: ST 300 x 100H | D13: m | E13: =일위대가!F64 -> 0 | F13: =일위대가!H64 -> 0 | G13: =일위대가!J64 -> 0 | H13: =E13+F13+G13 -> 0 | I13: 호표 10 | M13: 전기 5-8
A14: 51C682230A034169BCE8468938F367 | B14: 케이블트레이 지지대 | C14: 300W | D14: 개소 | E14: =일위대가!F74 -> 0 | F14: =일위대가!H74 -> 0 | G14: =일위대가!J74 -> 0 | H14: =E14+F14+G14 -> 0 | I14: 호표 11
A15: 518D025372037D6D9AC584049555D2 | B15: 터파기 및 되메우기(기계) | C15: 500x600x600 | D15: m | E15: =일위대가!F80 -> 0 | F15: =일위대가!H80 -> 0 | G15: =일위대가!J80 -> 0 | H15: =E15+F15+G15 -> 0 | I15: 호표 12
A16: 51C682230A03996BB44D980937DE3A | B16: 풀박스 | C16: 150x150x100 천장 | D16: 개소 | E16: =일위대가!F85 -> 0 | F16: =일위대가!H85 -> 0 | G16: =일위대가!J85 -> 0 | H16: =E16+F16+G16 -> 0 | I16: 호표 13 | M16: 전기 5-4
A17: 51C6822326039B60E980F70948830E | B17: 벽 관통 구멍 파기 | C17: 벽두께 25㎝이하 | D17: 개소 | E17: =일위대가!F90 -> 0 | F17: =일위대가!H90 -> 0 | G17: =일위대가!J90 -> 0 | H17: =E17+F17+G17 -> 0 | I17: 호표 14 | M17: 통신 3-3-12
A18: 51C682230A035260AAC40B19337926 | B18: 관로구방수 | C18: ø125 | D18: 개소 | E18: =일위대가!F103 -> 0 | F18: =일위대가!H103 -> 0 | G18: =일위대가!J103 -> 0 | H18: =E18+F18+G18 -> 0 | I18: 호표 15
A19: 51C682230A0337623119CA8B1E77BA | B19: 0.6/1kV XLPE절연비닐시스케이블 | C19: F-CV 70㎟ - 1C x 4열 | D19: m | E19: =일위대가!F110 -> 0 | F19: =일위대가!H110 -> 0 | G19: =일위대가!J110 -> 0 | H19: =E19+F19+G19 -> 0 | I19: 호표 16 | M19: 전기 5-11
A20: 51C682230A0337623119CA8B1E77B3 | B20: 0.6/1kV XLPE절연비닐시스케이블 | C20: F-CV 4㎟ - 4C | D20: m | E20: =일위대가!F117 -> 0 | F20: =일위대가!H117 -> 0 | G20: =일위대가!J117 -> 0 | H20: =E20+F20+G20 -> 0 | I20: 호표 17 | M20: 전기 5-11
A21: 51C682230A03376234ED6A6337AEAD | B21: 제어용 비닐시스 케이블 | C21: F-CVV 2.5㎟-3C | D21: m | E21: =일위대가!F124 -> 0 | F21: =일위대가!H124 -> 0 | G21: =일위대가!J124 -> 0 | H21: =E21+F21+G21 -> 0 | I21: 호표 18 | M21: 전기 5-13
A22: 51C682230A03996BB67AF2B8595CAF | B22: 경질비닐(HI-PVC)전선관 | C22: HI 28C 매입 | D22: M | E22: =일위대가!F131 -> 0 | F22: =일위대가!H131 -> 0 | G22: =일위대가!J131 -> 0 | H22: =E22+F22+G22 -> 0 | I22: 호표 19 | M22: 전기 5-1
A23: 51C682230A03996BB67AF2B8595CAD | B23: 경질비닐(HI-PVC)전선관 | C23: HI 16C 매입 | D23: M | E23: =일위대가!F138 -> 0 | F23: =일위대가!H138 -> 0 | G23: =일위대가!J138 -> 0 | H23: =E23+F23+G23 -> 0 | I23: 호표 20 | M23: 전기 5-1
A24: 51C682230A03996BB67AF2B8595E5B | B24: 금속가요(FX)전선관 | C24: FX 22C 콘크리트 노출 | D24: M | E24: =일위대가!F146 -> 0 | F24: =일위대가!H146 -> 0 | G24: =일위대가!J146 -> 0 | H24: =E24+F24+G24 -> 0 | I24: 호표 21 | M24: 전기 5-1
A25: 51C682230A03996BB44D9ACD07A882 | B25: 조명기구(직부등) | C25: LED 38W | D25: 등 | E25: =일위대가!F152 -> 0 | F25: =일위대가!H152 -> 0 | G25: =일위대가!J152 -> 0 | H25: =E25+F25+G25 -> 0 | I25: 호표 22 | M25: 전기 5-25
A26: 51C682230A03996BB44D9ACD07A880 | B26: 조명기구(직부등) | C26: LED 12W | D26: 등 | E26: =일위대가!F158 -> 0 | F26: =일위대가!H158 -> 0 | G26: =일위대가!J158 -> 0 | H26: =E26+F26+G26 -> 0 | I26: 호표 23 | M26: 전기 5-24
A27: 51C682230A03996BB44D9ACD07A887 | B27: 조명기구(센서등) | C27: LED 12W | D27: 등 | E27: =일위대가!F164 -> 0 | F27: =일위대가!H164 -> 0 | G27: =일위대가!J164 -> 0 | H27: =E27+F27+G27 -> 0 | I27: 호표 24 | M27: 전기 5-24
A28: 51C682230A03996BB44D9ACD07A886 | B28: 조명기구(사각매입등) | C28: LED 11W | D28: 등 | E28: =일위대가!F170 -> 0 | F28: =일위대가!H170 -> 0 | G28: =일위대가!J170 -> 0 | H28: =E28+F28+G28 -> 0 | I28: 호표 25 | M28: 전기 5-25-2
A29: 51C682230A03996BB44D9ACD07A885 | B29: 조명기구(벽부등) | C29: LED 9W | D29: 등 | E29: =일위대가!F176 -> 0 | F29: =일위대가!H176 -> 0 | G29: =일위대가!J176 -> 0 | H29: =E29+F29+G29 -> 0 | I29: 호표 26 | M29: 전기 5-24
A30: 51C682230A03996BB44D9CFA7B53B2 | B30: 단로 스위치 | C30: 1구 | D30: 개 | E30: =일위대가!F181 -> 0 | F30: =일위대가!H181 -> 0 | G30: =일위대가!J181 -> 0 | H30: =E30+F30+G30 -> 0 | I30: 호표 27 | M30: 전기 5-23.2
A31: 51C682230A03996BB44D9CFA7B53B3 | B31: 단로 스위치 | C31: 2구 | D31: 개 | E31: =일위대가!F186 -> 0 | F31: =일위대가!H186 -> 0 | G31: =일위대가!J186 -> 0 | H31: =E31+F31+G31 -> 0 | I31: 호표 28 | M31: 전기 5-23.2
A32: 51C682230A03996BB44D9CFA7B53B0 | B32: 단로 스위치 | C32: 3구 | D32: 개 | E32: =일위대가!F191 -> 0 | F32: =일위대가!H191 -> 0 | G32: =일위대가!J191 -> 0 | H32: =E32+F32+G32 -> 0 | I32: 호표 29 | M32: 전기 5-23.2
A33: 51C682230A03996BB44D9CFA7A4E0C | B33: 콘센트 설치 | C33: 2P 1구 250V 15A 매입 접지 | D33: 개 | E33: =일위대가!F197 -> 0 | F33: =일위대가!H197 -> 0 | G33: =일위대가!J197 -> 0 | H33: =E33+F33+G33 -> 0 | I33: 호표 30 | M33: 전기 5-23.1
A34: 51C682230A03996BB67AF191B3DF94 | B34: 박스 | C34: 4각 54 mm | D34: 개 | E34: =일위대가!F203 -> 0 | F34: =일위대가!H203 -> 0 | G34: =일위대가!J203 -> 0 | H34: =E34+F34+G34 -> 0 | I34: 호표 31 | M34: 전기 5-3
A35: 51C682230A03996BB67AF191B3DF93 | B35: 박스 | C35: 8각 54 mm | D35: 개 | E35: =일위대가!F209 -> 0 | F35: =일위대가!H209 -> 0 | G35: =일위대가!J209 -> 0 | H35: =E35+F35+G35 -> 0 | I35: 호표 32 | M35: 전기 5-3
A36: 51C682230A03996BB67AF191B3DF96 | B36: 박스 | C36: SW 44 mm 1개용 | D36: 개 | E36: =일위대가!F214 -> 0 | F36: =일위대가!H214 -> 0 | G36: =일위대가!J214 -> 0 | H36: =E36+F36+G36 -> 0 | I36: 호표 33 | M36: 전기 5-3
A37: 51C682230A03996BB67AF191B3DF95 | B37: 박스 | C37: SW 44 mm 2개용 | D37: 개 | E37: =일위대가!F220 -> 0 | F37: =일위대가!H220 -> 0 | G37: =일위대가!J220 -> 0 | H37: =E37+F37+G37 -> 0 | I37: 호표 34 | M37: 전기 5-3
A38: 51C682230A03266CE95E2A4E3F807E | B38: 450/75OV 저독성난연가교폴리올레핀절연전선 | C38: HFIX 2.5㎟ | D38: m | E38: =일위대가!F227 -> 0 | F38: =일위대가!H227 -> 0 | G38: =일위대가!J227 -> 0 | H38: =E38+F38+G38 -> 0 | I38: 호표 35 | M38: 전기 5-10
A39: 51C682230A03376234ED6A6337AEAF | B39: 가요성 알루미늄피케이블 | C39: ACF 2.5㎟-3C | D39: m | E39: =일위대가!F234 -> 0 | F39: =일위대가!H234 -> 0 | G39: =일위대가!J234 -> 0 | H39: =E39+F39+G39 -> 0 | I39: 호표 36 | M39: 전기 5-13
A40: 51C682230A03996BB67AF2B8595CAC | B40: 경질비닐(HI-PVC)전선관 | C40: HI 22C 매입 | D40: M | E40: =일위대가!F241 -> 0 | F40: =일위대가!H241 -> 0 | G40: =일위대가!J241 -> 0 | H40: =E40+F40+G40 -> 0 | I40: 호표 37 | M40: 전기 5-1
...

Sheet 일위대가
A1: [ 국립생태원 에코케어센터 건립공사 실시설계용역(전기) ]
A2: 품 명 | B2: 규 격 | C2: 단위 | D2: 수량 | E2: 재 료 비 | G2: 노 무 비 | I2: 경 비 | K2: 합 계 | M2: 비 고 | N2: 일위대가 | O2: 품목코드 | P2: 일위 | Q2: 단산 | R2: 자재 | S2: 손료적용 | T2: 손료저장 | U2: 적용율 | V2: JUK1 | W2: JUK2 | X2: JUK3 | Y2: JUK4 | Z2: JUK5 | AA2: JUK6 | AB2: JUK7 | AC2: JUK8 | AD2: 할증적용 | AE2: 할증저장 | AF2: 할증율 | AG2: HAL1 | AH2: HAL2 | AI2: HAL3 | AJ2: 자재구분 | AK2: 일위대가+자재 | AL2: 장비일위 | AM2: 설정
E3: 단 가 | F3: 금 액 | G3: 단 가 | H3: 금 액 | I3: 단 가 | J3: 금 액 | K3: 단 가 | L3: 금 액
A4: 분전반 설치 4P 400AF 대 ( 호표 1 ) | N4: 51C6822337035264FF2F76975F96DA
A5: 내선전공 | B5: 일반공사 직종 | C5: 인 | D5: 2.281 | E5: =단가대비표!O87 -> 0 | F5: =TRUNC(E5*D5,1) -> 0 | G5: =단가대비표!P87 -> 0 | H5: =TRUNC(G5*D5,1) -> 0 | I5: =단가대비표!V87 -> 0 | J5: =TRUNC(I5*D5,1) -> 0 | K5: =TRUNC(E5+G5+I5,1) -> 0 | L5: =TRUNC(F5+H5+J5,1) -> 0 | N5: 51C6822337035264FF2F76975F96DA | O5: 515EE2E379031261A2754E02106E6F0719F17F | P5: F | Q5: F | R5: T | AK5: 51C6822337035264FF2F76975F96DA515EE2E379031261A2754E02106E6F0719F17F
A6: [ 합 계 ] | F6: =TRUNC(SUMIF(N5:N5, N4, F5:F5),0) -> 0 | H6: =TRUNC(SUMIF(N5:N5, N4, H5:H5),0) -> 0 | J6: =TRUNC(SUMIF(N5:N5, N4, J5:J5),0) -> 0 | L6: =F6+H6+J6 -> 0 | N6: TOTAL | O6: TOTAL
A8: 분전반 설치 4P 100AF 대 ( 호표 2 ) | N8: 51C6822337035264FF2F76975F9427
A9: 내선전공 | B9: 일반공사 직종 | C9: 인 | D9: 0.79 | E9: =단가대비표!O87 -> 0 | F9: =TRUNC(E9*D9,1) -> 0 | G9: =단가대비표!P87 -> 0 | H9: =TRUNC(G9*D9,1) -> 0 | I9: =단가대비표!V87 -> 0 | J9: =TRUNC(I9*D9,1) -> 0 | K9: =TRUNC(E9+G9+I9,1) -> 0 | L9: =TRUNC(F9+H9+J9,1) -> 0 | N9: 51C6822337035264FF2F76975F9427 | O9: 515EE2E379031261A2754E02106E6F0719F17F | P9: F | Q9: F | R9: T | AK9: 51C6822337035264FF2F76975F9427515EE2E379031261A2754E02106E6F0719F17F
A10: [ 합 계 ] | F10: =TRUNC(SUMIF(N9:N9, N8, F9:F9),0) -> 0 | H10: =TRUNC(SUMIF(N9:N9, N8, H9:H9),0) -> 0 | J10: =TRUNC(SUMIF(N9:N9, N8, J9:J9),0) -> 0 | L10: =F10+H10+J10 -> 0 | N10: TOTAL | O10: TOTAL
A12: 분전반 설치 4P 50AF 대 ( 호표 3 ) | N12: 51C6822337035264FF2F76975F9424
A13: 내선전공 | B13: 일반공사 직종 | C13: 인 | D13: 0.562 | E13: =단가대비표!O87 -> 0 | F13: =TRUNC(E13*D13,1) -> 0 | G13: =단가대비표!P87 -> 0 | H13: =TRUNC(G13*D13,1) -> 0 | I13: =단가대비표!V87 -> 0 | J13: =TRUNC(I13*D13,1) -> 0 | K13: =TRUNC(E13+G13+I13,1) -> 0 | L13: =TRUNC(F13+H13+J13,1) -> 0 | N13: 51C6822337035264FF2F76975F9424 | O13: 515EE2E379031261A2754E02106E6F0719F17F | P13: F | Q13: F | R13: T | AK13: 51C6822337035264FF2F76975F9424515EE2E379031261A2754E02106E6F0719F17F
A14: [ 합 계 ] | F14: =TRUNC(SUMIF(N13:N13, N12, F13:F13),0) -> 0 | H14: =TRUNC(SUMIF(N13:N13, N12, H13:H13),0) -> 0 | J14: =TRUNC(SUMIF(N13:N13, N12, J13:J13),0) -> 0 | L14: =F14+H14+J14 -> 0 | N14: TOTAL | O14: TOTAL
A16: 0.6/1kV XLPE절연비닐시스케이블 F-CV 150㎟ - 1C x 4열 m 전기 5-11 ( 호표 4 ) | N16: 51C682230A0337623119CA8B1F17F1
A17: 600V폴리에틸렌케이블 | B17: 600V폴리에틸렌케이블, 0.6/1kV, F-CV, 1C*150㎟ | C17: m | D17: 1.05 | E17: =단가대비표!O18 -> 0 | F17: =TRUNC(E17*D17,1) -> 0 | G17: =단가대비표!P18 -> 0 | H17: =TRUNC(G17*D17,1) -> 0 | I17: =단가대비표!V18 -> 0 | J17: =TRUNC(I17*D17,1) -> 0 | K17: =TRUNC(E17+G17+I17,1) -> 0 | L17: =TRUNC(F17+H17+J17,1) -> 0 | N17: 51C682230A0337623119CA8B1F17F1 | O17: 56B542531E0354601BE0454E2055274E9441E2 | P17: F | Q17: F | R17: T | V17: 1 | AK17: 51C682230A0337623119CA8B1F17F156B542531E0354601BE0454E2055274E9441E2
A18: 잡재료비 | B18: 배관배선의 3% | C18: 식 | D18: 1 | E18: =TRUNC(SUMIF(V17:V20, RIGHTB(O18, 1), F17:F20)*U18, 2) -> 0 | F18: =TRUNC(E18*D18,1) -> 0 | G18: 0 | H18: =TRUNC(G18*D18,1) -> 0 | I18: 0 | J18: =TRUNC(I18*D18,1) -> 0 | K18: =TRUNC(E18+G18+I18,1) -> 0 | L18: =TRUNC(F18+H18+J18,1) -> 0 | N18: 51C682230A0337623119CA8B1F17F1 | O18: 5095D2534F03216C1971B5A019BC1 | P18: F | Q18: F | R18: F | S18: 0 | T18: 0 | U18: 0.02 | AK18: 51C682230A0337623119CA8B1F17F15095D2534F03216C1971B5A019BB6
A19: 저압케이블전공 | B19: 일반공사 직종 | C19: 인 | D19: 0.074 | E19: =단가대비표!O89 -> 0 | F19: =TRUNC(E19*D19,1) -> 0 | G19: =단가대비표!P89 -> 0 | H19: =TRUNC(G19*D19,1) -> 0 | I19: =단가대비표!V89 -> 0 | J19: =TRUNC(I19*D19,1) -> 0 | K19: =TRUNC(E19+G19+I19,1) -> 0 | L19: =TRUNC(F19+H19+J19,1) -> 0 | N19: 51C682230A0337623119CA8B1F17F1 | O19: 515EE2E379031261A2754E02106E6F0719F172 | P19: F | Q19: F | R19: T | W19: 2 | AK19: 51C682230A0337623119CA8B1F17F1515EE2E379031261A2754E02106E6F0719F172
A20: 공구손료 | B20: 인력품의 3% | C20: 식 | D20: 1 | E20: =TRUNC(SUMIF(W17:W20, RIGHTB(O20, 1), H17:H20)*U20, 2) -> 0 | F20: =TRUNC(E20*D20,1) -> 0 | G20: 0 | H20: =TRUNC(G20*D20,1) -> 0 | I20: 0 | J20: =TRUNC(I20*D20,1) -> 0 | K20: =TRUNC(E20+G20+I20,1) -> 0 | L20: =TRUNC(F20+H20+J20,1) -> 0 | N20: 51C682230A0337623119CA8B1F17F1 | O20: 5095D2534F03216C1971B5A019BF2 | P20: F | Q20: F | R20: F | S20: 1 | T20: 0 | U20: 0.03 | AK20: 51C682230A0337623119CA8B1F17F15095D2534F03216C1971B5A019BF2
A21: [ 합 계 ] | F21: =TRUNC(SUMIF(N17:N20, N16, F17:F20),0) -> 0 | H21: =TRUNC(SUMIF(N17:N20, N16, H17:H20),0) -> 0 | J21: =TRUNC(SUMIF(N17:N20, N16, J17:J20),0) -> 0 | L21: =F21+H21+J21 -> 0 | N21: TOTAL | O21: TOTAL
A23: 0.6/1kV XLPE절연비닐시스케이블 F-CV 10㎟ - 4C m 전기 5-11 ( 호표 5 ) | N23: 51C682230A0337623119CA8B1E77BD
A24: 600V폴리에틸렌케이블 | B24: 600V폴리에틸렌케이블, 0.6/1kV, F-CV, 4C*10㎟ | C24: m | D24: 1.05 | E24: =단가대비표!O20 -> 0 | F24: =TRUNC(E24*D24,1) -> 0 | G24: =단가대비표!P20 -> 0 | H24: =TRUNC(G24*D24,1) -> 0 | I24: =단가대비표!V20 -> 0 | J24: =TRUNC(I24*D24,1) -> 0 | K24: =TRUNC(E24+G24+I24,1) -> 0 | L24: =TRUNC(F24+H24+J24,1) -> 0 | N24: 51C682230A0337623119CA8B1E77BD | O24: 56B542531E0354601BE0454E2055274E956B59 | P24: F | Q24: F | R24: T | V24: 1 | AK24: 51C682230A0337623119CA8B1E77BD56B542531E0354601BE0454E2055274E956B59
A25: 잡재료비 | B25: 배관배선의 3% | C25: 식 | D25: 1 | E25: =TRUNC(SUMIF(V24:V27, RIGHTB(O25, 1), F24:F27)*U25, 2) -> 0 | F25: =TRUNC(E25*D25,1) -> 0 | G25: 0 | H25: =TRUNC(G25*D25,1) -> 0 | I25: 0 | J25: =TRUNC(I25*D25,1) -> 0 | K25: =TRUNC(E25+G25+I25,1) -> 0 | L25: =TRUNC(F25+H25+J25,1) -> 0 | N25: 51C682230A0337623119CA8B1E77BD | O25: 5095D2534F03216C1971B5A019BC1 | P25: F | Q25: F | R25: F | S25: 0 | T25: 0 | U25: 0.02 | AK25: 51C682230A0337623119CA8B1E77BD5095D2534F03216C1971B5A018924
A26: 저압케이블전공 | B26: 일반공사 직종 | C26: 인 | D26: 0.042 | E26: =단가대비표!O89 -> 0 | F26: =TRUNC(E26*D26,1) -> 0 | G26: =단가대비표!P89 -> 0 | H26: =TRUNC(G26*D26,1) -> 0 | I26: =단가대비표!V89 -> 0 | J26: =TRUNC(I26*D26,1) -> 0 | K26: =TRUNC(E26+G26+I26,1) -> 0 | L26: =TRUNC(F26+H26+J26,1) -> 0 | N26: 51C682230A0337623119CA8B1E77BD | O26: 515EE2E379031261A2754E02106E6F0719F172 | P26: F | Q26: F | R26: T | W26: 2 | AK26: 51C682230A0337623119CA8B1E77BD515EE2E379031261A2754E02106E6F0719F172
A27: 공구손료 | B27: 인력품의 3% | C27: 식 | D27: 1 | E27: =TRUNC(SUMIF(W24:W27, RIGHTB(O27, 1), H24:H27)*U27, 2) -> 0 | F27: =TRUNC(E27*D27,1) -> 0 | G27: 0 | H27: =TRUNC(G27*D27,1) -> 0 | I27: 0 | J27: =TRUNC(I27*D27,1) -> 0 | K27: =TRUNC(E27+G27+I27,1) -> 0 | L27: =TRUNC(F27+H27+J27,1) -> 0 | N27: 51C682230A0337623119CA8B1E77BD | O27: 5095D2534F03216C1971B5A019BF2 | P27: F | Q27: F | R27: F | S27: 1 | T27: 0 | U27: 0.03 | AK27: 51C682230A0337623119CA8B1E77BD5095D2534F03216C1971B5A019BF2
A28: [ 합 계 ] | F28: =TRUNC(SUMIF(N24:N27, N23, F24:F27),0) -> 0 | H28: =TRUNC(SUMIF(N24:N27, N23, H24:H27),0) -> 0 | J28: =TRUNC(SUMIF(N24:N27, N23, J24:J27),0) -> 0 | L28: =F28+H28+J28 -> 0 | N28: TOTAL | O28: TOTAL
A30: 접지용 절연전선 F-GV 95㎟ 관로 m 전기 3-38 ( 호표 6 ) | N30: 51C682230A03266CEB0C8615F3E005
A31: 접지용비닐절연전선 | B31: 접지용비닐절연전선, F-GV, 95㎟ | C31: m | D31: 1.1 | E31: =단가대비표!O11 -> 0 | F31: =TRUNC(E31*D31,1) -> 0 | G31: =단가대비표!P11 -> 0 | H31: =TRUNC(G31*D31,1) -> 0 | I31: =단가대비표!V11 -> 0 | J31: =TRUNC(I31*D31,1) -> 0 | K31: =TRUNC(E31+G31+I31,1) -> 0 | L31: =TRUNC(F31+H31+J31,1) -> 0 | N31: 51C682230A03266CEB0C8615F3E005 | O31: 56B542531E035460182CC30DD99BE0E36EAA20 | P31: F | Q31: F | R31: T | V31: 1 | AK31: 51C682230A03266CEB0C8615F3E00556B542531E035460182CC30DD99BE0E36EAA20
A32: 잡재료비 | B32: 배관배선의 3% | C32: 식 | D32: 1 | E32: =TRUNC(SUMIF(V31:V34, RIGHTB(O32, 1), F31:F34)*U32, 2) -> 0 | F32: =TRUNC(E32*D32,1) -> 0 | G32: 0 | H32: =TRUNC(G32*D32,1) -> 0 | I32: 0 | J32: =TRUNC(I32*D32,1) -> 0 | K32: =TRUNC(E32+G32+I32,1) -> 0 | L32: =TRUNC(F32+H32+J32,1) -> 0 | N32: 51C682230A03266CEB0C8615F3E005 | O32: 5095D2534F03216C1971B5A019BC1 | P32: F | Q32: F | R32: F | S32: 0 | T32: 0 | U32: 0.02 | AK32: 51C682230A03266CEB0C8615F3E0055095D2534F03216C1971B5A3EF8F7
A33: 내선전공 | B33: 일반공사 직종 | C33: 인 | D33: 0.014 | E33: =단가대비표!O87 -> 0 | F33: =TRUNC(E33*D33,1) -> 0 | G33: =단가대비표!P87 -> 0 | H33: =TRUNC(G33*D33,1) -> 0 | I33: =단가대비표!V87 -> 0 | J33: =TRUNC(I33*D33,1) -> 0 | K33: =TRUNC(E33+G33+I33,1) -> 0 | L33: =TRUNC(F33+H33+J33,1) -> 0 | N33: 51C682230A03266CEB0C8615F3E005 | O33: 515EE2E379031261A2754E02106E6F0719F17F | P33: F | Q33: F | R33: T | W33: 2 | AK33: 51C682230A03266CEB0C8615F3E005515EE2E379031261A2754E02106E6F0719F17F
A34: 공구손료 | B34: 인력품의 3% | C34: 식 | D34: 1 | E34: =TRUNC(SUMIF(W31:W34, RIGHTB(O34, 1), H31:H34)*U34, 2) -> 0 | F34: =TRUNC(E34*D34,1) -> 0 | G34: 0 | H34: =TRUNC(G34*D34,1) -> 0 | I34: 0 | J34: =TRUNC(I34*D34,1) -> 0 | K34: =TRUNC(E34+G34+I34,1) -> 0 | L34: =TRUNC(F34+H34+J34,1) -> 0 | N34: 51C682230A03266CEB0C8615F3E005 | O34: 5095D2534F03216C1971B5A019BF2 | P34: F | Q34: F | R34: F | S34: 1 | T34: 0 | U34: 0.03 | AK34: 51C682230A03266CEB0C8615F3E0055095D2534F03216C1971B5A019BC1
A35: [ 합 계 ] | F35: =TRUNC(SUMIF(N31:N34, N30, F31:F34),0) -> 0 | H35: =TRUNC(SUMIF(N31:N34, N30, H31:H34),0) -> 0 | J35: =TRUNC(SUMIF(N31:N34, N30, J31:J34),0) -> 0 | L35: =F35+H35+J35 -> 0 | N35: TOTAL | O35: TOTAL
A37: 접지용 절연전선 F-GV 10㎟ 관로 m 전기 3-38 ( 호표 7 ) | N37: 51C682230A03266CEB0C8615F3E7B4
A38: 접지용비닐절연전선 | B38: 접지용비닐절연전선, F-GV, 10㎟ | C38: m | D38: 1.1 | E38: =단가대비표!O10 -> 0 | F38: =TRUNC(E38*D38,1) -> 0 | G38: =단가대비표!P10 -> 0 | H38: =TRUNC(G38*D38,1) -> 0 | I38: =단가대비표!V10 -> 0 | J38: =TRUNC(I38*D38,1) -> 0 | K38: =TRUNC(E38+G38+I38,1) -> 0 | L38: =TRUNC(F38+H38+J38,1) -> 0 | N38: 51C682230A03266CEB0C8615F3E7B4 | O38: 56B542531E035460182CC30DD99BE0E36FB84D | P38: F | Q38: F | R38: T | V38: 1 | AK38: 51C682230A03266CEB0C8615F3E7B456B542531E035460182CC30DD99BE0E36FB84D
A39: 잡재료비 | B39: 배관배선의 3% | C39: 식 | D39: 1 | E39: =TRUNC(SUMIF(V38:V41, RIGHTB(O39, 1), F38:F41)*U39, 2) -> 0 | F39: =TRUNC(E39*D39,1) -> 0 | G39: 0 | H39: =TRUNC(G39*D39,1) -> 0 | I39: 0 | J39: =TRUNC(I39*D39,1) -> 0 | K39: =TRUNC(E39+G39+I39,1) -> 0 | L39: =TRUNC(F39+H39+J39,1) -> 0 | N39: 51C682230A03266CEB0C8615F3E7B4 | O39: 5095D2534F03216C1971B5A019BC1 | P39: F | Q39: F | R39: F | S39: 0 | T39: 0 | U39: 0.02 | AK39: 51C682230A03266CEB0C8615F3E7B45095D2534F03216C1971B5A3EF808
A40: 내선전공 | B40: 일반공사 직종 | C40: 인 | D40: 0.008 | E40: =단가대비표!O87 -> 0 | F40: =TRUNC(E40*D40,1) -> 0 | G40: =단가대비표!P87 -> 0 | H40: =TRUNC(G40*D40,1) -> 0 | I40: =단가대비표!V87 -> 0 | J40: =TRUNC(I40*D40,1) -> 0 | K40: =TRUNC(E40+G40+I40,1) -> 0 | L40: =TRUNC(F40+H40+J40,1) -> 0 | N40: 51C682230A03266CEB0C8615F3E7B4 | O40: 515EE2E379031261A2754E02106E6F0719F17F | P40: F | Q40: F | R40: T | W40: 2 | AK40: 51C682230A03266CEB0C8615F3E7B4515EE2E379031261A2754E02106E6F0719F17F
A41: 공구손료 | B41: 인력품의 3% | C41: 식 | D41: 1 | E41: =TRUNC(SUMIF(W38:W41, RIGHTB(O41, 1), H38:H41)*U41, 2) -> 0 | F41: =TRUNC(E41*D41,1) -> 0 | G41: 0 | H41: =TRUNC(G41*D41,1) -> 0 | I41: 0 | J41: =TRUNC(I41*D41,1) -> 0 | K41: =TRUNC(E41+G41+I41,1) -> 0 | L41: =TRUNC(F41+H41+J41,1) -> 0 | N41: 51C682230A03266CEB0C8615F3E7B4 | O41: 5095D2534F03216C1971B5A019BF2 | P41: F | Q41: F | R41: F | S41: 1 | T41: 0 | U41: 0.03 | AK41: 51C682230A03266CEB0C8615F3E7B45095D2534F03216C1971B5A019BC1
A42: [ 합 계 ] | F42: =TRUNC(SUMIF(N38:N41, N37, F38:F41),0) -> 0 | H42: =TRUNC(SUMIF(N38:N41, N37, H38:H41),0) -> 0 | J42: =TRUNC(SUMIF(N38:N41, N37, J38:J41),0) -> 0 | L42: =F42+H42+J42 -> 0 | N42: TOTAL | O42: TOTAL
A44: 경질비닐(HI-PVC)전선관 HI 42C 매입 M 전기 5-1 ( 호표 8 ) | N44: 51C682230A03996BB67AF2B8595CA9
A45: 경질비닐전선관 | B45: 경질비닐전선관, HI, 42mm | C45: m | D45: 1.1 | E45: =단가대비표!O70 -> 0 | F45: =TRUNC(E45*D45,1) -> 0 | G45: =단가대비표!P70 -> 0 | H45: =TRUNC(G45*D45,1) -> 0 | I45: =단가대비표!V70 -> 0 | J45: =TRUNC(I45*D45,1) -> 0 | K45: =TRUNC(E45+G45+I45,1) -> 0 | L45: =TRUNC(F45+H45+J45,1) -> 0 | N45: 51C682230A03996BB67AF2B8595CA9 | O45: 56A422535F0321602846725BD5B0669909907F | P45: F | Q45: F | R45: T | AK45: 51C682230A03996BB67AF2B8595CA956A422535F0321602846725BD5B0669909907F
A46: 전선관부속품비 | B46: CD 관의 40% | C46: 식 | D46: 1 | E46: =TRUNC(SUMIF(V45:V48, RIGHTB(O46, 1), F45:F48)*U46, 2) -> 0 | F46: =TRUNC(E46*D46,1) -> 0 | G46: 0 | H46: =TRUNC(G46*D46,1) -> 0 | I46: 0 | J46: =TRUNC(I46*D46,1) -> 0 | K46: =TRUNC(E46+G46+I46,1) -> 0 | L46: =TRUNC(F46+H46+J46,1) -> 0 | N46: 51C682230A03996BB67AF2B8595CA9 | O46: 5095D2534F03216C1971B5A019BC1 | P46: F | Q46: F | R46: F | S46: 0 | T46: 0 | U46: 0.4 | AK46: 51C682230A03996BB67AF2B8595CA95095D2534F03216C1971B5A019BE3
A47: 내선전공 | B47: 일반공사 직종 | C47: 인 | D47: 0.117 | E47: =단가대비표!O87 -> 0 | F47: =TRUNC(E47*D47,1) -> 0 | G47: =단가대비표!P87 -> 0 | H47: =TRUNC(G47*D47,1) -> 0 | I47: =단가대비표!V87 -> 0 | J47: =TRUNC(I47*D47,1) -> 0 | K47: =TRUNC(E47+G47+I47,1) -> 0 | L47: =TRUNC(F47+H47+J47,1) -> 0 | N47: 51C682230A03996BB67AF2B8595CA9 | O47: 515EE2E379031261A2754E02106E6F0719F17F | P47: F | Q47: F | R47: T | AK47: 51C682230A03996BB67AF2B8595CA9515EE2E379031261A2754E02106E6F0719F17F
...

Sheet 중기단가목록
A1: 중 기 단 가 목 록
A2: [ 국립생태원 에코케어센터 건립공사 실시설계용역(전기) ]
A3: 코 드 | B3: 품 명 | C3: 규 격 | D3: 단위 | E3: 재 료 비 | F3: 노 무 비 | G3: 경 비 | H3: 합 계 | I3: 번 호 | J3: 비 고 | K3: START
A4: 518D025372037D6D9BEE5B5B6C7B21 | B4: 터파기 | C4: 토사(자연상태),백호0.7M3 | D4: ㎥ | I4: 산근 1 | K4: 518D025372037D6D9BEE5B5B6C7B21
A5: 518D02531903FB68515DC0098F840A | B5: 되메우고다지기(기계) | C5: 백호0.7M3*래머80kg,다짐30cm | D5: ㎥ | I5: 산근 2 | K5: 518D02531903FB68515DC0098F840A

Sheet 중기단가산출서
A1: 중 기 단 가 산 출 서
A2: [ 국립생태원 에코케어센터 건립공사 실시설계용역(전기) ]
A3: 산 출 내 역 | B3: 재 료 비 | C3: 노 무 비 | D3: 경 비 | E3: 합 계 | F3: 비 고 | G3: START | H3: 코드 | I3: 품명 | J3: 규격 | K3: 단위 | L3: 수량
A4: 터파기 토사(자연상태),백호0.7M3 ㎥ 품셈 11-3 ( 산근 1 ) | G4: 518D025372037D6D9BEE5B5B6C7B21 | I4: 터파기 | J4: 토사(자연상태),백호0.7M3 | K4: ㎥
G5: 518D025372037D6D9BEE5B5B6C7B21 | H5: C | L5: 1
A6: 굴삭기(유압식백호우)(0.7M3/HR) [] | B6: 0 | C6: 0 | D6: 0 | E6: 0 | G6: 518D025372037D6D9BEE5B5B6C7B21 | H6: C! | I6: '굴삭기(유압식백호우)(0.7M3/HR)' '[00000201007000000]'
A7: 품셈 11 - 3 | B7: 0 | C7: 0 | D7: 0 | E7: 0 | G7: 518D025372037D6D9BEE5B5B6C7B21 | H7: C! | I7: '품셈 11 - 3'
B8: 0 | C8: 0 | D8: 0 | E8: 0 | G8: 518D025372037D6D9BEE5B5B6C7B21 | H8: C!
A9: a 바켓용량 =0.7 | B9: 0 | C9: 0 | D9: 0 | E9: 0 | G9: 518D025372037D6D9BEE5B5B6C7B21 | H9: C! | I9: a '바켓용량' =0.7
A10: K 바켓계수(양호1.1,보통0.90,불량0.70,파쇄암0.55) = 0.9 | B10: 0 | C10: 0 | D10: 0 | E10: 0 | G10: 518D025372037D6D9BEE5B5B6C7B21 | H10: C! | I10: k '바켓계수(양호1.1,보통0.90,불량0.70,파쇄암0.55)'= 0.9
A11: f 토량환산계수 = 1/1.3 = 0.7692 | B11: 0 | C11: 0 | D11: 0 | E11: 0 | G11: 518D025372037D6D9BEE5B5B6C7B21 | H11: C! | I11: f '토량환산계수'= 1/1.3 =?
A12: E 작업효율(양호0.85,보통0.70,불량0.55) = 0.7-0.05= 0.65 | B12: 0 | C12: 0 | D12: 0 | E12: 0 | G12: 518D025372037D6D9BEE5B5B6C7B21 | H12: C! | I12: E '작업효율(양호0.85,보통0.70,불량0.55)'= 0.7-0.05=?
A13: CM 1회 싸이클시간(135˚) =20 | G13: 518D025372037D6D9BEE5B5B6C7B21 | H13: C! | I13: Cm '1회 싸이클시간(135˚)'=20
A14: Q 시간당 작업량 (M3/HR) = 3600*A*K*F*E/CM = 56.698 | G14: 518D025372037D6D9BEE5B5B6C7B21 | H14: C! | I14: Q '시간당 작업량 (M3/Hr)'= 3600*a*k*f*E/Cm =?
G15: 518D025372037D6D9BEE5B5B6C7B21 | H15: C!
A16: 재료비: 21836 / 56.698 = 385.1 | G16: 518D025372037D6D9BEE5B5B6C7B21 | H16: C! | I16: '재료비:' ~00000201007000000.M~ / {Q} =?MA
A17: 노무비: 23182 / 56.698 = 408.8 | G17: 518D025372037D6D9BEE5B5B6C7B21 | H17: C! | I17: '노무비:' ~00000201007000000.L~ / {Q} =?LA
A18: 경 비: 18961 / 56.698 = 334.4 | G18: 518D025372037D6D9BEE5B5B6C7B21 | H18: C! | I18: '경 비:' ~00000201007000000.E~ / {Q} =?EQ
G19: 518D025372037D6D9BEE5B5B6C7B21 | H19: C!
A20: 소 계 | G20: 518D025372037D6D9BEE5B5B6C7B21 | H20: C! | I20: >'소 계'
G21: 518D025372037D6D9BEE5B5B6C7B21 | H21: C!
A22: 총 계
A24: 되메우고다지기(기계) 백호0.7M3*래머80kg,다짐30cm ㎥ 품셈 11-3,11 ( 산근 2 ) | G24: 518D02531903FB68515DC0098F840A | I24: 되메우고다지기(기계) | J24: 백호0.7M3*래머80kg,다짐30cm | K24: ㎥
G25: 518D02531903FB68515DC0098F840A | H25: C | L25: 1
G26: 518D02531903FB68515DC0098F840A | H26: C!
A27: 굴삭기(유압식백호우)(0.7M3/HR) [] | G27: 518D02531903FB68515DC0098F840A | H27: C! | I27: '굴삭기(유압식백호우)(0.7M3/HR)' '[00000201007000000]'
A28: 품셈 11 - 3 | G28: 518D02531903FB68515DC0098F840A | H28: C! | I28: '품셈 11 - 3'
G29: 518D02531903FB68515DC0098F840A | H29: C!
A30: a 바켓용량 =0.7 | G30: 518D02531903FB68515DC0098F840A | H30: C! | I30: a '바켓용량' =0.7
A31: k 바켓계수 = 0.9 | G31: 518D02531903FB68515DC0098F840A | H31: C! | I31: k '바켓계수'= 0.9
A32: f 토량환산계수 = 0.9/1.3 = 0.6923 | G32: 518D02531903FB68515DC0098F840A | H32: C! | I32: f '토량환산계수'= 0.9/1.3 =?
A33: E 작업효율 = 0.65 | G33: 518D02531903FB68515DC0098F840A | H33: C! | I33: E '작업효율'= 0.65
A34: CM 1회 싸이클시간(135˚) =20 | G34: 518D02531903FB68515DC0098F840A | H34: C! | I34: Cm '1회 싸이클시간(135˚)'=20
A35: Q 시간당 작업량 (M3/HR) = 3600*A*K*F*E/CM = 51.029 | G35: 518D02531903FB68515DC0098F840A | H35: C! | I35: Q '시간당 작업량 (M3/Hr)'= 3600*a*k*f*E/Cm =?
G36: 518D02531903FB68515DC0098F840A | H36: C!
A37: 재료비: 21836 / 51.029 = 427.9 | G37: 518D02531903FB68515DC0098F840A | H37: C! | I37: '재료비:' ~00000201007000000.M~ / {Q} =?MA
A38: 노무비: 23182 / 51.029 = 454.2 | G38: 518D02531903FB68515DC0098F840A | H38: C! | I38: '노무비:' ~00000201007000000.L~ / {Q} =?LA
A39: 경 비: 18961 / 51.029 = 371.5 | G39: 518D02531903FB68515DC0098F840A | H39: C! | I39: '경 비:' ~00000201007000000.E~ / {Q} =?EQ
G40: 518D02531903FB68515DC0098F840A | H40: C!
A41: 소 계 | G41: 518D02531903FB68515DC0098F840A | H41: C! | I41: >'소 계'
...

Sheet 단가대비표
A1: 단 가 대 비 표
A2: [ 국립생태원 에코케어센터 건립공사 실시설계용역(전기) ]
A3: 코 드 | B3: 품 명 | C3: 규격 | D3: 단위 | E3: 재 료 비 | P3: 노 무 비 | Q3: 경 비 | W3: 번 호 | X3: 비 고 | Y3: 품목구분 | Z3: 노임구분 | AA3: 소수점처리 | AB3: 자재구분
E4: 가격정보 | F4: PAGE | G4: 물가자료 | H4: PAGE | I4: 거래가격 | J4: PAGE | K4: 물가정보 | L4: PAGE | M4: 조사가격 | N4: PAGE | O4: 적용단가 | Q4: 가격정보 | R4: 물가자료 | S4: 거래가격 | T4: 물가정보 | U4: 조사가격 | V4: 적용단가
A5: 569A42C37C03306D10D3FFCF3F6485AB3D2D0F | B5: 굴삭기(무한궤도) | C5: 0.7 ㎥ | D5: 대 | W5: 자재 1 | X5: 천원
A6: 569A42C37C03306C0D5E3D5BC99DC6CDAD8E9B | B6: 래머 | C6: 80 kg | D6: 대 | W6: 자재 2 | X6: 천원
A7: 5689B2236C03A76C3062F659C66AB47743566B | B7: 경유 | C7: 경유, 저유황 | D7: L | W7: 자재 3
A8: 5689B2236C03A76C3062F5B6372AC45061DDBF | B8: 공업용휘발유 | C8: 공업용휘발유, 무연 | D8: L | W8: 자재 4
A9: 56B542531E035460182CC30DD99BE0E36FB843 | B9: 접지용비닐절연전선 | C9: 접지용비닐절연전선, F-GV, 4㎟ | D9: m | W9: 자재 5
A10: 56B542531E035460182CC30DD99BE0E36FB84D | B10: 접지용비닐절연전선 | C10: 접지용비닐절연전선, F-GV, 10㎟ | D10: m | W10: 자재 6
A11: 56B542531E035460182CC30DD99BE0E36EAA20 | B11: 접지용비닐절연전선 | C11: 접지용비닐절연전선, F-GV, 95㎟ | D11: m | W11: 자재 7
A12: 56B542531E035460182CC30DD99BE0E36EABCB | B12: 절연전선및피복선 | C12: 전기기기용비닐절연전선, 1.5㎟ | D12: m | W12: 자재 8
A13: 56B542531E035460182CC30C3254C1535D59D9 | B13: 450/750V 저독성난연가교폴리올레핀절연전선 | C13: HFIX, 2.5 ㎟ | D13: m | W13: 자재 9
A14: 56B542531E035460182CC30C3254C1535D5832 | B14: 450/750V 저독성난연가교폴리올레핀절연전선 | C14: HFIX, 4 ㎟ | D14: m | W14: 자재 10
A15: 56B542531E0354601BE279D2A5C3726ACECDB4 | B15: 제어케이블 | C15: 제어케이블, 0.6/1kV, TFR-CVV, 3C*2.5㎟ | D15: m | W15: 자재 11
A16: 56B542531E0354601BE30252FE8F0CCCA05E4B | B16: 절연케이블 | C16: 가요성알루미늄피복케이블, 3C*2.5㎟, 1.78mm, 단선 | D16: m | W16: 자재 12
A17: 56B542531E0354601BE0454E2055274E9441E1 | B17: 600V폴리에틸렌케이블 | C17: 600V폴리에틸렌케이블, 0.6/1kV, F-CV, 1C*70㎟ | D17: m | W17: 자재 13
A18: 56B542531E0354601BE0454E2055274E9441E2 | B18: 600V폴리에틸렌케이블 | C18: 600V폴리에틸렌케이블, 0.6/1kV, F-CV, 1C*150㎟ | D18: m | W18: 자재 14
... A81: 56D192836E0357647F78A2746273A018FFCD32 | B81: 단자대 | C81: NT | D81: 개 | W81: 자재 77
A82: 51C662D3F0032068F4DF63AF54371B | B82: 풀박스 | C82: 150*150*100 | D82: 개 | W82: 자재 78 | Y82: 1
A83: 515EE2E379031261A2754E02106E6F0719F6FE | B83: 보통인부 | C83: 일반공사 직종 | D83: 인 | W83: 노임 1 | Y83: B
A84: 515EE2E379031261A2754E02106E6F0719F786 | B84: 착암공 | C84: 일반공사 직종 | D84: 인 | W84: 노임 2 | Y84: B
A85: 515EE2E379031261A2754E02106E6F0719F209 | B85: 건설기계운전사 | C85: 일반공사 직종 | D85: 인 | W85: 노임 3 | Y85: B
A86: 515EE2E379031261A2754E02106E6F0719F328 | B86: 일반기계운전사 | C86: 일반공사 직종 | D86: 인 | W86: 노임 4 | Y86: B
A87: 515EE2E379031261A2754E02106E6F0719F17F | B87: 내선전공 | C87: 일반공사 직종 | D87: 인 | W87: 노임 5 | Y87: B
A88: 515EE2E379031261A2754E02106E6F0719F17C | B88: 특고압케이블전공 | C88: 일반공사 직종 | D88: 인 | W88: 노임 6 | Y88: B
A89: 515EE2E379031261A2754E02106E6F0719F172 | B89: 저압케이블전공 | C89: 일반공사 직종 | D89: 인 | W89: 노임 7 | Y89: B
A90: 515EE2E379031261A2754E02106E6F0719FE33 | B90: 배전전공 | C90: 일반공사 직종 | D90: 인 | W90: 노임 8 | Y90: B
A91: 50AA7243D80302682354C20C6E453036D7BC7B | B91: 조달수수료 | C91: 0.54% | D91: 식 | W91: 자재 79

Sheet 원가계산서
B1: 공 사 원 가 계 산 서
B2: 공사명 : 국립생태원 에코케어센터 건립공사 실시설계용역(전기) | F2: 금액 :
B3: 비 목 | E3: 금 액 | F3: 구 성 비 | G3: 비 고
A4: A1 | B4: 순 공 사 원 가 | C4: 재 료 비 | D4: 직 접 재 료 비 | E4: =TRUNC(공종별집계표!F5, 0) -> 0
A5: A2 | D5: 간 접 재 료 비
A6: A3 | D6: 작업설, 부산물(△)
A7: AS | D7: [ 소 계 ] | E7: =TRUNC(E4+E5-E6, 0) -> 0
A8: B1 | C8: 노 무 비 | D8: 직 접 노 무 비 | E8: =TRUNC(공종별집계표!H5, 0) -> 0
A9: B2 | D9: 간 접 노 무 비 | E9: =TRUNC(E8*0.096, 0) -> 0 | F9: 직접노무비 * 9.6%
A10: BS | D10: [ 소 계 ] | E10: =TRUNC(E8+E9, 0) -> 0
A11: C2 | C11: 경 비 | D11: 기 계 경 비 | E11: =TRUNC(공종별집계표!J5, 0) -> 0
A12: C4 | D12: 산 재 보 험 료 | E12: =TRUNC(E10*0.038, 0) -> 0 | F12: 노무비 * 3.8%
A13: C5 | D13: 고 용 보 험 료 | E13: =TRUNC(E10*0.0087, 0) -> 0 | F13: 노무비 * 0.87%
A14: C6 | D14: 국민 건강 보험료 | E14: =TRUNC(E8*0.017, 0) -> 0 | F14: 직접노무비 * 1.7%
A15: C7 | D15: 국민 연금 보험료 | E15: =TRUNC(E8*0.0249, 0) -> 0 | F15: 직접노무비 * 2.49%
A16: CB | D16: 노인장기요양보험료 | E16: =TRUNC(E14*0.0655, 0) -> 0 | F16: 건강보험료 * 6.55%
A17: CC | D17: 산업안전보건관리비(2) | E17: =TRUNC((E7+E8+E27)*0.0185, 0) -> 0 | F17: (재료비+직접노무비+관급자재비)*1.85%
A18: CG | D18: 기 타 경 비 | E18: =TRUNC((E7+E10)*0.052, 0) -> 0 | F18: (재료비+노무비) * 5.2%
A19: CS | D19: [ 소 계 ] | E19: =TRUNC(E11+E12+E13+E14+E15+E16+E18, 0) -> 0
A20: S1 | B20: 계 | E20: =TRUNC(E7+E10+E19, 0) -> 0
A21: D1 | B21: 일 반 관 리 비 | E21: =TRUNC(E20*0.06, 0) -> 0 | F21: 계 * 6%
A22: D2 | B22: 이 윤 | E22: =TRUNC((E10+E19+E21)*0.14999835, 0) -> 0 | F22: (노무비+경비+일반관리비) * 14.999835%
A23: D3 | B23: 사 급 자 재 비 | E23: =TRUNC(공종별집계표!T12, 0) -> 0
A24: D9 | B24: 공 급 가 액 | E24: =TRUNC(E20+E21+E22+E23, 0) -> 0
A25: DB | B25: 부 가 가 치 세 | E25: =TRUNC(E24*0.1, 0) -> 0 | F25: 공급가액 * 10%
A26: DH | B26: 도 급 액 | E26: =TRUNC((E24+E25), 0) -> 0
A27: DJ | B27: 관 급 자 재 비 | E27: =TRUNC(공종별집계표!T13, 0) -> 0
A28: S2 | B28: 총 공 사 비 | E28: =TRUNC(E26+E27, 0) -> 0

Sheet  공사설정 
A1: 이 Sheet는 수정하지 마십시요
A2: 공사구분 | B2: D
A3: 확정내역 | B3: 원내역
A4: 자재단가적용 | B4: 5
A5: 경비단가적용 | B5: 5
A6: 품목코드형식 | B6: XXXX-XXXX-XXXXXXXXX
A7: 내역금액소수점처리 | B7: C | C7: 1
A8: 일위대가내역소수점처리 | B8: C | C8: 2
A9: 단가명 | B9: 가격정보 | C9: 물가자료 | D9: 거래가격 | E9: 물가정보 | F9: 조사가격 | G9: TTTTT
A10: 환율 | B10: 1055.3 | C10: 0 | D10: 0
A11: 시간당작업량 | B11: R | C11: 4
A12: 1회 사이클시간 | B12: R | C12: 4
A13: 시간당 작업사이클 | B13: R | C13: 3
A14: 일반변수 | B14: C | C14: 5
A15: 시간당 노임산출 계수 | B15: A | C15: 1/8*16/12*25/20 | D15: 1/8*16/12*25/20 | E15: 1/8*16/12*25/20 | F15: 1
A16: 재료비 할증 계수 | B16: 1.11 | C16: 1.12
A17: 노무비 할증 계수 | B17: 1 | C17: 1.5 | D17: 1.16 | E17: 1.6 | F17: 1.6 | G17: 1.6 | H17: 1.94 | I17: 1.94 | J17: 1.94 | K17: 1 | L17: 1 | M17: 1
A18: 경비 할증 계수 | B18: 1.25 | C18: 1.071
A19: 내역,일위대가 품명,규격,단위 따로적용
A21: 코드 | B21: 공종구분명 | C21: 원가비목코드
A22: 1 | B22: 작 업 부 산 물 | C22: A3
A23: 2 | B23: 운 반 비 | C23: C1
A24: 3 | B24: 관 급 자 재 비 | C24: DJ
A25: 4 | B25: 사 급 자 재 비 | C25: D3
A26: 5 | B26: ...
A27: 6 | B27: ...
A28: 7 | B28: ...
A29: 8 | B29: ...
A30: 9 | B30: ...

Sheet Sheet1
