Workbook
Name ㅠ3: #REF!

Sheet 원가계산서
A1: 공 사 원 가 계 산 서
A2: 공 사 명 [ 국립생태원동물배후시설건립공사 ] 금액 : | E2: =NUMBERSTRING(D36,1)&"원정" -> 영원정 | F2: =SUM(D36) -> 0
A3: 비 목 | D3: 금 액 | E3: 구 성 비 | F3: 비 고
A4: 순공사원가 | B4: 재료비 | C4: 직 접 재 료 비 | D4: =+공종별집계표!F27 -> 0
C5: 간 접 재 료 비
C6: 작업설, 부산물(△) | D6: 0
C7: [ 소 계 ] | D7: =SUM(D4-D6) -> 0
B8: 노무비 | C8: 직 접 노 무 비 | D8: =+공종별집계표!H27 -> 0
C9: 간 접 노 무 비 | D9: =TRUNC((D8)*E9,0) -> 0 | E9: 0.08
C10: [ 소 계 ] | D10: =SUM(D8:D9) -> 0
B11: 경 비 | C11: 운 반 비 | D11: 0
C12: 기 계 경 비 | D12: =+공종별집계표!J27 -> 0
C13: 산 재 보 험 료 | D13: =TRUNC((D10)*E13,0) -> 0 | E13: 0.038
C14: 고 용 보 험 료 | D14: =TRUNC((D10)*E14,0) -> 0 | E14: 0.0087
C15: 건 강 보 험 료 | D15: =TRUNC((D8)*E15,0) -> 0 | E15: 0.017
C16: 연 금 보 험 료 | D16: =TRUNC((D8)*E16,0) -> 0 | E16: 0.0249
C17: 노인장기요양보험료 | D17: =TRUNC((D15)*E17,0) -> 0 | E17: 0.0655
C18: 퇴 직 공 제 부금비 | D18: =TRUNC((D8)*E18,0) -> 0 | E18: 0.023
C19: 안 전 관 리 비 | D19: 0 | E19: (재+직노+관급/1.1)*1.86%+5349000 ((재+직노)*1.86%+5349000)*1.2배 중 작은값 | H19: 0
C20: 기 타 경 비 | D20: =TRUNC((D7+D10)*E20,0) -> 0 | E20: 0.038 | H20: 0
C21: 환 경 보 존 비 | D21: =TRUNC((D7+D8+D11+D12)*E21,0) -> 0 | E21: 0.005
C22: 공사이행보증수수료 | D22: =TRUNC((D7+D8+D12)*E22,0) -> 0
C23: 건 설 하 도 급 대 금 | D23: =TRUNC((D7+D8+D11+D12)*E23,0) -> 0 | E23: 0.00081
C24: 지급보증서 발급 수수료
C25: 건설기계대여료 | D25: =TRUNC((D7+D8+D11+D12)*E25,0) -> 0 | E25: 0.0007
C26: 지급보증서 발급 수수료
C27: [ 소 계 ] | D27: =SUM(D11:D26) -> 0
A28: 계 | D28: =SUM(D7,D10,D27) -> 0
A29: 일 반 관 리 비 | D29: 0 | E29: 0.0471
A30: 이 윤 | D30: 0 | E30: 0.1
A31: 폐 기 물 처 리 비 | D31: 0
A32: 공 급 가 액 | D32: 0
A33: 부 가 가 치 세 | D33: 0 | E33: 0.1
A34: 도 급 액 | D34: =SUM(D32:D33) -> 0
A35: 관급자재비 | D35: =SUM(공종별집계표!L21+공종별집계표!L23+공종별집계표!F25) -> 0
A36: 총 공 사 비 | D36: =SUM(D34:D35) -> 0
D38: 0
D39: 0

Sheet 공종별집계표
A1: 공 종 별 집 계 표
A2: [ 국립생태원동물배후시설건립공사 ]
A3: 품 명 | B3: 규 격 | C3: 단위 | D3: 수량 | E3: 재 료 비 | G3: 노 무 비 | I3: 경 비 | K3: 합 계 | M3: 비 고 | N3: 공종코드 | O3: 변수 | P3: 상위공종 | Q3: 공종구분 | R3: 공종레벨 | S3: 공종소계 | T3: 원가계산서 연결금액
E4: 단 가 | F4: 금 액 | G4: 단 가 | H4: 금 액 | I4: 단 가 | J4: 금 액 | K4: 단 가 | L4: 금 액
A5: 국립생태원동물배후시설건립공사 | D5: 1 | E5: =F6+F22+F24 -> 0 | F5: =E5*D5 -> 0 | G5: =H6+H22+H24 -> 0 | H5: =G5*D5 -> 0 | I5: =J6+J22+J24 -> 0 | J5: =I5*D5 -> 0 | K5: =E5+G5+I5 -> 0 | L5: =F5+H5+J5 -> 0 | N5: 01 | R5: 1
A6: ◈ 건축공사 ◈ | D6: 1 | E6: =F7+F8+F9+F10+F11+F12+F13+F14+F15+F16+F17+F18+F19+F20 -> 0 | F6: =E6*D6 -> 0 | G6: =H7+H8+H9+H10+H11+H12+H13+H14+H15+H16+H17+H18+H19+H20 -> 0 | H6: =G6*D6 -> 0 | I6: =J7+J8+J9+J10+J11+J12+J13+J14+J15+J16+J17+J18+J19+J20 -> 0 | J6: =I6*D6 -> 0 | K6: =E6+G6+I6 -> 0 | L6: =F6+H6+J6 -> 0 | N6: 0101 | P6: 01 | R6: 2
A7: 1.가 설 공 사 | D7: 1 | E7: =공종별내역서!F27 -> 0 | F7: =E7*D7 -> 0 | G7: =공종별내역서!H27 -> 0 | H7: =G7*D7 -> 0 | I7: =공종별내역서!J27 -> 0 | J7: =I7*D7 -> 0 | K7: =E7+G7+I7 -> 0 | L7: =F7+H7+J7 -> 0 | N7: 010101 | P7: 0101 | R7: 3
A8: 2.토 및 지정공사 | D8: 1 | E8: =공종별내역서!F51 -> 0 | F8: =E8*D8 -> 0 | G8: =공종별내역서!H51 -> 0 | H8: =G8*D8 -> 0 | I8: =공종별내역서!J51 -> 0 | J8: =I8*D8 -> 0 | K8: =E8+G8+I8 -> 0 | L8: =F8+H8+J8 -> 0 | N8: 010102 | P8: 0101 | R8: 3
A9: 3.철근콘크리트공사 | D9: 1 | E9: =공종별내역서!F75 -> 0 | F9: =E9*D9 -> 0 | G9: =공종별내역서!H75 -> 0 | H9: =G9*D9 -> 0 | I9: =공종별내역서!J75 -> 0 | J9: =I9*D9 -> 0 | K9: =E9+G9+I9 -> 0 | L9: =F9+H9+J9 -> 0 | N9: 010103 | P9: 0101 | R9: 3
A10: 4.방 수 공 사 | D10: 1 | E10: =공종별내역서!F99 -> 0 | F10: =E10*D10 -> 0 | G10: =공종별내역서!H99 -> 0 | H10: =G10*D10 -> 0 | I10: =공종별내역서!J99 -> 0 | J10: =I10*D10 -> 0 | K10: =E10+G10+I10 -> 0 | L10: =F10+H10+J10 -> 0 | N10: 010104 | P10: 0101 | R10: 3
A11: 5.금 속 공 사 | D11: 1 | E11: =공종별내역서!F123 -> 0 | F11: =E11*D11 -> 0 | G11: =공종별내역서!H123 -> 0 | H11: =G11*D11 -> 0 | I11: =공종별내역서!J123 -> 0 | J11: =I11*D11 -> 0 | K11: =E11+G11+I11 -> 0 | L11: =F11+H11+J11 -> 0 | N11: 010105 | P11: 0101 | R11: 3
A12: 6.미 장 공 사 | D12: 1 | E12: =공종별내역서!F147 -> 0 | F12: =E12*D12 -> 0 | G12: =공종별내역서!H147 -> 0 | H12: =G12*D12 -> 0 | I12: =공종별내역서!J147 -> 0 | J12: =I12*D12 -> 0 | K12: =E12+G12+I12 -> 0 | L12: =F12+H12+J12 -> 0 | N12: 010106 | P12: 0101 | R12: 3
A13: 7.창 호 공 사 | D13: 1 | E13: =공종별내역서!F195 -> 0 | F13: =E13*D13 -> 0 | G13: =공종별내역서!H195 -> 0 | H13: =G13*D13 -> 0 | I13: =공종별내역서!J195 -> 0 | J13: =I13*D13 -> 0 | K13: =E13+G13+I13 -> 0 | L13: =F13+H13+J13 -> 0 | N13: 010107 | P13: 0101 | R13: 3
A14: 8.유 리 공 사 | D14: 1 | E14: =공종별내역서!F219 -> 0 | F14: =E14*D14 -> 0 | G14: =공종별내역서!H219 -> 0 | H14: =G14*D14 -> 0 | I14: =공종별내역서!J219 -> 0 | J14: =I14*D14 -> 0 | K14: =E14+G14+I14 -> 0 | L14: =F14+H14+J14 -> 0 | N14: 010108 | P14: 0101 | R14: 3
A15: 9.도 장 공 사 | D15: 1 | E15: =공종별내역서!F243 -> 0 | F15: =E15*D15 -> 0 | G15: =공종별내역서!H243 -> 0 | H15: =G15*D15 -> 0 | I15: =공종별내역서!J243 -> 0 | J15: =I15*D15 -> 0 | K15: =E15+G15+I15 -> 0 | L15: =F15+H15+J15 -> 0 | N15: 010109 | P15: 0101 | R15: 3
A16: 10.수 장 공 사 | D16: 1 | E16: =공종별내역서!F267 -> 0 | F16: =E16*D16 -> 0 | G16: =공종별내역서!H267 -> 0 | H16: =G16*D16 -> 0 | I16: =공종별내역서!J267 -> 0 | J16: =I16*D16 -> 0 | K16: =E16+G16+I16 -> 0 | L16: =F16+H16+J16 -> 0 | N16: 010110 | P16: 0101 | R16: 3
A17: 11.지붕및홈통공사 | D17: 1 | E17: =공종별내역서!F291 -> 0 | F17: =E17*D17 -> 0 | G17: =공종별내역서!H291 -> 0 | H17: =G17*D17 -> 0 | I17: =공종별내역서!J291 -> 0 | J17: =I17*D17 -> 0 | K17: =E17+G17+I17 -> 0 | L17: =F17+H17+J17 -> 0 | N17: 010111 | P17: 0101 | R17: 3
A18: 12.비가림시설설치 | D18: 1 | E18: =공종별내역서!F315 -> 0 | F18: =E18*D18 -> 0 | G18: =공종별내역서!H315 -> 0 | H18: =G18*D18 -> 0 | I18: =공종별내역서!J315 -> 0 | J18: =I18*D18 -> 0 | K18: =E18+G18+I18 -> 0 | L18: =F18+H18+J18 -> 0 | N18: 010112 | P18: 0101 | R18: 3
A19: 13.부 대 공 사 | D19: 1 | E19: =공종별내역서!F339 -> 0 | F19: =E19*D19 -> 0 | G19: =공종별내역서!H339 -> 0 | H19: =G19*D19 -> 0 | I19: =공종별내역서!J339 -> 0 | J19: =I19*D19 -> 0 | K19: =E19+G19+I19 -> 0 | L19: =F19+H19+J19 -> 0 | N19: 010113 | P19: 0101 | R19: 3
A20: 14.골재 및 운반비 | D20: 1 | E20: =공종별내역서!F363 -> 0 | F20: =E20*D20 -> 0 | G20: =공종별내역서!H363 -> 0 | H20: =G20*D20 -> 0 | I20: =공종별내역서!J363 -> 0 | J20: =I20*D20 -> 0 | K20: =E20+G20+I20 -> 0 | L20: =F20+H20+J20 -> 0 | N20: 010114 | P20: 0101 | R20: 3
A21: 15.관 급 자 재 비 | D21: 1 | E21: =공종별내역서!F387 -> 0 | F21: =E21*D21 -> 0 | G21: =공종별내역서!H387 -> 0 | H21: =G21*D21 -> 0 | I21: =공종별내역서!J387 -> 0 | J21: =I21*D21 -> 0 | K21: =E21+G21+I21 -> 0 | L21: =F21+H21+J21 -> 0 | N21: 010115 | Q21: 3 | R21: 3 | T21: =L21*1 -> 0
A22: ◈ 설비공사 ◈ | D22: 1 | E22: =공종별내역서!F411 -> 0 | F22: =E22*D22 -> 0 | G22: =공종별내역서!H411 -> 0 | H22: =G22*D22 -> 0 | I22: =공종별내역서!J411 -> 0 | J22: =I22*D22 -> 0 | K22: =E22+G22+I22 -> 0 | L22: =F22+H22+J22 -> 0 | N22: 0102 | P22: 01 | R22: 2
A23: 관급자재비(설비) | D23: 1 | E23: =공종별내역서!F435 -> 0 | F23: =E23*D23 -> 0 | G23: =공종별내역서!H435 -> 0 | H23: =G23*D23 -> 0 | I23: =공종별내역서!J435 -> 0 | J23: =I23*D23 -> 0 | K23: =E23+G23+I23 -> 0 | L23: =F23+H23+J23 -> 0 | N23: 010201 | Q23: 3 | R23: 3 | T23: =L23*1 -> 0
A24: ◈ 토목공사 ◈ | D24: 1 | E24: =공종별내역서!F459 -> 0 | F24: =E24*D24 -> 0 | G24: =공종별내역서!H459 -> 0 | H24: =G24*D24 -> 0 | I24: =공종별내역서!J459 -> 0 | J24: =I24*D24 -> 0 | K24: =E24+G24+I24 -> 0 | L24: =F24+H24+J24 -> 0 | N24: 0103 | P24: 01 | R24: 2
A25: 관급자재비(설비) | D25: 1 | E25: 0 | F25: =E25*D25 -> 0 | G25: 0 | H25: =G25*D25 -> 0 | I25: 0 | J25: =I25*D25 -> 0 | K25: =E25+G25+I25 -> 0 | L25: =F25+H25+J25 -> 0 | N25: 010201 | Q25: 3 | R25: 3 | T25: =L25*1 -> 0
A27: [ 합 계 ] | F27: =F5 -> 0 | H27: =H5 -> 0 | J27: =J5 -> 0 | L27: =L5 -> 0

Sheet 공종별내역서
A1: [ 국립생태원동물배후시설건립공사 ]
A2: 품 명 | B2: 규 격 | C2: 단위 | D2: 수량 | E2: 재 료 비 | G2: 노 무 비 | I2: 경 비 | K2: 합 계 | M2: 비 고 | N2: 품목코드 | O2: 변수 | P2: 설정 | Q2: 공종코드 | R2: 일위 | S2: 단산 | T2: 자재 | U2: 손료적용 | V2: 손료저장 | W2: 적용율 | X2: JUK1 | Y2: JUK2 | Z2: JUK3 | AA2: JUK4 | AB2: JUK5 | AC2: JUK6 | AD2: JUK7 | AE2: JUK8 | AF2: JUK9 | AG2: JUK10 | AH2: JUK11 | AI2: JUK12 | AJ2: JUK13 | AK2: JUK14 | AL2: JUK15 | AM2: JUK16 | AN2: JUK17 | AO2: JUK18 | AP2: JUK19 | AQ2: JUK20 | AR2: 자재구분 | AS2: 공종구분 | AT2: 공종레벨 | AU2: 공종+자재 | AV2: 고유번호
E3: 단 가 | F3: 금 액 | G3: 단 가 | H3: 금 액 | I3: 단 가 | J3: 금 액 | K3: 단 가 | L3: 금 액
A4: 1.가 설 공 사 | Q4: 010101
A5: 컨테이너형 가설건축물 - 사무실 | B5: 2.4*6.0*2.6m, 3개월 | C5: 개소 | D5: 1 | E5: 0 | F5: =TRUNC(E5*D5, 0) -> 0 | G5: 0 | H5: =TRUNC(G5*D5, 0) -> 0 | I5: 0 | J5: =TRUNC(I5*D5, 0) -> 0 | K5: =TRUNC(E5+G5+I5, 0) -> 0 | L5: =TRUNC(F5+H5+J5, 0) -> 0 | M5: 호표 1 | N5: 5F0CF57ACF05DBD765881512AA2D | Q5: 010101 | R5: T | S5: F | T5: F | AU5: 0101015F0CF57ACF05DBD765881512AA2D | AV5: 4
A6: 수평규준틀 | B6: 평 | C6: 개소 | D6: 10 | E6: 0 | F6: =TRUNC(E6*D6, 0) -> 0 | G6: 0 | H6: =TRUNC(G6*D6, 0) -> 0 | I6: 0 | J6: =TRUNC(I6*D6, 0) -> 0 | K6: =TRUNC(E6+G6+I6, 0) -> 0 | L6: =TRUNC(F6+H6+J6, 0) -> 0 | M6: 호표 2 | N6: 5F0CF57ACD052E436B9743159E2F | Q6: 010101 | R6: T | S6: F | T6: F | AU6: 0101015F0CF57ACD052E436B9743159E2F | AV6: 5
A7: 수평규준틀 | B7: 귀 | C7: 개소 | D7: 5 | E7: 0 | F7: =TRUNC(E7*D7, 0) -> 0 | G7: 0 | H7: =TRUNC(G7*D7, 0) -> 0 | I7: 0 | J7: =TRUNC(I7*D7, 0) -> 0 | K7: =TRUNC(E7+G7+I7, 0) -> 0 | L7: =TRUNC(F7+H7+J7, 0) -> 0 | M7: 호표 3 | N7: 5F0CF57ACD052E436B9743159D08 | Q7: 010101 | R7: T | S7: F | T7: F | AU7: 0101015F0CF57ACD052E436B9743159D08 | AV7: 6
A8: 강관동바리 설치 및 해체 | B8: 3개월, 5.0m이하, 2단보강 | C8: M2 | D8: 773.59 | E8: 0 | F8: =TRUNC(E8*D8, 0) -> 0 | G8: 0 | H8: =TRUNC(G8*D8, 0) -> 0 | I8: 0 | J8: =TRUNC(I8*D8, 0) -> 0 | K8: =TRUNC(E8+G8+I8, 0) -> 0 | L8: =TRUNC(F8+H8+J8, 0) -> 0 | M8: 호표 4 | N8: 5F0CF57ACD052E436BA1A918BC9A | Q8: 010101 | R8: T | S8: F | T8: F | AU8: 0101015F0CF57ACD052E436BA1A918BC9A | AV8: 140
A9: 강관비계(쌍줄) 설치 및 해체 | B9: 10m초과~20m이하 | C9: M2 | D9: 918.52 | E9: 0 | F9: =TRUNC(E9*D9, 0) -> 0 | G9: 0 | H9: =TRUNC(G9*D9, 0) -> 0 | I9: 0 | J9: =TRUNC(I9*D9, 0) -> 0 | K9: =TRUNC(E9+G9+I9, 0) -> 0 | L9: =TRUNC(F9+H9+J9, 0) -> 0 | M9: 호표 5 | N9: 5F0CF57ACD052E436BB218184511 | Q9: 010101 | R9: T | S9: F | T9: F | AU9: 0101015F0CF57ACD052E436BB218184511 | AV9: 141
A10: 강관비계다리-계단식 | B10: 3개월 | C10: M2 | D10: 59.28 | E10: 0 | F10: =TRUNC(E10*D10, 0) -> 0 | G10: 0 | H10: =TRUNC(G10*D10, 0) -> 0 | I10: 0 | J10: =TRUNC(I10*D10, 0) -> 0 | K10: =TRUNC(E10+G10+I10, 0) -> 0 | L10: =TRUNC(F10+H10+J10, 0) -> 0 | M10: 호표 6 | N10: 5F0CF57ACD052E436BB23B164257 | Q10: 010101 | R10: T | S10: F | T10: F | AU10: 0101015F0CF57ACD052E436BB23B164257 | AV10: 143
A11: 강관 조립말비계(이동식) | B11: 높이 2m, 3개월 | C11: 대 | D11: 6 | E11: 0 | F11: =TRUNC(E11*D11, 0) -> 0 | G11: 0 | H11: =TRUNC(G11*D11, 0) -> 0 | I11: 0 | J11: =TRUNC(I11*D11, 0) -> 0 | K11: =TRUNC(E11+G11+I11, 0) -> 0 | L11: =TRUNC(F11+H11+J11, 0) -> 0 | M11: 호표 7 | N11: 5F0CF57ACD052E436BB229116790 | Q11: 010101 | R11: T | S11: F | T11: F | AU11: 0101015F0CF57ACD052E436BB229116790 | AV11: 10
A12: CONC보양 | B12: 살수 | C12: M2 | D12: 859.54 | E12: 0 | F12: =TRUNC(E12*D12, 0) -> 0 | G12: 0 | H12: =TRUNC(G12*D12, 0) -> 0 | I12: 0 | J12: =TRUNC(I12*D12, 0) -> 0 | K12: =TRUNC(E12+G12+I12, 0) -> 0 | L12: =TRUNC(F12+H12+J12, 0) -> 0 | M12: 호표 8 | N12: 5F0CF57ACD052E436BDEFD1D95F5 | Q12: 010101 | R12: T | S12: F | T12: F | AU12: 0101015F0CF57ACD052E436BDEFD1D95F5 | AV12: 11
A13: 건축물현장정리 | B13: 철골조 | C13: M2 | D13: 859.54 | E13: 0 | F13: =TRUNC(E13*D13, 0) -> 0 | G13: 0 | H13: =TRUNC(G13*D13, 0) -> 0 | I13: 0 | J13: =TRUNC(I13*D13, 0) -> 0 | K13: =TRUNC(E13+G13+I13, 0) -> 0 | L13: =TRUNC(F13+H13+J13, 0) -> 0 | M13: 호표 9 | N13: 5F0CF57ACD052E436BDEE3166B33 | Q13: 010101 | R13: T | S13: F | T13: F | AU13: 0101015F0CF57ACD052E436BDEE3166B33 | AV13: 12
A14: 먹매김 | B14: 일반 | C14: M2 | D14: 859.54 | E14: 0 | F14: =TRUNC(E14*D14, 0) -> 0 | G14: 0 | H14: =TRUNC(G14*D14, 0) -> 0 | I14: 0 | J14: =TRUNC(I14*D14, 0) -> 0 | K14: =TRUNC(E14+G14+I14, 0) -> 0 | L14: =TRUNC(F14+H14+J14, 0) -> 0 | M14: 호표 10 | N14: 5F0CF57ACD052E436BEF6C1C97BB | Q14: 010101 | R14: T | S14: F | T14: F | AU14: 0101015F0CF57ACD052E436BEF6C1C97BB | AV14: 142
A27: [ 합 계 ] | F27: =SUM(F5:F26) -> 0 | H27: =SUM(H5:H26) -> 0 | J27: =SUM(J5:J26) -> 0 | L27: =SUM(L5:L26) -> 0 | N27: TOTAL
A28: 2.토 및 지정공사 | Q28: 010102
A29: 터파기 | B29: 토사(보통),백호0.7M3 | C29: M3 | D29: 436.92 | E29: 0 | F29: =TRUNC(E29*D29, 0) -> 0 | G29: 0 | H29: =TRUNC(G29*D29, 0) -> 0 | I29: 0 | J29: =TRUNC(I29*D29, 0) -> 0 | K29: =TRUNC(E29+G29+I29, 0) -> 0 | L29: =TRUNC(F29+H29+J29, 0) -> 0 | M29: 산근 1 | N29: 5F0CF57AC705857F6ADEDA1F2B5B | Q29: 010102 | R29: F | S29: T | T29: F | AU29: 0101025F0CF57AC705857F6ADEDA1F2B5B | AV29: 144
A30: 되메우기/토사, 두께 10cm | B30: 보통,유압식백호 0.7m3+콤팩터1.5톤 | C30: M3 | D30: 98.19 | E30: 0 | F30: =TRUNC(E30*D30, 0) -> 0 | G30: 0 | H30: =TRUNC(G30*D30, 0) -> 0 | I30: 0 | J30: =TRUNC(I30*D30, 0) -> 0 | K30: =TRUNC(E30+G30+I30, 0) -> 0 | L30: =TRUNC(F30+H30+J30, 0) -> 0 | M30: 산근 2 | N30: 5F0CF57AC70586016FC6961F6878 | Q30: 010102 | R30: F | S30: T | T30: F | AU30: 0101025F0CF57AC70586016FC6961F6878 | AV30: 145
A31: 토사처리 단지외30KM(보통) | B31: 담프 15톤 + 백호 0.7 | C31: M3 | D31: 406.48 | E31: 0 | F31: =TRUNC(E31*D31, 0) -> 0 | G31: 0 | H31: =TRUNC(G31*D31, 0) -> 0 | I31: 0 | J31: =TRUNC(I31*D31, 0) -> 0 | K31: =TRUNC(E31+G31+I31, 0) -> 0 | L31: =TRUNC(F31+H31+J31, 0) -> 0 | M31: 산근 3 | N31: 5F0CF57AC70586016FD75D193688 | Q31: 010102 | R31: F | S31: T | T31: F | AU31: 0101025F0CF57AC70586016FD75D193688 | AV31: 146
A32: 지반다지기 | B32: 콤펙트1.5톤 | C32: M2 | D32: 498.34 | E32: 0 | F32: =TRUNC(E32*D32, 0) -> 0 | G32: 0 | H32: =TRUNC(G32*D32, 0) -> 0 | I32: 0 | J32: =TRUNC(I32*D32, 0) -> 0 | K32: =TRUNC(E32+G32+I32, 0) -> 0 | L32: =TRUNC(F32+H32+J32, 0) -> 0 | M32: 호표 11 | N32: 5F0CF57ACD052E406E13A215B8A0 | Q32: 010102 | R32: T | S32: F | T32: F | AU32: 0101025F0CF57ACD052E406E13A215B8A0 | AV32: 16
A51: [ 합 계 ] | F51: =SUM(F29:F50) -> 0 | H51: =SUM(H29:H50) -> 0 | J51: =SUM(J29:J50) -> 0 | L51: =SUM(L29:L50) -> 0 | N51: TOTAL
A52: 3.철근콘크리트공사 | Q52: 010103
A53: 레미콘(관급) | B53: 25-24-15 | C53: M3 | D53: 707.84 | E53: 0 | F53: =TRUNC(E53*D53, 0) -> 0 | G53: 0 | H53: =TRUNC(G53*D53, 0) -> 0 | I53: 0 | J53: =TRUNC(I53*D53, 0) -> 0 | K53: =TRUNC(E53+G53+I53, 0) -> 0 | L53: =TRUNC(F53+H53+J53, 0) -> 0 | N53: 5F0CF572F905836A6E7AB113EF39 | Q53: 010103 | R53: F | S53: F | T53: T | AU53: 0101035F0CF572F905836A6E7AB113EF39 | AV53: 20
A54: 레미콘(관급) | B54: 25-18-08 | C54: M3 | D54: 27.18 | E54: 0 | F54: =TRUNC(E54*D54, 0) -> 0 | G54: 0 | H54: =TRUNC(G54*D54, 0) -> 0 | I54: 0 | J54: =TRUNC(I54*D54, 0) -> 0 | K54: =TRUNC(E54+G54+I54, 0) -> 0 | L54: =TRUNC(F54+H54+J54, 0) -> 0 | N54: 5F0CF572F905836A6E7AB113E6C3 | Q54: 010103 | R54: F | S54: F | T54: T | AU54: 0101035F0CF572F905836A6E7AB113E6C3 | AV54: 21
A55: 이형철근(관급) | B55: HD-10, SD350/400 | C55: TON | D55: 25.97 | E55: 0 | F55: =TRUNC(E55*D55, 0) -> 0 | G55: 0 | H55: =TRUNC(G55*D55, 0) -> 0 | I55: 0 | J55: =TRUNC(I55*D55, 0) -> 0 | K55: =TRUNC(E55+G55+I55, 0) -> 0 | L55: =TRUNC(F55+H55+J55, 0) -> 0 | M55: 별도 | N55: 5F0CF57BD505270A68D0F7187CD5 | Q55: 010103 | R55: F | S55: F | T55: T | AU55: 0101035F0CF57BD505270A68D0F7187CD5 | AV55: 135
A56: 이형철근(관급) | B56: HD-13, SD350/400 | C56: TON | D56: 9.92 | E56: 0 | F56: =TRUNC(E56*D56, 0) -> 0 | G56: 0 | H56: =TRUNC(G56*D56, 0) -> 0 | I56: 0 | J56: =TRUNC(I56*D56, 0) -> 0 | K56: =TRUNC(E56+G56+I56, 0) -> 0 | L56: =TRUNC(F56+H56+J56, 0) -> 0 | M56: 별도 | N56: 5F0CF57BD505270A68D0F7187FA9 | Q56: 010103 | R56: F | S56: F | T56: T | AU56: 0101035F0CF57BD505270A68D0F7187FA9 | AV56: 136
A57: 이형철근(관급) | B57: HD-16, SD350/400 | C57: TON | D57: 21.47 | E57: 0 | F57: =TRUNC(E57*D57, 0) -> 0 | G57: 0 | H57: =TRUNC(G57*D57, 0) -> 0 | I57: 0 | J57: =TRUNC(I57*D57, 0) -> 0 | K57: =TRUNC(E57+G57+I57, 0) -> 0 | L57: =TRUNC(F57+H57+J57, 0) -> 0 | M57: 별도 | N57: 5F0CF57BD505270A68D0F7187E80 | Q57: 010103 | R57: F | S57: F | T57: T | AU57: 0101035F0CF57BD505270A68D0F7187E80 | AV57: 137
A58: 이형철근(관급) | B58: HD-22, SD350/400 | C58: TON | D58: 10.25 | E58: 0 | F58: =TRUNC(E58*D58, 0) -> 0 | G58: 0 | H58: =TRUNC(G58*D58, 0) -> 0 | I58: 0 | J58: =TRUNC(I58*D58, 0) -> 0 | K58: =TRUNC(E58+G58+I58, 0) -> 0 | L58: =TRUNC(F58+H58+J58, 0) -> 0 | M58: 별도 | N58: 5F0CF57BD505270A68D0F7187878 | Q58: 010103 | R58: F | S58: F | T58: T | AU58: 0101035F0CF57BD505270A68D0F7187878 | AV58: 139
A59: 무근콘크리트타설/펌프카(21m) | B59: 슬럼프8∼12, 50m3미만[65~75] | C59: M3 | D59: 26.65 | E59: 0 | F59: =TRUNC(E59*D59, 0) -> 0 | G59: 0 | H59: =TRUNC(G59*D59, 0) -> 0 | I59: 0 | J59: =TRUNC(I59*D59, 0) -> 0 | K59: =TRUNC(E59+G59+I59, 0) -> 0 | L59: =TRUNC(F59+H59+J59, 0) -> 0 | M59: 호표 12 | N59: 5F0CF57ACD052E41688A4317AB9E | Q59: 010103 | R59: T | S59: F | T59: F | AU59: 0101035F0CF57ACD052E41688A4317AB9E | AV59: 26
A60: 철근콘크리트타설/펌프카(21m) | B60: 슬럼프15,300m3 이상[65~75] | C60: M3 | D60: 700.83 | E60: 0 | F60: =TRUNC(E60*D60, 0) -> 0 | G60: 0 | H60: =TRUNC(G60*D60, 0) -> 0 | I60: 0 | J60: =TRUNC(I60*D60, 0) -> 0 | K60: =TRUNC(E60+G60+I60, 0) -> 0 | L60: =TRUNC(F60+H60+J60, 0) -> 0 | M60: 호표 13 | N60: 5F0CF57ACD052E41688A6E10424A | Q60: 010103 | R60: T | S60: F | T60: F | AU60: 0101035F0CF57ACD052E41688A6E10424A | AV60: 27
A61: 철근 현장 가공 및 조립 | B61: 보통(미할증) | C61: TON | D61: 65.63 | E61: 0 | F61: =TRUNC(E61*D61, 0) -> 0 | G61: 0 | H61: =TRUNC(G61*D61, 0) -> 0 | I61: 0 | J61: =TRUNC(I61*D61, 0) -> 0 | K61: =TRUNC(E61+G61+I61, 0) -> 0 | L61: =TRUNC(F61+H61+J61, 0) -> 0 | M61: 호표 14 | N61: 5F0CF57ACD052E4168D2671066BE | Q61: 010103 | R61: T | S61: F | T61: F | AU61: 0101035F0CF57ACD052E4168D2671066BE | AV61: 28
A62: 합판 거푸집 설치 및 해체 | B62: 4회 사용시, 0~7m까지 | C62: M2 | D62: 935.76 | E62: 0 | F62: =TRUNC(E62*D62, 0) -> 0 | G62: 0 | H62: =TRUNC(G62*D62, 0) -> 0 | I62: 0 | J62: =TRUNC(I62*D62, 0) -> 0 | K62: =TRUNC(E62+G62+I62, 0) -> 0 | L62: =TRUNC(F62+H62+J62, 0) -> 0 | M62: 호표 15 | N62: 5F0CF57ACD052E4168C1E7158AD6 | Q62: 010103 | R62: T | S62: F | T62: F | AU62: 0101035F0CF57ACD052E4168C1E7158AD6 | AV62: 29
A63: 유로폼 설치 및 해체 | B63: 벽, 0~7m까지 | C63: M2 | D63: 2843.91 | E63: 0 | F63: =TRUNC(E63*D63, 0) -> 0 | G63: 0 | H63: =TRUNC(G63*D63, 0) -> 0 | I63: 0 | J63: =TRUNC(I63*D63, 0) -> 0 | K63: =TRUNC(E63+G63+I63, 0) -> 0 | L63: =TRUNC(F63+H63+J63, 0) -> 0 | M63: 호표 16 | N63: 5F0CF57ACD052E4168C1A91E99B1 | Q63: 010103 | R63: T | S63: F | T63: F | AU63: 0101035F0CF57ACD052E4168C1A91E99B1 | AV63: 30
A64: 강설 | B64: 고철, 작업설부산물 | C64: TON | D64: -1.41 | E64: 0 | F64: =TRUNC(E64*D64, 0) -> 0 | G64: 0 | H64: =TRUNC(G64*D64, 0) -> 0 | I64: 0 | J64: =TRUNC(I64*D64, 0) -> 0 | K64: =TRUNC(E64+G64+I64, 0) -> 0 | L64: =TRUNC(F64+H64+J64, 0) -> 0 | M64: 수집상차도 | N64: 5FCFC5C7FA0519026371C417BDA3 | Q64: 010103 | R64: F | S64: F | T64: T | AU64: 0101035FCFC5C7FA0519026371C417BDA3 | AV64: 175
A75: [ 합 계 ] | F75: =SUM(F53:F74) -> 0 | H75: =SUM(H53:H74) -> 0 | J75: =SUM(J53:J74) -> 0 | L75: =SUM(L53:L74) -> 0 | N75: TOTAL
A76: 4.방 수 공 사 | Q76: 010104
A77: 에폭시페인트 | B77: 3mm | C77: M2 | D77: 49.05 | E77: 0 | F77: =TRUNC(E77*D77, 0) -> 0 | G77: 0 | H77: =TRUNC(G77*D77, 0) -> 0 | I77: 0 | J77: =TRUNC(I77*D77, 0) -> 0 | K77: =TRUNC(E77+G77+I77, 0) -> 0 | L77: =TRUNC(F77+H77+J77, 0) -> 0 | N77: 5F0CF5777A0536BA6026E51DE8A7 | Q77: 010104 | R77: F | S77: F | T77: T | AU77: 0101045F0CF5777A0536BA6026E51DE8A7 | AV77: 32
A78: 바탕만들기+에폭시 코팅 | B78: 바닥, 롤러칠 | C78: M2 | D78: 49.05 | E78: 0 | F78: =TRUNC(E78*D78, 0) -> 0 | G78: 0 | H78: =TRUNC(G78*D78, 0) -> 0 | I78: 0 | J78: =TRUNC(I78*D78, 0) -> 0 | K78: =TRUNC(E78+G78+I78, 0) -> 0 | L78: =TRUNC(F78+H78+J78, 0) -> 0 | M78: 호표 17 | N78: 5F0CF57ACD0529C7686B0810024E | Q78: 010104 | R78: T | S78: F | T78: F | AU78: 0101045F0CF57ACD0529C7686B0810024E | AV78: 171
A79: 시멘트 액체방수 | B79: 바닥, 1종 | C79: M2 | D79: 621.9 | E79: 0 | F79: =TRUNC(E79*D79, 0) -> 0 | G79: 0 | H79: =TRUNC(G79*D79, 0) -> 0 | I79: 0 | J79: =TRUNC(I79*D79, 0) -> 0 | K79: =TRUNC(E79+G79+I79, 0) -> 0 | L79: =TRUNC(F79+H79+J79, 0) -> 0 | M79: 호표 18 | N79: 5F0CF57ACD052F696B873F137B9F | Q79: 010104 | R79: T | S79: F | T79: F | AU79: 0101045F0CF57ACD052F696B873F137B9F | AV79: 33
A80: 시멘트 액체방수 | B80: 벽, 2종 | C80: M2 | D80: 14.82 | E80: 0 | F80: =TRUNC(E80*D80, 0) -> 0 | G80: 0 | H80: =TRUNC(G80*D80, 0) -> 0 | I80: 0 | J80: =TRUNC(I80*D80, 0) -> 0 | K80: =TRUNC(E80+G80+I80, 0) -> 0 | L80: =TRUNC(F80+H80+J80, 0) -> 0 | M80: 호표 19 | N80: 5F0CF57ACD052F696B873F16CF9D | Q80: 010104 | R80: T | S80: F | T80: F | AU80: 0101045F0CF57ACD052F696B873F16CF9D | AV80: 34
A81: 우레탄방수 -바탕,프라이머 포함 | B81: 바닥 3mm, 노출 | C81: M2 | D81: 455.24 | E81: 0 | F81: =TRUNC(E81*D81, 0) -> 0 | G81: 0 | H81: =TRUNC(G81*D81, 0) -> 0 | I81: 0 | J81: =TRUNC(I81*D81, 0) -> 0 | K81: =TRUNC(E81+G81+I81, 0) -> 0 | L81: =TRUNC(F81+H81+J81, 0) -> 0 | M81: 호표 20 | N81: 5F0CF57ACD052F696B912215DF47 | Q81: 010104 | R81: T | S81: F | T81: F | AU81: 0101045F0CF57ACD052F696B912215DF47 | AV81: 147
A82: 우레탄방수 -바탕,프라이머 포함 | B82: 수직 3mm, 노출 | C82: M2 | D82: 74.88 | E82: 0 | F82: =TRUNC(E82*D82, 0) -> 0 | G82: 0 | H82: =TRUNC(G82*D82, 0) -> 0 | I82: 0 | J82: =TRUNC(I82*D82, 0) -> 0 | K82: =TRUNC(E82+G82+I82, 0) -> 0 | L82: =TRUNC(F82+H82+J82, 0) -> 0 | M82: 호표 21 | N82: 5F0CF57ACD052F696B9122120F84 | Q82: 010104 | R82: T | S82: F | T82: F | AU82: 0101045F0CF57ACD052F696B9122120F84 | AV82: 148
A83: 치장줄눈(콘크리트면) | C83: M | D83: 146.3 | E83: 0 | F83: =TRUNC(E83*D83, 0) -> 0 | G83: 0 | H83: =TRUNC(G83*D83, 0) -> 0 | I83: 0 | J83: =TRUNC(I83*D83, 0) -> 0 | K83: =TRUNC(E83+G83+I83, 0) -> 0 | L83: =TRUNC(F83+H83+J83, 0) -> 0 | M83: 호표 22 | N83: 5F0CF57ACD052F696BCECE1CCC43 | Q83: 010104 | R83: T | S83: F | T83: F | AU83: 0101045F0CF57ACD052F696BCECE1CCC43 | AV83: 37
A84: 수밀코킹(실리콘) | B84: 10㎜*10㎜ | C84: M | D84: 756.69 | E84: 0 | F84: =TRUNC(E84*D84, 0) -> 0 | G84: 0 | H84: =TRUNC(G84*D84, 0) -> 0 | I84: 0 | J84: =TRUNC(I84*D84, 0) -> 0 | K84: =TRUNC(E84+G84+I84, 0) -> 0 | L84: =TRUNC(F84+H84+J84, 0) -> 0 | M84: 호표 23 | N84: 5F0CF57ACD052F696B38F01277A4 | Q84: 010104 | R84: T | S84: F | T84: F | AU84: 0101045F0CF57ACD052F696B38F01277A4 | AV84: 38
A99: [ 합 계 ] | F99: =SUM(F77:F98) -> 0 | H99: =SUM(H77:H98) -> 0 | J99: =SUM(J77:J98) -> 0 | L99: =SUM(L77:L98) -> 0 | N99: TOTAL
A100: 5.금 속 공 사 | Q100: 010105
A101: 안전덮개(벽부형) | B101: W:140*H:150/SUS후렘+펀칭메탈 | C101: EA | D101: 12 | E101: 0 | F101: =TRUNC(E101*D101, 0) -> 0 | G101: 0 | H101: =TRUNC(G101*D101, 0) -> 0 | I101: 0 | J101: =TRUNC(I101*D101, 0) -> 0 | K101: =TRUNC(E101+G101+I101, 0) -> 0 | L101: =TRUNC(F101+H101+J101, 0) -> 0 | M101: 호표 24 | N101: 5F0CF57ACD052F6D6171DC1C0173 | Q101: 010105 | R101: T | S101: F | T101: F | AU101: 0101055F0CF57ACD052F6D6171DC1C0173 | AV101: 191
A102: SUS코너보강제설치 | B102: ㄱ형태-30*30 수처리실계단턱 | C102: M | D102: 5.5 | E102: 0 | F102: =TRUNC(E102*D102, 0) -> 0 | G102: 0 | H102: =TRUNC(G102*D102, 0) -> 0 | I102: 0 | J102: =TRUNC(I102*D102, 0) -> 0 | K102: =TRUNC(E102+G102+I102, 0) -> 0 | L102: =TRUNC(F102+H102+J102, 0) -> 0 | M102: 호표 25 | N102: 5F0CF57ACD052F6D6171DC1C0054 | Q102: 010105 | R102: T | S102: F | T102: F | AU102: 0101055F0CF57ACD052F6D6171DC1C0054 | AV102: 190
A103: 슬라이딩덮개설치 | B103: 1650*1000 T:4 SUS펀칭메탈 | C103: 개소 | D103: 6 | E103: 0 | F103: =TRUNC(E103*D103, 0) -> 0 | G103: 0 | H103: =TRUNC(G103*D103, 0) -> 0 | I103: 0 | J103: =TRUNC(I103*D103, 0) -> 0 | K103: =TRUNC(E103+G103+I103, 0) -> 0 | L103: =TRUNC(F103+H103+J103, 0) -> 0 | M103: 호표 26 | N103: 5F0CF57ACD052F6D6171DC1C0055 | Q103: 010105 | R103: T | S103: F | T103: F | AU103: 0101055F0CF57ACD052F6D6171DC1C0055 | AV103: 192
A104: 3층외벽철망칸막이설치 | B104: L:37.9M*H:3.03M,각관+SUS철망 | C104: 개소 | D104: 1 | E104: 0 | F104: =TRUNC(E104*D104, 0) -> 0 | G104: 0 | H104: =TRUNC(G104*D104, 0) -> 0 | I104: 0 | J104: =TRUNC(I104*D104, 0) -> 0 | K104: =TRUNC(E104+G104+I104, 0) -> 0 | L104: =TRUNC(F104+H104+J104, 0) -> 0 | M104: 호표 27 | N104: 5F0CF57ACD052F6D6171DC1C017A | Q104: 010105 | R104: T | S104: F | T104: F | AU104: 0101055F0CF57ACD052F6D6171DC1C017A | AV104: 185
A105: 3층외벽철망칸막이설치 | B105: L:29M*W:3.6M,각관+SUS철망 | C105: 개소 | D105: 1 | E105: 0 | F105: =TRUNC(E105*D105, 0) -> 0 | G105: 0 | H105: =TRUNC(G105*D105, 0) -> 0 | I105: 0 | J105: =TRUNC(I105*D105, 0) -> 0 | K105: =TRUNC(E105+G105+I105, 0) -> 0 | L105: =TRUNC(F105+H105+J105, 0) -> 0 | M105: 호표 28 | N105: 5F0CF57ACD052F6D6171DC1C017B | Q105: 010105 | R105: T | S105: F | T105: F | AU105: 0101055F0CF57ACD052F6D6171DC1C017B | AV105: 187
A106: 밀폐형휀스철창설치 | B106: W:1200*H:1800/SUS후레임+메쉬 | C106: 개소 | D106: 13 | E106: 0 | F106: =TRUNC(E106*D106, 0) -> 0 | G106: 0 | H106: =TRUNC(G106*D106, 0) -> 0 | I106: 0 | J106: =TRUNC(I106*D106, 0) -> 0 | K106: =TRUNC(E106+G106+I106, 0) -> 0 | L106: =TRUNC(F106+H106+J106, 0) -> 0 | M106: 호표 29 | N106: 5F0CF57ACD052F6D6171DC1C0178 | Q106: 010105 | R106: T | S106: F | T106: F | AU106: 0101055F0CF57ACD052F6D6171DC1C0178 | AV106: 188
A107: 밀폐형휀스철창설치 | B107: W:2000*H:1800/SUS후레임+메쉬 | C107: 개소 | D107: 12 | E107: 0 | F107: =TRUNC(E107*D107, 0) -> 0 | G107: 0 | H107: =TRUNC(G107*D107, 0) -> 0 | I107: 0 | J107: =TRUNC(I107*D107, 0) -> 0 | K107: =TRUNC(E107+G107+I107, 0) -> 0 | L107: =TRUNC(F107+H107+J107, 0) -> 0 | M107: 호표 30 | N107: 5F0CF57ACD052F6D6171DC1C0179 | Q107: 010105 | R107: T | S107: F | T107: F | AU107: 0101055F0CF57ACD052F6D6171DC1C0179 | AV107: 189
A108: 경량철골천정틀 | B108: M-BAR H:1m 이상. 인써트 유 | C108: M2 | D108: 565.82 | E108: 0 | F108: =TRUNC(E108*D108, 0) -> 0 | G108: 0 | H108: =TRUNC(G108*D108, 0) -> 0 | I108: 0 | J108: =TRUNC(I108*D108, 0) -> 0 | K108: =TRUNC(E108+G108+I108, 0) -> 0 | L108: =TRUNC(F108+H108+J108, 0) -> 0 | M108: 호표 31 | N108: 5F0CF57ACD052F6B66B6F91FFCA6 | Q108: 010105 | R108: T | S108: F | T108: F | AU108: 0101055F0CF57ACD052F6B66B6F91FFCA6 | AV108: 149
A109: AL몰딩설(W형) | B109: 15*15*15*15*1.0mm | C109: M | D109: 439.12 | E109: 0 | F109: =TRUNC(E109*D109, 0) -> 0 | G109: 0 | H109: =TRUNC(G109*D109, 0) -> 0 | I109: 0 | J109: =TRUNC(I109*D109, 0) -> 0 | K109: =TRUNC(E109+G109+I109, 0) -> 0 | L109: =TRUNC(F109+H109+J109, 0) -> 0 | M109: 호표 32 | N109: 5F0CF57ACD052F6B66B6CC1A71D9 | Q109: 010105 | R109: T | S109: F | T109: F | AU109: 0101055F0CF57ACD052F6B66B6CC1A71D9 | AV109: 48
A110: 오픈트랜치 | B110: 한면, L-25*25*3t 아연도금 | C110: M | D110: 94.75 | E110: 0 | F110: =TRUNC(E110*D110, 0) -> 0 | G110: 0 | H110: =TRUNC(G110*D110, 0) -> 0 | I110: 0 | J110: =TRUNC(I110*D110, 0) -> 0 | K110: =TRUNC(E110+G110+I110, 0) -> 0 | L110: =TRUNC(F110+H110+J110, 0) -> 0 | M110: 호표 33 | N110: 5F0CF57ACD052F6B66C75E1AC8BF | Q110: 010105 | R110: T | S110: F | T110: F | AU110: 0101055F0CF57ACD052F6B66C75E1AC8BF | AV110: 49
A111: 매입형트렌치 | B111: W150*3t,SST | C111: M | D111: 23.05 | E111: 0 | F111: =TRUNC(E111*D111, 0) -> 0 | G111: 0 | H111: =TRUNC(G111*D111, 0) -> 0 | I111: 0 | J111: =TRUNC(I111*D111, 0) -> 0 | K111: =TRUNC(E111+G111+I111, 0) -> 0 | L111: =TRUNC(F111+H111+J111, 0) -> 0 | M111: 호표 34 | N111: 5F0CF57ACD052F6B66C76F1015FA | Q111: 010105 | R111: T | S111: F | T111: F | AU111: 0101055F0CF57ACD052F6B66C76F1015FA | AV111: 50
A112: 스텐핸드레일(계단실) | B112: Ø38.1+27.2*1.5t,H:1100 | C112: M | D112: 14.35 | E112: 0 | F112: =TRUNC(E112*D112, 0) -> 0 | G112: 0 | H112: =TRUNC(G112*D112, 0) -> 0 | I112: 0 | J112: =TRUNC(I112*D112, 0) -> 0 | K112: =TRUNC(E112+G112+I112, 0) -> 0 | L112: =TRUNC(F112+H112+J112, 0) -> 0 | M112: 호표 35 | N112: 5F0CF57ACD052F6B66FC9E183CBC | Q112: 010105 | R112: T | S112: F | T112: F | AU112: 0101055F0CF57ACD052F6B66FC9E183CBC | AV112: 51
... A118: 재료분리대(바닥) | B118: W30*H20*2.0t SST | C118: M | D118: 8.9 | E118: 0 | F118: =TRUNC(E118*D118, 0) -> 0 | G118: 0 | H118: =TRUNC(G118*D118, 0) -> 0 | I118: 0 | J118: =TRUNC(I118*D118, 0) -> 0 | K118: =TRUNC(E118+G118+I118, 0) -> 0 | L118: =TRUNC(F118+H118+J118, 0) -> 0 | M118: 호표 41 | N118: 5F0CF57ACD052F6B6616991D764E | Q118: 010105 | R118: T | S118: F | T118: F | AU118: 0101055F0CF57ACD052F6B6616991D764E | AV118: 57
A123: [ 합 계 ] | F123: =SUM(F101:F122) -> 0 | H123: =SUM(H101:H122) -> 0 | J123: =SUM(J101:J122) -> 0 | L123: =SUM(L101:L122) -> 0 | N123: TOTAL
A124: 6.미 장 공 사 | Q124: 010106
A125: 모르타르 바름 | B125: 바닥, 27mm | C125: M2 | D125: 197.46 | E125: 0 | F125: =TRUNC(E125*D125, 0) -> 0 | G125: 0 | H125: =TRUNC(G125*D125, 0) -> 0 | I125: 0 | J125: =TRUNC(I125*D125, 0) -> 0 | K125: =TRUNC(E125+G125+I125, 0) -> 0 | L125: =TRUNC(F125+H125+J125, 0) -> 0 | M125: 호표 42 | N125: 5F0CF57ACD052F6A640EBF1147E2 | Q125: 010106 | R125: T | S125: F | T125: F | AU125: 0101065F0CF57ACD052F6A640EBF1147E2 | AV125: 150
A126: 모르타르 바름 | B126: 바닥, 40mm | C126: M2 | D126: 624.08 | E126: 0 | F126: =TRUNC(E126*D126, 0) -> 0 | G126: 0 | H126: =TRUNC(G126*D126, 0) -> 0 | I126: 0 | J126: =TRUNC(I126*D126, 0) -> 0 | K126: =TRUNC(E126+G126+I126, 0) -> 0 | L126: =TRUNC(F126+H126+J126, 0) -> 0 | M126: 호표 43 | N126: 5F0CF57ACD052F6A640EBF10B8DA | Q126: 010106 | R126: T | S126: F | T126: F | AU126: 0101065F0CF57ACD052F6A640EBF10B8DA | AV126: 151
A127: 모르타르 바름 | B127: 내벽, 18mm, 3.6m 이하 | C127: M2 | D127: 1436.31 | E127: 0 | F127: =TRUNC(E127*D127, 0) -> 0 | G127: 0 | H127: =TRUNC(G127*D127, 0) -> 0 | I127: 0 | J127: =TRUNC(I127*D127, 0) -> 0 | K127: =TRUNC(E127+G127+I127, 0) -> 0 | L127: =TRUNC(F127+H127+J127, 0) -> 0 | M127: 호표 44 | N127: 5F0CF57ACD052F6A640E831EE9FA | Q127: 010106 | R127: T | S127: F | T127: F | AU127: 0101065F0CF57ACD052F6A640E831EE9FA | AV127: 152
A128: 모르타르 바름 | B128: 외벽, 15mm | C128: M2 | D128: 74.88 | E128: 0 | F128: =TRUNC(E128*D128, 0) -> 0 | G128: 0 | H128: =TRUNC(G128*D128, 0) -> 0 | I128: 0 | J128: =TRUNC(I128*D128, 0) -> 0 | K128: =TRUNC(E128+G128+I128, 0) -> 0 | L128: =TRUNC(F128+H128+J128, 0) -> 0 | M128: 호표 45 | N128: 5F0CF57ACD052F6A64AED11B0922 | Q128: 010106 | R128: T | S128: F | T128: F | AU128: 0101065F0CF57ACD052F6A64AED11B0922 | AV128: 153
A129: 모르타르 바름 | B129: 외벽, 18mm | C129: M2 | D129: 84.89 | E129: 0 | F129: =TRUNC(E129*D129, 0) -> 0 | G129: 0 | H129: =TRUNC(G129*D129, 0) -> 0 | I129: 0 | J129: =TRUNC(I129*D129, 0) -> 0 | K129: =TRUNC(E129+G129+I129, 0) -> 0 | L129: =TRUNC(F129+H129+J129, 0) -> 0 | M129: 호표 46 | N129: 5F0CF57ACD052F6A64AED11B04A1 | Q129: 010106 | R129: T | S129: F | T129: F | AU129: 0101065F0CF57ACD052F6A64AED11B04A1 | AV129: 154
A130: 모르타르 바름 | B130: 천정 15mm | C130: M2 | D130: 397.26 | E130: 0 | F130: =TRUNC(E130*D130, 0) -> 0 | G130: 0 | H130: =TRUNC(G130*D130, 0) -> 0 | I130: 0 | J130: =TRUNC(I130*D130, 0) -> 0 | K130: =TRUNC(E130+G130+I130, 0) -> 0 | L130: =TRUNC(F130+H130+J130, 0) -> 0 | M130: 호표 47 | N130: 5F0CF57ACD052F6A64AED118BC13 | Q130: 010106 | R130: T | S130: F | T130: F | AU130: 0101065F0CF57ACD052F6A64AED118BC13 | AV130: 156
A131: 콘크리트면 정리 | B131: 요철면 | C131: M2 | D131: 19.8 | E131: 0 | F131: =TRUNC(E131*D131, 0) -> 0 | G131: 0 | H131: =TRUNC(G131*D131, 0) -> 0 | I131: 0 | J131: =TRUNC(I131*D131, 0) -> 0 | K131: =TRUNC(E131+G131+I131, 0) -> 0 | L131: =TRUNC(F131+H131+J131, 0) -> 0 | M131: 호표 48 | N131: 5F0CF57ACD052F6A641F2E15C473 | Q131: 010106 | R131: T | S131: F | T131: F | AU131: 0101065F0CF57ACD052F6A641F2E15C473 | AV131: 176
A132: 하드너(강화제) | B132: 3mm | C132: M2 | D132: 760.9 | E132: 0 | F132: =TRUNC(E132*D132, 0) -> 0 | G132: 0 | H132: =TRUNC(G132*D132, 0) -> 0 | I132: 0 | J132: =TRUNC(I132*D132, 0) -> 0 | K132: =TRUNC(E132+G132+I132, 0) -> 0 | L132: =TRUNC(F132+H132+J132, 0) -> 0 | M132: 호표 49 | N132: 5F0CF57ACD052F6A6467271214CD | Q132: 010106 | R132: T | S132: F | T132: F | AU132: 0101065F0CF57ACD052F6A6467271214CD | AV132: 66
A133: 기계미장 | B133: 콘크리트면 | C133: M2 | D133: 504.29 | E133: 0 | F133: =TRUNC(E133*D133, 0) -> 0 | G133: 0 | H133: =TRUNC(G133*D133, 0) -> 0 | I133: 0 | J133: =TRUNC(I133*D133, 0) -> 0 | K133: =TRUNC(E133+G133+I133, 0) -> 0 | L133: =TRUNC(F133+H133+J133, 0) -> 0 | M133: 호표 50 | N133: 5F0CF57ACD052F6A6471BA1B5500 | Q133: 010106 | R133: T | S133: F | T133: F | AU133: 0101065F0CF57ACD052F6A6471BA1B5500 | AV133: 177
A134: 창틀주위모르타르충진 | C134: M | D134: 378.34 | E134: 0 | F134: =TRUNC(E134*D134, 0) -> 0 | G134: 0 | H134: =TRUNC(G134*D134, 0) -> 0 | I134: 0 | J134: =TRUNC(I134*D134, 0) -> 0 | K134: =TRUNC(E134+G134+I134, 0) -> 0 | L134: =TRUNC(F134+H134+J134, 0) -> 0 | M134: 호표 51 | N134: 5F0CF57ACD052F6A6456B0103A89 | Q134: 010106 | R134: T | S134: F | T134: F | AU134: 0101065F0CF57ACD052F6A6456B0103A89 | AV134: 155
A147: [ 합 계 ] | F147: =SUM(F125:F146) -> 0 | H147: =SUM(H125:H146) -> 0 | J147: =SUM(J125:J146) -> 0 | L147: =SUM(L125:L146) -> 0 | N147: TOTAL
A148: 7.창 호 공 사 | Q148: 010107
A149: FSD01[동물배후시설] | B149: 1.800 x 2.100 = 3.780 | C149: EA | D149: 1 | E149: 0 | F149: =TRUNC(E149*D149, 0) -> 0 | G149: 0 | H149: =TRUNC(G149*D149, 0) -> 0 | I149: 0 | J149: =TRUNC(I149*D149, 0) -> 0 | K149: =TRUNC(E149+G149+I149, 0) -> 0 | L149: =TRUNC(F149+H149+J149, 0) -> 0 | M149: 호표 52 | N149: 5F0CF57ACD052F6D61774516C115 | Q149: 010107 | R149: T | S149: F | T149: F | AU149: 0101075F0CF57ACD052F6D61774516C115 | AV149: 76
A150: PW01[동물배후시설] | B150: 1.000 x 1.600 = 1.600 | C150: EA | D150: 17 | E150: 0 | F150: =TRUNC(E150*D150, 0) -> 0 | G150: 0 | H150: =TRUNC(G150*D150, 0) -> 0 | I150: 0 | J150: =TRUNC(I150*D150, 0) -> 0 | K150: =TRUNC(E150+G150+I150, 0) -> 0 | L150: =TRUNC(F150+H150+J150, 0) -> 0 | M150: 호표 53 | N150: 5F0CF57ACD052F6D61774516C116 | Q150: 010107 | R150: T | S150: F | T150: F | AU150: 0101075F0CF57ACD052F6D61774516C116 | AV150: 77
A151: PW02[동물배후시설] | B151: 1.800 x 1.600 = 2.880 | C151: EA | D151: 12 | E151: 0 | F151: =TRUNC(E151*D151, 0) -> 0 | G151: 0 | H151: =TRUNC(G151*D151, 0) -> 0 | I151: 0 | J151: =TRUNC(I151*D151, 0) -> 0 | K151: =TRUNC(E151+G151+I151, 0) -> 0 | L151: =TRUNC(F151+H151+J151, 0) -> 0 | M151: 호표 54 | N151: 5F0CF57ACD052F6D61774516C117 | Q151: 010107 | R151: T | S151: F | T151: F | AU151: 0101075F0CF57ACD052F6D61774516C117 | AV151: 78
A152: PW03[동물배후시설] | B152: 1.500 x 1.600 = 2.400 | C152: EA | D152: 2 | E152: 0 | F152: =TRUNC(E152*D152, 0) -> 0 | G152: 0 | H152: =TRUNC(G152*D152, 0) -> 0 | I152: 0 | J152: =TRUNC(I152*D152, 0) -> 0 | K152: =TRUNC(E152+G152+I152, 0) -> 0 | L152: =TRUNC(F152+H152+J152, 0) -> 0 | M152: 호표 55 | N152: 5F0CF57ACD052F6D61774516C110 | Q152: 010107 | R152: T | S152: F | T152: F | AU152: 0101075F0CF57ACD052F6D61774516C110 | AV152: 79
A153: PW04[동물배후시설] | B153: 0.600 x 0.600 = 0.360 | C153: EA | D153: 1 | E153: 0 | F153: =TRUNC(E153*D153, 0) -> 0 | G153: 0 | H153: =TRUNC(G153*D153, 0) -> 0 | I153: 0 | J153: =TRUNC(I153*D153, 0) -> 0 | K153: =TRUNC(E153+G153+I153, 0) -> 0 | L153: =TRUNC(F153+H153+J153, 0) -> 0 | M153: 호표 56 | N153: 5F0CF57ACD052F6D61774516C111 | Q153: 010107 | R153: T | S153: F | T153: F | AU153: 0101075F0CF57ACD052F6D61774516C111 | AV153: 80
A154: PW05[동물배후시설] | B154: 2.200 x 7.000 = 15.400 | C154: EA | D154: 1 | E154: 0 | F154: =TRUNC(E154*D154, 0) -> 0 | G154: 0 | H154: =TRUNC(G154*D154, 0) -> 0 | I154: 0 | J154: =TRUNC(I154*D154, 0) -> 0 | K154: =TRUNC(E154+G154+I154, 0) -> 0 | L154: =TRUNC(F154+H154+J154, 0) -> 0 | M154: 호표 57 | N154: 5F0CF57ACD052F6D61774516C112 | Q154: 010107 | R154: T | S154: F | T154: F | AU154: 0101075F0CF57ACD052F6D61774516C112 | AV154: 81
A155: PW06[동물배후시설] | B155: 2.680 x 7.000 = 18.760 | C155: EA | D155: 1 | E155: 0 | F155: =TRUNC(E155*D155, 0) -> 0 | G155: 0 | H155: =TRUNC(G155*D155, 0) -> 0 | I155: 0 | J155: =TRUNC(I155*D155, 0) -> 0 | K155: =TRUNC(E155+G155+I155, 0) -> 0 | L155: =TRUNC(F155+H155+J155, 0) -> 0 | M155: 호표 58 | N155: 5F0CF57ACD052F6D61774516C113 | Q155: 010107 | R155: T | S155: F | T155: F | AU155: 0101075F0CF57ACD052F6D61774516C113 | AV155: 82
A156: SD01[동물배후시설] | B156: 0.900 x 2.100 = 1.890 | C156: EA | D156: 1 | E156: 0 | F156: =TRUNC(E156*D156, 0) -> 0 | G156: 0 | H156: =TRUNC(G156*D156, 0) -> 0 | I156: 0 | J156: =TRUNC(I156*D156, 0) -> 0 | K156: =TRUNC(E156+G156+I156, 0) -> 0 | L156: =TRUNC(F156+H156+J156, 0) -> 0 | M156: 호표 59 | N156: 5F0CF57ACD052F6D61774516C11C | Q156: 010107 | R156: T | S156: F | T156: F | AU156: 0101075F0CF57ACD052F6D61774516C11C | AV156: 83
A157: SD02[동물배후시설] | B157: 0.900 x 2.100 = 1.890 | C157: EA | D157: 1 | E157: 0 | F157: =TRUNC(E157*D157, 0) -> 0 | G157: 0 | H157: =TRUNC(G157*D157, 0) -> 0 | I157: 0 | J157: =TRUNC(I157*D157, 0) -> 0 | K157: =TRUNC(E157+G157+I157, 0) -> 0 | L157: =TRUNC(F157+H157+J157, 0) -> 0 | M157: 호표 60 | N157: 5F0CF57ACD052F6D61774516C11D | Q157: 010107 | R157: T | S157: F | T157: F | AU157: 0101075F0CF57ACD052F6D61774516C11D | AV157: 84
A158: SSD01[동물배후시설] | B158: 1.800 x 2.200 = 3.960 | C158: EA | D158: 1 | E158: 0 | F158: =TRUNC(E158*D158, 0) -> 0 | G158: 0 | H158: =TRUNC(G158*D158, 0) -> 0 | I158: 0 | J158: =TRUNC(I158*D158, 0) -> 0 | K158: =TRUNC(E158+G158+I158, 0) -> 0 | L158: =TRUNC(F158+H158+J158, 0) -> 0 | M158: 호표 61 | N158: 5F0CF57ACD052F6D61774516C00D | Q158: 010107 | R158: T | S158: F | T158: F | AU158: 0101075F0CF57ACD052F6D61774516C00D | AV158: 85
A159: SSD02[동물배후시설] | B159: 1.000 x 2.100 = 2.100 | C159: EA | D159: 4 | E159: 0 | F159: =TRUNC(E159*D159, 0) -> 0 | G159: 0 | H159: =TRUNC(G159*D159, 0) -> 0 | I159: 0 | J159: =TRUNC(I159*D159, 0) -> 0 | K159: =TRUNC(E159+G159+I159, 0) -> 0 | L159: =TRUNC(F159+H159+J159, 0) -> 0 | M159: 호표 62 | N159: 5F0CF57ACD052F6D61774516C00C | Q159: 010107 | R159: T | S159: F | T159: F | AU159: 0101075F0CF57ACD052F6D61774516C00C | AV159: 86
A160: SSD03[동물배후시설] | B160: 1.500 x 2.100 = 3.150 | C160: EA | D160: 17 | E160: 0 | F160: =TRUNC(E160*D160, 0) -> 0 | G160: 0 | H160: =TRUNC(G160*D160, 0) -> 0 | I160: 0 | J160: =TRUNC(I160*D160, 0) -> 0 | K160: =TRUNC(E160+G160+I160, 0) -> 0 | L160: =TRUNC(F160+H160+J160, 0) -> 0 | M160: 호표 63 | N160: 5F0CF57ACD052F6D61774516C00F | Q160: 010107 | R160: T | S160: F | T160: F | AU160: 0101075F0CF57ACD052F6D61774516C00F | AV160: 87
... A167: WSD05[동물배후시설] | B167: 4.264 x 2.470 = 10.532 | C167: EA | D167: 2 | E167: 0 | F167: =TRUNC(E167*D167, 0) -> 0 | G167: 0 | H167: =TRUNC(G167*D167, 0) -> 0 | I167: 0 | J167: =TRUNC(I167*D167, 0) -> 0 | K167: =TRUNC(E167+G167+I167, 0) -> 0 | L167: =TRUNC(F167+H167+J167, 0) -> 0 | M167: 호표 70 | N167: 5F0CF57ACD052F6D61774516C004 | Q167: 010107 | R167: T | S167: F | T167: F | AU167: 0101075F0CF57ACD052F6D61774516C004 | AV167: 94
A168: 도어클로우저 | B168: KS4호 고급방화, 60~85kg(K-2840) | C168: 조 | D168: 48 | E168: 0 | F168: =TRUNC(E168*D168, 0) -> 0 | G168: 0 | H168: =TRUNC(G168*D168, 0) -> 0 | I168: 0 | J168: =TRUNC(I168*D168, 0) -> 0 | K168: =TRUNC(E168+G168+I168, 0) -> 0 | L168: =TRUNC(F168+H168+J168, 0) -> 0 | N168: 5F0CA5F52005BD246AE6CB1EB083 | Q168: 010107 | R168: F | S168: F | T168: T | AU168: 0101075F0CA5F52005BD246AE6CB1EB083 | AV168: 70
A169: 도어 핸들 | B169: 레바형 | C169: 조 | D169: 48 | E169: 0 | F169: =TRUNC(E169*D169, 0) -> 0 | G169: 0 | H169: =TRUNC(G169*D169, 0) -> 0 | I169: 0 | J169: =TRUNC(I169*D169, 0) -> 0 | K169: =TRUNC(E169+G169+I169, 0) -> 0 | L169: =TRUNC(F169+H169+J169, 0) -> 0 | N169: 5F0CF574A60558A26FFD891AD296 | Q169: 010107 | R169: F | S169: F | T169: T | AU169: 0101075F0CF574A60558A26FFD891AD296 | AV169: 71
A170: 피벗힌지 | B170: 140kg이하(K1400) | C170: 조 | D170: 48 | E170: 0 | F170: =TRUNC(E170*D170, 0) -> 0 | G170: 0 | H170: =TRUNC(G170*D170, 0) -> 0 | I170: 0 | J170: =TRUNC(I170*D170, 0) -> 0 | K170: =TRUNC(E170+G170+I170, 0) -> 0 | L170: =TRUNC(F170+H170+J170, 0) -> 0 | N170: 5F0CF574A605594966D8CB181159 | Q170: 010107 | R170: F | S170: F | T170: T | AU170: 0101075F0CF574A605594966D8CB181159 | AV170: 72
A171: 스텐방충망설치 | C171: M2 | D171: 20.26 | E171: 0 | F171: =TRUNC(E171*D171, 0) -> 0 | G171: 0 | H171: =TRUNC(G171*D171, 0) -> 0 | I171: 0 | J171: =TRUNC(I171*D171, 0) -> 0 | K171: =TRUNC(E171+G171+I171, 0) -> 0 | L171: =TRUNC(F171+H171+J171, 0) -> 0 | M171: 호표 71 | N171: 5F0CF57ACD052F6B66A45215DE53 | Q171: 010107 | R171: T | S171: F | T171: F | AU171: 0101075F0CF57ACD052F6B66A45215DE53 | AV171: 183
A172: 도아체크달기 | B172: 재료비 별도 | C172: 개소 | D172: 48 | E172: 0 | F172: =TRUNC(E172*D172, 0) -> 0 | G172: 0 | H172: =TRUNC(G172*D172, 0) -> 0 | I172: 0 | J172: =TRUNC(I172*D172, 0) -> 0 | K172: =TRUNC(E172+G172+I172, 0) -> 0 | L172: =TRUNC(F172+H172+J172, 0) -> 0 | M172: 호표 72 | N172: 5F0CF57ACD052F6D6171DC1C0201 | Q172: 010107 | R172: T | S172: F | T172: F | AU172: 0101075F0CF57ACD052F6D6171DC1C0201 | AV172: 74
A173: 도아록설치 | B173: 강재문, 재료비 별도 | C173: 개소 | D173: 48 | E173: 0 | F173: =TRUNC(E173*D173, 0) -> 0 | G173: 0 | H173: =TRUNC(G173*D173, 0) -> 0 | I173: 0 | J173: =TRUNC(I173*D173, 0) -> 0 | K173: =TRUNC(E173+G173+I173, 0) -> 0 | L173: =TRUNC(F173+H173+J173, 0) -> 0 | M173: 호표 73 | N173: 5F0CF57ACD052F6D6171841A0B43 | Q173: 010107 | R173: T | S173: F | T173: F | AU173: 0101075F0CF57ACD052F6D6171841A0B43 | AV173: 75
A195: [ 합 계 ] | F195: =SUM(F149:F194) -> 0 | H195: =SUM(H149:H194) -> 0 | J195: =SUM(J149:J194) -> 0 | L195: =SUM(L149:L194) -> 0 | N195: TOTAL
A196: 8.유 리 공 사 | Q196: 010108
A197: 맑은유리 | B197: 5㎜ | C197: M2 | D197: 9 | E197: 0 | F197: =TRUNC(E197*D197, 0) -> 0 | G197: 0 | H197: =TRUNC(G197*D197, 0) -> 0 | I197: 0 | J197: =TRUNC(I197*D197, 0) -> 0 | K197: =TRUNC(E197+G197+I197, 0) -> 0 | L197: =TRUNC(F197+H197+J197, 0) -> 0 | N197: 5F0CF571D205F92261F9DF190A7B | Q197: 010108 | R197: F | S197: F | T197: T | AU197: 0101085F0CF571D205F92261F9DF190A7B | AV197: 96
A198: 복층유리(그린) | B198: 칼라, 16mm | C198: M2 | D198: 167.64 | E198: 0 | F198: =TRUNC(E198*D198, 0) -> 0 | G198: 0 | H198: =TRUNC(G198*D198, 0) -> 0 | I198: 0 | J198: =TRUNC(I198*D198, 0) -> 0 | K198: =TRUNC(E198+G198+I198, 0) -> 0 | L198: =TRUNC(F198+H198+J198, 0) -> 0 | N198: 5F0CF571D205F81A6063E712D3CF | Q198: 010108 | R198: F | S198: F | T198: T | AU198: 0101085F0CF571D205F81A6063E712D3CF | AV198: 97
A199: 유리끼우기 - 판유리 | B199: 5mm 이하 | C199: M2 | D199: 9 | E199: 0 | F199: =TRUNC(E199*D199, 0) -> 0 | G199: 0 | H199: =TRUNC(G199*D199, 0) -> 0 | I199: 0 | J199: =TRUNC(I199*D199, 0) -> 0 | K199: =TRUNC(E199+G199+I199, 0) -> 0 | L199: =TRUNC(F199+H199+J199, 0) -> 0 | M199: 호표 74 | N199: 5F0CF57ACD052F6C60E7D9197050 | Q199: 010108 | R199: T | S199: F | T199: F | AU199: 0101085F0CF57ACD052F6C60E7D9197050 | AV199: 157
A200: 유리끼우기 - 복층유리, 일반창호 | B200: 16mm(5+6A+5) | C200: M2 | D200: 167.64 | E200: 0 | F200: =TRUNC(E200*D200, 0) -> 0 | G200: 0 | H200: =TRUNC(G200*D200, 0) -> 0 | I200: 0 | J200: =TRUNC(I200*D200, 0) -> 0 | K200: =TRUNC(E200+G200+I200, 0) -> 0 | L200: =TRUNC(F200+H200+J200, 0) -> 0 | M200: 호표 75 | N200: 5F0CF57ACD052F6C60E7CF13ACE2 | Q200: 010108 | R200: T | S200: F | T200: F | AU200: 0101085F0CF57ACD052F6C60E7CF13ACE2 | AV200: 158
A201: 유리주위코킹 | B201: 5*5, 실리콘 | C201: M | D201: 90 | E201: 0 | F201: =TRUNC(E201*D201, 0) -> 0 | G201: 0 | H201: =TRUNC(G201*D201, 0) -> 0 | I201: 0 | J201: =TRUNC(I201*D201, 0) -> 0 | K201: =TRUNC(E201+G201+I201, 0) -> 0 | L201: =TRUNC(F201+H201+J201, 0) -> 0 | M201: 호표 76 | N201: 5F0CF57ACD052F6C60BA931A30DE | Q201: 010108 | R201: T | S201: F | T201: F | AU201: 0101085F0CF57ACD052F6C60BA931A30DE | AV201: 100
A202: 복층유리주위코킹 | B202: 5*5, 실리콘 | C202: M | D202: 1506.49 | E202: 0 | F202: =TRUNC(E202*D202, 0) -> 0 | G202: 0 | H202: =TRUNC(G202*D202, 0) -> 0 | I202: 0 | J202: =TRUNC(I202*D202, 0) -> 0 | K202: =TRUNC(E202+G202+I202, 0) -> 0 | L202: =TRUNC(F202+H202+J202, 0) -> 0 | M202: 호표 77 | N202: 5F0CF57ACD052F6C60BA931A3393 | Q202: 010108 | R202: T | S202: F | T202: F | AU202: 0101085F0CF57ACD052F6C60BA931A3393 | AV202: 101
...

Sheet 토목내역서총괄표
B1: 내역서총괄표
B3: 공종 | C3: 품 명 | D3: 규 격 | E3: 수 량 | F3: 단위 | G3: 합 계 | H3: 노무비 | I3: 재료비 | J3: 경 비 | K3: 비 고
B4: 1. | C4: 토공 | G4: =TEXT(H4+I4+J4,"#,##0") -> 0 | H4: =[1]내역서!J5 -> 0 | I4: =[1]내역서!L5 -> 0 | J4: =[1]내역서!N5 -> 0
B5: 1.1 | C5: 기존구조물깨기 | G5: =TEXT(H5+I5+J5,"#,##0") -> 0 | H5: =[1]내역서!J6 -> 0 | I5: =[1]내역서!L6 -> 0 | J5: =[1]내역서!N6 -> 0
B6: 1.2 | C6: 토공 | G6: =TEXT(H6+I6+J6,"#,##0") -> 0 | H6: =[1]내역서!J13 -> 0 | I6: =[1]내역서!L13 -> 0 | J6: =[1]내역서!N13 -> 0
B7: 2. | C7: 상수도공 | G7: =TEXT(H7+I7+J7,"#,##0") -> 0 | H7: =[1]내역서!J19 -> 0 | I7: =[1]내역서!L19 -> 0 | J7: =[1]내역서!N19 -> 0
B8: 2.1 | C8: 상수도관부설 | G8: =TEXT(H8+I8+J8,"#,##0") -> 0 | H8: =[1]내역서!J20 -> 0 | I8: =[1]내역서!L20 -> 0 | J8: =[1]내역서!N20 -> 0
B9: 2.2 | C9: 격점접합 | G9: =TEXT(H9+I9+J9,"#,##0") -> 0 | H9: =[1]내역서!J24 -> 0 | I9: =[1]내역서!L24 -> 0 | J9: =[1]내역서!N24 -> 0
B10: 2.3 | C10: 지수밸브 | G10: =TEXT(H10+I10+J10,"#,##0") -> 0 | H10: =[1]내역서!J29 -> 0 | I10: =[1]내역서!L29 -> 0 | J10: =[1]내역서!N29 -> 0
B11: 2.4 | C11: 밸브실설치 | G11: =TEXT(H11+I11+J11,"#,##0") -> 0 | H11: =[1]내역서!J31 -> 0 | I11: =[1]내역서!L31 -> 0 | J11: =[1]내역서!N31 -> 0
B12: 3. | C12: 배수공 | G12: =TEXT(H12+I12+J12,"#,##0") -> 0 | H12: =[1]내역서!J34 -> 0 | I12: =[1]내역서!L34 -> 0 | J12: =[1]내역서!N34 -> 0
B13: 3.1 | C13: 벤치플륨관부설 | G13: =TEXT(H13+I13+J13,"#,##0") -> 0 | H13: =[1]내역서!J35 -> 0 | I13: =[1]내역서!L35 -> 0 | J13: =[1]내역서!N35 -> 0
B14: 3.3 | C14: 흄관부설 | G14: =TEXT(H14+I14+J14,"#,##0") -> 0 | H14: =[1]내역서!J37 -> 0 | I14: =[1]내역서!L37 -> 0 | J14: =[1]내역서!N37 -> 0
B15: 3.4 | C15: 오수관부설 | G15: =TEXT(H15+I15+J15,"#,##0") -> 0 | H15: =[1]내역서!J42 -> 0 | I15: =[1]내역서!L42 -> 0 | J15: =[1]내역서!N42 -> 0
B16: 3.5 | C16: 집수정설치 | G16: =TEXT(H16+I16+J16,"#,##0") -> 0 | H16: =[1]내역서!J45 -> 0 | I16: =[1]내역서!L45 -> 0 | J16: =[1]내역서!N45 -> 0
B17: 3.6 | C17: 오수맨홀 | G17: =TEXT(H17+I17+J17,"#,##0") -> 0 | H17: =[1]내역서!J47 -> 0 | I17: =[1]내역서!L47 -> 0 | J17: =[1]내역서!N47 -> 0
B18: 3.7 | C18: L형측구 | G18: =TEXT(H18+I18+J18,"#,##0") -> 0 | H18: =[1]내역서!J50 -> 0 | I18: =[1]내역서!L50 -> 0 | J18: =[1]내역서!N50 -> 0
B19: 4. | C19: 포장공 | G19: =TEXT(H19+I19+J19,"#,##0") -> 0 | H19: =[1]내역서!J53 -> 0 | I19: =[1]내역서!L53 -> 0 | J19: =[1]내역서!N53 -> 0
B20: 4.1 | C20: 콘크리트포장 | G20: =TEXT(H20+I20+J20,"#,##0") -> 0 | H20: =[1]내역서!J54 -> 0 | I20: =[1]내역서!L54 -> 0 | J20: =[1]내역서!N54 -> 0
B21: 4.2 | C21: 아스콘포장 | G21: =TEXT(H21+I21+J21,"#,##0") -> 0 | H21: =[1]내역서!J58 -> 0 | I21: =[1]내역서!L58 -> 0 | J21: =[1]내역서!N58 -> 0
B22: 5. | C22: 호안공 | G22: =TEXT(H22+I22+J22,"#,##0") -> 0 | H22: =[1]내역서!J66 -> 0 | I22: =[1]내역서!L66 -> 0 | J22: =[1]내역서!N66 -> 0
B23: 5.1 | C23: 전석쌓기 | G23: =TEXT(H23+I23+J23,"#,##0") -> 0 | H23: =[1]내역서!J67 -> 0 | I23: =[1]내역서!L67 -> 0 | J23: =[1]내역서!N67 -> 0
B24: 6. | C24: 부대공 | G24: =TEXT(H24+I24+J24,"#,##0") -> 0 | H24: =[1]내역서!J72 -> 0 | I24: =[1]내역서!L72 -> 0 | J24: =[1]내역서!N72 -> 0
B25: 7. | C25: *사급자재대 | G25: =TEXT(H25+I25+J25,"#,##0") -> 0 | H25: =[1]내역서!J90 -> 0 | I25: =[1]내역서!L90 -> 0 | J25: =[1]내역서!N90 -> 0
C26: 순 공 사 비 | G26: =TEXT(H26+I26+J26,"#,##0") -> 0 | H26: =[1]내역서!J120 -> 0 | I26: =[1]내역서!L120 -> 0 | J26: =[1]내역서!N120 -> 0

Sheet 내역서
B1: 내역서
B3: 공종 | C3: 품 명 | D3: 규 격 | E3: 수 량 | F3: 단위 | G3: 합 계 | I3: 노무비 | K3: 재료비 | M3: 경 비 | O3: 비 고
G4: 단 가 | H4: 금 액 | I4: 단 가 | J4: 금 액 | K4: 단 가 | L4: 금 액 | M4: 단 가 | N4: 금 액
B5: 1. | C5: 토공
B6: 1.1 | C6: 기존구조물깨기
C7: 아스팔트포장절단 | D7: 기계 | E7: 49 | F7: M | O7: 단산1참조
C8: 무근콘크리트깨기 | D8: T=30cm미만(백호0.7㎥) | E8: 3 | F8: ㎥ | O8: 단산2참조
C9: 콘크리트포장깨기 | D9: 백호0.7㎥ | E9: 3 | F9: ㎥ | O9: 단산3참조
C10: 아스팔트포장깨기 | D10: 백호0.7㎥ | E10: 7 | F10: ㎥ | O10: 단산4참조
C11: 석축헐기(메쌓기) | D11: 기계 | E11: 21 | F11: ㎡ | O11: 단산5참조
C12: 폐기물상차 | D12: 백호0.7㎥ | E12: 13 | F12: ㎥ | O12: 단산6참조
B13: 1.2 | C13: 토공
C14: 구조물터파기 | D14: 육상토사(1∼2m) | E14: 1174 | F14: ㎥ | O14: 단산7참조
C15: 되메우기및다짐(콤팩터) | D15: 백호0.7㎥(100%) | E15: 88 | F15: ㎥ | O15: 단산8참조
C16: 사토운반 | D16: 백호0.7+덤프15Ton | E16: 1086 | F16: ㎥ | O16: 단산9참조
C17: 초류종자살포 | D17: 씨드스프레이 | E17: 75 | F17: ㎡ | O17: 단산10참조
B19: 2. | C19: 상수도공
B20: 2.1 | C20: 상수도관부설
C21: PE상수도관부설 | D21: Φ32(25)mm | E21: 47 | F21: m | O21: 단산11참조
C22: 관로표시테이프설치 | D22: B=20Cm | E22: 47 | F22: m | O22: 일위1참조
C23: 표시못 설치 | D23: 도로구간(인도포함) | E23: 9 | F23: 개소 | O23: 단산12참조
B24: 2.2 | C24: 격점접합
C25: 부단수 천공 새들분수전 분기점 분기 | D25: 본관:50mm,지관:25~32mm | E25: 2 | F25: 개소 | O25: 일위2참조
C26: 나사조임식이음관접합 | D26: Φ32(25)mm | E26: 4 | F26: 개소 | O26: 단산13참조
C27: PE이형관접합 | D27: Φ32(25)mm | E27: 12 | F27: 개소 | O27: 단산14참조
C28: 관절단(PE) | D28: D=32(25)mm | E28: 6 | F28: 개소 | O28: 일위3참조
B29: 2.3 | C29: 지수밸브
C30: 지수밸브설치 | D30: D25mm | E30: 2 | F30: 개소 | O30: 단산15참조
B31: 2.4 | C31: 밸브실설치
C32: 밸브실설치 | D32: 600×600×1000 | E32: 1 | F32: 개소 | O32: 일위4참조
B34: 3. | C34: 배수공
B35: 3.1 | C35: 벤치플륨관부설
C36: 벤치플륨관설치 | D36: 300×300 | E36: 76 | F36: M | O36: 단산18참조
B37: 3.3 | C37: 흄관부설
C38: 흄관부설및접합(고무링접합) | D38: D=300mm | E38: 25 | F38: M | O38: 일위6참조
C39: 흄관부설및접합(고무링접합) | D39: D=400mm | E39: 21.5 | F39: M | O39: 일위7참조
C40: 흄관부설및접합(고무링접합) | D40: D=600mm | E40: 12.5 | F40: M | O40: 일위8참조
C41: 관로표시테이프설치 | D41: B=20Cm | E41: 59 | F41: m | O41: 일위1참조
B42: 3.4 | C42: 오수관부설
C43: 내충격하수관접합및부설 | D43: D200 | E43: 46 | F43: m | O43: 일위9참조
C44: 관로표시테이프설치 | D44: B=20Cm | E44: 46 | F44: m | O44: 일위1참조
B45: 3.5 | C45: 집수정설치
C46: 집수정설치 | D46: 600×600×600 | E46: 3 | F46: 개소 | O46: 일위10참조
B47: 3.6 | C47: 오수맨홀
C48: 조립식PC맨홀 | D48: D900,H=1,100 | E48: 2 | F48: EA | O48: 단산26참조
C49: 오수맨홀뚜껑설치 | D49: D648 | E49: 2 | F49: 조 | O49: 일위11참조
B50: 3.7 | C50: L형측구
C51: L형측구 | E51: 9 | F51: m | O51: 일위12참조
B53: 4. | C53: 포장공
B54: 4.1 | C54: 콘크리트포장
C55: 콘크리트포장(인력) | D55: T=20cm | E55: 84 | F55: ㎥ | O55: 단산30참조
C56: 합판거푸집 | D56: 6회 | E56: 0.4 | F56: ㎡ | O56: 단산21참조
C57: 보조기층포설및다짐 | D57: 인력식소규모 | E57: 84 | F57: ㎥ | O57: 단산31참조
B58: 4.2 | C58: 아스콘포장
C59: 아스콘표층포설및다짐 | D59: 인력식소규모 | E59: 46 | F59: ㎡ | O59: 단산32참조
C60: 택코팅(수동식) | D60: RSC-4:30ℓ/a | E60: 0.46 | F60: a | O60: 단산33참조
C61: 아스콘기층(BB층)포설및다짐 | D61: 소규모현장포설 | E61: 46 | F61: ㎡ | O61: 단산34참조
C62: 프라임코팅(수동식) | D62: RSC-3:75ℓ/a | E62: 0.46 | F62: a | O62: 단산35참조
C63: 보조기층포설및다짐 | D63: 인력식소규모 | E63: 9 | F63: ㎥ | O63: 단산31참조
C64: 동상방지층포설및다짐 | D64: 인력식소규모 | E64: 14 | F64: ㎥ | O64: 단산36참조
B66: 5. | C66: 호안공
B67: 5.1 | C67: 전석쌓기
C68: 전석메쌓기 | D68: 0.3㎥내외 | E68: 128 | F68: ㎡ | O68: 단산37참조
C69: 기초및뒷채움잡석 | D69: 75mm이상 | E69: 26 | F69: ㎥ | O69: 단산38참조
C70: 부직포설치 | D70: 호안등사면 | E70: 147 | F70: ㎡ | O70: 단산39참조
B72: 6. | C72: 부대공
C73: 중기운반 | D73: 트럭(10.5),트레일러(20) | E73: 1 | F73: 식 | O73: 단산40참조
C74: 벤치플륨관운반 | D74: 300×300 | E74: 48 | F74: 본 | O74: 단산41참조
C75: 흄 관 운 반 | D75: D=300mm | E75: 10 | F75: 본 | O75: 단산42참조
C76: 흄 관 운 반 | D76: D=400mm | E76: 9 | F76: 본 | O76: 단산43참조
C77: 흄 관 운 반 | D77: D=600mm | E77: 5 | F77: 본 | O77: 단산44참조
C78: 맨홀운반 | D78: 1호원형맨홀 | E78: 2 | F78: 조 | O78: 단산45참조
C79: 맨홀운반 | D79: 600×600×600 | E79: 3 | F79: 조 | O79: 단산46참조
C80: 맨홀운반 | D80: 600×600×1000 | E80: 1 | F80: 조 | O80: 단산47참조
C81: 아스팔트 운반 | E81: 0.3 | F81: D/M | O81: 단산48참조
C82: 모래운반 | D82: 덤프15Ton | E82: 6 | F82: ㎥ | O82: 단산49참조
C83: 보조기층운반 | D83: 덤프15Ton | E83: 120 | F83: ㎥ | O83: 단산50참조
C84: 동상방지틍운반 | D84: 덤프15Ton | E84: 18 | F84: ㎥ | O84: 단산51참조
C85: 전석구입운반 | D85: 덤프15Ton | E85: 160 | F85: Ton | O85: 단산52참조
C86: 뒷채움잡석운반 | D86: 덤프15Ton | E86: 27 | F86: ㎥ | O86: 단산53참조
C87: 폐기물운반(콘크리트) | D87: 덤프15톤+백호0.7㎥ | E87: 15 | F87: Ton | O87: 단산54참조
C88: 폐기물운반(아스콘) | D88: 덤프15톤+백호0.7㎥ | E88: 16 | F88: Ton | O88: 단산55참조
B90: 7. | C90: *사급자재대
C91: PE 직관 (수도용) | D91: D25mm | E91: 48 | F91: M
C92: 모래 | D92: 세척사, 공장상차도 | E92: 6 | F92: ㎥
C93: 새들붙이분수전(강,동,PE) | D93: D50×25 | E93: 2 | F93: 조
C94: STS볼밸브(나사식) | D94: 25A | E94: 2 | F94: 개
C95: PE 청동밸브소켓 | D95: D25mm | E95: 4 | F95: 개
C96: PE 곡관(90˚) | D96: D25mm | E96: 4 | F96: 개
C97: 벤치플륨관(3종) | D97: 300C(300*300) | E97: 36 | F97: 본
C98: 흄 관(B형)(사급) | D98: Φ300mm | E98: 10 | F98: 본
C99: 흄 관(B형)(사급) | D99: Φ400mm | E99: 9 | F99: 본
C100: 흄 관(B형)(사급) | D100: Φ600mm | E100: 5 | F100: 본
C101: 내충격PVC하수관(HI-VG2) | D101: D=200mm | E101: 47 | F101: M
C102: 사각맨홀 | D102: 600*600*600*150T | E102: 3 | F102: EA
... C118: 잡석(뒷채움석) | D118: 80~150mm이하 | E118: 27 | F118: ㎥
C120: 순 공 사 비
B121: 8. | C121: 관급자재대
B122: 9.1 | C122: 레미콘
C123: 레미콘-충남지역(서부권) | D123: 25-16-08 | E123: 6 | F123: ㎥ | O123: 관급
...

Sheet 기계공종별집계표
A1: 공 종 별 집 계 표
A2: [ 국립생태원 동물배후시설 건립공사(기계) ]
A3: 품 명 | B3: 규 격 | C3: 단위 | D3: 수량 | E3: 재 료 비 | G3: 노 무 비 | I3: 경 비 | K3: 합 계 | M3: 비 고 | N3: 공종코드 | O3: 변수 | P3: 상위공종 | Q3: 공종구분 | R3: 공종레벨 | S3: 공종소계 | T3: 원가계산서 연결금액
E4: 단 가 | F4: 금 액 | G4: 단 가 | H4: 금 액 | I4: 단 가 | J4: 금 액 | K4: 단 가 | L4: 금 액
A5: 01 국립생태원 동물배후시설 건립공사(기계) | D5: 1 | E5: =F6+F7+F8+F9+F10 -> 0 | F5: =E5*D5 -> 0 | G5: =H6+H7+H8+H9+H10 -> 0 | H5: =G5*D5 -> 0 | I5: =J6+J7+J8+J9+J10 -> 0 | J5: =I5*D5 -> 0 | K5: =E5+G5+I5 -> 0 | L5: =F5+H5+J5 -> 0 | N5: 01 | R5: 1
A6: 0101 장비및위생기구설치공사 | D6: 1 | E6: =[2]공종별내역서!F26 -> 0 | F6: =E6*D6 -> 0 | G6: =[2]공종별내역서!H26 -> 0 | H6: =G6*D6 -> 0 | I6: =[2]공종별내역서!J26 -> 0 | J6: =I6*D6 -> 0 | K6: =E6+G6+I6 -> 0 | L6: =F6+H6+J6 -> 0 | N6: 0101 | P6: 01 | R6: 2
A7: 0102 옥외위생배관공사 | D7: 1 | E7: =[2]공종별내역서!F49 -> 0 | F7: =E7*D7 -> 0 | G7: =[2]공종별내역서!H49 -> 0 | H7: =G7*D7 -> 0 | I7: =[2]공종별내역서!J49 -> 0 | J7: =I7*D7 -> 0 | K7: =E7+G7+I7 -> 0 | L7: =F7+H7+J7 -> 0 | N7: 0102 | P7: 01 | R7: 2
A8: 0103 급수급탕배관공사 | D8: 1 | E8: =[2]공종별내역서!F118 -> 0 | F8: =E8*D8 -> 0 | G8: =[2]공종별내역서!H118 -> 0 | H8: =G8*D8 -> 0 | I8: =[2]공종별내역서!J118 -> 0 | J8: =I8*D8 -> 0 | K8: =E8+G8+I8 -> 0 | L8: =F8+H8+J8 -> 0 | N8: 0103 | P8: 01 | R8: 2
A9: 0104 배수배관공사 | D9: 1 | E9: =[2]공종별내역서!F141 -> 0 | F9: =E9*D9 -> 0 | G9: =[2]공종별내역서!H141 -> 0 | H9: =G9*D9 -> 0 | I9: =[2]공종별내역서!J141 -> 0 | J9: =I9*D9 -> 0 | K9: =E9+G9+I9 -> 0 | L9: =F9+H9+J9 -> 0 | N9: 0104 | P9: 01 | R9: 2
A10: 0105 환기덕트공사 | D10: 1 | E10: =[2]공종별내역서!F187 -> 0 | F10: =E10*D10 -> 0 | G10: =[2]공종별내역서!H187 -> 0 | H10: =G10*D10 -> 0 | I10: =[2]공종별내역서!J187 -> 0 | J10: =I10*D10 -> 0 | K10: =E10+G10+I10 -> 0 | L10: =F10+H10+J10 -> 0 | N10: 0105 | P10: 01 | R10: 2
A11: 0106 관급자재 | D11: 1 | E11: =F13+F12 -> 0 | F11: =E11*D11 -> 0 | G11: =H13 -> 0 | H11: =G11*D11 -> 0 | I11: =J13 -> 0 | J11: =I11*D11 -> 0 | K11: =E11+G11+I11 -> 0 | L11: =F11+H11+J11 -> 0 | N11: 0107 | Q11: 3 | R11: 2 | T11: =L11*1 -> 0
A12: 010601 냉난방기설치공사 | D12: 1 | E12: =[2]공종별내역서!F233 -> 0 | F12: =E12*D12 -> 0 | G12: =[2]공종별내역서!H255 -> 0 | H12: =G12*D12 -> 0 | I12: =[2]공종별내역서!J255 -> 0 | J12: =I12*D12 -> 0 | K12: =E12+G12+I12 -> 0 | L12: =F12+H12+J12 -> 0 | N12: 010701 | P12: 0107 | R12: 3
A13: 010602 바닥전기난방 | D13: 1 | E13: =[2]공종별내역서!F256 -> 0 | F13: =E13*D13 -> 0 | G13: =[2]공종별내역서!H256 -> 0 | H13: =G13*D13 -> 0 | I13: =[2]공종별내역서!J256 -> 0 | J13: =I13*D13 -> 0 | K13: =E13+G13+I13 -> 0 | L13: =F13+H13+J13 -> 0 | N13: 010701 | P13: 0107 | R13: 3
A26: [ 합 계 ] | F26: =F5 -> 0 | H26: =H5 -> 0 | J26: =J5 -> 0 | L26: =L5 -> 0

Sheet 기계내역서
A1: [ 국립생태원 동물배후시설 건립공사(기계) ]
A2: 품 명 | B2: 규 격 | C2: 단위 | D2: 수량 | E2: 재 료 비 | G2: 노 무 비 | I2: 경 비 | K2: 합 계 | M2: 비 고 | N2: 품목코드 | O2: 변수 | P2: 설정 | Q2: 공종코드 | R2: 일위 | S2: 단산 | T2: 자재 | U2: 손료적용 | V2: 손료저장 | W2: 적용율 | X2: JUK1 | Y2: JUK2 | Z2: JUK3 | AA2: JUK4 | AB2: JUK5 | AC2: JUK6 | AD2: JUK7 | AE2: JUK8 | AF2: JUK9 | AG2: JUK10 | AH2: JUK11 | AI2: JUK12 | AJ2: JUK13 | AK2: JUK14 | AL2: JUK15 | AM2: JUK16 | AN2: JUK17 | AO2: JUK18 | AP2: JUK19 | AQ2: JUK20 | AR2: 자재구분 | AS2: 공종구분 | AT2: 공종레벨 | AU2: 공종+자재 | AV2: 고유번호
E3: 단 가 | F3: 금 액 | G3: 단 가 | H3: 금 액 | I3: 단 가 | J3: 금 액 | K3: 단 가 | L3: 금 액
A4: 0101 장비및위생기구설치공사 | Q4: 0101
A5: 천장형배기휀 | B5: 540CMH*33W | C5: 대 | D5: 2 | F5: =TRUNC(E5*D5, 0) -> 0 | H5: =TRUNC(G5*D5, 0) -> 0 | J5: =TRUNC(I5*D5, 0) -> 0 | K5: =TRUNC(E5+G5+I5, 0) -> 0 | L5: =TRUNC(F5+H5+J5, 0) -> 0 | N5: 51BA7163835E7AD85D90484BF2386DF39A6D60 | Q5: 0101 | R5: F | S5: F | T5: T | AU5: 010151BA7163835E7AD85D90484BF2386DF39A6D60 | AV5: 4
A6: 천장형배기휀 | B6: 840CMH*37W | C6: 대 | D6: 10 | F6: =TRUNC(E6*D6, 0) -> 0 | H6: =TRUNC(G6*D6, 0) -> 0 | J6: =TRUNC(I6*D6, 0) -> 0 | K6: =TRUNC(E6+G6+I6, 0) -> 0 | L6: =TRUNC(F6+H6+J6, 0) -> 0 | N6: 51BA7163835E7AD85D90484BF2386DF39A6D63 | Q6: 0101 | R6: F | S6: F | T6: T | AU6: 010151BA7163835E7AD85D90484BF2386DF39A6D63 | AV6: 5
A7: 천장형배기휀 | B7: 1080CMH*45W | C7: 대 | D7: 15 | F7: =TRUNC(E7*D7, 0) -> 0 | H7: =TRUNC(G7*D7, 0) -> 0 | J7: =TRUNC(I7*D7, 0) -> 0 | K7: =TRUNC(E7+G7+I7, 0) -> 0 | L7: =TRUNC(F7+H7+J7, 0) -> 0 | N7: 51BA7163835E7AD85D90484BF2386DF39A6D62 | Q7: 0101 | R7: F | S7: F | T7: T | AU7: 010151BA7163835E7AD85D90484BF2386DF39A6D62 | AV7: 6
A8: 수도꼭지(카프링수전) | B8: D15 | C8: 개 | D8: 48 | F8: =TRUNC(E8*D8, 0) -> 0 | H8: =TRUNC(G8*D8, 0) -> 0 | J8: =TRUNC(I8*D8, 0) -> 0 | K8: =TRUNC(E8+G8+I8, 0) -> 0 | L8: =TRUNC(F8+H8+J8, 0) -> 0 | N8: 5726516247247E08528045FE14FB5DC579D571 | Q8: 0101 | R8: F | S8: F | T8: T | AU8: 01015726516247247E08528045FE14FB5DC579D571 | AV8: 3
A9: 보통인부 | B9: 일반공사 직종 | C9: 인 | F9: =TRUNC(E9*D9, 0) -> 0 | H9: =TRUNC(G9*D9, 0) -> 0 | J9: =TRUNC(I9*D9, 0) -> 0 | K9: =TRUNC(E9+G9+I9, 0) -> 0 | L9: =TRUNC(F9+H9+J9, 0) -> 0 | N9: 50D7C16242697636ADD0424BF93D302DDCBE72 | Q9: 0101 | R9: F | S9: F | T9: T | X9: 1 | AU9: 010150D7C16242697636ADD0424BF93D302DDCBE72 | AV9: 7
A10: 위생공 | B10: 일반공사 직종 | C10: 인 | F10: =TRUNC(E10*D10, 0) -> 0 | H10: =TRUNC(G10*D10, 0) -> 0 | J10: =TRUNC(I10*D10, 0) -> 0 | K10: =TRUNC(E10+G10+I10, 0) -> 0 | L10: =TRUNC(F10+H10+J10, 0) -> 0 | N10: 50D7C16242697636ADD0424BF93D302DDCBA97 | Q10: 0101 | R10: F | S10: F | T10: T | X10: 1 | AU10: 010150D7C16242697636ADD0424BF93D302DDCBA97 | AV10: 8
A11: 기계설비공 | B11: 일반공사 직종 | C11: 인 | F11: =TRUNC(E11*D11, 0) -> 0 | H11: =TRUNC(G11*D11, 0) -> 0 | J11: =TRUNC(I11*D11, 0) -> 0 | K11: =TRUNC(E11+G11+I11, 0) -> 0 | L11: =TRUNC(F11+H11+J11, 0) -> 0 | N11: 50D7C16242697636ADD0424BF93D302DDCBBBA | Q11: 0101 | R11: F | S11: F | T11: T | X11: 1 | AU11: 010150D7C16242697636ADD0424BF93D302DDCBBBA | AV11: 9
A12: 공구손료 | B12: 인력품의 3% | C12: 식 | D12: 1 | E12: 0 | F12: =TRUNC(E12*D12, 0) -> 0 | G12: 0 | H12: =TRUNC(G12*D12, 0) -> 0 | I12: 0 | J12: =TRUNC(I12*D12, 0) -> 0 | K12: =TRUNC(E12+G12+I12, 0) -> 0 | L12: =TRUNC(F12+H12+J12, 0) -> 0 | N12: 511B7161F4A67B4820F04626031F001 | Q12: 0101 | R12: F | S12: F | T12: F | AU12: 0101511B7161F4A67B4820F04626031F001 | AV12: 199
A26: [ 합 계 ] | F26: =SUM(F5:F25) -> 0 | H26: =SUM(H5:H25) -> 0 | J26: =SUM(J5:J25) -> 0 | L26: =SUM(L5:L25) -> 0 | N26: TOTAL
A27: 0102 옥외위생배관공사 | Q27: 0102
A28: 배관용스테인리스강관(SCH#10) | B28: D50 | C28: m | D28: 17 | F28: =TRUNC(E28*D28, 0) -> 0 | H28: =TRUNC(G28*D28, 0) -> 0 | J28: =TRUNC(I28*D28, 0) -> 0 | K28: =TRUNC(E28+G28+I28, 0) -> 0 | L28: =TRUNC(F28+H28+J28, 0) -> 0 | N28: 57539168563773A7B1C04D6BBCDB6C35028936 | Q28: 0102 | R28: F | S28: F | T28: T | X28: 1 | AU28: 010257539168563773A7B1C04D6BBCDB6C35028936 | AV28: 11
A29: 일반용경질폴리염화비닐관 | B29: PVC(VG1), D100mm | C29: m | D29: 2 | F29: =TRUNC(E29*D29, 0) -> 0 | H29: =TRUNC(G29*D29, 0) -> 0 | J29: =TRUNC(I29*D29, 0) -> 0 | K29: =TRUNC(E29+G29+I29, 0) -> 0 | L29: =TRUNC(F29+H29+J29, 0) -> 0 | N29: 57539168563773A7B8704C9A4C8674F45EA7FF | Q29: 0102 | R29: F | S29: F | T29: T | X29: 1 | AU29: 010257539168563773A7B8704C9A4C8674F45EA7FF | AV29: 12
A30: 일반용경질폴리염화비닐관 | B30: PVC(VG1), D150mm | C30: m | D30: 26 | F30: =TRUNC(E30*D30, 0) -> 0 | H30: =TRUNC(G30*D30, 0) -> 0 | J30: =TRUNC(I30*D30, 0) -> 0 | K30: =TRUNC(E30+G30+I30, 0) -> 0 | L30: =TRUNC(F30+H30+J30, 0) -> 0 | N30: 57539168563773A7B8704C9A4C8674F45EA7F3 | Q30: 0102 | R30: F | S30: F | T30: T | X30: 1 | AU30: 010257539168563773A7B8704C9A4C8674F45EA7F3 | AV30: 13
A31: 잡재료비 | B31: 주재료비의 3% | C31: 식 | D31: 1 | F31: =TRUNC(E31*D31, 0) -> 0 | H31: =TRUNC(G31*D31, 0) -> 0 | J31: =TRUNC(I31*D31, 0) -> 0 | K31: =TRUNC(E31+G31+I31, 0) -> 0 | L31: =TRUNC(F31+H31+J31, 0) -> 0 | N31: 511B7161F4A67B4820F04626031F001 | Q31: 0102 | R31: F | S31: F | T31: F | AU31: 0102511B7161F4A67B4820F04626031F001 | AV31: 200
A32: 경질폴리염화비닐이음관 | B32: Φ150mm, 90˚단곡관(DTS) | C32: 개 | D32: 3 | F32: =TRUNC(E32*D32, 0) -> 0 | H32: =TRUNC(G32*D32, 0) -> 0 | J32: =TRUNC(I32*D32, 0) -> 0 | K32: =TRUNC(E32+G32+I32, 0) -> 0 | L32: =TRUNC(F32+H32+J32, 0) -> 0 | N32: 57539168563773A58B00436CFEFFC613616F5B | Q32: 0102 | R32: F | S32: F | T32: T | AU32: 010257539168563773A58B00436CFEFFC613616F5B | AV32: 14
A33: 경질폴리염화비닐이음관 | B33: Φ150mm, PVC소켓, DTS | C33: 개 | D33: 5 | F33: =TRUNC(E33*D33, 0) -> 0 | H33: =TRUNC(G33*D33, 0) -> 0 | J33: =TRUNC(I33*D33, 0) -> 0 | K33: =TRUNC(E33+G33+I33, 0) -> 0 | L33: =TRUNC(F33+H33+J33, 0) -> 0 | N33: 57539168563773A58B00436CFEFFC6136205AB | Q33: 0102 | R33: F | S33: F | T33: T | AU33: 010257539168563773A58B00436CFEFFC6136205AB | AV33: 15
A34: 경질폴리염화비닐이음관 | B34: Φ150×Φ150mm, PVC YT관, DTS | C34: 개 | D34: 3 | F34: =TRUNC(E34*D34, 0) -> 0 | H34: =TRUNC(G34*D34, 0) -> 0 | J34: =TRUNC(I34*D34, 0) -> 0 | K34: =TRUNC(E34+G34+I34, 0) -> 0 | L34: =TRUNC(F34+H34+J34, 0) -> 0 | N34: 57539168563773A58B00436CFEFFC6125DCA6A | Q34: 0102 | R34: F | S34: F | T34: T | AU34: 010257539168563773A58B00436CFEFFC6125DCA6A | AV34: 16
A35: 경질폴리염화비닐이음관 | B35: Φ150×Φ100mm, PVC YT관, DTS | C35: 개 | D35: 2 | F35: =TRUNC(E35*D35, 0) -> 0 | H35: =TRUNC(G35*D35, 0) -> 0 | J35: =TRUNC(I35*D35, 0) -> 0 | K35: =TRUNC(E35+G35+I35, 0) -> 0 | L35: =TRUNC(F35+H35+J35, 0) -> 0 | N35: 57539168563773A58B00436CFEFFC6125DCA6F | Q35: 0102 | R35: F | S35: F | T35: T | AU35: 010257539168563773A58B00436CFEFFC6125DCA6F | AV35: 17
A36: 경질폴리염화비닐이음관 | B36: Φ150mm, PVC C.O., DTS | C36: 개 | D36: 2 | F36: =TRUNC(E36*D36, 0) -> 0 | H36: =TRUNC(G36*D36, 0) -> 0 | J36: =TRUNC(I36*D36, 0) -> 0 | K36: =TRUNC(E36+G36+I36, 0) -> 0 | L36: =TRUNC(F36+H36+J36, 0) -> 0 | N36: 57539168563773A58B00436CFEFFC6125FF6B0 | Q36: 0102 | R36: F | S36: F | T36: T | AU36: 010257539168563773A58B00436CFEFFC6125FF6B0 | AV36: 18
A37: 터파기(기계8:2) | B37: 보통토사.백호80%+인력20% | C37: ㎥ | D37: 25 | F37: =TRUNC(E37*D37, 0) -> 0 | H37: =TRUNC(G37*D37, 0) -> 0 | J37: =TRUNC(I37*D37, 0) -> 0 | K37: =TRUNC(E37+G37+I37, 0) -> 0 | L37: =TRUNC(F37+H37+J37, 0) -> 0 | M37: 호표 3 | N37: 500D616100BA7BDB42D04BB66BFC77 | Q37: 0102 | R37: T | S37: F | T37: F | AU37: 0102500D616100BA7BDB42D04BB66BFC77 | AV37: 19
A38: 되메우고 다지기(백호우+램머) | B38: 토사,T=15cm | C38: ㎥ | D38: 25 | F38: =TRUNC(E38*D38, 0) -> 0 | H38: =TRUNC(G38*D38, 0) -> 0 | J38: =TRUNC(I38*D38, 0) -> 0 | K38: =TRUNC(E38+G38+I38, 0) -> 0 | L38: =TRUNC(F38+H38+J38, 0) -> 0 | M38: 호표 4 | N38: 500D6161693F70BACF304F82882A75 | Q38: 0102 | R38: T | S38: F | T38: F | AU38: 0102500D6161693F70BACF304F82882A75 | AV38: 20
A39: 보통인부 | B39: 일반공사 직종 | C39: 인 | D39: 0 | F39: =TRUNC(E39*D39, 0) -> 0 | H39: =TRUNC(G39*D39, 0) -> 0 | J39: =TRUNC(I39*D39, 0) -> 0 | K39: =TRUNC(E39+G39+I39, 0) -> 0 | L39: =TRUNC(F39+H39+J39, 0) -> 0 | N39: 50D7C16242697636ADD0424BF93D302DDCBE72 | Q39: 0102 | R39: F | S39: F | T39: T | Y39: 2 | AU39: 010250D7C16242697636ADD0424BF93D302DDCBE72 | AV39: 21
A40: 배관공 | B40: 일반공사 직종 | C40: 인 | D40: 0 | F40: =TRUNC(E40*D40, 0) -> 0 | H40: =TRUNC(G40*D40, 0) -> 0 | J40: =TRUNC(I40*D40, 0) -> 0 | K40: =TRUNC(E40+G40+I40, 0) -> 0 | L40: =TRUNC(F40+H40+J40, 0) -> 0 | N40: 50D7C16242697636ADD0424BF93D302DDCBD60 | Q40: 0102 | R40: F | S40: F | T40: T | Y40: 2 | AU40: 010250D7C16242697636ADD0424BF93D302DDCBD60 | AV40: 22
A41: 공구손료 | B41: 인력품의 3% | C41: 식 | D41: 1 | F41: =TRUNC(E41*D41, 0) -> 0 | G41: 0 | H41: =TRUNC(G41*D41, 0) -> 0 | I41: 0 | J41: =TRUNC(I41*D41, 0) -> 0 | K41: =TRUNC(E41+G41+I41, 0) -> 0 | L41: =TRUNC(F41+H41+J41, 0) -> 0 | N41: 511B7161F4A67B4820F04626031C002 | Q41: 0102 | R41: F | S41: F | T41: F | AU41: 0102511B7161F4A67B4820F04626031C002 | AV41: 201
A49: [ 합 계 ] | F49: =SUM(F28:F48) -> 0 | H49: =SUM(H28:H48) -> 0 | J49: =SUM(J28:J48) -> 0 | L49: =SUM(L28:L48) -> 0 | N49: TOTAL
A50: 0103 급수급탕배관공사 | Q50: 0103
A51: 일반배관용스테인리스강관(K-TYPE) | B51: D20mm | C51: m | D51: 14 | F51: =TRUNC(E51*D51, 0) -> 0 | H51: =TRUNC(G51*D51, 0) -> 0 | J51: =TRUNC(I51*D51, 0) -> 0 | K51: =TRUNC(E51+G51+I51, 0) -> 0 | L51: =TRUNC(F51+H51+J51, 0) -> 0 | N51: 57539168563773A7B1C04D6BBCDB6C3504BD5C | Q51: 0103 | R51: F | S51: F | T51: T | X51: 1 | AU51: 010357539168563773A7B1C04D6BBCDB6C3504BD5C | AV51: 24
A52: 일반배관용스테인리스강관(K-TYPE) | B52: D25mm | C52: m | D52: 79 | F52: =TRUNC(E52*D52, 0) -> 0 | H52: =TRUNC(G52*D52, 0) -> 0 | J52: =TRUNC(I52*D52, 0) -> 0 | K52: =TRUNC(E52+G52+I52, 0) -> 0 | L52: =TRUNC(F52+H52+J52, 0) -> 0 | N52: 57539168563773A7B1C04D6BBCDB6C3504BD53 | Q52: 0103 | R52: F | S52: F | T52: T | X52: 1 | AU52: 010357539168563773A7B1C04D6BBCDB6C3504BD53 | AV52: 25
A53: 일반배관용스테인리스강관(K-TYPE) | B53: D30mm | C53: m | D53: 5 | F53: =TRUNC(E53*D53, 0) -> 0 | H53: =TRUNC(G53*D53, 0) -> 0 | J53: =TRUNC(I53*D53, 0) -> 0 | K53: =TRUNC(E53+G53+I53, 0) -> 0 | L53: =TRUNC(F53+H53+J53, 0) -> 0 | N53: 57539168563773A7B1C04D6BBCDB6C3504BD52 | Q53: 0103 | R53: F | S53: F | T53: T | X53: 1 | AU53: 010357539168563773A7B1C04D6BBCDB6C3504BD52 | AV53: 26
A54: 일반배관용스테인리스강관(K-TYPE) | B54: D40mm | C54: m | D54: 54 | F54: =TRUNC(E54*D54, 0) -> 0 | H54: =TRUNC(G54*D54, 0) -> 0 | J54: =TRUNC(I54*D54, 0) -> 0 | K54: =TRUNC(E54+G54+I54, 0) -> 0 | L54: =TRUNC(F54+H54+J54, 0) -> 0 | N54: 57539168563773A7B1C04D6BBCDB6C3504BE62 | Q54: 0103 | R54: F | S54: F | T54: T | X54: 1 | AU54: 010357539168563773A7B1C04D6BBCDB6C3504BE62 | AV54: 27
A55: 일반배관용스테인리스강관(K-TYPE) | B55: D50mm | C55: m | D55: 11 | F55: =TRUNC(E55*D55, 0) -> 0 | H55: =TRUNC(G55*D55, 0) -> 0 | J55: =TRUNC(I55*D55, 0) -> 0 | K55: =TRUNC(E55+G55+I55, 0) -> 0 | L55: =TRUNC(F55+H55+J55, 0) -> 0 | N55: 57539168563773A7B1C04D6BBCDB6C3504BE63 | Q55: 0103 | R55: F | S55: F | T55: T | X55: 1 | AU55: 010357539168563773A7B1C04D6BBCDB6C3504BE63 | AV55: 28
A56: 잡재료비 | B56: 주재료비의 3% | C56: 식 | D56: 1 | F56: =TRUNC(E56*D56, 0) -> 0 | H56: =TRUNC(G56*D56, 0) -> 0 | J56: =TRUNC(I56*D56, 0) -> 0 | K56: =TRUNC(E56+G56+I56, 0) -> 0 | L56: =TRUNC(F56+H56+J56, 0) -> 0 | N56: 511B7161F4A67B4820F04626031F001 | Q56: 0103 | R56: F | S56: F | T56: F | AU56: 0103511B7161F4A67B4820F04626031F001 | AV56: 202
A57: 절연행가(전산볼트) | B57: D20 | C57: 개소 | D57: 2 | F57: =TRUNC(E57*D57, 0) -> 0 | H57: =TRUNC(G57*D57, 0) -> 0 | J57: =TRUNC(I57*D57, 0) -> 0 | K57: =TRUNC(E57+G57+I57, 0) -> 0 | L57: =TRUNC(F57+H57+J57, 0) -> 0 | M57: 호표 15 | N57: 50C2D1658D95786098904251B17B9C | Q57: 0103 | R57: T | S57: F | T57: F | AU57: 010350C2D1658D95786098904251B17B9C | AV57: 29
A58: 절연행가(전산볼트) | B58: D25 | C58: 개소 | D58: 20 | F58: =TRUNC(E58*D58, 0) -> 0 | H58: =TRUNC(G58*D58, 0) -> 0 | J58: =TRUNC(I58*D58, 0) -> 0 | K58: =TRUNC(E58+G58+I58, 0) -> 0 | L58: =TRUNC(F58+H58+J58, 0) -> 0 | M58: 호표 16 | N58: 50C2D1658D95786098904250AB1097 | Q58: 0103 | R58: T | S58: F | T58: F | AU58: 010350C2D1658D95786098904250AB1097 | AV58: 30
A59: 절연행가(전산볼트) | B59: D32 | C59: 개소 | D59: 3 | F59: =TRUNC(E59*D59, 0) -> 0 | H59: =TRUNC(G59*D59, 0) -> 0 | J59: =TRUNC(I59*D59, 0) -> 0 | K59: =TRUNC(E59+G59+I59, 0) -> 0 | L59: =TRUNC(F59+H59+J59, 0) -> 0 | M59: 호표 17 | N59: 50C2D1658D95786098904257DAFFD7 | Q59: 0103 | R59: T | S59: F | T59: F | AU59: 010350C2D1658D95786098904257DAFFD7 | AV59: 31
A60: 절연행가(전산볼트) | B60: D40 | C60: 개소 | D60: 26 | F60: =TRUNC(E60*D60, 0) -> 0 | H60: =TRUNC(G60*D60, 0) -> 0 | J60: =TRUNC(I60*D60, 0) -> 0 | K60: =TRUNC(E60+G60+I60, 0) -> 0 | L60: =TRUNC(F60+H60+J60, 0) -> 0 | M60: 호표 18 | N60: 50C2D1658D9578609890425633B604 | Q60: 0103 | R60: T | S60: F | T60: F | AU60: 010350C2D1658D9578609890425633B604 | AV60: 32
A61: 절연행가(전산볼트) | B61: D50 | C61: 개소 | D61: 5 | F61: =TRUNC(E61*D61, 0) -> 0 | H61: =TRUNC(G61*D61, 0) -> 0 | J61: =TRUNC(I61*D61, 0) -> 0 | K61: =TRUNC(E61+G61+I61, 0) -> 0 | L61: =TRUNC(F61+H61+J61, 0) -> 0 | M61: 호표 19 | N61: 50C2D1658D957860989042552C442D | Q61: 0103 | R61: T | S61: F | T61: F | AU61: 010350C2D1658D957860989042552C442D | AV61: 33
A62: 관보온(발포폴리에틸렌,매립보온) | B62: D20*10T | C62: M | D62: 9 | F62: =TRUNC(E62*D62, 0) -> 0 | H62: =TRUNC(G62*D62, 0) -> 0 | J62: =TRUNC(I62*D62, 0) -> 0 | K62: =TRUNC(E62+G62+I62, 0) -> 0 | L62: =TRUNC(F62+H62+J62, 0) -> 0 | M62: 호표 13 | N62: 50C21160F35C749157104389FBA333 | Q62: 0103 | R62: T | S62: F | T62: F | AU62: 010350C21160F35C749157104389FBA333 | AV62: 34
A63: 관보온(발포폴리에틸렌,매립보온) | B63: D25*10T | C63: M | D63: 36 | F63: =TRUNC(E63*D63, 0) -> 0 | H63: =TRUNC(G63*D63, 0) -> 0 | J63: =TRUNC(I63*D63, 0) -> 0 | K63: =TRUNC(E63+G63+I63, 0) -> 0 | L63: =TRUNC(F63+H63+J63, 0) -> 0 | M63: 호표 14 | N63: 50C21160F35C749157104389FBA332 | Q63: 0103 | R63: T | S63: F | T63: F | AU63: 010350C21160F35C749157104389FBA332 | AV63: 35
A64: 관보온(고무발포,매직테프) | B64: 19TxD20 | C64: m | D64: 5 | F64: =TRUNC(E64*D64, 0) -> 0 | H64: =TRUNC(G64*D64, 0) -> 0 | J64: =TRUNC(I64*D64, 0) -> 0 | K64: =TRUNC(E64+G64+I64, 0) -> 0 | L64: =TRUNC(F64+H64+J64, 0) -> 0 | M64: 호표 8 | N64: 50C21160A4BC75120570459F3863C4 | Q64: 0103 | R64: T | S64: F | T64: F | AU64: 010350C21160A4BC75120570459F3863C4 | AV64: 36
A65: 관보온(고무발포,매직테프) | B65: 19TxD25 | C65: m | D65: 40 | F65: =TRUNC(E65*D65, 0) -> 0 | H65: =TRUNC(G65*D65, 0) -> 0 | J65: =TRUNC(I65*D65, 0) -> 0 | K65: =TRUNC(E65+G65+I65, 0) -> 0 | L65: =TRUNC(F65+H65+J65, 0) -> 0 | M65: 호표 9 | N65: 50C21160A4BC747B27904DBB1541B6 | Q65: 0103 | R65: T | S65: F | T65: F | AU65: 010350C21160A4BC747B27904DBB1541B6 | AV65: 37
A66: 관보온(고무발포,매직테프) | B66: 19TxD32 | C66: m | D66: 5 | F66: =TRUNC(E66*D66, 0) -> 0 | H66: =TRUNC(G66*D66, 0) -> 0 | J66: =TRUNC(I66*D66, 0) -> 0 | K66: =TRUNC(E66+G66+I66, 0) -> 0 | L66: =TRUNC(F66+H66+J66, 0) -> 0 | M66: 호표 10 | N66: 50C21160A4BC7364A9604CCFB5F55C | Q66: 0103 | R66: T | S66: F | T66: F | AU66: 010350C21160A4BC7364A9604CCFB5F55C | AV66: 38
A67: 관보온(고무발포,매직테프) | B67: 19TxD40 | C67: m | D67: 51 | F67: =TRUNC(E67*D67, 0) -> 0 | H67: =TRUNC(G67*D67, 0) -> 0 | J67: =TRUNC(I67*D67, 0) -> 0 | K67: =TRUNC(E67+G67+I67, 0) -> 0 | L67: =TRUNC(F67+H67+J67, 0) -> 0 | M67: 호표 11 | N67: 50C21160A4BC724D2B704D5C2B34B2 | Q67: 0103 | R67: T | S67: F | T67: F | AU67: 010350C21160A4BC724D2B704D5C2B34B2 | AV67: 39
A68: 관보온(고무발포,매직테프) | B68: 19TxD50 | C68: m | D68: 10 | F68: =TRUNC(E68*D68, 0) -> 0 | H68: =TRUNC(G68*D68, 0) -> 0 | J68: =TRUNC(I68*D68, 0) -> 0 | K68: =TRUNC(E68+G68+I68, 0) -> 0 | L68: =TRUNC(F68+H68+J68, 0) -> 0 | M68: 호표 12 | N68: 50C21160A4BC71B7D41046C9A7548F | Q68: 0103 | R68: T | S68: F | T68: F | AU68: 010350C21160A4BC71B7D41046C9A7548F | AV68: 40
A69: 스테인리스강제관이음(프레스식) | B69: 엘보, D15 | C69: 개 | D69: 48 | F69: =TRUNC(E69*D69, 0) -> 0 | H69: =TRUNC(G69*D69, 0) -> 0 | J69: =TRUNC(I69*D69, 0) -> 0 | K69: =TRUNC(E69+G69+I69, 0) -> 0 | L69: =TRUNC(F69+H69+J69, 0) -> 0 | N69: 57539168563773A58A704823D2EB432F5E3549 | Q69: 0103 | R69: F | S69: F | T69: T | AU69: 010357539168563773A58A704823D2EB432F5E3549 | AV69: 41
A70: 스테인리스강제관이음(프레스식) | B70: 엘보, D20 | C70: 개 | D70: 70 | F70: =TRUNC(E70*D70, 0) -> 0 | H70: =TRUNC(G70*D70, 0) -> 0 | J70: =TRUNC(I70*D70, 0) -> 0 | K70: =TRUNC(E70+G70+I70, 0) -> 0 | L70: =TRUNC(F70+H70+J70, 0) -> 0 | N70: 57539168563773A58A704823D2EB432F5E3548 | Q70: 0103 | R70: F | S70: F | T70: T | AU70: 010357539168563773A58A704823D2EB432F5E3548 | AV70: 42
A71: 스테인리스강제관이음(프레스식) | B71: 엘보, D25 | C71: 개 | D71: 70 | F71: =TRUNC(E71*D71, 0) -> 0 | H71: =TRUNC(G71*D71, 0) -> 0 | J71: =TRUNC(I71*D71, 0) -> 0 | K71: =TRUNC(E71+G71+I71, 0) -> 0 | L71: =TRUNC(F71+H71+J71, 0) -> 0 | N71: 57539168563773A58A704823D2EB432F5E354F | Q71: 0103 | R71: F | S71: F | T71: T | AU71: 010357539168563773A58A704823D2EB432F5E354F | AV71: 43
A72: 스테인리스강제관이음(프레스식) | B72: 엘보, D32 | C72: 개 | D72: 1 | F72: =TRUNC(E72*D72, 0) -> 0 | H72: =TRUNC(G72*D72, 0) -> 0 | J72: =TRUNC(I72*D72, 0) -> 0 | K72: =TRUNC(E72+G72+I72, 0) -> 0 | L72: =TRUNC(F72+H72+J72, 0) -> 0 | N72: 57539168563773A58A704823D2EB432F5E354E | Q72: 0103 | R72: F | S72: F | T72: T | AU72: 010357539168563773A58A704823D2EB432F5E354E | AV72: 44
A73: 스테인리스강제관이음(프레스식) | B73: 엘보, D40 | C73: 개 | D73: 3 | F73: =TRUNC(E73*D73, 0) -> 0 | H73: =TRUNC(G73*D73, 0) -> 0 | J73: =TRUNC(I73*D73, 0) -> 0 | K73: =TRUNC(E73+G73+I73, 0) -> 0 | L73: =TRUNC(F73+H73+J73, 0) -> 0 | N73: 57539168563773A58A704823D2EB432F5E354D | Q73: 0103 | R73: F | S73: F | T73: T | AU73: 010357539168563773A58A704823D2EB432F5E354D | AV73: 45
A74: 스테인리스강제관이음(프레스식) | B74: 엘보, D50 | C74: 개 | D74: 2 | F74: =TRUNC(E74*D74, 0) -> 0 | H74: =TRUNC(G74*D74, 0) -> 0 | J74: =TRUNC(I74*D74, 0) -> 0 | K74: =TRUNC(E74+G74+I74, 0) -> 0 | L74: =TRUNC(F74+H74+J74, 0) -> 0 | N74: 57539168563773A58A704823D2EB432F5E354C | Q74: 0103 | R74: F | S74: F | T74: T | AU74: 010357539168563773A58A704823D2EB432F5E354C | AV74: 46
A75: 스테인리스강제관이음(프레스식) | B75: 티이, D25 | C75: 개 | D75: 23 | F75: =TRUNC(E75*D75, 0) -> 0 | H75: =TRUNC(G75*D75, 0) -> 0 | J75: =TRUNC(I75*D75, 0) -> 0 | K75: =TRUNC(E75+G75+I75, 0) -> 0 | L75: =TRUNC(F75+H75+J75, 0) -> 0 | N75: 57539168563773A58A704823D2EB432C832F16 | Q75: 0103 | R75: F | S75: F | T75: T | AU75: 010357539168563773A58A704823D2EB432C832F16 | AV75: 47
A76: 스테인리스강제관이음(프레스식) | B76: 티이, D40 | C76: 개 | D76: 12 | F76: =TRUNC(E76*D76, 0) -> 0 | H76: =TRUNC(G76*D76, 0) -> 0 | J76: =TRUNC(I76*D76, 0) -> 0 | K76: =TRUNC(E76+G76+I76, 0) -> 0 | L76: =TRUNC(F76+H76+J76, 0) -> 0 | N76: 57539168563773A58A704823D2EB432C832E0F | Q76: 0103 | R76: F | S76: F | T76: T | AU76: 010357539168563773A58A704823D2EB432C832E0F | AV76: 48
A77: 스테인리스강제관이음(프레스식) | B77: 티이, D50 | C77: 개 | D77: 15 | F77: =TRUNC(E77*D77, 0) -> 0 | H77: =TRUNC(G77*D77, 0) -> 0 | J77: =TRUNC(I77*D77, 0) -> 0 | K77: =TRUNC(E77+G77+I77, 0) -> 0 | L77: =TRUNC(F77+H77+J77, 0) -> 0 | N77: 57539168563773A58A704823D2EB432C832E0B | Q77: 0103 | R77: F | S77: F | T77: T | AU77: 010357539168563773A58A704823D2EB432C832E0B | AV77: 49
A78: 스테인리스강제관이음(프레스식) | B78: Φ20×13mm, 리듀서 | C78: 개 | D78: 48 | F78: =TRUNC(E78*D78, 0) -> 0 | H78: =TRUNC(G78*D78, 0) -> 0 | J78: =TRUNC(I78*D78, 0) -> 0 | K78: =TRUNC(E78+G78+I78, 0) -> 0 | L78: =TRUNC(F78+H78+J78, 0) -> 0 | N78: 57539168563773A58A704823D2EB432C80537E | Q78: 0103 | R78: F | S78: F | T78: T | AU78: 010357539168563773A58A704823D2EB432C80537E | AV78: 50
A79: 스테인리스강제관이음(프레스식) | B79: Φ25×20mm, 리듀서 | C79: 개 | D79: 44 | F79: =TRUNC(E79*D79, 0) -> 0 | H79: =TRUNC(G79*D79, 0) -> 0 | J79: =TRUNC(I79*D79, 0) -> 0 | K79: =TRUNC(E79+G79+I79, 0) -> 0 | L79: =TRUNC(F79+H79+J79, 0) -> 0 | N79: 57539168563773A58A704823D2EB432C80537C | Q79: 0103 | R79: F | S79: F | T79: T | AU79: 010357539168563773A58A704823D2EB432C80537C | AV79: 51
A80: 스테인리스강제관이음(프레스식) | B80: Φ30×25mm, 리듀서 | C80: 개 | D80: 1 | F80: =TRUNC(E80*D80, 0) -> 0 | H80: =TRUNC(G80*D80, 0) -> 0 | J80: =TRUNC(I80*D80, 0) -> 0 | K80: =TRUNC(E80+G80+I80, 0) -> 0 | L80: =TRUNC(F80+H80+J80, 0) -> 0 | N80: 57539168563773A58A704823D2EB432C80537B | Q80: 0103 | R80: F | S80: F | T80: T | AU80: 010357539168563773A58A704823D2EB432C80537B | AV80: 52
... A98: 볼밸브 | B98: Φ32mm×10K, STS | C98: 개 | D98: 1 | F98: =TRUNC(E98*D98, 0) -> 0 | H98: =TRUNC(G98*D98, 0) -> 0 | J98: =TRUNC(I98*D98, 0) -> 0 | K98: =TRUNC(E98+G98+I98, 0) -> 0 | L98: =TRUNC(F98+H98+J98, 0) -> 0 | N98: 57539168563770D4F8204AFD463380DD189023 | Q98: 0103 | R98: F | S98: F | T98: T | AU98: 010357539168563770D4F8204AFD463380DD189023 | AV98: 70
A99: 강관스리브 (지수판포함) | B99: D50 | C99: 개소 | D99: 1 | F99: =TRUNC(E99*D99, 0) -> 0 | H99: =TRUNC(G99*D99, 0) -> 0 | J99: =TRUNC(I99*D99, 0) -> 0 | K99: =TRUNC(E99+G99+I99, 0) -> 0 | L99: =TRUNC(F99+H99+J99, 0) -> 0 | M99: 호표 20 | N99: 50C2F16AFEAD71792FE04AC895FBB8 | Q99: 0103 | R99: T | S99: F | T99: F | AU99: 010350C2F16AFEAD71792FE04AC895FBB8 | AV99: 71
A100: 슬리브설치(바닥) | B100: D25~D50 | C100: 개소 | D100: 16 | F100: =TRUNC(E100*D100, 0) -> 0 | H100: =TRUNC(G100*D100, 0) -> 0 | J100: =TRUNC(I100*D100, 0) -> 0 | K100: =TRUNC(E100+G100+I100, 0) -> 0 | L100: =TRUNC(F100+H100+J100, 0) -> 0 | M100: 호표 23 | N100: 50C2F16AFEAD717808C041555C4831 | Q100: 0103 | R100: T | S100: F | T100: F | AU100: 010350C2F16AFEAD717808C041555C4831 | AV100: 72
A101: 슬리브설치(벽체) | B101: D25~D50 | C101: 개소 | D101: 4 | F101: =TRUNC(E101*D101, 0) -> 0 | H101: =TRUNC(G101*D101, 0) -> 0 | J101: =TRUNC(I101*D101, 0) -> 0 | K101: =TRUNC(E101+G101+I101, 0) -> 0 | L101: =TRUNC(F101+H101+J101, 0) -> 0 | M101: 호표 24 | N101: 50C2F16AFEAD717FB7C04F27D3EBEF | Q101: 0103 | R101: T | S101: F | T101: F | AU101: 010350C2F16AFEAD717FB7C04F27D3EBEF | AV101: 73
A102: 슬리브설치(벽체) | B102: D65~D100 | C102: 개소 | D102: 4 | F102: =TRUNC(E102*D102, 0) -> 0 | H102: =TRUNC(G102*D102, 0) -> 0 | J102: =TRUNC(I102*D102, 0) -> 0 | K102: =TRUNC(E102+G102+I102, 0) -> 0 | L102: =TRUNC(F102+H102+J102, 0) -> 0 | M102: 호표 25 | N102: 50C2F16AFEAD717FB7C04F241F6578 | Q102: 0103 | R102: T | S102: F | T102: F | AU102: 010350C2F16AFEAD717FB7C04F241F6578 | AV102: 74
A103: 보통인부 | B103: 일반공사 직종 | C103: 인 | D103: 0 | F103: =TRUNC(E103*D103, 0) -> 0 | H103: =TRUNC(G103*D103, 0) -> 0 | J103: =TRUNC(I103*D103, 0) -> 0 | K103: =TRUNC(E103+G103+I103, 0) -> 0 | L103: =TRUNC(F103+H103+J103, 0) -> 0 | N103: 50D7C16242697636ADD0424BF93D302DDCBE72 | Q103: 0103 | R103: F | S103: F | T103: T | Y103: 2 | AU103: 010350D7C16242697636ADD0424BF93D302DDCBE72 | AV103: 75
A104: 배관공 | B104: 일반공사 직종 | C104: 인 | D104: 0 | F104: =TRUNC(E104*D104, 0) -> 0 | H104: =TRUNC(G104*D104, 0) -> 0 | J104: =TRUNC(I104*D104, 0) -> 0 | K104: =TRUNC(E104+G104+I104, 0) -> 0 | L104: =TRUNC(F104+H104+J104, 0) -> 0 | N104: 50D7C16242697636ADD0424BF93D302DDCBD60 | Q104: 0103 | R104: F | S104: F | T104: T | Y104: 2 | AU104: 010350D7C16242697636ADD0424BF93D302DDCBD60 | AV104: 76
A105: 공구손료 | B105: 인력품의 3% | C105: 식 | D105: 1 | F105: =TRUNC(E105*D105, 0) -> 0 | G105: 0 | H105: =TRUNC(G105*D105, 0) -> 0 | I105: 0 | J105: =TRUNC(I105*D105, 0) -> 0 | K105: =TRUNC(E105+G105+I105, 0) -> 0 | L105: =TRUNC(F105+H105+J105, 0) -> 0 | N105: 511B7161F4A67B4820F04626031C002 | Q105: 0103 | R105: F | S105: F | T105: F | AU105: 0103511B7161F4A67B4820F04626031C002 | AV105: 203
A118: [ 합 계 ] | F118: =SUM(F51:F117) -> 0 | H118: =SUM(H51:H117) -> 0 | J118: =SUM(J51:J117) -> 0 | L118: =SUM(L51:L117) -> 0 | N118: TOTAL
A119: 0104 배수배관공사 | Q119: 0104
A120: 일반용경질폴리염화비닐관 | B120: PVC(VG1), D100mm | C120: m | D120: 6 | N120: 57539168563773A7B8704C9A4C8674F45EA7FF | Q120: 0104 | R120: F | S120: F | T120: T | X120: 1 | AU120: 010457539168563773A7B8704C9A4C8674F45EA7FF | AV120: 78
A121: 일반용경질폴리염화비닐관 | B121: PVC(VG1), D150mm | C121: m | D121: 19 | N121: 57539168563773A7B8704C9A4C8674F45EA7F3 | Q121: 0104 | R121: F | S121: F | T121: T | X121: 1 | AU121: 010457539168563773A7B8704C9A4C8674F45EA7F3 | AV121: 79
A122: 잡재료비 | B122: 주재료비의 3% | C122: 식 | D122: 1 | N122: 511B7161F4A67B4820F04626031F001 | Q122: 0104 | R122: F | S122: F | T122: F | AU122: 0104511B7161F4A67B4820F04626031F001 | AV122: 204
A123: 경질폴리염화비닐이음관 | B123: Φ100mm, 90˚단곡관(DTS) | C123: 개 | D123: 1 | N123: 57539168563773A58B00436CFEFFC613616F55 | Q123: 0104 | R123: F | S123: F | T123: T | AU123: 010457539168563773A58B00436CFEFFC613616F55 | AV123: 80
A124: 경질폴리염화비닐이음관 | B124: Φ100×Φ100mm, PVC YT관, DTS | C124: 개 | D124: 1 | N124: 57539168563773A58B00436CFEFFC6125DC8B4 | Q124: 0104 | R124: F | S124: F | T124: T | AU124: 010457539168563773A58B00436CFEFFC6125DC8B4 | AV124: 81
A125: 경질폴리염화비닐이음관 | B125: Φ150×Φ100mm, PVC YT관, DTS | C125: 개 | D125: 2 | N125: 57539168563773A58B00436CFEFFC6125DCA6F | Q125: 0104 | R125: F | S125: F | T125: T | AU125: 010457539168563773A58B00436CFEFFC6125DCA6F | AV125: 82
A126: 경질폴리염화비닐이음관 | B126: Φ100mm, PVC P트랩, DTS | C126: 개 | D126: 4 | N126: 57539168563773A58B00436CFEFFC6125C2A59 | Q126: 0104 | R126: F | S126: F | T126: T | AU126: 010457539168563773A58B00436CFEFFC6125C2A59 | AV126: 83
A127: 경질폴리염화비닐이음관 | B127: Φ100mm, PVC C.O., DTS | C127: 개 | D127: 1 | N127: 57539168563773A58B00436CFEFFC6125FF6BE | Q127: 0104 | R127: F | S127: F | T127: T | AU127: 010457539168563773A58B00436CFEFFC6125FF6BE | AV127: 84
A128: 경질폴리염화비닐이음관 | B128: Φ150mm, PVC C.O., DTS | C128: 개 | D128: 1 | N128: 57539168563773A58B00436CFEFFC6125FF6B0 | Q128: 0104 | R128: F | S128: F | T128: T | AU128: 010457539168563773A58B00436CFEFFC6125FF6B0 | AV128: 85
A129: 경질폴리염화비닐이음관 | B129: Φ100mm, PVC F.D | C129: 개 | D129: 4 | N129: 57539168563773A58B00436CFEFFC6125FF488 | Q129: 0104 | R129: F | S129: F | T129: T | AU129: 010457539168563773A58B00436CFEFFC6125FF488 | AV129: 86
A130: 강관스리브 (지수판포함) | B130: D100 | C130: 개소 | D130: 2 | M130: 호표 21 | N130: 50C2F16AFEAD71792FE04AC78E8941 | Q130: 0104 | R130: T | S130: F | T130: F | AU130: 010450C2F16AFEAD71792FE04AC78E8941 | AV130: 87
A131: 강관스리브 (지수판포함) | B131: D150 | C131: 개소 | D131: 2 | M131: 호표 22 | N131: 50C2F16AFEAD71792FE04BD4098DCB | Q131: 0104 | R131: T | S131: F | T131: F | AU131: 010450C2F16AFEAD71792FE04BD4098DCB | AV131: 88
A132: 슬리브설치(벽체) | B132: D65~D100 | C132: 개소 | D132: 2 | M132: 호표 25 | N132: 50C2F16AFEAD717FB7C04F241F6578 | Q132: 0104 | R132: T | S132: F | T132: F | AU132: 010450C2F16AFEAD717FB7C04F241F6578 | AV132: 89
A133: 슬리브설치(벽체) | B133: D125~D150 | C133: 개소 | D133: 2 | M133: 호표 26 | N133: 50C2F16AFEAD717FB7C04F2525B045 | Q133: 0104 | R133: T | S133: F | T133: F | AU133: 010450C2F16AFEAD717FB7C04F2525B045 | AV133: 90
A134: 보통인부 | B134: 일반공사 직종 | C134: 인 | D134: 0 | N134: 50D7C16242697636ADD0424BF93D302DDCBE72 | Q134: 0104 | R134: F | S134: F | T134: T | Y134: 2 | AU134: 010450D7C16242697636ADD0424BF93D302DDCBE72 | AV134: 91
A135: 배관공 | B135: 일반공사 직종 | C135: 인 | D135: 0 | N135: 50D7C16242697636ADD0424BF93D302DDCBD60 | Q135: 0104 | R135: F | S135: F | T135: T | Y135: 2 | AU135: 010450D7C16242697636ADD0424BF93D302DDCBD60 | AV135: 92
A136: 공구손료 | B136: 인력품의 3% | C136: 식 | D136: 1 | N136: 511B7161F4A67B4820F04626031C002 | Q136: 0104 | R136: F | S136: F | T136: F | AU136: 0104511B7161F4A67B4820F04626031C002 | AV136: 205
A141: [ 합 계 ] | F141: =SUM(F120:F140) -> 0 | H141: =SUM(H120:H140) -> 0 | J141: =SUM(J120:J140) -> 0 | L141: =SUM(L120:L140) -> 0 | N141: TOTAL
A142: 0105 환기덕트공사 | Q142: 0105
A143: 공조덕트 | B143: 공조덕트, 스파이럴, Φ200mm | C143: m | D143: 8 | N143: 57539168563770DB2E604593F8AEB1B5CFCE8B | Q143: 0105 | R143: F | S143: F | T143: T | AU143: 010557539168563770DB2E604593F8AEB1B5CFCE8B | AV143: 95
A144: 공조덕트 | B144: 공조덕트, 스파이럴, Φ250mm | C144: m | D144: 30 | N144: 57539168563770DB2E604593F8AEB1B5CFCE89 | Q144: 0105 | R144: F | S144: F | T144: T | AU144: 010557539168563770DB2E604593F8AEB1B5CFCE89 | AV144: 96
A145: 공조덕트 | B145: 공조덕트, 스파이럴, Φ300mm | C145: m | D145: 83 | N145: 57539168563770DB2E604593F8AEB1B5CFCE87 | Q145: 0105 | R145: F | S145: F | T145: T | AU145: 010557539168563770DB2E604593F8AEB1B5CFCE87 | AV145: 97
A146: 후렉시블덕트(비보온) | B146: 알루미늄, Φ200mm | C146: m | D146: 2 | N146: 57539168563770DB2E604593F8AEB1B6DD6A72 | Q146: 0105 | R146: F | S146: F | T146: T | AU146: 010557539168563770DB2E604593F8AEB1B6DD6A72 | AV146: 98
A147: 후렉시블덕트(비보온) | B147: 알루미늄, Φ250mm | C147: m | D147: 10 | N147: 57539168563770DB2E604593F8AEB1B6DD6A70 | Q147: 0105 | R147: F | S147: F | T147: T | AU147: 010557539168563770DB2E604593F8AEB1B6DD6A70 | AV147: 99
A148: 후렉시블덕트(비보온) | B148: 알루미늄, Φ300mm | C148: m | D148: 15 | N148: 57539168563770DB2E604593F8AEB1B6DD6A71 | Q148: 0105 | R148: F | S148: F | T148: T | AU148: 010557539168563770DB2E604593F8AEB1B6DD6A71 | AV148: 100
A149: 공조덕트 | B149: 공조덕트, 스파이럴엘보, Φ200mm | C149: 개 | D149: 2 | N149: 57539168563770DB2E604593F8AEB1B5CA42F0 | Q149: 0105 | R149: F | S149: F | T149: T | AU149: 010557539168563770DB2E604593F8AEB1B5CA42F0 | AV149: 101
A150: 공조덕트 | B150: 공조덕트, 스파이럴엘보, Φ250mm | C150: 개 | D150: 10 | N150: 57539168563770DB2E604593F8AEB1B5CA42F2 | Q150: 0105 | R150: F | S150: F | T150: T | AU150: 010557539168563770DB2E604593F8AEB1B5CA42F2 | AV150: 102
A151: 공조덕트 | B151: 공조덕트, 스파이럴엘보, Φ300mm | C151: 개 | D151: 15 | N151: 57539168563770DB2E604593F8AEB1B5CA42F4 | Q151: 0105 | R151: F | S151: F | T151: T | AU151: 010557539168563770DB2E604593F8AEB1B5CA42F4 | AV151: 103
A152: STS BAND | B152: D200 | C152: 개 | D152: 4 | N152: 57539168563770DB2E604592D3BA0F0BB0F79C | Q152: 0105 | R152: F | S152: F | T152: T | AU152: 010557539168563770DB2E604592D3BA0F0BB0F79C | AV152: 104
A153: STS BAND | B153: D250 | C153: 개 | D153: 20 | N153: 57539168563770DB2E604592D3BA0F0BB0F79D | Q153: 0105 | R153: F | S153: F | T153: T | AU153: 010557539168563770DB2E604592D3BA0F0BB0F79D | AV153: 105
...
