Workbook
Name ㅠ3: #REF!

Sheet 원가계산서
A1: 공 사 원 가 계 산 서
A2: 공 사 명 [ 국립생태원동물배후시설건립공사 ] 금액 : | E2: =NUMBERSTRING(D36,1)&"원정" -> 영원정 | F2: =SUM(D36) -> 0
A3: 비 목 | D3: 금 액 | E3: 구 성 비 | F3: 비 고
A4: 순공사원가 | B4: 재료비 | C4: 직 접 재 료 비 | D4: =+공종별집계표!F27 -> 0
C5: 간 접 재 료 비
C6: 작업설, 부산물(△) | D6: 0
C7: [ 소 계 ] | D7: =SUM(D4-D6) -> 0
B8: 노무비 | C8: 직 접 노 무 비 | D8: =+공종별집계표!H27 -> 0
C9: 간 접 노 무 비 | D9: =TRUNC((D8)*E9,0) -> 0 | E9: 0.08
C10: [ 소 계 ] | D10: =SUM(D8:D9) -> 0
B11: 경 비 | C11: 운 반 비 | D11: 0
C12: 기 계 경 비 | D12: =+공종별집계표!J27 -> 0
C13: 산 재 보 험 료 | D13: =TRUNC((D10)*E13,0) -> 0 | E13: 0.038
C14: 고 용 보 험 료 | D14: =TRUNC((D10)*E14,0) -> 0 | E14: 0.0087
C15: 건 강 보 험 료 | D15: =TRUNC((D8)*E15,0) -> 0 | E15: 0.017
C16: 연 금 보 험 료 | D16: =TRUNC((D8)*E16,0) -> 0 | E16: 0.0249
C17: 노인장기요양보험료 | D17: =TRUNC((D15)*E17,0) -> 0 | E17: 0.0655
C18: 퇴 직 공 제 부금비 | D18: =TRUNC((D8)*E18,0) -> 0 | E18: 0.023
C19: 안 전 관 리 비 | D19: 0 | E19: (재+직노+관급/1.1)*1.86%+5349000 ((재+직노)*1.86%+5349000)*1.2배 중 작은값 | H19: 0
C20: 기 타 경 비 | D20: =TRUNC((D7+D10)*E20,0) -> 0 | E20: 0.038 | H20: 0
C21: 환 경 보 존 비 | D21: =TRUNC((D7+D8+D11+D12)*E21,0) -> 0 | E21: 0.005
C22: 공사이행보증수수료 | D22: =TRUNC((D7+D8+D12)*E22,0) -> 0
C23: 건 설 하 도 급 대 금 | D23: =TRUNC((D7+D8+D11+D12)*E23,0) -> 0 | E23: 0.00081
C24: 지급보증서 발급 수수료
C25: 건설기계대여료 | D25: =TRUNC((D7+D8+D11+D12)*E25,0) -> 0 | E25: 0.0007
C26: 지급보증서 발급 수수료
C27: [ 소 계 ] | D27: =SUM(D11:D26) -> 0
A28: 계 | D28: =SUM(D7,D10,D27) -> 0
A29: 일 반 관 리 비 | D29: 0 | E29: 0.0471
A30: 이 윤 | D30: 0 | E30: 0.1
A31: 폐 기 물 처 리 비 | D31: 0
A32: 공 급 가 액 | D32: 0
A33: 부 가 가 치 세 | D33: 0 | E33: 0.1
A34: 도 급 액 | D34: =SUM(D32:D33) -> 0
A35: 관급자재비 | D35: =SUM(공종별집계표!L21+공종별집계표!L23+공종별집계표!F25) -> 0
A36: 총 공 사 비 | D36: =SUM(D34:D35) -> 0
D38: 0
D39: 0

Sheet 공종별집계표
A1: 공 종 별 집 계 표
A2: [ 국립생태원동물배후시설건립공사 ]
A3: 품 명 | B3: 규 격 | C3: 단위 | D3: 수량 | E3: 재 료 비 | G3: 노 무 비 | I3: 경 비 | K3: 합 계 | M3: 비 고 | N3: 공종코드 | O3: 변수 | P3: 상위공종 | Q3: 공종구분 | R3: 공종레벨 | S3: 공종소계 | T3: 원가계산서 연결금액
E4: 단 가 | F4: 금 액 | G4: 단 가 | H4: 금 액 | I4: 단 가 | J4: 금 액 | K4: 단 가 | L4: 금 액
A5: 국립생태원동물배후시설건립공사 | D5: 1 | E5: =F6+F22+F24 -> 0 | F5: =E5*D5 -> 0 | G5: =H6+H22+H24 -> 0 | H5: =G5*D5 -> 0 | I5: =J6+J22+J24 -> 0 | J5: =I5*D5 -> 0 | K5: =E5+G5+I5 -> 0 | L5: =F5+H5+J5 -> 0 | N5: 01 | R5: 1
A6: ◈ 건축공사 ◈ | D6: 1 | E6: =F7+F8+F9+F10+F11+F12+F13+F14+F15+F16+F17+F18+F19+F20 -> 0 | F6: =E6*D6 -> 0 | G6: =H7+H8+H9+H10+H11+H12+H13+H14+H15+H16+H17+H18+H19+H20 -> 0 | H6: =G6*D6 -> 0 | I6: =J7+J8+J9+J10+J11+J12+J13+J14+J15+J16+J17+J18+J19+J20 -> 0 | J6: =I6*D6 -> 0 | K6: =E6+G6+I6 -> 0 | L6: =F6+H6+J6 -> 0 | N6: 0101 | P6: 01 | R6: 2
A7: 1.가 설 공 사 | D7: 1 | E7: =공종별내역서!F27 -> 0 | F7: =E7*D7 -> 0 | G7: =공종별내역서!H27 -> 0 | H7: =G7*D7 -> 0 | I7: =공종별내역서!J27 -> 0 | J7: =I7*D7 -> 0 | K7: =E7+G7+I7 -> 0 | L7: =F7+H7+J7 -> 0 | N7: 010101 | P7: 0101 | R7: 3
A8: 2.토 및 지정공사 | D8: 1 | E8: =공종별내역서!F51 -> 0 | F8: =E8*D8 -> 0 | G8: =공종별내역서!H51 -> 0 | H8: =G8*D8 -> 0 | I8: =공종별내역서!J51 -> 0 | J8: =I8*D8 -> 0 | K8: =E8+G8+I8 -> 0 | L8: =F8+H8+J8 -> 0 | N8: 010102 | P8: 0101 | R8: 3
A9: 3.철근콘크리트공사 | D9: 1 | E9: =공종별내역서!F75 -> 0 | F9: =E9*D9 -> 0 | G9: =공종별내역서!H75 -> 0 | H9: =G9*D9 -> 0 | I9: =공종별내역서!J75 -> 0 | J9: =I9*D9 -> 0 | K9: =E9+G9+I9 -> 0 | L9: =F9+H9+J9 -> 0 | N9: 010103 | P9: 0101 | R9: 3
A10: 4.방 수 공 사 | D10: 1 | E10: =공종별내역서!F99 -> 0 | F10: =E10*D10 -> 0 | G10: =공종별내역서!H99 -> 0 | H10: =G10*D10 -> 0 | I10: =공종별내역서!J99 -> 0 | J10: =I10*D10 -> 0 | K10: =E10+G10+I10 -> 0 | L10: =F10+H10+J10 -> 0 | N10: 010104 | P10: 0101 | R10: 3
A11: 5.금 속 공 사 | D11: 1 | E11: =공종별내역서!F123 -> 0 | F11: =E11*D11 -> 0 | G11: =공종별내역서!H123 -> 0 | H11: =G11*D11 -> 0 | I11: =공종별내역서!J123 -> 0 | J11: =I11*D11 -> 0 | K11: =E11+G11+I11 -> 0 | L11: =F11+H11+J11 -> 0 | N11: 010105 | P11: 0101 | R11: 3
A12: 6.미 장 공 사 | D12: 1 | E12: =공종별내역서!F147 -> 0 | F12: =E12*D12 -> 0 | G12: =공종별내역서!H147 -> 0 | H12: =G12*D12 -> 0 | I12: =공종별내역서!J147 -> 0 | J12: =I12*D12 -> 0 | K12: =E12+G12+I12 -> 0 | L12: =F12+H12+J12 -> 0 | N12: 010106 | P12: 0101 | R12: 3
A13: 7.창 호 공 사 | D13: 1 | E13: =공종별내역서!F195 -> 0 | F13: =E13*D13 -> 0 | G13: =공종별내역서!H195 -> 0 | H13: =G13*D13 -> 0 | I13: =공종별내역서!J195 -> 0 | J13: =I13*D13 -> 0 | K13: =E13+G13+I13 -> 0 | L13: =F13+H13+J13 -> 0 | N13: 010107 | P13: 0101 | R13: 3
A14: 8.유 리 공 사 | D14: 1 | E14: =공종별내역서!F219 -> 0 | F14: =E14*D14 -> 0 | G14: =공종별내역서!H219 -> 0 | H14: =G14*D14 -> 0 | I14: =공종별내역서!J219 -> 0 | J14: =I14*D14 -> 0 | K14: =E14+G14+I14 -> 0 | L14: =F14+H14+J14 -> 0 | N14: 010108 | P14: 0101 | R14: 3
A15: 9.도 장 공 사 | D15: 1 | E15: =공종별내역서!F243 -> 0 | F15: =E15*D15 -> 0 | G15: =공종별내역서!H243 -> 0 | H15: =G15*D15 -> 0 | I15: =공종별내역서!J243 -> 0 | J15: =I15*D15 -> 0 | K15: =E15+G15+I15 -> 0 | L15: =F15+H15+J15 -> 0 | N15: 010109 | P15: 0101 | R15: 3
A16: 10.수 장 공 사 | D16: 1 | E16: =공종별내역서!F267 -> 0 | F16: =E16*D16 -> 0 | G16: =공종별내역서!H267 -> 0 | H16: =G16*D16 -> 0 | I16: =공종별내역서!J267 -> 0 | J16: =I16*D16 -> 0 | K16: =E16+G16+I16 -> 0 | L16: =F16+H16+J16 -> 0 | N16: 010110 | P16: 0101 | R16: 3
A17: 11.지붕및홈통공사 | D17: 1 | E17: =공종별내역서!F291 -> 0 | F17: =E17*D17 -> 0 | G17: =공종별내역서!H291 -> 0 | H17: =G17*D17 -> 0 | I17: =공종별내역서!J291 -> 0 | J17: =I17*D17 -> 0 | K17: =E17+G17+I17 -> 0 | L17: =F17+H17+J17 -> 0 | N17: 010111 | P17: 0101 | R17: 3
A18: 12.비가림시설설치 | D18: 1 | E18: =공종별내역서!F315 -> 0 | F18: =E18*D18 -> 0 | G18: =공종별내역서!H315 -> 0 | H18: =G18*D18 -> 0 | I18: =공종별내역서!J315 -> 0 | J18: =I18*D18 -> 0 | K18: =E18+G18+I18 -> 0 | L18: =F18+H18+J18 -> 0 | N18: 010112 | P18: 0101 | R18: 3
A19: 13.부 대 공 사 | D19: 1 | E19: =공종별내역서!F339 -> 0 | F19: =E19*D19 -> 0 | G19: =공종별내역서!H339 -> 0 | H19: =G19*D19 -> 0 | I19: =공종별내역서!J339 -> 0 | J19: =I19*D19 -> 0 | K19: =E19+G19+I19 -> 0 | L19: =F19+H19+J19 -> 0 | N19: 010113 | P19: 0101 | R19: 3
A20: 14.골재 및 운반비 | D20: 1 | E20: =공종별내역서!F363 -> 0 | F20: =E20*D20 -> 0 | G20: =공종별내역서!H363 -> 0 | H20: =G20*D20 -> 0 | I20: =공종별내역서!J363 -> 0 | J20: =I20*D20 -> 0 | K20: =E20+G20+I20 -> 0 | L20: =F20+H20+J20 -> 0 | N20: 010114 | P20: 0101 | R20: 3
A21: 15.관 급 자 재 비 | D21: 1 | E21: =공종별내역서!F387 -> 0 | F21: =E21*D21 -> 0 | G21: =공종별내역서!H387 -> 0 | H21: =G21*D21 -> 0 | I21: =공종별내역서!J387 -> 0 | J21: =I21*D21 -> 0 | K21: =E21+G21+I21 -> 0 | L21: =F21+H21+J21 -> 0 | N21: 010115 | Q21: 3 | R21: 3 | T21: =L21*1 -> 0
A22: ◈ 설비공사 ◈ | D22: 1 | E22: =공종별내역서!F411 -> 0 | F22: =E22*D22 -> 0 | G22: =공종별내역서!H411 -> 0 | H22: =G22*D22 -> 0 | I22: =공종별내역서!J411 -> 0 | J22: =I22*D22 -> 0 | K22: =E22+G22+I22 -> 0 | L22: =F22+H22+J22 -> 0 | N22: 0102 | P22: 01 | R22: 2
A23: 관급자재비(설비) | D23: 1 | E23: =공종별내역서!F435 -> 0 | F23: =E23*D23 -> 0 | G23: =공종별내역서!H435 -> 0 | H23: =G23*D23 -> 0 | I23: =공종별내역서!J435 -> 0 | J23: =I23*D23 -> 0 | K23: =E23+G23+I23 -> 0 | L23: =F23+H23+J23 -> 0 | N23: 010201 | Q23: 3 | R23: 3 | T23: =L23*1 -> 0
A24: ◈ 토목공사 ◈ | D24: 1 | E24: =공종별내역서!F459 -> 0 | F24: =E24*D24 -> 0 | G24: =공종별내역서!H459 -> 0 | H24: =G24*D24 -> 0 | I24: =공종별내역서!J459 -> 0 | J24: =I24*D24 -> 0 | K24: =E24+G24+I24 -> 0 | L24: =F24+H24+J24 -> 0 | N24: 0103 | P24: 01 | R24: 2
A25: 관급자재비(설비) | D25: 1 | E25: 0 | F25: =E25*D25 -> 0 | G25: 0 | H25: =G25*D25 -> 0 | I25: 0 | J25: =I25*D25 -> 0 | K25: =E25+G25+I25 -> 0 | L25: =F25+H25+J25 -> 0 | N25: 010201 | Q25: 3 | R25: 3 | T25: =L25*1 -> 0
A27: [ 합 계 ] | F27: =F5 -> 0 | H27: =H5 -> 0 | J27: =J5 -> 0 | L27: =L5 -> 0

Sheet 공종별내역서
A1: [ 국립생태원동물배후시설건립공사 ]
A2: 품 명 | B2: 규 격 | C2: 단위 | D2: 수량 | E2: 재 료 비 | G2: 노 무 비 | I2: 경 비 | K2: 합 계 | M2: 비 고 | N2: 품목코드 | O2: 변수 | P2: 설정 | Q2: 공종코드 | R2: 일위 | S2: 단산 | T2: 자재 | U2: 손료적용 | V2: 손료저장 | W2: 적용율 | X2: JUK1 | Y2: JUK2 | Z2: JUK3 | AA2: JUK4 | AB2: JUK5 | AC2: JUK6 | AD2: JUK7 | AE2: JUK8 | AF2: JUK9 | AG2: JUK10 | AH2: JUK11 | AI2: JUK12 | AJ2: JUK13 | AK2: JUK14 | AL2: JUK15 | AM2: JUK16 | AN2: JUK17 | AO2: JUK18 | AP2: JUK19 | AQ2: JUK20 | AR2: 자재구분 | AS2: 공종구분 | AT2: 공종레벨 | AU2: 공종+자재 | AV2: 고유번호
E3: 단 가 | F3: 금 액 | G3: 단 가 | H3: 금 액 | I3: 단 가 | J3: 금 액 | K3: 단 가 | L3: 금 액
A4: 1.가 설 공 사 | Q4: 010101
A5: 컨테이너형 가설건축물 - 사무실 | B5: 2.4*6.0*2.6m, 3개월 | C5: 개소 | D5: 1 | E5: 0 | F5: =TRUNC(E5*D5, 0) -> 0 | G5: 0 | H5: =TRUNC(G5*D5, 0) -> 0 | I5: 0 | J5: =TRUNC(I5*D5, 0) -> 0 | K5: =TRUNC(E5+G5+I5, 0) -> 0 | L5: =TRUNC(F5+H5+J5, 0) -> 0 | M5: 호표 1 | N5: 5F0CF57ACF05DBD765881512AA2D | Q5: 010101 | R5: T | S5: F | T5: F | AU5: 0101015F0CF57ACF05DBD765881512AA2D | AV5: 4
A6: 수평규준틀 | B6: 평 | C6: 개소 | D6: 10 | E6: 0 | F6: =TRUNC(E6*D6, 0) -> 0 | G6: 0 | H6: =TRUNC(G6*D6, 0) -> 0 | I6: 0 | J6: =TRUNC(I6*D6, 0) -> 0 | K6: =TRUNC(E6+G6+I6, 0) -> 0 | L6: =TRUNC(F6+H6+J6, 0) -> 0 | M6: 호표 2 | N6: 5F0CF57ACD052E436B9743159E2F | Q6: 010101 | R6: T | S6: F | T6: F | AU6: 0101015F0CF57ACD052E436B9743159E2F | AV6: 5
A7: 수평규준틀 | B7: 귀 | C7: 개소 | D7: 5 | E7: 0 | F7: =TRUNC(E7*D7, 0) -> 0 | G7: 0 | H7: =TRUNC(G7*D7, 0) -> 0 | I7: 0 | J7: =TRUNC(I7*D7, 0) -> 0 | K7: =TRUNC(E7+G7+I7, 0) -> 0 | L7: =TRUNC(F7+H7+J7, 0) -> 0 | M7: 호표 3 | N7: 5F0CF57ACD052E436B9743159D08 | Q7: 010101 | R7: T | S7: F | T7: F | AU7: 0101015F0CF57ACD052E436B9743159D08 | AV7: 6
A8: 강관동바리 설치 및 해체 | B8: 3개월, 5.0m이하, 2단보강 | C8: M2 | D8: 773.59 | E8: 0 | F8: =TRUNC(E8*D8, 0) -> 0 | G8: 0 | H8: =TRUNC(G8*D8, 0) -> 0 | I8: 0 | J8: =TRUNC(I8*D8, 0) -> 0 | K8: =TRUNC(E8+G8+I8, 0) -> 0 | L8: =TRUNC(F8+H8+J8, 0) -> 0 | M8: 호표 4 | N8: 5F0CF57ACD052E436BA1A918BC9A | Q8: 010101 | R8: T | S8: F | T8: F | AU8: 0101015F0CF57ACD052E436BA1A918BC9A | AV8: 140
A9: 강관비계(쌍줄) 설치 및 해체 | B9: 10m초과~20m이하 | C9: M2 | D9: 918.52 | E9: 0 | F9: =TRUNC(E9*D9, 0) -> 0 | G9: 0 | H9: =TRUNC(G9*D9, 0) -> 0 | I9: 0 | J9: =TRUNC(I9*D9, 0) -> 0 | K9: =TRUNC(E9+G9+I9, 0) -> 0 | L9: =TRUNC(F9+H9+J9, 0) -> 0 | M9: 호표 5 | N9: 5F0CF57ACD052E436BB218184511 | Q9: 010101 | R9: T | S9: F | T9: F | AU9: 0101015F0CF57ACD052E436BB218184511 | AV9: 141
A10: 강관비계다리-계단식 | B10: 3개월 | C10: M2 | D10: 59.28 | E10: 0 | F10: =TRUNC(E10*D10, 0) -> 0 | G10: 0 | H10: =TRUNC(G10*D10, 0) -> 0 | I10: 0 | J10: =TRUNC(I10*D10, 0) -> 0 | K10: =TRUNC(E10+G10+I10, 0) -> 0 | L10: =TRUNC(F10+H10+J10, 0) -> 0 | M10: 호표 6 | N10: 5F0CF57ACD052E436BB23B164257 | Q10: 010101 | R10: T | S10: F | T10: F | AU10: 0101015F0CF57ACD052E436BB23B164257 | AV10: 143
A11: 강관 조립말비계(이동식) | B11: 높이 2m, 3개월 | C11: 대 | D11: 6 | E11: 0 | F11: =TRUNC(E11*D11, 0) -> 0 | G11: 0 | H11: =TRUNC(G11*D11, 0) -> 0 | I11: 0 | J11: =TRUNC(I11*D11, 0) -> 0 | K11: =TRUNC(E11+G11+I11, 0) -> 0 | L11: =TRUNC(F11+H11+J11, 0) -> 0 | M11: 호표 7 | N11: 5F0CF57ACD052E436BB229116790 | Q11: 010101 | R11: T | S11: F | T11: F | AU11: 0101015F0CF57ACD052E436BB229116790 | AV11: 10
A12: CONC보양 | B12: 살수 | C12: M2 | D12: 859.54 | E12: 0 | F12: =TRUNC(E12*D12, 0) -> 0 | G12: 0 | H12: =TRUNC(G12*D12, 0) -> 0 | I12: 0 | J12: =TRUNC(I12*D12, 0) -> 0 | K12: =TRUNC(E12+G12+I12, 0) -> 0 | L12: =TRUNC(F12+H12+J12, 0) -> 0 | M12: 호표 8 | N12: 5F0CF57ACD052E436BDEFD1D95F5 | Q12: 010101 | R12: T | S12: F | T12: F | AU12: 0101015F0CF57ACD052E436BDEFD1D95F5 | AV12: 11
A13: 건축물현장정리 | B13: 철골조 | C13: M2 | D13: 859.54 | E13: 0 | F13: =TRUNC(E13*D13, 0) -> 0 | G13: 0 | H13: =TRUNC(G13*D13, 0) -> 0 | I13: 0 | J13: =TRUNC(I13*D13, 0) -> 0 | K13: =TRUNC(E13+G13+I13, 0) -> 0 | L13: =TRUNC(F13+H13+J13, 0) -> 0 | M13: 호표 9 | N13: 5F0CF57ACD052E436BDEE3166B33 | Q13: 010101 | R13: T | S13: F | T13: F | AU13: 0101015F0CF57ACD052E436BDEE3166B33 | AV13: 12
A14: 먹매김 | B14: 일반 | C14: M2 | D14: 859.54 | E14: 0 | F14: =TRUNC(E14*D14, 0) -> 0 | G14: 0 | H14: =TRUNC(G14*D14, 0) -> 0 | I14: 0 | J14: =TRUNC(I14*D14, 0) -> 0 | K14: =TRUNC(E14+G14+I14, 0) -> 0 | L14: =TRUNC(F14+H14+J14, 0) -> 0 | M14: 호표 10 | N14: 5F0CF57ACD052E436BEF6C1C97BB | Q14: 010101 | R14: T | S14: F | T14: F | AU14: 0101015F0CF57ACD052E436BEF6C1C97BB | AV14: 142
A27: [ 합 계 ] | F27: =SUM(F5:F26) -> 0 | H27: =SUM(H5:H26) -> 0 | J27: =SUM(J5:J26) -> 0 | L27: =SUM(L5:L26) -> 0 | N27: TOTAL
A28: 2.토 및 지정공사 | Q28: 010102
A29: 터파기 | B29: 토사(보통),백호0.7M3 | C29: M3 | D29: 436.92 | E29: 0 | F29: =TRUNC(E29*D29, 0) -> 0 | G29: 0 | H29: =TRUNC(G29*D29, 0) -> 0 | I29: 0 | J29: =TRUNC(I29*D29, 0) -> 0 | K29: =TRUNC(E29+G29+I29, 0) -> 0 | L29: =TRUNC(F29+H29+J29, 0) -> 0 | M29: 산근 1 | N29: 5F0CF57AC705857F6ADEDA1F2B5B | Q29: 010102 | R29: F | S29: T | T29: F | AU29: 0101025F0CF57AC705857F6ADEDA1F2B5B | AV29: 144
A30: 되메우기/토사, 두께 10cm | B30: 보통,유압식백호 0.7m3+콤팩터1.5톤 | C30: M3 | D30: 98.19 | E30: 0 | F30: =TRUNC(E30*D30, 0) -> 0 | G30: 0 | H30: =TRUNC(G30*D30, 0) -> 0 | I30: 0 | J30: =TRUNC(I30*D30, 0) -> 0 | K30: =TRUNC(E30+G30+I30, 0) -> 0 | L30: =TRUNC(F30+H30+J30, 0) -> 0 | M30: 산근 2 | N30: 5F0CF57AC70586016FC6961F6878 | Q30: 010102 | R30: F | S30: T | T30: F | AU30: 0101025F0CF57AC70586016FC6961F6878 | AV30: 145
A31: 토사처리 단지외30KM(보통) | B31: 담프 15톤 + 백호 0.7 | C31: M3 | D31: 406.48 | E31: 0 | F31: =TRUNC(E31*D31, 0) -> 0 | G31: 0 | H31: =TRUNC(G31*D31, 0) -> 0 | I31: 0 | J31: =TRUNC(I31*D31, 0) -> 0 | K31: =TRUNC(E31+G31+I31, 0) -> 0 | L31: =TRUNC(F31+H31+J31, 0) -> 0 | M31: 산근 3 | N31: 5F0CF57AC70586016FD75D193688 | Q31: 010102 | R31: F | S31: T | T31: F | AU31: 0101025F0CF57AC70586016FD75D193688 | AV31: 146
A32: 지반다지기 | B32: 콤펙트1.5톤 | C32: M2 | D32: 498.34 | E32: 0 | F32: =TRUNC(E32*D32, 0) -> 0 | G32: 0 | H32: =TRUNC(G32*D32, 0) -> 0 | I32: 0 | J32: =TRUNC(I32*D32, 0) -> 0 | K32: =TRUNC(E32+G32+I32, 0) -> 0 | L32: =TRUNC(F32+H32+J32, 0) -> 0 | M32: 호표 11 | N32: 5F0CF57ACD052E406E13A215B8A0 | Q32: 010102 | R32: T | S32: F | T32: F | AU32: 0101025F0CF57ACD052E406E13A215B8A0 | AV32: 16
A51: [ 합 계 ] | F51: =SUM(F29:F50) -> 0 | H51: =SUM(H29:H50) -> 0 | J51: =SUM(J29:J50) -> 0 | L51: =SUM(L29:L50) -> 0 | N51: TOTAL
A52: 3.철근콘크리트공사 | Q52: 010103
A53: 레미콘(관급) | B53: 25-24-15 | C53: M3 | D53: 707.84 | E53: 0 | F53: =TRUNC(E53*D53, 0) -> 0 | G53: 0 | H53: =TRUNC(G53*D53, 0) -> 0 | I53: 0 | J53: =TRUNC(I53*D53, 0) -> 0 | K53: =TRUNC(E53+G53+I53, 0) -> 0 | L53: =TRUNC(F53+H53+J53, 0) -> 0 | N53: 5F0CF572F905836A6E7AB113EF39 | Q53: 010103 | R53: F | S53: F | T53: T | AU53: 0101035F0CF572F905836A6E7AB113EF39 | AV53: 20
A54: 레미콘(관급) | B54: 25-18-08 | C54: M3 | D54: 27.18 | E54: 0 | F54: =TRUNC(E54*D54, 0) -> 0 | G54: 0 | H54: =TRUNC(G54*D54, 0) -> 0 | I54: 0 | J54: =TRUNC(I54*D54, 0) -> 0 | K54: =TRUNC(E54+G54+I54, 0) -> 0 | L54: =TRUNC(F54+H54+J54, 0) -> 0 | N54: 5F0CF572F905836A6E7AB113E6C3 | Q54: 010103 | R54: F | S54: F | T54: T | AU54: 0101035F0CF572F905836A6E7AB113E6C3 | AV54: 21
A55: 이형철근(관급) | B55: HD-10, SD350/400 | C55: TON | D55: 25.97 | E55: 0 | F55: =TRUNC(E55*D55, 0) -> 0 | G55: 0 | H55: =TRUNC(G55*D55, 0) -> 0 | I55: 0 | J55: =TRUNC(I55*D55, 0) -> 0 | K55: =TRUNC(E55+G55+I55, 0) -> 0 | L55: =TRUNC(F55+H55+J55, 0) -> 0 | M55: 별도 | N55: 5F0CF57BD505270A68D0F7187CD5 | Q55: 010103 | R55: F | S55: F | T55: T | AU55: 0101035F0CF57BD505270A68D0F7187CD5 | AV55: 135
A56: 이형철근(관급) | B56: HD-13, SD350/400 | C56: TON | D56: 9.92 | E56: 0 | F56: =TRUNC(E56*D56, 0) -> 0 | G56: 0 | H56: =TRUNC(G56*D56, 0) -> 0 | I56: 0 | J56: =TRUNC(I56*D56, 0) -> 0 | K56: =TRUNC(E56+G56+I56, 0) -> 0 | L56: =TRUNC(F56+H56+J56, 0) -> 0 | M56: 별도 | N56: 5F0CF57BD505270A68D0F7187FA9 | Q56: 010103 | R56: F | S56: F | T56: T | AU56: 0101035F0CF57BD505270A68D0F7187FA9 | AV56: 136
A57: 이형철근(관급) | B57: HD-16, SD350/400 | C57: TON | D57: 21.47 | E57: 0 | F57: =TRUNC(E57*D57, 0) -> 0 | G57: 0 | H57: =TRUNC(G57*D57, 0) -> 0 | I57: 0 | J57: =TRUNC(I57*D57, 0) -> 0 | K57: =TRUNC(E57+G57+I57, 0) -> 0 | L57: =TRUNC(F57+H57+J57, 0) -> 0 | M57: 별도 | N57: 5F0CF57BD505270A68D0F7187E80 | Q57: 010103 | R57: F | S57: F | T57: T | AU57: 0101035F0CF57BD505270A68D0F7187E80 | AV57: 137
A58: 이형철근(관급) | B58: HD-22, SD350/400 | C58: TON | D58: 10.25 | E58: 0 | F58: =TRUNC(E58*D58, 0) -> 0 | G58: 0 | H58: =TRUNC(G58*D58, 0) -> 0 | I58: 0 | J58: =TRUNC(I58*D58, 0) -> 0 | K58: =TRUNC(E58+G58+I58, 0) -> 0 | L58: =TRUNC(F58+H58+J58, 0) -> 0 | M58: 별도 | N58: 5F0CF57BD505270A68D0F7187878 | Q58: 010103 | R58: F | S58: F | T58: T | AU58: 0101035F0CF57BD505270A68D0F7187878 | AV58: 139
A59: 무근콘크리트타설/펌프카(21m) | B59: 슬럼프8∼12, 50m3미만[65~75] | C59: M3 | D59: 26.65 | E59: 0 | F59: =TRUNC(E59*D59, 0) -> 0 | G59: 0 | H59: =TRUNC(G59*D59, 0) -> 0 | I59: 0 | J59: =TRUNC(I59*D59, 0) -> 0 | K59: =TRUNC(E59+G59+I59, 0) -> 0 | L59: =TRUNC(F59+H59+J59, 0) -> 0 | M59: 호표 12 | N59: 5F0CF57ACD052E41688A4317AB9E | Q59: 010103 | R59: T | S59: F | T59: F | AU59: 0101035F0CF57ACD052E41688A4317AB9E | AV59: 26
A60: 철근콘크리트타설/펌프카(21m) | B60: 슬럼프15,300m3 이상[65~75] | C60: M3 | D60: 700.83 | E60: 0 | F60: =TRUNC(E60*D60, 0) -> 0 | G60: 0 | H60: =TRUNC(G60*D60, 0) -> 0 | I60: 0 | J60: =TRUNC(I60*D60, 0) -> 0 | K60: =TRUNC(E60+G60+I60, 0) -> 0 | L60: =TRUNC(F60+H60+J60, 0) -> 0 | M60: 호표 13 | N60: 5F0CF57ACD052E41688A6E10424A | Q60: 010103 | R60: T | S60: F | T60: F | AU60: 0101035F0CF57ACD052E41688A6E10424A | AV60: 27
A61: 철근 현장 가공 및 조립 | B61: 보통(미할증) | C61: TON | D61: 65.63 | E61: 0 | F61: =TRUNC(E61*D61, 0) -> 0 | G61: 0 | H61: =TRUNC(G61*D61, 0) -> 0 | I61: 0 | J61: =TRUNC(I61*D61, 0) -> 0 | K61: =TRUNC(E61+G61+I61, 0) -> 0 | L61: =TRUNC(F61+H61+J61, 0) -> 0 | M61: 호표 14 | N61: 5F0CF57ACD052E4168D2671066BE | Q61: 010103 | R61: T | S61: F | T61: F | AU61: 0101035F0CF57ACD052E4168D2671066BE | AV61: 28
A62: 합판 거푸집 설치 및 해체 | B62: 4회 사용시, 0~7m까지 | C62: M2 | D62: 935.76 | E62: 0 | F62: =TRUNC(E62*D62, 0) -> 0 | G62: 0 | H62: =TRUNC(G62*D62, 0) -> 0 | I62: 0 | J62: =TRUNC(I62*D62, 0) -> 0 | K62: =TRUNC(E62+G62+I62, 0) -> 0 | L62: =TRUNC(F62+H62+J62, 0) -> 0 | M62: 호표 15 | N62: 5F0CF57ACD052E4168C1E7158AD6 | Q62: 010103 | R62: T | S62: F | T62: F | AU62: 0101035F0CF57ACD052E4168C1E7158AD6 | AV62: 29
A63: 유로폼 설치 및 해체 | B63: 벽, 0~7m까지 | C63: M2 | D63: 2843.91 | E63: 0 | F63: =TRUNC(E63*D63, 0) -> 0 | G63: 0 | H63: =TRUNC(G63*D63, 0) -> 0 | I63: 0 | J63: =TRUNC(I63*D63, 0) -> 0 | K63: =TRUNC(E63+G63+I63, 0) -> 0 | L63: =TRUNC(F63+H63+J63, 0) -> 0 | M63: 호표 16 | N63: 5F0CF57ACD052E4168C1A91E99B1 | Q63: 010103 | R63: T | S63: F | T63: F | AU63: 0101035F0CF57ACD052E4168C1A91E99B1 | AV63: 30
A64: 강설 | B64: 고철, 작업설부산물 | C64: TON | D64: -1.41 | E64: 0 | F64: =TRUNC(E64*D64, 0) -> 0 | G64: 0 | H64: =TRUNC(G64*D64, 0) -> 0 | I64: 0 | J64: =TRUNC(I64*D64, 0) -> 0 | K64: =TRUNC(E64+G64+I64, 0) -> 0 | L64: =TRUNC(F64+H64+J64, 0) -> 0 | M64: 수집상차도 | N64: 5FCFC5C7FA0519026371C417BDA3 | Q64: 010103 | R64: F | S64: F | T64: T | AU64: 0101035FCFC5C7FA0519026371C417BDA3 | AV64: 175
A75: [ 합 계 ] | F75: =SUM(F53:F74) -> 0 | H75: =SUM(H53:H74) -> 0 | J75: =SUM(J53:J74) -> 0 | L75: =SUM(L53:L74) -> 0 | N75: TOTAL
A76: 4.방 수 공 사 | Q76: 010104
A77: 에폭시페인트 | B77: 3mm | C77: M2 | D77: 49.05 | E77: 0 | F77: =TRUNC(E77*D77, 0) -> 0 | G77: 0 | H77: =TRUNC(G77*D77, 0) -> 0 | I77: 0 | J77: =TRUNC(I77*D77, 0) -> 0 | K77: =TRUNC(E77+G77+I77, 0) -> 0 | L77: =TRUNC(F77+H77+J77, 0) -> 0 | N77: 5F0CF5777A0536BA6026E51DE8A7 | Q77: 010104 | R77: F | S77: F | T77: T | AU77: 0101045F0CF5777A0536BA6026E51DE8A7 | AV77: 32
A78: 바탕만들기+에폭시 코팅 | B78: 바닥, 롤러칠 | C78: M2 | D78: 49.05 | E78: 0 | F78: =TRUNC(E78*D78, 0) -> 0 | G78: 0 | H78: =TRUNC(G78*D78, 0) -> 0 | I78: 0 | J78: =TRUNC(I78*D78, 0) -> 0 | K78: =TRUNC(E78+G78+I78, 0) -> 0 | L78: =TRUNC(F78+H78+J78, 0) -> 0 | M78: 호표 17 | N78: 5F0CF57ACD0529C7686B0810024E | Q78: 010104 | R78: T | S78: F | T78: F | AU78: 0101045F0CF57ACD0529C7686B0810024E | AV78: 171
A79: 시멘트 액체방수 | B79: 바닥, 1종 | C79: M2 | D79: 621.9 | E79: 0 | F79: =TRUNC(E79*D79, 0) -> 0 | G79: 0 | H79: =TRUNC(G79*D79, 0) -> 0 | I79: 0 | J79: =TRUNC(I79*D79, 0) -> 0 | K79: =TRUNC(E79+G79+I79, 0) -> 0 | L79: =TRUNC(F79+H79+J79, 0) -> 0 | M79: 호표 18 | N79: 5F0CF57ACD052F696B873F137B9F | Q79: 010104 | R79: T | S79: F | T79: F | AU79: 0101045F0CF57ACD052F696B873F137B9F | AV79: 33
A80: 시멘트 액체방수 | B80: 벽, 2종 | C80: M2 | D80: 14.82 | E80: 0 | F80: =TRUNC(E80*D80, 0) -> 0 | G80: 0 | H80: =TRUNC(G80*D80, 0) -> 0 | I80: 0 | J80: =TRUNC(I80*D80, 0) -> 0 | K80: =TRUNC(E80+G80+I80, 0) -> 0 | L80: =TRUNC(F80+H80+J80, 0) -> 0 | M80: 호표 19 | N80: 5F0CF57ACD052F696B873F16CF9D | Q80: 010104 | R80: T | S80: F | T80: F | AU80: 0101045F0CF57ACD052F696B873F16CF9D | AV80: 34
...

Sheet 토목내역서총괄표
B1: 내역서총괄표
B3: 공종 | C3: 품 명 | D3: 규 격 | E3: 수 량 | F3: 단위 | G3: 합 계 | H3: 노무비 | I3: 재료비 | J3: 경 비 | K3: 비 고
B4: 1. | C4: 토공 | G4: =TEXT(H4+I4+J4,"#,##0") -> 0 | H4: =[1]내역서!J5 -> 0 | I4: =[1]내역서!L5 -> 0 | J4: =[1]내역서!N5 -> 0
B5: 1.1 | C5: 기존구조물깨기 | G5: =TEXT(H5+I5+J5,"#,##0") -> 0 | H5: =[1]내역서!J6 -> 0 | I5: =[1]내역서!L6 -> 0 | J5: =[1]내역서!N6 -> 0
B6: 1.2 | C6: 토공 | G6: =TEXT(H6+I6+J6,"#,##0") -> 0 | H6: =[1]내역서!J13 -> 0 | I6: =[1]내역서!L13 -> 0 | J6: =[1]내역서!N13 -> 0
B7: 2. | C7: 상수도공 | G7: =TEXT(H7+I7+J7,"#,##0") -> 0 | H7: =[1]내역서!J19 -> 0 | I7: =[1]내역서!L19 -> 0 | J7: =[1]내역서!N19 -> 0
B8: 2.1 | C8: 상수도관부설 | G8: =TEXT(H8+I8+J8,"#,##0") -> 0 | H8: =[1]내역서!J20 -> 0 | I8: =[1]내역서!L20 -> 0 | J8: =[1]내역서!N20 -> 0
B9: 2.2 | C9: 격점접합 | G9: =TEXT(H9+I9+J9,"#,##0") -> 0 | H9: =[1]내역서!J24 -> 0 | I9: =[1]내역서!L24 -> 0 | J9: =[1]내역서!N24 -> 0
B10: 2.3 | C10: 지수밸브 | G10: =TEXT(H10+I10+J10,"#,##0") -> 0 | H10: =[1]내역서!J29 -> 0 | I10: =[1]내역서!L29 -> 0 | J10: =[1]내역서!N29 -> 0
B11: 2.4 | C11: 밸브실설치 | G11: =TEXT(H11+I11+J11,"#,##0") -> 0 | H11: =[1]내역서!J31 -> 0 | I11: =[1]내역서!L31 -> 0 | J11: =[1]내역서!N31 -> 0
B12: 3. | C12: 배수공 | G12: =TEXT(H12+I12+J12,"#,##0") -> 0 | H12: =[1]내역서!J34 -> 0 | I12: =[1]내역서!L34 -> 0 | J12: =[1]내역서!N34 -> 0
B13: 3.1 | C13: 벤치플륨관부설 | G13: =TEXT(H13+I13+J13,"#,##0") -> 0 | H13: =[1]내역서!J35 -> 0 | I13: =[1]내역서!L35 -> 0 | J13: =[1]내역서!N35 -> 0
B14: 3.3 | C14: 흄관부설 | G14: =TEXT(H14+I14+J14,"#,##0") -> 0 | H14: =[1]내역서!J37 -> 0 | I14: =[1]내역서!L37 -> 0 | J14: =[1]내역서!N37 -> 0
B15: 3.4 | C15: 오수관부설 | G15: =TEXT(H15+I15+J15,"#,##0") -> 0 | H15: =[1]내역서!J42 -> 0 | I15: =[1]내역서!L42 -> 0 | J15: =[1]내역서!N42 -> 0
B16: 3.5 | C16: 집수정설치 | G16: =TEXT(H16+I16+J16,"#,##0") -> 0 | H16: =[1]내역서!J45 -> 0 | I16: =[1]내역서!L45 -> 0 | J16: =[1]내역서!N45 -> 0
B17: 3.6 | C17: 오수맨홀 | G17: =TEXT(H17+I17+J17,"#,##0") -> 0 | H17: =[1]내역서!J47 -> 0 | I17: =[1]내역서!L47 -> 0 | J17: =[1]내역서!N47 -> 0
B18: 3.7 | C18: L형측구 | G18: =TEXT(H18+I18+J18,"#,##0") -> 0 | H18: =[1]내역서!J50 -> 0 | I18: =[1]내역서!L50 -> 0 | J18: =[1]내역서!N50 -> 0
B19: 4. | C19: 포장공 | G19: =TEXT(H19+I19+J19,"#,##0") -> 0 | H19: =[1]내역서!J53 -> 0 | I19: =[1]내역서!L53 -> 0 | J19: =[1]내역서!N53 -> 0
B20: 4.1 | C20: 콘크리트포장 | G20: =TEXT(H20+I20+J20,"#,##0") -> 0 | H20: =[1]내역서!J54 -> 0 | I20: =[1]내역서!L54 -> 0 | J20: =[1]내역서!N54 -> 0
B21: 4.2 | C21: 아스콘포장 | G21: =TEXT(H21+I21+J21,"#,##0") -> 0 | H21: =[1]내역서!J58 -> 0 | I21: =[1]내역서!L58 -> 0 | J21: =[1]내역서!N58 -> 0
B22: 5. | C22: 호안공 | G22: =TEXT(H22+I22+J22,"#,##0") -> 0 | H22: =[1]내역서!J66 -> 0 | I22: =[1]내역서!L66 -> 0 | J22: =[1]내역서!N66 -> 0
B23: 5.1 | C23: 전석쌓기 | G23: =TEXT(H23+I23+J23,"#,##0") -> 0 | H23: =[1]내역서!J67 -> 0 | I23: =[1]내역서!L67 -> 0 | J23: =[1]내역서!N67 -> 0
B24: 6. | C24: 부대공 | G24: =TEXT(H24+I24+J24,"#,##0") -> 0 | H24: =[1]내역서!J72 -> 0 | I24: =[1]내역서!L72 -> 0 | J24: =[1]내역서!N72 -> 0
B25: 7. | C25: *사급자재대 | G25: =TEXT(H25+I25+J25,"#,##0") -> 0 | H25: =[1]내역서!J90 -> 0 | I25: =[1]내역서!L90 -> 0 | J25: =[1]내역서!N90 -> 0
C26: 순 공 사 비 | G26: =TEXT(H26+I26+J26,"#,##0") -> 0 | H26: =[1]내역서!J120 -> 0 | I26: =[1]내역서!L120 -> 0 | J26: =[1]내역서!N120 -> 0

Sheet 내역서
B1: 내역서
B3: 공종 | C3: 품 명 | D3: 규 격 | E3: 수 량 | F3: 단위 | G3: 합 계 | I3: 노무비 | K3: 재료비 | M3: 경 비 | O3: 비 고
G4: 단 가 | H4: 금 액 | I4: 단 가 | J4: 금 액 | K4: 단 가 | L4: 금 액 | M4: 단 가 | N4: 금 액
B5: 1. | C5: 토공
B6: 1.1 | C6: 기존구조물깨기
C7: 아스팔트포장절단 | D7: 기계 | E7: 49 | F7: M | O7: 단산1참조
C8: 무근콘크리트깨기 | D8: T=30cm미만(백호0.7㎥) | E8: 3 | F8: ㎥ | O8: 단산2참조
C9: 콘크리트포장깨기 | D9: 백호0.7㎥ | E9: 3 | F9: ㎥ | O9: 단산3참조
C10: 아스팔트포장깨기 | D10: 백호0.7㎥ | E10: 7 | F10: ㎥ | O10: 단산4참조
C11: 석축헐기(메쌓기) | D11: 기계 | E11: 21 | F11: ㎡ | O11: 단산5참조
C12: 폐기물상차 | D12: 백호0.7㎥ | E12: 13 | F12: ㎥ | O12: 단산6참조
B13: 1.2 | C13: 토공
C14: 구조물터파기 | D14: 육상토사(1∼2m) | E14: 1174 | F14: ㎥ | O14: 단산7참조
C15: 되메우기및다짐(콤팩터) | D15: 백호0.7㎥(100%) | E15: 88 | F15: ㎥ | O15: 단산8참조
C16: 사토운반 | D16: 백호0.7+덤프15Ton | E16: 1086 | F16: ㎥ | O16: 단산9참조
C17: 초류종자살포 | D17: 씨드스프레이 | E17: 75 | F17: ㎡ | O17: 단산10참조
B19: 2. | C19: 상수도공
B20: 2.1 | C20: 상수도관부설
C21: PE상수도관부설 | D21: Φ32(25)mm | E21: 47 | F21: m | O21: 단산11참조
C22: 관로표시테이프설치 | D22: B=20Cm | E22: 47 | F22: m | O22: 일위1참조
C23: 표시못 설치 | D23: 도로구간(인도포함) | E23: 9 | F23: 개소 | O23: 단산12참조
B24: 2.2 | C24: 격점접합
C25: 부단수 천공 새들분수전 분기점 분기 | D25: 본관:50mm,지관:25~32mm | E25: 2 | F25: 개소 | O25: 일위2참조
C26: 나사조임식이음관접합 | D26: Φ32(25)mm | E26: 4 | F26: 개소 | O26: 단산13참조
C27: PE이형관접합 | D27: Φ32(25)mm | E27: 12 | F27: 개소 | O27: 단산14참조
C28: 관절단(PE) | D28: D=32(25)mm | E28: 6 | F28: 개소 | O28: 일위3참조
B29: 2.3 | C29: 지수밸브
C30: 지수밸브설치 | D30: D25mm | E30: 2 | F30: 개소 | O30: 단산15참조
B31: 2.4 | C31: 밸브실설치
C32: 밸브실설치 | D32: 600×600×1000 | E32: 1 | F32: 개소 | O32: 일위4참조
B34: 3. | C34: 배수공
B35: 3.1 | C35: 벤치플륨관부설
C36: 벤치플륨관설치 | D36: 300×300 | E36: 76 | F36: M | O36: 단산18참조
B37: 3.3 | C37: 흄관부설
C38: 흄관부설및접합(고무링접합) | D38: D=300mm | E38: 25 | F38: M | O38: 일위6참조
C39: 흄관부설및접합(고무링접합) | D39: D=400mm | E39: 21.5 | F39: M | O39: 일위7참조
C40: 흄관부설및접합(고무링접합) | D40: D=600mm | E40: 12.5 | F40: M | O40: 일위8참조
C41: 관로표시테이프설치 | D41: B=20Cm | E41: 59 | F41: m | O41: 일위1참조
B42: 3.4 | C42: 오수관부설
C43: 내충격하수관접합및부설 | D43: D200 | E43: 46 | F43: m | O43: 일위9참조
...

Sheet 기계공종별집계표
A1: 공 종 별 집 계 표
A2: [ 국립생태원 동물배후시설 건립공사(기계) ]
A3: 품 명 | B3: 규 격 | C3: 단위 | D3: 수량 | E3: 재 료 비 | G3: 노 무 비 | I3: 경 비 | K3: 합 계 | M3: 비 고 | N3: 공종코드 | O3: 변수 | P3: 상위공종 | Q3: 공종구분 | R3: 공종레벨 | S3: 공종소계 | T3: 원가계산서 연결금액
E4: 단 가 | F4: 금 액 | G4: 단 가 | H4: 금 액 | I4: 단 가 | J4: 금 액 | K4: 단 가 | L4: 금 액
A5: 01 국립생태원 동물배후시설 건립공사(기계) | D5: 1 | E5: =F6+F7+F8+F9+F10 -> 0 | F5: =E5*D5 -> 0 | G5: =H6+H7+H8+H9+H10 -> 0 | H5: =G5*D5 -> 0 | I5: =J6+J7+J8+J9+J10 -> 0 | J5: =I5*D5 -> 0 | K5: =E5+G5+I5 -> 0 | L5: =F5+H5+J5 -> 0 | N5: 01 | R5: 1
A6: 0101 장비및위생기구설치공사 | D6: 1 | E6: =[2]공종별내역서!F26 -> 0 | F6: =E6*D6 -> 0 | G6: =[2]공종별내역서!H26 -> 0 | H6: =G6*D6 -> 0 | I6: =[2]공종별내역서!J26 -> 0 | J6: =I6*D6 -> 0 | K6: =E6+G6+I6 -> 0 | L6: =F6+H6+J6 -> 0 | N6: 0101 | P6: 01 | R6: 2
A7: 0102 옥외위생배관공사 | D7: 1 | E7: =[2]공종별내역서!F49 -> 0 | F7: =E7*D7 -> 0 | G7: =[2]공종별내역서!H49 -> 0 | H7: =G7*D7 -> 0 | I7: =[2]공종별내역서!J49 -> 0 | J7: =I7*D7 -> 0 | K7: =E7+G7+I7 -> 0 | L7: =F7+H7+J7 -> 0 | N7: 0102 | P7: 01 | R7: 2
A8: 0103 급수급탕배관공사 | D8: 1 | E8: =[2]공종별내역서!F118 -> 0 | F8: =E8*D8 -> 0 | G8: =[2]공종별내역서!H118 -> 0 | H8: =G8*D8 -> 0 | I8: =[2]공종별내역서!J118 -> 0 | J8: =I8*D8 -> 0 | K8: =E8+G8+I8 -> 0 | L8: =F8+H8+J8 -> 0 | N8: 0103 | P8: 01 | R8: 2
A9: 0104 배수배관공사 | D9: 1 | E9: =[2]공종별내역서!F141 -> 0 | F9: =E9*D9 -> 0 | G9: =[2]공종별내역서!H141 -> 0 | H9: =G9*D9 -> 0 | I9: =[2]공종별내역서!J141 -> 0 | J9: =I9*D9 -> 0 | K9: =E9+G9+I9 -> 0 | L9: =F9+H9+J9 -> 0 | N9: 0104 | P9: 01 | R9: 2
A10: 0105 환기덕트공사 | D10: 1 | E10: =[2]공종별내역서!F187 -> 0 | F10: =E10*D10 -> 0 | G10: =[2]공종별내역서!H187 -> 0 | H10: =G10*D10 -> 0 | I10: =[2]공종별내역서!J187 -> 0 | J10: =I10*D10 -> 0 | K10: =E10+G10+I10 -> 0 | L10: =F10+H10+J10 -> 0 | N10: 0105 | P10: 01 | R10: 2
A11: 0106 관급자재 | D11: 1 | E11: =F13+F12 -> 0 | F11: =E11*D11 -> 0 | G11: =H13 -> 0 | H11: =G11*D11 -> 0 | I11: =J13 -> 0 | J11: =I11*D11 -> 0 | K11: =E11+G11+I11 -> 0 | L11: =F11+H11+J11 -> 0 | N11: 0107 | Q11: 3 | R11: 2 | T11: =L11*1 -> 0
A12: 010601 냉난방기설치공사 | D12: 1 | E12: =[2]공종별내역서!F233 -> 0 | F12: =E12*D12 -> 0 | G12: =[2]공종별내역서!H255 -> 0 | H12: =G12*D12 -> 0 | I12: =[2]공종별내역서!J255 -> 0 | J12: =I12*D12 -> 0 | K12: =E12+G12+I12 -> 0 | L12: =F12+H12+J12 -> 0 | N12: 010701 | P12: 0107 | R12: 3
A13: 010602 바닥전기난방 | D13: 1 | E13: =[2]공종별내역서!F256 -> 0 | F13: =E13*D13 -> 0 | G13: =[2]공종별내역서!H256 -> 0 | H13: =G13*D13 -> 0 | I13: =[2]공종별내역서!J256 -> 0 | J13: =I13*D13 -> 0 | K13: =E13+G13+I13 -> 0 | L13: =F13+H13+J13 -> 0 | N13: 010701 | P13: 0107 | R13: 3
A26: [ 합 계 ] | F26: =F5 -> 0 | H26: =H5 -> 0 | J26: =J5 -> 0 | L26: =L5 -> 0

Sheet 기계내역서
A1: [ 국립생태원 동물배후시설 건립공사(기계) ]
A2: 품 명 | B2: 규 격 | C2: 단위 | D2: 수량 | E2: 재 료 비 | G2: 노 무 비 | I2: 경 비 | K2: 합 계 | M2: 비 고 | N2: 품목코드 | O2: 변수 | P2: 설정 | Q2: 공종코드 | R2: 일위 | S2: 단산 | T2: 자재 | U2: 손료적용 | V2: 손료저장 | W2: 적용율 | X2: JUK1 | Y2: JUK2 | Z2: JUK3 | AA2: JUK4 | AB2: JUK5 | AC2: JUK6 | AD2: JUK7 | AE2: JUK8 | AF2: JUK9 | AG2: JUK10 | AH2: JUK11 | AI2: JUK12 | AJ2: JUK13 | AK2: JUK14 | AL2: JUK15 | AM2: JUK16 | AN2: JUK17 | AO2: JUK18 | AP2: JUK19 | AQ2: JUK20 | AR2: 자재구분 | AS2: 공종구분 | AT2: 공종레벨 | AU2: 공종+자재 | AV2: 고유번호
E3: 단 가 | F3: 금 액 | G3: 단 가 | H3: 금 액 | I3: 단 가 | J3: 금 액 | K3: 단 가 | L3: 금 액
A4: 0101 장비및위생기구설치공사 | Q4: 0101
A5: 천장형배기휀 | B5: 540CMH*33W | C5: 대 | D5: 2 | F5: =TRUNC(E5*D5, 0) -> 0 | H5: =TRUNC(G5*D5, 0) -> 0 | J5: =TRUNC(I5*D5, 0) -> 0 | K5: =TRUNC(E5+G5+I5, 0) -> 0 | L5: =TRUNC(F5+H5+J5, 0) -> 0 | N5: 51BA7163835E7AD85D90484BF2386DF39A6D60 | Q5: 0101 | R5: F | S5: F | T5: T | AU5: 010151BA7163835E7AD85D90484BF2386DF39A6D60 | AV5: 4
A6: 천장형배기휀 | B6: 840CMH*37W | C6: 대 | D6: 10 | F6: =TRUNC(E6*D6, 0) -> 0 | H6: =TRUNC(G6*D6, 0) -> 0 | J6: =TRUNC(I6*D6, 0) -> 0 | K6: =TRUNC(E6+G6+I6, 0) -> 0 | L6: =TRUNC(F6+H6+J6, 0) -> 0 | N6: 51BA7163835E7AD85D90484BF2386DF39A6D63 | Q6: 0101 | R6: F | S6: F | T6: T | AU6: 010151BA7163835E7AD85D90484BF2386DF39A6D63 | AV6: 5
A7: 천장형배기휀 | B7: 1080CMH*45W | C7: 대 | D7: 15 | F7: =TRUNC(E7*D7, 0) -> 0 | H7: =TRUNC(G7*D7, 0) -> 0 | J7: =TRUNC(I7*D7, 0) -> 0 | K7: =TRUNC(E7+G7+I7, 0) -> 0 | L7: =TRUNC(F7+H7+J7, 0) -> 0 | N7: 51BA7163835E7AD85D90484BF2386DF39A6D62 | Q7: 0101 | R7: F | S7: F | T7: T | AU7: 010151BA7163835E7AD85D90484BF2386DF39A6D62 | AV7: 6
A8: 수도꼭지(카프링수전) | B8: D15 | C8: 개 | D8: 48 | F8: =TRUNC(E8*D8, 0) -> 0 | H8: =TRUNC(G8*D8, 0) -> 0 | J8: =TRUNC(I8*D8, 0) -> 0 | K8: =TRUNC(E8+G8+I8, 0) -> 0 | L8: =TRUNC(F8+H8+J8, 0) -> 0 | N8: 5726516247247E08528045FE14FB5DC579D571 | Q8: 0101 | R8: F | S8: F | T8: T | AU8: 01015726516247247E08528045FE14FB5DC579D571 | AV8: 3
A9: 보통인부 | B9: 일반공사 직종 | C9: 인 | F9: =TRUNC(E9*D9, 0) -> 0 | H9: =TRUNC(G9*D9, 0) -> 0 | J9: =TRUNC(I9*D9, 0) -> 0 | K9: =TRUNC(E9+G9+I9, 0) -> 0 | L9: =TRUNC(F9+H9+J9, 0) -> 0 | N9: 50D7C16242697636ADD0424BF93D302DDCBE72 | Q9: 0101 | R9: F | S9: F | T9: T | X9: 1 | AU9: 010150D7C16242697636ADD0424BF93D302DDCBE72 | AV9: 7
A10: 위생공 | B10: 일반공사 직종 | C10: 인 | F10: =TRUNC(E10*D10, 0) -> 0 | H10: =TRUNC(G10*D10, 0) -> 0 | J10: =TRUNC(I10*D10, 0) -> 0 | K10: =TRUNC(E10+G10+I10, 0) -> 0 | L10: =TRUNC(F10+H10+J10, 0) -> 0 | N10: 50D7C16242697636ADD0424BF93D302DDCBA97 | Q10: 0101 | R10: F | S10: F | T10: T | X10: 1 | AU10: 010150D7C16242697636ADD0424BF93D302DDCBA97 | AV10: 8
A11: 기계설비공 | B11: 일반공사 직종 | C11: 인 | F11: =TRUNC(E11*D11, 0) -> 0 | H11: =TRUNC(G11*D11, 0) -> 0 | J11: =TRUNC(I11*D11, 0) -> 0 | K11: =TRUNC(E11+G11+I11, 0) -> 0 | L11: =TRUNC(F11+H11+J11, 0) -> 0 | N11: 50D7C16242697636ADD0424BF93D302DDCBBBA | Q11: 0101 | R11: F | S11: F | T11: T | X11: 1 | AU11: 010150D7C16242697636ADD0424BF93D302DDCBBBA | AV11: 9
A12: 공구손료 | B12: 인력품의 3% | C12: 식 | D12: 1 | E12: 0 | F12: =TRUNC(E12*D12, 0) -> 0 | G12: 0 | H12: =TRUNC(G12*D12, 0) -> 0 | I12: 0 | J12: =TRUNC(I12*D12, 0) -> 0 | K12: =TRUNC(E12+G12+I12, 0) -> 0 | L12: =TRUNC(F12+H12+J12, 0) -> 0 | N12: 511B7161F4A67B4820F04626031F001 | Q12: 0101 | R12: F | S12: F | T12: F | AU12: 0101511B7161F4A67B4820F04626031F001 | AV12: 199
A26: [ 합 계 ] | F26: =SUM(F5:F25) -> 0 | H26: =SUM(H5:H25) -> 0 | J26: =SUM(J5:J25) -> 0 | L26: =SUM(L5:L25) -> 0 | N26: TOTAL
A27: 0102 옥외위생배관공사 | Q27: 0102
A28: 배관용스테인리스강관(SCH#10) | B28: D50 | C28: m | D28: 17 | F28: =TRUNC(E28*D28, 0) -> 0 | H28: =TRUNC(G28*D28, 0) -> 0 | J28: =TRUNC(I28*D28, 0) -> 0 | K28: =TRUNC(E28+G28+I28, 0) -> 0 | L28: =TRUNC(F28+H28+J28, 0) -> 0 | N28: 57539168563773A7B1C04D6BBCDB6C35028936 | Q28: 0102 | R28: F | S28: F | T28: T | X28: 1 | AU28: 010257539168563773A7B1C04D6BBCDB6C35028936 | AV28: 11
A29: 일반용경질폴리염화비닐관 | B29: PVC(VG1), D100mm | C29: m | D29: 2 | F29: =TRUNC(E29*D29, 0) -> 0 | H29: =TRUNC(G29*D29, 0) -> 0 | J29: =TRUNC(I29*D29, 0) -> 0 | K29: =TRUNC(E29+G29+I29, 0) -> 0 | L29: =TRUNC(F29+H29+J29, 0) -> 0 | N29: 57539168563773A7B8704C9A4C8674F45EA7FF | Q29: 0102 | R29: F | S29: F | T29: T | X29: 1 | AU29: 010257539168563773A7B8704C9A4C8674F45EA7FF | AV29: 12
A30: 일반용경질폴리염화비닐관 | B30: PVC(VG1), D150mm | C30: m | D30: 26 | F30: =TRUNC(E30*D30, 0) -> 0 | H30: =TRUNC(G30*D30, 0) -> 0 | J30: =TRUNC(I30*D30, 0) -> 0 | K30: =TRUNC(E30+G30+I30, 0) -> 0 | L30: =TRUNC(F30+H30+J30, 0) -> 0 | N30: 57539168563773A7B8704C9A4C8674F45EA7F3 | Q30: 0102 | R30: F | S30: F | T30: T | X30: 1 | AU30: 010257539168563773A7B8704C9A4C8674F45EA7F3 | AV30: 13
A31: 잡재료비 | B31: 주재료비의 3% | C31: 식 | D31: 1 | F31: =TRUNC(E31*D31, 0) -> 0 | H31: =TRUNC(G31*D31, 0) -> 0 | J31: =TRUNC(I31*D31, 0) -> 0 | K31: =TRUNC(E31+G31+I31, 0) -> 0 | L31: =TRUNC(F31+H31+J31, 0) -> 0 | N31: 511B7161F4A67B4820F04626031F001 | Q31: 0102 | R31: F | S31: F | T31: F | AU31: 0102511B7161F4A67B4820F04626031F001 | AV31: 200
A32: 경질폴리염화비닐이음관 | B32: Φ150mm, 90˚단곡관(DTS) | C32: 개 | D32: 3 | F32: =TRUNC(E32*D32, 0) -> 0 | H32: =TRUNC(G32*D32, 0) -> 0 | J32: =TRUNC(I32*D32, 0) -> 0 | K32: =TRUNC(E32+G32+I32, 0) -> 0 | L32: =TRUNC(F32+H32+J32, 0) -> 0 | N32: 57539168563773A58B00436CFEFFC613616F5B | Q32: 0102 | R32: F | S32: F | T32: T | AU32: 010257539168563773A58B00436CFEFFC613616F5B | AV32: 14
A33: 경질폴리염화비닐이음관 | B33: Φ150mm, PVC소켓, DTS | C33: 개 | D33: 5 | F33: =TRUNC(E33*D33, 0) -> 0 | H33: =TRUNC(G33*D33, 0) -> 0 | J33: =TRUNC(I33*D33, 0) -> 0 | K33: =TRUNC(E33+G33+I33, 0) -> 0 | L33: =TRUNC(F33+H33+J33, 0) -> 0 | N33: 57539168563773A58B00436CFEFFC6136205AB | Q33: 0102 | R33: F | S33: F | T33: T | AU33: 010257539168563773A58B00436CFEFFC6136205AB | AV33: 15
A34: 경질폴리염화비닐이음관 | B34: Φ150×Φ150mm, PVC YT관, DTS | C34: 개 | D34: 3 | F34: =TRUNC(E34*D34, 0) -> 0 | H34: =TRUNC(G34*D34, 0) -> 0 | J34: =TRUNC(I34*D34, 0) -> 0 | K34: =TRUNC(E34+G34+I34, 0) -> 0 | L34: =TRUNC(F34+H34+J34, 0) -> 0 | N34: 57539168563773A58B00436CFEFFC6125DCA6A | Q34: 0102 | R34: F | S34: F | T34: T | AU34: 010257539168563773A58B00436CFEFFC6125DCA6A | AV34: 16
A35: 경질폴리염화비닐이음관 | B35: Φ150×Φ100mm, PVC YT관, DTS | C35: 개 | D35: 2 | F35: =TRUNC(E35*D35, 0) -> 0 | H35: =TRUNC(G35*D35, 0) -> 0 | J35: =TRUNC(I35*D35, 0) -> 0 | K35: =TRUNC(E35+G35+I35, 0) -> 0 | L35: =TRUNC(F35+H35+J35, 0) -> 0 | N35: 57539168563773A58B00436CFEFFC6125DCA6F | Q35: 0102 | R35: F | S35: F | T35: T | AU35: 010257539168563773A58B00436CFEFFC6125DCA6F | AV35: 17
A36: 경질폴리염화비닐이음관 | B36: Φ150mm, PVC C.O., DTS | C36: 개 | D36: 2 | F36: =TRUNC(E36*D36, 0) -> 0 | H36: =TRUNC(G36*D36, 0) -> 0 | J36: =TRUNC(I36*D36, 0) -> 0 | K36: =TRUNC(E36+G36+I36, 0) -> 0 | L36: =TRUNC(F36+H36+J36, 0) -> 0 | N36: 57539168563773A58B00436CFEFFC6125FF6B0 | Q36: 0102 | R36: F | S36: F | T36: T | AU36: 010257539168563773A58B00436CFEFFC6125FF6B0 | AV36: 18
A37: 터파기(기계8:2) | B37: 보통토사.백호80%+인력20% | C37: ㎥ | D37: 25 | F37: =TRUNC(E37*D37, 0) -> 0 | H37: =TRUNC(G37*D37, 0) -> 0 | J37: =TRUNC(I37*D37, 0) -> 0 | K37: =TRUNC(E37+G37+I37, 0) -> 0 | L37: =TRUNC(F37+H37+J37, 0) -> 0 | M37: 호표 3 | N37: 500D616100BA7BDB42D04BB66BFC77 | Q37: 0102 | R37: T | S37: F | T37: F | AU37: 0102500D616100BA7BDB42D04BB66BFC77 | AV37: 19
A38: 되메우고 다지기(백호우+램머) | B38: 토사,T=15cm | C38: ㎥ | D38: 25 | F38: =TRUNC(E38*D38, 0) -> 0 | H38: =TRUNC(G38*D38, 0) -> 0 | J38: =TRUNC(I38*D38, 0) -> 0 | K38: =TRUNC(E38+G38+I38, 0) -> 0 | L38: =TRUNC(F38+H38+J38, 0) -> 0 | M38: 호표 4 | N38: 500D6161693F70BACF304F82882A75 | Q38: 0102 | R38: T | S38: F | T38: F | AU38: 0102500D6161693F70BACF304F82882A75 | AV38: 20
A39: 보통인부 | B39: 일반공사 직종 | C39: 인 | D39: 0 | F39: =TRUNC(E39*D39, 0) -> 0 | H39: =TRUNC(G39*D39, 0) -> 0 | J39: =TRUNC(I39*D39, 0) -> 0 | K39: =TRUNC(E39+G39+I39, 0) -> 0 | L39: =TRUNC(F39+H39+J39, 0) -> 0 | N39: 50D7C16242697636ADD0424BF93D302DDCBE72 | Q39: 0102 | R39: F | S39: F | T39: T | Y39: 2 | AU39: 010250D7C16242697636ADD0424BF93D302DDCBE72 | AV39: 21
A40: 배관공 | B40: 일반공사 직종 | C40: 인 | D40: 0 | F40: =TRUNC(E40*D40, 0) -> 0 | H40: =TRUNC(G40*D40, 0) -> 0 | J40: =TRUNC(I40*D40, 0) -> 0 | K40: =TRUNC(E40+G40+I40, 0) -> 0 | L40: =TRUNC(F40+H40+J40, 0) -> 0 | N40: 50D7C16242697636ADD0424BF93D302DDCBD60 | Q40: 0102 | R40: F | S40: F | T40: T | Y40: 2 | AU40: 010250D7C16242697636ADD0424BF93D302DDCBD60 | AV40: 22
A41: 공구손료 | B41: 인력품의 3% | C41: 식 | D41: 1 | F41: =TRUNC(E41*D41, 0) -> 0 | G41: 0 | H41: =TRUNC(G41*D41, 0) -> 0 | I41: 0 | J41: =TRUNC(I41*D41, 0) -> 0 | K41: =TRUNC(E41+G41+I41, 0) -> 0 | L41: =TRUNC(F41+H41+J41, 0) -> 0 | N41: 511B7161F4A67B4820F04626031C002 | Q41: 0102 | R41: F | S41: F | T41: F | AU41: 0102511B7161F4A67B4820F04626031C002 | AV41: 201
A49: [ 합 계 ] | F49: =SUM(F28:F48) -> 0 | H49: =SUM(H28:H48) -> 0 | J49: =SUM(J28:J48) -> 0 | L49: =SUM(L28:L48) -> 0 | N49: TOTAL
A50: 0103 급수급탕배관공사 | Q50: 0103
A51: 일반배관용스테인리스강관(K-TYPE) | B51: D20mm | C51: m | D51: 14 | F51: =TRUNC(E51*D51, 0) -> 0 | H51: =TRUNC(G51*D51, 0) -> 0 | J51: =TRUNC(I51*D51, 0) -> 0 | K51: =TRUNC(E51+G51+I51, 0) -> 0 | L51: =TRUNC(F51+H51+J51, 0) -> 0 | N51: 57539168563773A7B1C04D6BBCDB6C3504BD5C | Q51: 0103 | R51: F | S51: F | T51: T | X51: 1 | AU51: 010357539168563773A7B1C04D6BBCDB6C3504BD5C | AV51: 24
A52: 일반배관용스테인리스강관(K-TYPE) | B52: D25mm | C52: m | D52: 79 | F52: =TRUNC(E52*D52, 0) -> 0 | H52: =TRUNC(G52*D52, 0) -> 0 | J52: =TRUNC(I52*D52, 0) -> 0 | K52: =TRUNC(E52+G52+I52, 0) -> 0 | L52: =TRUNC(F52+H52+J52, 0) -> 0 | N52: 57539168563773A7B1C04D6BBCDB6C3504BD53 | Q52: 0103 | R52: F | S52: F | T52: T | X52: 1 | AU52: 010357539168563773A7B1C04D6BBCDB6C3504BD53 | AV52: 25
A53: 일반배관용스테인리스강관(K-TYPE) | B53: D30mm | C53: m | D53: 5 | F53: =TRUNC(E53*D53, 0) -> 0 | H53: =TRUNC(G53*D53, 0) -> 0 | J53: =TRUNC(I53*D53, 0) -> 0 | K53: =TRUNC(E53+G53+I53, 0) -> 0 | L53: =TRUNC(F53+H53+J53, 0) -> 0 | N53: 57539168563773A7B1C04D6BBCDB6C3504BD52 | Q53: 0103 | R53: F | S53: F | T53: T | X53: 1 | AU53: 010357539168563773A7B1C04D6BBCDB6C3504BD52 | AV53: 26
A54: 일반배관용스테인리스강관(K-TYPE) | B54: D40mm | C54: m | D54: 54 | F54: =TRUNC(E54*D54, 0) -> 0 | H54: =TRUNC(G54*D54, 0) -> 0 | J54: =TRUNC(I54*D54, 0) -> 0 | K54: =TRUNC(E54+G54+I54, 0) -> 0 | L54: =TRUNC(F54+H54+J54, 0) -> 0 | N54: 57539168563773A7B1C04D6BBCDB6C3504BE62 | Q54: 0103 | R54: F | S54: F | T54: T | X54: 1 | AU54: 010357539168563773A7B1C04D6BBCDB6C3504BE62 | AV54: 27
A55: 일반배관용스테인리스강관(K-TYPE) | B55: D50mm | C55: m | D55: 11 | F55: =TRUNC(E55*D55, 0) -> 0 | H55: =TRUNC(G55*D55, 0) -> 0 | J55: =TRUNC(I55*D55, 0) -> 0 | K55: =TRUNC(E55+G55+I55, 0) -> 0 | L55: =TRUNC(F55+H55+J55, 0) -> 0 | N55: 57539168563773A7B1C04D6BBCDB6C3504BE63 | Q55: 0103 | R55: F | S55: F | T55: T | X55: 1 | AU55: 010357539168563773A7B1C04D6BBCDB6C3504BE63 | AV55: 28
A56: 잡재료비 | B56: 주재료비의 3% | C56: 식 | D56: 1 | F56: =TRUNC(E56*D56, 0) -> 0 | H56: =TRUNC(G56*D56, 0) -> 0 | J56: =TRUNC(I56*D56, 0) -> 0 | K56: =TRUNC(E56+G56+I56, 0) -> 0 | L56: =TRUNC(F56+H56+J56, 0) -> 0 | N56: 511B7161F4A67B4820F04626031F001 | Q56: 0103 | R56: F | S56: F | T56: F | AU56: 0103511B7161F4A67B4820F04626031F001 | AV56: 202
A57: 절연행가(전산볼트) | B57: D20 | C57: 개소 | D57: 2 | F57: =TRUNC(E57*D57, 0) -> 0 | H57: =TRUNC(G57*D57, 0) -> 0 | J57: =TRUNC(I57*D57, 0) -> 0 | K57: =TRUNC(E57+G57+I57, 0) -> 0 | L57: =TRUNC(F57+H57+J57, 0) -> 0 | M57: 호표 15 | N57: 50C2D1658D95786098904251B17B9C | Q57: 0103 | R57: T | S57: F | T57: F | AU57: 010350C2D1658D95786098904251B17B9C | AV57: 29
A58: 절연행가(전산볼트) | B58: D25 | C58: 개소 | D58: 20 | F58: =TRUNC(E58*D58, 0) -> 0 | H58: =TRUNC(G58*D58, 0) -> 0 | J58: =TRUNC(I58*D58, 0) -> 0 | K58: =TRUNC(E58+G58+I58, 0) -> 0 | L58: =TRUNC(F58+H58+J58, 0) -> 0 | M58: 호표 16 | N58: 50C2D1658D95786098904250AB1097 | Q58: 0103 | R58: T | S58: F | T58: F | AU58: 010350C2D1658D95786098904250AB1097 | AV58: 30
A59: 절연행가(전산볼트) | B59: D32 | C59: 개소 | D59: 3 | F59: =TRUNC(E59*D59, 0) -> 0 | H59: =TRUNC(G59*D59, 0) -> 0 | J59: =TRUNC(I59*D59, 0) -> 0 | K59: =TRUNC(E59+G59+I59, 0) -> 0 | L59: =TRUNC(F59+H59+J59, 0) -> 0 | M59: 호표 17 | N59: 50C2D1658D95786098904257DAFFD7 | Q59: 0103 | R59: T | S59: F | T59: F | AU59: 010350C2D1658D95786098904257DAFFD7 | AV59: 31
A60: 절연행가(전산볼트) | B60: D40 | C60: 개소 | D60: 26 | F60: =TRUNC(E60*D60, 0) -> 0 | H60: =TRUNC(G60*D60, 0) -> 0 | J60: =TRUNC(I60*D60, 0) -> 0 | K60: =TRUNC(E60+G60+I60, 0) -> 0 | L60: =TRUNC(F60+H60+J60, 0) -> 0 | M60: 호표 18 | N60: 50C2D1658D9578609890425633B604 | Q60: 0103 | R60: T | S60: F | T60: F | AU60: 010350C2D1658D9578609890425633B604 | AV60: 32
...
