Workbook

Sheet 총괄
A1: 국립생태원 건물 및 물품내역서 총괄
A3: 연번 | B3: 구분 | C3: 금액 | D3: 비고
A4: 1 | B4: 국립생태원 건물 | C4: ='국립생태원 건물'!F39 -> 234375889560
A5: 2 | B5: 전시물품 | C5: =전시물품!G4 -> 2748353786
A6: 3 | B6: 행정물품 | C6: =물품현황!Q1 -> 14917081053
A7: 4 | B7: 마스터플랜 기계장비 등 | C7: ='마스터플랜 기계장비 등'!E96 -> 1.1411346e+09
A8: 5 | B8: 에코리움 기계장비 등 | C8: ='에코리움 기계장비 등'!G156 -> 3503673400
A9: 6 | B9: 국립생태원 운반장치 등 | C9: =운반장치!I22 -> 515210000
A10: 7 | B10: 국립생태원 정보통신장비 | C10: =정보통신장비!G4 -> 1907504000
A11: 8 | B11: 국립생태원 본관 도서 | C11: =서적!H3726 -> 1.7234427e+08
B12: 합계 | C12: =SUM(C4:C11) -> 2.5928119e+11

Sheet 국립생태원 건물
A1: 1. 화재보험 가입대상 건축물 현황
A3: 소 재 지 | C3: 충청남도 서천군 마서면 금강로 1210(송내리 755번지) | F3: 대지면적 | G3: 984,400.7㎡
A5: 연번 | B5: 건 물 명 | C5: 연면적(㎡) | D5: 건물구조 | E5: 용도 | F5: 취득금액(원) | G5: 취득일자 | H5: 비 고
A6: 1 | B6: 국립생태원 본관 | C6: 8419.34 | D6: 철근콘크리트구조 | E6: 교육연구시설 | F6: 32049685564 | G6: 2012.12.21
A7: 2 | B7: 생태교육관 | C7: 3199.92 | D7: 철근콘크리트구조/철골조 | E7: 교육연구시설 | F7: 15861762825 | G7: 2012.12.21
A8: 3 | B8: 복원생태관 | C8: 5234.22 | D8: 철근콘크리트구조/철골조 | E8: 교육연구시설 | F8: 20009890000 | G8: 2012.12.21
A9: 4 | B9: 방문자센터 | C9: 3537.23 | D9: 철골철근콘크리트구조 | E9: 문화및집회시설 | F9: 18402534090 | G9: 2012.12.21
A10: 5 | B10: 방문자숙소-1 | C10: 750.34 | D10: 철근콘크리트구조 | E10: 교육연구시설 | F10: 2367061453 | G10: 2014. 04. 25
A11: 6 | B11: 방문자숙소-2 | C11: 720.56 | D11: 철근콘크리트구조 | E11: 교육연구시설 | F11: 2132131186 | G11: 2012.12.21
A12: 7 | B12: 방문자숙소-3 | C12: 720.56 | D12: 철근콘크리트구조 | E12: 교육연구시설 | F12: 2223523000 | G12: 2012.12.21
A13: 8 | B13: 방문자숙소-4 | C13: 744.39 | D13: 철근콘크리트구조 | E13: 교육연구시설 | F13: 2334252950 | G13: 2012.12.21
A14: 9 | B14: 관리사무소 | C14: 138.76 | D14: 철근콘크리트구조 | E14: 교육연구시설 | F14: 351265960 | G14: 2012.12.21
A15: 10 | B15: 팽나무광장매표소 | C15: 477.86 | D15: 철근콘크리트구조 | E15: 교육연구시설 | F15: 1864198180 | G15: 2012.12.21
A16: 11 | B16: 마을숲광장매표소 | C16: 186.2 | D16: 철근콘크리트구조 | E16: 교육연구시설 | F16: 539640620 | G16: 2012.12.21
A17: 12 | B17: 하다람편의점 | C17: 227.83 | D17: 철근콘크리트구조 | E17: 교육연구시설 | F17: 587444000 | G17: 2012.12.21
... A37: 32 | B37: 방문자숙소(별관) | C37: 246.51 | D37: 철근콘크리트구조 | E37: 교육연구시설 | F37: 964202989 | G37: 2013.12.23
A38: 33 | B38: 재배온실-8(연구용식물증식) | C38: 400 | D38: 경량철골구조 | E38: 교육연구시설 | F38: 131216660 | G38: 2015.2.11
B39: 합 계 | C39: =SUM(C6:C38) -> 59206.06 | F39: =SUM(F6:F38) -> 234375889560

Sheet 전시물품
A1: 2. 국립생태원 전시물품 가입대상
A3: 구분 | B3: 연번 | C3: 품명 | D3: 규격 | E3: 단위 | F3: 수량 | G3: 구입단가(원) | H3: 취득일자 | I3: 보관장소
B4: 합계 | G4: =G5+G208+G396+G464+G52+G1130 -> 2748353786
A5: 1. 방문자센터 | B5: 소계 | G5: =SUM(G6:G51) -> 274930000
B6: 1 | C6: 갤럭시플레이어 | D6: YP-GB1EW(메모리:16GB) | E6: 대 | F6: 50 | G6: 11800000 | H6: '12.6.14. | I6: 방문자센터(안내데스크)
B7: 2 | C7: POWER AMP | D7: 앰프(50W) | E7: 대 | F7: 9 | G7: 2250000 | H7: 12.6.14 | I7: 방문자센터(1층 조정실 및 전시공간)
B8: 3 | C8: POWER AMP | D8: 앰프(200W) | E8: 대 | F8: 5 | G8: 3010000 | H8: '12.6.14. | I8: 방문자센터(2층 조정실)
B9: 4 | C9: RACK | D9: RACK(11,27,39H) | E9: 대 | F9: 4 | G9: 2600000 | H9: 12.6.14 | I9: 방문자센터(1층, 2층 조정실)
B10: 5 | C10: POWER DISTRIBUTOR | D10: SWED 2000W× 4 | E10: 대 | F10: 4 | G10: 1200000 | H10: '12.6.14. | I10: 방문자센터(1층, 2층 조정실)
B11: 6 | C11: SENSOR | D11: 근접식 | E11: 대 | F11: 3 | G11: 900000 | H11: 12.6.14 | I11: 방문자센터(1층 전시공간)
B12: 7 | C12: Media Player | D12: 영상플레이어 | E12: 대 | F12: 4 | G12: 1600000 | H12: '12.6.14. | I12: 방문자센터(1층 전시공간)
B13: 8 | C13: LED TV | D13: 40" LED TV | E13: 대 | F13: 2 | G13: 3254000 | H13: '12.6.14. | I13: 방문자센터(1층 전시공간)
B14: 9 | C14: LED MONITOR BRACKET | D14: BRACKET | E14: 대 | F14: 21 | G14: 3780000 | H14: 12.6.14 | I14: 방문자센터(1층, 2층 전시공간)
B15: 10 | C15: SPEAKER | D15: SPEAKER 50W | E15: 대 | F15: 17 | G15: 5950000 | H15: '12.6.14. | I15: 방문자센터(1층 전시공간)
B16: 11 | C16: SPEAKER BRACKET | D16: SPEAKER BRACKET(고정형) | E16: 대 | F16: 24 | G16: 1296000 | H16: 12.6.14 | I16: 방문자센터(1층, 2층 전시공간)
B17: 12 | C17: LED MONITOR | D17: LED MONITOR(32") | E17: 대 | F17: 3 | G17: 2343000 | H17: '12.6.14. | I17: 방문자센터(1층 전시공간)
... B51: 46 | C51: AVR (30K) | D51: 500(W)×650(D)×1100(H)mm | E51: 대 | F51: 1 | G51: 3200000 | H51: '12.6.14. | I51: 방문자센터(1층 조정실)
A52: 2. 상설주제전시관 | B52: 소계 | G52: =SUM(G53:G207) -> 447109960
B53: 1 | C53: SENSOR | D53: PA-6810E | E53: 대 | F53: 1 | G53: 261000 | H53: 12.6.14. | I53: 제1상설주제전시관
B54: 2 | C54: SHOW CONTROLLER | D54: MIR-7000 | E54: 대 | F54: 1 | G54: 2175000 | H54: 12.6.14. | I54: 제1상설주제전시관
B55: 3 | C55: MEDIA SERVER | D55: MIR-S | E55: 대 | F55: 1 | G55: 2175000 | H55: 12.6.14. | I55: 제1상설주제전시관
B56: 4 | C56: GRAPHIC CARD | D56: M9120-E512LPUFU | E56: 대 | F56: 1 | G56: 591000 | H56: 12.6.14. | I56: 제1상설주제전시관
B57: 5 | C57: LED MONITOR | D57: UN40EH5000F | E57: 대 | F57: 3 | G57: 1122300 | H57: 12.6.14. | I57: 제1상설주제전시관
B58: 6 | C58: MONITOR BRACKET | D58: 제작사양 | E58: 대 | F58: 3 | G58: 261000 | H58: 12.6.14. | I58: 제1상설주제전시관
B59: 7 | C59: MULTI SYNC PROGRAM | D59: 제작사양 | E59: 대 | F59: 1 | G59: 3045000 | H59: 12.6.14. | I59: 제1상설주제전시관
B60: 8 | C60: SENSOR | D60: PA-6810E | E60: 대 | F60: 1 | G60: 261000 | H60: 12.6.14. | I60: 제1상설주제전시관
B61: 9 | C61: DIGITAL VIDEO PLAYER | D61: MIR-HC2000 | E61: 대 | F61: 1 | G61: 1740000 | H61: 12.6.14. | I61: 제1상설주제전시관
B62: 10 | C62: LED MONITOR | D62: UN40EH5000F | E62: 대 | F62: 1 | G62: 1122300 | H62: 12.6.14. | I62: 제1상설주제전시관
B63: 11 | C63: POWER AMP | D63: R-300PLUS | E63: 대 | F63: 1 | G63: 420000 | H63: 12.6.14. | I63: 제1상설주제전시관
B64: 12 | C64: SPEAKER | D64: CONTROL 23 | E64: 대 | F64: 2 | G64: 957000 | H64: 12.6.14. | I64: 제1상설주제전시관
... B90: 38 | C90: LCD PROJECTOR | D90: PLC-ZM5000 | E90: 대 | F90: 2 | G90: 19140000 | H90: 12.6.14. | I90: 제1상설주제전시관
B91: 39 | C91: PROJECTOR LAMP | D91: 5000ANSI용 | E91: 대 | F91: 2 | G91: 1044000 | H91: 12.6.14. | I91: 제1상설주제전시관 | J91: 소모품
B92: 40 | C92: OPTION LENS | D92: 1.3 - 1.7: 1 | E92: 대 | F92: 2 | G92: 6003000 | H92: 12.6.14. | I92: 제1상설주제전시관
B93: 41 | C93: PROJECTOR 브라켓 | D93: 제작사양 | E93: 대 | F93: 2 | G93: 870000 | H93: 12.6.14. | I93: 제1상설주제전시관
B94: 42 | C94: PANDORA BOX(WARPING/Edge) | D94: PL STD(COOLUX) | E94: 대 | F94: 2 | G94: 7830000 | H94: 12.6.14. | I94: 제1상설주제전시관
B95: 43 | C95: PANDORA BOX(WARPING/Edge) | D95: MM L.T(COOLUX) | E95: 대 | F95: 1 | G95: 5655000 | H95: 12.6.14. | I95: 제1상설주제전시관
B96: 44 | C96: MULTI SYNC PROGRAM | D96: 제작사양 | E96: 대 | F96: 1 | G96: 3045000 | H96: 12.6.14. | I96: 제1상설주제전시관
B97: 45 | C97: POWER AMP | D97: R-300PLUS | E97: 대 | F97: 1 | G97: 420000 | H97: 12.6.14. | I97: 제1상설주제전시관
B98: 46 | C98: SPEAKER | D98: CONTROL 23 | E98: 대 | F98: 2 | G98: 957000 | H98: 12.6.14. | I98: 제1상설주제전시관
B99: 47 | C99: SENSOR | D99: PA-6810E | E99: 대 | F99: 1 | G99: 261000 | H99: 12.6.14. | I99: 제1상설주제전시관
...

Sheet 물품현황
Q1: =SUM(Q3:Q7998) -> 14917081053
A2: 순번 | B2: 10품종코드 | C2: 10품종 | D2: 분류번호 | E2: 식별번호 | F2: 품명 | G2: 품목 | H2: 10품종명 | I2: 취득사유 | J2: 규격명 | K2: 운영부서 | L2: 사용위치 | M2: 물품용도 | N2: 취득일자 | O2: 정리일자 | P2: 수량 | Q2: 취득단가 | R2: 내용년수 | S2: 국내외구분 | T2: 자산명
A3: 1 | D3: 41115811 | E3: 10047546 | F3: DNA서열분석기 | G3: DNA서열분석기, Amersham Pharmacia Biptech AB, SE/ALF express | I3: 이동/사용전환 | J3: DNA서열분석기, Amersham Pharmacia Biptech AB, SE/ALF express | K3: 기획총괄과 | N3: 41997 | O3: 42034 | P3: 1 | Q3: 137896000 | R3: 10 | T3: DNA서열분석기(환경유전체분석시스템)
A4: 2 | D4: 52161518 | E4: 21657513 | F4: GPS수신기 | G4: GPS플로터, Garmin, TW/Oregon 300 | I4: 이동/사용전환 | J4: GPS플로터, Garmin, TW/Oregon 300 | K4: 기획총괄과 | M4: 기존자산 | N4: 39955 | O4: 41829 | P4: 1 | Q4: 1100000 | R4: 8 | T4: GPS수신기
A5: 3 | D5: 52161518 | E5: 21657513 | F5: GPS수신기 | G5: GPS플로터, Garmin, TW/Oregon 300 | I5: 이동/사용전환 | J5: GPS플로터, Garmin, TW/Oregon 300 | K5: 기획총괄과 | M5: 기존자산 | N5: 40070 | O5: 41829 | P5: 1 | Q5: 1199000 | R5: 8 | T5: GPS수신기
A6: 4 | D6: 52161518 | E6: 21657513 | F6: GPS수신기 | G6: GPS플로터, Garmin, TW/Oregon 300 | I6: 이동/사용전환 | J6: GPS플로터, Garmin, TW/Oregon 300 | K6: 기획총괄과 | M6: 기존자산 | N6: 41569 | O6: 41829 | P6: 1 | Q6: 18700000 | R6: 8 | T6: GPS수신기
A7: 5 | D7: 52161518 | E7: 21657513 | F7: GPS수신기 | G7: GPS플로터, Garmin, TW/Oregon 300 | I7: 이동/사용전환 | J7: GPS플로터, Garmin, TW/Oregon 300 | K7: 기획총괄과 | M7: 기존자산 | N7: 41597 | O7: 41829 | P7: 1 | Q7: 2640550 | R7: 8 | T7: GPS수신기
A8: 6 | D8: 52161518 | E8: 22175850 | F8: GPS수신기 | G8: GPS, Garmin, TW/GPSMAP 62s, 12채널 | I8: 이동/사용전환 | J8: GPS, Garmin, TW/GPSMAP 62s, 12채널 | K8: 기후변화연구부 | L8: 복원생태관1층_105호실험실 | M8: 기존자산 | N8: 41789 | O8: 41969 | P8: 1 | Q8: 855000 | R8: 5 | T8: GPS시스템1
A9: 7 | D9: 52161518 | E9: 22175850 | F9: GPS수신기 | G9: GPS, Garmin, TW/GPSMAP 62s, 12채널 | I9: 이동/사용전환 | J9: GPS, Garmin, TW/GPSMAP 62s, 12채널 | K9: 기후변화연구부 | L9: 복원생태관1층_105호실험실 | M9: 기존자산 | N9: 41789 | O9: 41969 | P9: 1 | Q9: 855000 | R9: 5 | T9: GPS시스템1
A10: 8 | D10: 52161518 | E10: 22175850 | F10: GPS수신기 | G10: GPS, Garmin, TW/GPSMAP 62s, 12채널 | I10: 이동/사용전환 | J10: GPS, Garmin, TW/GPSMAP 62s, 12채널 | K10: 기후변화연구부 | L10: 복원생태관1층_105호실험실 | M10: 기존자산 | N10: 41789 | O10: 41969 | P10: 1 | Q10: 855000 | R10: 5 | T10: GPS시스템1
A11: 9 | D11: 52161518 | E11: 22175850 | F11: GPS수신기 | G11: GPS, Garmin, TW/GPSMAP 62s, 12채널 | I11: 이동/사용전환 | J11: GPS, Garmin, TW/GPSMAP 62s, 12채널 | K11: 기후변화연구부 | L11: 복원생태관1층_105호실험실 | M11: 기존자산 | N11: 41789 | O11: 41969 | P11: 1 | Q11: 855000 | R11: 5 | T11: GPS시스템1
A12: 10 | D12: 52161518 | E12: 22175850 | F12: GPS수신기 | G12: GPS, Garmin, TW/GPSMAP 62s, 12채널 | I12: 이동/사용전환 | J12: GPS, Garmin, TW/GPSMAP 62s, 12채널 | K12: 기후변화연구부 | L12: 복원생태관1층_105호실험실 | M12: 기존자산 | N12: 41789 | O12: 41969 | P12: 1 | Q12: 855000 | R12: 5 | T12: GPS시스템1
A13: 11 | D13: 52161518 | E13: 22393271 | F13: GPS수신기 | G13: GPS, Garmin, TW/Montana650, 12채널 | I13: 이동/사용전환 | J13: GPS, Garmin, TW/Montana650, 12채널 | K13: 기후변화연구부 | L13: 복원생태관1층_105호실험실 | M13: 기존자산 | N13: 41789 | O13: 41969 | P13: 1 | Q13: 1185000 | R13: 5 | T13: GPS시스템2
A14: 12 | D14: 52161518 | E14: 22460331 | F14: GPS수신기 | G14: GPS플로터, 해양오릭스, MX-140LF, 50채널 | I14: 이동/사용전환 | J14: GPS플로터, 해양오릭스, MX-140LF, 50채널 | K14: 자연환경조사부 | L14: 복원생태관2층_206호실험실 | M14: 기존자산 | N14: 41793 | O14: 41969 | P14: 1 | Q14: 773750 | R14: 5 | T14: GPS 수신기
A15: 13 | D15: 52161518 | E15: 22460331 | F15: GPS수신기 | G15: GPS플로터, 해양오릭스, MX-140LF, 50채널 | I15: 이동/사용전환 | J15: GPS플로터, 해양오릭스, MX-140LF, 50채널 | K15: 자연환경조사부 | L15: 복원생태관2층_206호실험실 | M15: 기존자산 | N15: 41793 | O15: 41969 | P15: 1 | Q15: 773750 | R15: 5 | T15: GPS 수신기
A16: 14 | D16: 52161518 | E16: 22460331 | F16: GPS수신기 | G16: GPS플로터, 해양오릭스, MX-140LF, 50채널 | I16: 이동/사용전환 | J16: GPS플로터, 해양오릭스, MX-140LF, 50채널 | K16: 자연환경조사부 | L16: 복원생태관2층_206호실험실 | M16: 기존자산 | N16: 41793 | O16: 41969 | P16: 1 | Q16: 773750 | R16: 5 | T16: GPS 수신기
A17: 15 | D17: 52161518 | E17: 22460331 | F17: GPS수신기 | G17: GPS플로터, 해양오릭스, MX-140LF, 50채널 | I17: 이동/사용전환 | J17: GPS플로터, 해양오릭스, MX-140LF, 50채널 | K17: 자연환경조사부 | L17: 복원생태관2층_206호실험실 | M17: 기존자산 | N17: 41793 | O17: 41969 | P17: 1 | Q17: 773750 | R17: 5 | T17: GPS 수신기
A18: 16 | D18: 52161518 | E18: 22460331 | F18: GPS수신기 | G18: GPS플로터, 해양오릭스, MX-140LF, 50채널 | I18: 이동/사용전환 | J18: GPS플로터, 해양오릭스, MX-140LF, 50채널 | K18: 자연환경조사부 | L18: 복원생태관2층_206호실험실 | M18: 기존자산 | N18: 41793 | O18: 41969 | P18: 1 | Q18: 773750 | R18: 5 | T18: GPS 수신기
A19: 17 | D19: 52161518 | E19: 22460331 | F19: GPS수신기 | G19: GPS플로터, 해양오릭스, MX-140LF, 50채널 | I19: 이동/사용전환 | J19: GPS플로터, 해양오릭스, MX-140LF, 50채널 | K19: 자연환경조사부 | L19: 복원생태관2층_206호실험실 | M19: 기존자산 | N19: 41793 | O19: 41969 | P19: 1 | Q19: 773750 | R19: 5 | T19: GPS 수신기
... A110: 108 | D110: 52161518 | E110: 22393271 | F110: GPS수신기 | G110: GPS, Garmin, TW/Montana650, 12채널 | I110: 이동/사용전환 | J110: GPS, Garmin, TW/Montana650, 12채널 | K110: 위해생물연구부 | L110: 본관3층_302호위해생물연구부 | M110: 기존자산 | N110: 41899 | O110: 41969 | P110: 1 | Q110: 1100000 | R110: 5 | T110: GPS 측정기
A111: 109 | D111: 52161518 | E111: 22153552 | F111: GPS수신기 | G111: GPS, Hi-Target surveying instrument, CN/V30, 220채널 | I111: 이동/사용전환 | J111: GPS, Hi-Target surveying instrument, CN/V30, 220채널 | K111: 생태계서비스연구부 | L111: 본관2층_226호방사성동위원소실험실 | N111: 41963 | O111: 42034 | P111: 1 | Q111: 18000400 | R111: 8 | T111: GPS RTK 측량시스템
A112: 110 | D112: 52161518 | E112: 20967740 | F112: GPS수신기 | G112: GPS, 이노지오, SG200402, Sync GPS | I112: 이동/사용전환 | J112: GPS, 이노지오, SG200402, Sync GPS | K112: 기획총괄과 | L112: 미확인물품 | N112: 41992 | O112: 42034 | P112: 1 | Q112: 1144000 | R112: 8 | T112: GPS
A113: 111 | D113: 52161518 | E113: 20967740 | F113: GPS수신기 | G113: GPS, 이노지오, SG200402, Sync GPS | I113: 이동/사용전환 | J113: GPS, 이노지오, SG200402, Sync GPS | K113: 기획총괄과 | L113: 미확인물품 | N113: 41992 | O113: 42034 | P113: 1 | Q113: 1144000 | R113: 8 | T113: GPS
A114: 112 | D114: 52161518 | E114: 22656940 | F114: GPS수신기 | G114: GPS, Leica geosystems, CH/CS15, GNSS컨트롤러, 125×45×245mm | I114: 이동/사용전환 | J114: GPS, Leica geosystems, CH/CS15, GNSS컨트롤러, 125×45×245mm | K114: 자연환경조사부 | L114: 자연환경조사부 | N114: 42123 | O114: 42157 | P114: 1 | Q114: 23100000 | R114: 8 | T114: GNSS시스템(측량장비) / 3주파 GNSS System GS15
A115: 113 | D115: 52161518 | E115: 22393271 | F115: GPS수신기 | G115: GPS, Garmin, TW/Montana650, 12채널 | I115: 이동/사용전환 | J115: GPS, Garmin, TW/Montana650, 12채널 | K115: 위해생물연구부 | L115: 위해생물연구부 | N115: 42124 | O115: 42157 | P115: 1 | Q115: 1100000 | R115: 8 | T115: 한글판, Montana 650TK
A116: 114 | D116: 52161518 | E116: 22393271 | F116: GPS수신기 | G116: GPS, Garmin, TW/Montana650, 12채널 | I116: 이동/사용전환 | J116: GPS, Garmin, TW/Montana650, 12채널 | K116: 위해생물연구부 | L116: 위해생물연구부 | N116: 42124 | O116: 42157 | P116: 1 | Q116: 1100000 | R116: 8 | T116: 한글판, Montana 650TK
A117: 115 | D117: 52161518 | E117: 21962620 | F117: GPS수신기 | G117: GPS, Garmin, TW/Vista HCx, 12채널 | I117: 이동/사용전환 | J117: GPS, Garmin, TW/Vista HCx, 12채널 | K117: 위해생물연구부 | L117: 위해생물연구부 | N117: 42124 | O117: 42157 | P117: 1 | Q117: 577500 | R117: 8 | T117: 한글판, VISTA HCX
A118: 116 | D118: 52161518 | E118: 21962620 | F118: GPS수신기 | G118: GPS, Garmin, TW/Vista HCx, 12채널 | I118: 이동/사용전환 | J118: GPS, Garmin, TW/Vista HCx, 12채널 | K118: 위해생물연구부 | L118: 위해생물연구부 | N118: 42124 | O118: 42157 | P118: 1 | Q118: 577500 | R118: 8 | T118: 한글판, VISTA HCX
A119: 117 | D119: 52161518 | E119: 21962620 | F119: GPS수신기 | G119: GPS, Garmin, TW/Vista HCx, 12채널 | I119: 이동/사용전환 | J119: GPS, Garmin, TW/Vista HCx, 12채널 | K119: 위해생물연구부 | L119: 위해생물연구부 | N119: 42124 | O119: 42157 | P119: 1 | Q119: 577500 | R119: 8 | T119: 한글판, VISTA HCX
A120: 118 | D120: 52161518 | E120: 21962620 | F120: GPS수신기 | G120: GPS, Garmin, TW/Vista HCx, 12채널 | I120: 이동/사용전환 | J120: GPS, Garmin, TW/Vista HCx, 12채널 | K120: 위해생물연구부 | L120: 위해생물연구부 | N120: 42124 | O120: 42157 | P120: 1 | Q120: 577500 | R120: 8 | T120: 한글판, VISTA HCX
A121: 119 | D121: 52161518 | E121: 21962620 | F121: GPS수신기 | G121: GPS, Garmin, TW/Vista HCx, 12채널 | I121: 이동/사용전환 | J121: GPS, Garmin, TW/Vista HCx, 12채널 | K121: 위해생물연구부 | L121: 위해생물연구부 | N121: 42124 | O121: 42157 | P121: 1 | Q121: 577500 | R121: 8 | T121: 한글판, VISTA HCX
A122: 120 | D122: 52161518 | E122: 21962620 | F122: GPS수신기 | G122: GPS, Garmin, TW/Vista HCx, 12채널 | I122: 이동/사용전환 | J122: GPS, Garmin, TW/Vista HCx, 12채널 | K122: 위해생물연구부 | L122: 위해생물연구부 | N122: 42124 | O122: 42157 | P122: 1 | Q122: 577500 | R122: 8 | T122: 한글판, VISTA HCX
... A126: 124 | D126: 52161518 | E126: 21962620 | F126: GPS수신기 | G126: GPS, Garmin, TW/Vista HCx, 12채널 | I126: 이동/사용전환 | J126: GPS, Garmin, TW/Vista HCx, 12채널 | K126: 위해생물연구부 | L126: 위해생물연구부 | N126: 42124 | O126: 42157 | P126: 1 | Q126: 577500 | R126: 8 | T126: 한글판, VISTA HCX
A127: 125 | D127: 43191511 | E127: 21828680 | F127: IP전화기 | G127: IP전화기, 삼성전자, SMT-I5243 | I127: 이동/사용전환 | J127: IP전화기, 삼성전자, SMT-I5243 | K127: 기획부 | L127: 기획총괄과 | M127: 기존자산 | N127: 41374 | O127: 41829 | P127: 1 | Q127: 600000 | R127: 5 | T127: IP전화기
A128: 126 | D128: 43191511 | E128: 21828680 | F128: IP전화기 | G128: IP전화기, 삼성전자, SMT-I5243 | I128: 이동/사용전환 | J128: IP전화기, 삼성전자, SMT-I5243 | K128: 기획부 | L128: 기획총괄과 | M128: 기존자산 | N128: 41374 | O128: 41829 | P128: 1 | Q128: 600000 | R128: 5 | T128: IP전화기
A129: 127 | D129: 43191511 | E129: 21828680 | F129: IP전화기 | G129: IP전화기, 삼성전자, SMT-I5243 | I129: 이동/사용전환 | J129: IP전화기, 삼성전자, SMT-I5243 | K129: 기획부 | L129: 기획총괄과 | M129: 기존자산 | N129: 41374 | O129: 41829 | P129: 1 | Q129: 600000 | R129: 5 | T129: IP전화기
A130: 128 | D130: 43191511 | E130: 21828680 | F130: IP전화기 | G130: IP전화기, 삼성전자, SMT-I5243 | I130: 이동/사용전환 | J130: IP전화기, 삼성전자, SMT-I5243 | K130: 기획부 | L130: 기획총괄과 | M130: 기존자산 | N130: 41374 | O130: 41829 | P130: 1 | Q130: 600000 | R130: 5 | T130: IP전화기
A131: 129 | D131: 43191511 | E131: 21828680 | F131: IP전화기 | G131: IP전화기, 삼성전자, SMT-I5243 | I131: 이동/사용전환 | J131: IP전화기, 삼성전자, SMT-I5243 | K131: 기획부 | L131: 기획총괄과 | M131: 기존자산 | N131: 41374 | O131: 41829 | P131: 1 | Q131: 600000 | R131: 5 | T131: IP전화기
A132: 130 | D132: 43191511 | E132: 21828680 | F132: IP전화기 | G132: IP전화기, 삼성전자, SMT-I5243 | I132: 이동/사용전환 | J132: IP전화기, 삼성전자, SMT-I5243 | K132: 기획부 | L132: 기획총괄과 | M132: 기존자산 | N132: 41374 | O132: 41829 | P132: 1 | Q132: 600000 | R132: 5 | T132: IP전화기
A133: 131 | D133: 43191511 | E133: 21828680 | F133: IP전화기 | G133: IP전화기, 삼성전자, SMT-I5243 | I133: 이동/사용전환 | J133: IP전화기, 삼성전자, SMT-I5243 | K133: 기획부 | L133: 기획총괄과 | M133: 기존자산 | N133: 41374 | O133: 41829 | P133: 1 | Q133: 600000 | R133: 5 | T133: IP전화기
...

Sheet 엘리베이터 현황
A1: 4. 엘리베이터 현황
A3: 구분 | B3: 기종 | C3: 규격 | D3: 층수 | E3: 수량(대) | F3: 위치
A4: 엘리베이터 | B4: 승객화물용 | C4: 1.8톤 | D4: 1~3층 | E4: 1 | F4: 국립생태원 본관
B5: 승객용 | C5: 15인용 | D5: 1~2층 | E5: 1 | F5: 생태교육관
B6: 승객용 | C6: 15인용 | D6: 1~2층 | E6: 1 | F6: 복원생태관
B7: 승객용 | C7: 15인용 | D7: 1~2층 | E7: 1 | F7: 방문자센터
B8: 승객용 | C8: 15인용 | D8: 1~2층 | E8: 5 | F8: 에코리움
A9: 총계 | E9: =SUM(E4:E8) -> 9

Sheet 마스터플랜 기계장비 등
A1: 6. 에코리움 국유재산 목록
A3: 연번 | B3: 품명 | C3: 규격 | D3: 수량 | E3: 금액(원) | F3: 위치 | G3: 비 고
A4: 1 | B4: 공조기 | C4: 35,200CMH | D4: 1 | E4: =270000000/8 -> 33750000 | F4: 본관 지하 | G4: 관급자재
A5: 2 | B5: 공조기 | C5: 20,200CMH | D5: 1 | E5: =270000000/8 -> 33750000 | F5: " | G5: 관급자재
A6: 3 | B6: 공조기 | C6: 13,200CMH | D6: 1 | E6: =270000000/8 -> 33750000 | F6: 교육동 옥상 | G6: 관급자재
A7: 4 | B7: 공조기 | C7: 16,300CMH | D7: 1 | E7: =270000000/8 -> 33750000 | F7: " | G7: 관급자재
A8: 5 | B8: 공조기 | C8: 9,000CMH | D8: 1 | E8: =270000000/8 -> 33750000 | F8: " | G8: 관급자재
A9: 6 | B9: 공조기 | C9: 16,500CMH | D9: 1 | E9: =270000000/8 -> 33750000 | F9: 멸종동 옥상 | G9: 관급자재
A10: 7 | B10: 공조기 | C10: 8,400CMH | D10: 1 | E10: =270000000/8 -> 33750000 | F10: " | G10: 관급자재
A11: 8 | B11: 공조기 | C11: 23,300CMH | D11: 1 | E11: =270000000/8 -> 33750000 | F11: 센타동 지하 | G11: 관급자재
A12: 9 | B12: 펠릿보일러 | C12: 200,000KCAL/HR | D12: 2 | E12: 17386890 | F12: 교육동 지하
A13: 10 | B13: 펠릿보일러 | C13: 20,000KCAL/HR | D13: 2 | E13: 2604458 | F13: 센타동 지하
A14: 11 | B14: IN-LINE PUMP | C14: 7.5KW | D14: 3 | E14: 17909687 | F14: 연구동 지하
A15: 12 | B15: 수중 PUMP | C15: 2.2KW | D15: 4 | E15: 594985 | F15: "
A16: 13 | B16: 수중 PUMP | C16: 1.5KW | D16: 4 | E16: 534886 | F16: "
A17: 14 | B17: IN-LINE PUMP | C17: 0.75KW | D17: 4 | E17: 967603 | F17: "
A18: 15 | B18: 수중 PUMP | C18: 0.75KW | D18: 3 | E18: 474786 | F18: 연구동 1층
A19: 16 | B19: IN-LINE PUMP | C19: 2.2KW | D19: 4 | E19: 11893715 | F19: 연구동 지하
A20: 17 | B20: IN-LINE PUMP | C20: 2.2KW | D20: 4 | E20: 914421 | F20: 교육동 지하
A21: 18 | B21: IN-LINE PUMP | C21: 0.75KW | D21: 4 | E21: 888662 | F21: "
A22: 19 | B22: 수중 PUMP | C22: 2.2KW | D22: 2 | E22: 637518 | F22: "
A23: 20 | B23: 수중 PUMP | C23: 1.5KW | D23: 4 | E23: 573123 | F23: "
... A57: 54 | B57: 급탕탱크 | C57: 3,300L | D57: 2 | E57: 6236233 | F57: 교육동 지하
A58: 55 | B58: 지하저수조 | C58: 140,000L | D58: 1 | E58: =102311000/2 -> 51155500 | F58: 멸종동 지하 | G58: 관급자재
A59: 56 | B59: 중수저수조 | C59: 50,000L | D59: 1 | E59: =102311000/2*5/14 -> 18269821 | F59: " | G59: 관급자재
A60: 57 | B60: 폐수탱크 | C60: 1,000L | D60: 2 | E60: 1481066 | F60: "
A61: 58 | B61: 지하저수조 | C61: 90,000L | D61: 1 | E61: =102311000/2*9/14 -> 32885679 | F61: 센타동 지하 | G61: 관급자재
A62: 59 | B62: 급탕탱크 | C62: 600L | D62: 1 | E62: 3209880 | F62: "
A63: 60 | B63: 오수탱크 | C63: 2,500L | D63: 1 | E63: 401234 | F63: 사육동 지하
A64: 61 | B64: 항온항습기 | C64: 10,800KCAL/HR | D64: 1 | E64: =236318910/9 -> 26257657 | F64: 연구동 동물 | G64: 관급자재
A65: 62 | B65: 항온항습기 | C65: 16,200KCAL/HR | D65: 1 | E65: =236318910/9 -> 26257657 | F65: 연구동 액침 | G65: 관급자재
A66: 63 | B66: 항온항습기 | C66: 27,000KCAL/HR | D66: 1 | E66: =236318910/9 -> 26257657 | F66: 연구동 식물 | G66: 관급자재
A67: 64 | B67: 항온항습기 | C67: 54,000KCAL/HR | D67: 2 | E67: =236318910/9*2 -> 52515313 | F67: 연구동 전산 | G67: 관급자재
A68: 65 | B68: 항온항습기 | C68: 27,000KCAL/HR | D68: 1 | E68: =236318910/9 -> 26257657 | F68: 멸종동 중기 | G68: 관급자재
A69: 66 | B69: 항온항습기 | C69: 16,200KCAL/HR | D69: 1 | E69: =236318910/9 -> 26257657 | F69: 멸종동 무균 | G69: 관급자재
A70: 67 | B70: 항온항습기 | C70: 16,200KCAL/HR | D70: 1 | E70: =236318910/9 -> 26257657 | F70: 멸종동 준비 | G70: 관급자재
A71: 68 | B71: 항온항습기 | C71: 16,200KCAL/HR | D71: 1 | E71: =236318910/9 -> 26257657 | F71: 멸종동 순화 | G71: 관급자재
A72: 69 | B72: 항온항습기 | C72: 40,500KCAL/HR | D72: 2 | E72: =236318910/9*2 -> 52515313 | F72: 멸종동 배양 | G72: 관급자재
A73: 70 | B73: 팩케이지에어컨 | C73: 5,160KCAL/HR | D73: 1 | E73: 931859 | F73: 연구동 지하
A74: 71 | B74: 팩케이지에어컨 | C74: 25,000KCAL/HR | D74: 2 | E74: 3814744 | F74: "
...

Sheet 에코리움 기계장비 등
A1: 5. 에코리움 국유재산 목록
A3: 구 분 | B3: 품 목 | C3: 규 격 | D3: 단위 | E3: 수 량 | F3: 단 가 | G3: 금 액 | H3: 설치위치 | I3: 비 고
A4: 본관동 | G4: =SUM(G5:G70) -> 80170900
A5: 전시관 | B5: 주방가구 | C5: 씽크+작업대 | D5: EA | E5: 2 | F5: 426000 | G5: =E5*F5 -> 852000 | H5: 악어수조, 펭귄수조
A6: 레스토랑 | B6: 4인용 테이블(A) | C6: 700*700*750 | D6: EA | E6: 14 | F6: 125000 | G6: =E6*F6 -> 1750000
B7: 5인용 테이블 | C7: 원형 | D7: EA | E7: 9 | F7: 150000 | G7: =E7*F7 -> 1350000
B8: 6인용 테이블 | C8: 1800*800*750 | D8: EA | E8: 23 | F8: 175000 | G8: =E8*F8 -> 4025000
B9: 의자 | C9: 각종 | D9: EA | E9: =239-4 -> 235 | F9: 75000 | G9: =E9*F9 -> 17625000
A10: 까페테리아 | B10: 2인용 테이블 | C10: 700*750 | D10: EA | E10: 10 | F10: 75000 | G10: 750000
B11: 3인용 테이블 | C11: 700*750 | D11: EA | E11: 9 | F11: 100000 | G11: 900000
B12: 4인용 테이블 | C12: 900*750 | D12: EA | E12: 7 | F12: 125000 | G12: 875000
B13: 6인용 테이블 | C13: 1800*800*750 | D13: EA | E13: 10 | F13: 150000 | G13: 1500000
B14: 의자 | C14: 각종 | D14: EA | E14: 135 | F14: 75000 | G14: 10125000
A15: 1층사무실 | B15: 3단서랍박스 | C15: 402*560*658 | D15: EA | E15: 9 | F15: 180500 | G15: =E15*F15 -> 1624500 | H15: 1층사무실
B16: 3단책장 | C16: 800*419*1162 | D16: EA | E16: 9 | F16: 129000 | G16: =E16*F16 -> 1161000 | H16: 1층사무실
B17: 보조책상 | C17: 1400*700*719 | D17: EA | E17: 1 | F17: 167800 | G17: =E17*F17 -> 167800 | H17: 1층사무실
B18: 사무용 의자 | C18: 각종 | D18: EA | E18: 9 | F18: 190200 | G18: =E18*F18 -> 1711800 | H18: 1층사무실
B19: 사무용 책상 | C19: 1400*700*719 | D19: EA | E19: 9 | F19: 252500 | G19: =E19*F19 -> 2272500 | H19: 1층사무실
B20: 원형회의용테이블 | D20: EA | E20: 1 | F20: 130500 | G20: =E20*F20 -> 130500 | H20: 1층사무실
B21: 회의용의자 | C21: 각종 | D21: EA | E21: 5 | F21: 151200 | G21: =E21*F21 -> 756000 | H21: 1층사무실
A22: 휴게실 | B22: 1인용 쇼파 | C22: 850*830*850 | D22: EA | E22: 2 | F22: 253000 | G22: =E22*F22 -> 506000 | H22: 지하1층 방호원실
B23: 3인용 쇼파 | C23: 1830*830*850 | D23: EA | E23: 1 | F23: 443000 | G23: =E23*F23 -> 443000 | H23: 지하1층 방호원실
B24: 차탁자 | C24: 1200*600*450 | D24: EA | E24: 1 | F24: 249500 | G24: =E24*F24 -> 249500 | H24: 지하1층 방호원실
A25: 휴게실 | B25: 이불장 | C25: 800*600*2100 | D25: EA | E25: 2 | F25: 198000 | G25: =E25*F25 -> 396000 | H25: 지상1층 휴게실내
B26: 옷장 | C26: 800*600*2100 | D26: EA | E26: 2 | F26: 206500 | G26: =E26*F26 -> 413000 | H26: 지상1층 휴게실내
A27: 회의실 | B27: 회의테이블 | C27: 1500*750*712 | D27: EA | E27: 6 | F27: 424000 | G27: =E27*F27 -> 2544000 | H27: 지상1층
B28: 회의테이블 | C28: 1000*750*712 | D28: EA | E28: 1 | F28: 282400 | G28: =E28*F28 -> 282400 | H28: 지상1층
B29: 90도 코너상판 | C29: 800*800*50 | D29: EA | E29: 2 | F29: 220000 | G29: =E29*F29 -> 440000 | H29: 지상1층
B30: 의자 | C30: 각종 | D30: EA | E30: 13 | F30: 299000 | G30: =E30*F30 -> 3887000 | H30: 지상1층
A31: 락카룸 | B31: 3인용락카 | C31: 900*600*1900 | D31: EA | E31: 6 | F31: 230000 | G31: =E31*F31 -> 1380000 | H31: 남 지상1층
B32: 2인용락카 | C32: 600*600*1900 | D32: EA | E32: 4 | F32: 205000 | G32: =E32*F32 -> 820000 | H32: 여 지상1층
A33: 전산실 | B33: 사무용 책상 | C33: 1400*700*719 | D33: EA | E33: 2 | F33: 252500 | G33: =E33*F33 -> 505000 | H33: 지상1층
B34: 보조책상 | C34: 1400*700*719 | D34: EA | E34: 1 | F34: 167800 | G34: =E34*F34 -> 167800 | H34: 지상1층
B35: 사무용 의자 | C35: 각종 | D35: EA | E35: 2 | F35: 190200 | G35: =E35*F35 -> 380400 | H35: 지상1층
B36: 3단서랍박스 | C36: 402*560*658 | D36: EA | E36: 2 | F36: 180500 | G36: =E36*F36 -> 361000 | H36: 지상1층
B37: 3단책장 | C37: 800*419*1162 | D37: EA | E37: 2 | F37: 129000 | G37: =E37*F37 -> 258000 | H37: 지상1층
A38: 방호원실 | B38: 사무용 책상 | C38: 1400*700*719 | D38: EA | E38: 2 | F38: 252500 | G38: =E38*F38 -> 505000 | H38: 지상1층
B39: 사무용 의자 | C39: 각종 | D39: EA | E39: 2 | F39: 190200 | G39: =E39*F39 -> 380400 | H39: 지상1층
B40: 3단서랍박스 | C40: 402*560*658 | D40: EA | E40: 2 | F40: 180500 | G40: =E40*F40 -> 361000 | H40: 지상1층
B41: 3단책장 | C41: 800*419*1162 | D41: EA | E41: 2 | F41: 129000 | G41: =E41*F41 -> 258000 | H41: 지상1층
...

Sheet 운반장치
A1: 국립생태원 전기카트 현황
A2: 연번 | B2: 용도 | C2: 차종 | D2: 차명 | E2: 연식 | F2: 차량번호 | G2: 관리부서 | H2: 취득방법 | I2: 임차(구매)금액 | J2: 용도 | K2: 최고속도 | L2: 운행시간(일일 평균운행시간) | M2: 이용대상 | N2: 비고
A3: 1 | B3: 업무용 | C3: 전기셔틀버스 | D3: 14인승, 5kw | E3: 13/7 | F3: 전기유틸버스1 | G3: 전시기획부 | H3: 소유 | I3: 44600000 | J3: 관람객 운송용 | K3: 45km/h | M3: 전관람객 | N3: 대형5호
A4: 2 | B4: 업무용 | C4: 전기셔틀버스 | D4: 14인승, 5kw | E4: 13/7 | F4: 전기유틸버스2 | G4: 전시기획부 | H4: 소유 | I4: 44600000 | J4: 관람객 운송용 | K4: 45km/h | M4: 전관람객 | N4: 대형6호
A5: 3 | B5: 업무용 | C5: 전기셔틀버스 | D5: 29인승, 10kw | E5: 15/5 | F5: 전기유틸버스3 | G5: 전시기획부 | H5: 소유 | I5: 49750000 | J5: 관람객 운송용 | K5: 35km/h | M5: 전관람객 | N5: 대형1호
A6: 4 | B6: 업무용 | C6: 전기셔틀버스 | D6: 29인승, 10kw | E6: 15/5 | F6: 전기유틸버스4 | G6: 전시기획부 | H6: 소유 | I6: 49750000 | J6: 관람객 운송용 | K6: 35km/h | M6: 전관람객 | N6: 대형2호
A7: 5 | B7: 업무용 | C7: 전기셔틀버스 | D7: 29인승, 10kw | E7: 14/12 | F7: 전기유틸버스5 | G7: 전시기획부 | H7: 소유 | I7: 59450000 | J7: 관람객 운송용 | K7: 35km/h | M7: 전관람객 | N7: 대형3호
A8: 6 | B8: 업무용 | C8: 전기셔틀버스 | D8: 29인승, 10kw | E8: 14/12 | F8: 전기유틸버스6 | G8: 전시기획부 | H8: 소유 | I8: 59450000 | J8: 관람객 운송용 | K8: 35km/h | M8: 전관람객 | N8: 대형4호
A9: 7 | B9: 업무용 | C9: 전기유틸리티차 | D9: 8인승, 4.5kw | E9: 13/7 | F9: 전기유틸1 | G9: 전시기획부 | H9: 소유 | I9: 14850000 | J9: 부상자 후송 및 순찰 | K9: 15km/h | M9: 관리자 | N9: 1호
A10: 8 | B10: 업무용 | C10: 전기유틸리티차 | D10: 5인승, 4.5kw | E10: 13/7 | F10: 전기유틸2 | G10: 동물병원부 | H10: 소유 | I10: 14300000 | M10: 관리자 | N10: 2호
A11: 9 | B11: 업무용 | C11: 전기유틸리티차 | D11: 2인승, 4.5kw, 롱데크500kg | E11: 13/7 | F11: 전기유틸3 | G11: 동물관리부 | H11: 소유 | I11: 14850000 | M11: 관리자 | N11: 3호
A12: 10 | B12: 업무용 | C12: 전기유틸리티차 | D12: 2인승, 4.5kw, 롱데크500kg | E12: 13/7 | F12: 전기유틸4 | G12: 온실식물부 | H12: 소유 | I12: 14850000 | M12: 관리자 | N12: 4호
A13: 11 | B13: 업무용 | C13: 전기유틸리티차 | D13: 2인승, 4.5kw, 롱데크500kg | E13: 13/7 | F13: 전기유틸5 | G13: 시설관리부 | H13: 소유 | I13: 14850000 | M13: 관리자 | N13: 5호
A14: 12 | B14: 업무용 | C14: 전기유틸리티차 | D14: 2인승, 4.5kw, 롱데크500kg | E14: 13/7 | F14: 전기유틸6 | G14: 야외식물부 | H14: 소유 | I14: 15000000 | M14: 관리자 | N14: 6호
A15: 13 | B15: 업무용 | C15: 전기유틸리티차 | D15: 5인승, 4.5kw | E15: 14/6 | F15: 전기유틸7 | G15: 생태정보연구부 | H15: 소유 | I15: 15950000 | M15: 관리자 | N15: 7호
A16: 14 | B16: 업무용 | C16: 전기유틸리티차 | D16: 5인승, 4.5kw | E16: 14/4 | F16: 전기유틸1 | G16: 교육운영부 | H16: 소유 | I16: 16445000 | M16: 관리자 | N16: 8호
A17: 15 | B17: 업무용 | C17: 전기유틸리티차 | D17: 8인승, 4.5kw | E17: 14/4 | F17: 전기유틸2 | G17: 교육운영부 | H17: 소유 | I17: 17545000 | M17: 관리자 | N17: 9호
A18: 16 | B18: 업무용 | C18: 전기트럭카트 | D18: 2인승, 6.5kw | E18: 14/6 | F18: 전기트럭 | G18: 야외식물부 | H18: 소유 | I18: 20790000 | M18: 관리자 | N18: 10호
A19: 17 | B19: 업무용 | C19: 전기유틸리티차 | D19: 5인승, 4.5kw | E19: 14/10 | F19: 전기유틸2 | G19: 전시기획부 | H19: 소유 | I19: 14300000 | J19: 부상자 후송 및 순찰 | K19: 15km/h | M19: 관리자 | N19: 11호
A20: 18 | B20: 업무용 | C20: 전기유틸리티차 | D20: 8인승, 4.5kw | E20: 13/6 | F20: 전기유틸@ | G20: 홍보부 | H20: 소유 | I20: 17160000 | J20: 기자 및 내외빈용 | K20: 50km/h | M20: 직원 및 내빈용 | N20: 12호
A21: 19 | B21: 업무용 | C21: 전기유틸리티차 | D21: 5인승, 4.5kw | E21: 14/12 | F21: 전기유틸 | G21: 동물관리부 | H21: 소유 | I21: 16720000 | M21: 관리자 | N21: 13호
A22: 총계 | I22: =SUM(I3:I21) -> 515210000

Sheet 정보통신장비
A1: 정보통신설비
A3: 연번 | B3: 구분 | C3: 품명 | D3: 규 격 | E3: 수 량 | F3: 단 가 | G3: 금 액 | H3: 설치위치 | I3: 비 고
G4: =SUM(G5:G39) -> 1907504000
A5: 1 | B5: 서버 | C5: 홈페이지 WEB서버 | D5: DL360p | E5: 2 | F5: 7000000 | G5: 14000000 | H5: 본관 전산실
A6: 2 | B6: 서버 | C6: 홈페이지 WAS | D6: DL360p | E6: 2 | F6: 7000000 | G6: 14000000 | H6: 본관 전산실
A7: 3 | B7: 서버 | C7: DNS | D7: DL320e | E7: 1 | F7: 7000000 | G7: 7000000 | H7: 본관 전산실
A8: 4 | B8: 서버 | C8: 메일서버 | D8: x3550M4 | E8: 1 | F8: 6000000 | G8: 6000000 | H8: 본관 전산실
A9: 5 | B9: 서버 | C9: 전시도서정보 서버 | D9: DL360p | E9: 1 | F9: 9000000 | G9: 9000000 | H9: 본관 전산실
A10: 6 | B10: 서버 | C10: 전시어플서버 | D10: DL380G7 | E10: 1 | F10: 9000000 | G10: 9000000 | H10: 본관 전산실
A11: 7 | B11: 서버 | C11: 스팸서버 | D11: SmartFilter3.0 | E11: 1 | F11: 5500000 | G11: 5500000 | H11: 본관 전산실
A12: 8 | B12: 서버 | C12: 망연계 | D12: 자체 | E12: 2 | F12: 18000000 | G12: 36000000 | H12: 본관 전산실
A13: 9 | B13: 서버 | C13: 홈페이지 DB | D13: DL360p | E13: 1 | F13: 8600000 | G13: 8600000 | H13: 본관 전산실
A14: 10 | B14: 서버 | C14: 행정포털,동식물 | D14: x3250M4 | E14: 2 | F14: 5000000 | G14: 10000000 | H14: 본관 전산실
A15: 11 | B15: 서버 | C15: 행정포털,동식물 DB | D15: Power710 | E15: 1 | F15: 10000000 | G15: 10000000 | H15: 본관 전산실
A16: 12 | B16: 서버 | C16: 백업관리서버 백업테입라이브러리 | D16: x3550M4 SuperLoader3 | E16: 1 | F16: 12600000 | G16: 12600000 | H16: 본관 전산실
... A39: 35 | B39: 전자교환기 | C39: 전자교환기(1식) | D39: OffieceServ7600(본관), Ubigate IBG2016(에코리움), 서버(6식) | E39: 1 | F39: 136950000 | G39: 136950000 | H39: 본관 통신실

Sheet 서적
A1: 연번 | B1: 검수일 | C1: 서명 | D1: 저자 | E1: 출판사 | F1: 수량 | G1: 정가 | H1: 공급가 | I1: 비고
A2: 1 | B2: 20140326 | C2: 배스낚시 100문 1000답 | D2: 낚시춘추 | E2: 예조원 | F2: 1 | G2: 17000 | H2: 14450
A3: 2 | B3: 20140326 | C3: 특징으로 보는 한반도 민물고기 | D3: 이완옥, 노세윤 | E3: 지성사 | F3: 1 | G3: 40000 | H3: 34000
A4: 3 | B4: 20140326 | C4: 한국의 양서파충류 | D4: 김종범 | E4: 월드사이언스 | F4: 1 | G4: 21000 | H4: 17850
A5: 4 | B5: 20140326 | C5: 귀화식물 | D5: 국립수목원 | E5: 국립수목원 | F5: 1 | G5: 18700 | H5: 15895
A6: 5 | B6: 20140326 | C6: 한국 곤충 총 목록 | D6: 백운기 등 | E6: 자연과생태 | F6: 1 | G6: 80000 | H6: 68000
A7: 6 | B7: 20140326 | C7: 식물병해충도감 (상) | D7: 농촌진흥청 국립원예특작과학원 | E7: 학술편수관 | F7: 1 | G7: 70000 | H7: 59500
A8: 7 | B8: 20140326 | C8: 식물병해충도감 (하) | D8: 농촌진흥청 국립원예특작과학원 | E8: 학술편수관 | F8: 1 | G8: 70000 | H8: 59500
A9: 8 | B9: 20140326 | C9: 신 과수병해충도감 | D9: 농촌진흥청원예연구소 | E9: 농경과원예 | F9: 1 | G9: 100000 | H9: 85000
A10: 9 | B10: 20140326 | C10: 곤충, 크게 보고 색다르게 찾자! | D10: 김태우 | E10: 필통(FEELTONG) | F10: 1 | G10: 12000 | H10: 10200
A11: 10 | B11: 20140326 | C11: 펠릭스 가타리의 생태철학 | D11: 그물코 | E11: 그물코 | F11: 1 | G11: 5000 | H11: 4250
A12: 11 | B12: 20140326 | C12: 생태 관광론 | D12: Stephen Wearing, John Neil | E12: 한올출판사 | F12: 1 | G12: 20000 | H12: 17000
A13: 12 | B13: 20140326 | C13: 야생동물 생태 관리학 | D13: 이우신 | E13: 라이프사이언스 | F13: 1 | G13: 20000 | H13: 17000
... A44: 43 | B44: 20140326 | C44: 박물관의 전시해설가와 도슨트, 그들은 누구인가 | D44: 최석영 저 | E44: 민속원 | F44: 1 | G44: 6500 | H44: 5525
A45: 44 | B45: 20140326 | C45: 외국 미술 국내 전시 60년 | E45: 김달진미술자료박물관 | F45: 1 | G45: 33000 | H45: 28050
A46: 45 | B46: 20140326 | C46: 핸즈 온 전시 Hands-on Exhibitions | D46: 최석영 저 | E46: 민속원 | F46: 1 | G46: 7500 | H46: 6375
A47: 46 | B47: 20140326 | C47: 몰입을 부르는 체험형 전시콘텐츠 기획 | D47: 김은숙 저 | E47: 글누림 | F47: 1 | G47: 17000 | H47: 14450
A48: 47 | B48: 20140326 | C48: 위대한 전시는 어떻게 탄생하는가? | D48: 폴라 마린콜라 저 | E48: 미메시스 | F48: 1 | G48: 16000 | H48: 13600
A49: 48 | B49: 20140326 | C49: 전시를 디자인하다 designing exhibitions | D49: 베트론 외 | E49: 기문당 | F49: 1 | G49: 28000 | H49: 23800
A50: 49 | B50: 20140326 | C50: 전시디자인 가이드 EXHIBITION DESIGN GUIDE OF MUSEUM | D50: 최준혁 저 | E50: 미세움 | F50: 1 | G50: 27000 | H50: 22950
A51: 50 | B51: 20140326 | C51: 정보 디자인 교과서 | D51: 오병근 외 | E51: 안그라픽스 | F51: 1 | G51: 23000 | H51: 19550
A52: 51 | B52: 20140326 | C52: 에코시스템 브랜드 | E52: 모라비안유니타스 | F52: 1 | G52: 23000 | H52: 19550
A53: 52 | B53: 20140326 | C53: 물속 생물 도감 | D53: 권순직 | E53: 자연과생태 | F53: 1 | G53: 55000 | H53: 46750
A54: 53 | B54: 20140326 | C54: 한국의 수서곤충 | D54: 권순직 | E54: 생태조사단 | F54: 1 | G54: 50000 | H54: 42500
A55: 54 | B55: 20140326 | C55: 한국 잠자리 유충 | D55: 정광수 | E55: 자연과생태 | F55: 1 | G55: 98000 | H55: 83300
A56: 55 | B56: 20140326 | C56: 하천생태계와 담수무척추동물 | D56: 김명철 | E56: 지오북 | F56: 1 | G56: 45000 | H56: 38250
A57: 56 | B57: 20140326 | C57: 쉽게 풀어 쓴 생물통계학 | D57: 박태성(옮김) | E57: 교보문고 | F57: 1 | G57: 20000 | H57: 17000
A58: 57 | B58: 20140326 | C58: 한국의 외래ㆍ귀화 식물 | D58: 박수현 | E58: 대원사 | F58: 1 | G58: 8500 | H58: 7225
A59: 58 | B59: 20140326 | C59: 핵심생태학 | D59: 정연숙(옮김) | E59: 월드사이언스 | F59: 1 | G59: 28000 | H59: 23800
A60: 59 | B60: 20140326 | C60: 식물사회학적 식생조사와 평가방법 | D60: 김종원 | E60: 월드사이언스 | F60: 1 | G60: 25000 | H60: 21250
A61: 60 | B61: 20140326 | C61: 한국 식물 생태 보감 | D61: 김종원 | E61: 자연과생태 | F61: 1 | G61: 75000 | H61: 63750
A62: 61 | B62: 20140326 | C62: 식물 민속 박물지 | D62: 최영전 | E62: 아카데미서적 | F62: 1 | G62: 75000 | H62: 63750
A63: 62 | B63: 20140326 | C63: 한국 조경 식물 소재도감 | D63: 오구균 등 | E63: 광일문화사 | F63: 1 | G63: 60000 | H63: 51000
A64: 63 | B64: 20140326 | C64: 민족전통식물학 | D64: 김현, 송미장 | E64: 월드사이언스 | F64: 1 | G64: 20000 | H64: 17000
... A1438: 1437 | B1438: 20141223 | C1438: 자연환경 보전복원관리 | D1438: 김보미 외 | E1438: 보문당 | F1438: 1 | G1438: 36000 | H1438: 28969.2
A1439: 1438 | B1439: 20141223 | C1439: 하드씽 | D1439: 벤 호로위츠 | E1439: 36.5 | F1439: 1 | G1439: 17000 | H1439: 13679.9
A1440: 1439 | B1440: 20141223 | C1440: 빅 데이터@워크 | D1440: 토머스 H. 데이븐포트 | E1440: 21세기북스 | F1440: 1 | G1440: 16000 | H1440: 12875.2
A1441: 1440 | B1441: 20141223 | C1441: 미학과 창의경영 | D1441: 임태승 | E1441: B2 | F1441: 1 | G1441: 15000 | H1441: 12070.5
A1442: 1441 | B1442: 20141223 | C1442: 베끼려면 제대로 베껴라 | D1442: 이노우에 다쓰히코 | E1442: SEEDPAPER | F1442: 1 | G1442: 13000 | H1442: 10461.1
A1443: 1442 | B1443: 20141223 | C1443: 더 시너지(카네기 강사 유길문의) | D1443: 유길문 | E1443: 가림출판사 | F1443: 1 | G1443: 14000 | H1443: 11265.8
...

Sheet Sheet1
