Workbook

Sheet 겉표지
A1: =표지!A1 -> 견 적 서 | Z1: 견적가로형식-1
C18: 件 名: | D18: =표지!C13 -> 국립생태원 온실식물부 전력증설공사
C20: 提 出 處: | D20: =표지!C4 -> 국립생태원 貴下
C22: 提 出 日: | D22: =표지!C6 -> 2018년 10월 31일
D36: =표지!I3 -> 0
D37: =표지!I4 -> 0
D38: =표지!I5 -> 0
D39: =표지!I6 -> 0
D40: =표지!I7 -> 0
D41: =표지!I8 -> 0
D42: =표지!I9 -> 0
D43: =표지!I10 -> 0
D44: =표지!I11 -> 0
D45: =표지!I12
D46: =표지!I13

Sheet 표지
A1: 견 적 서
B4: 제 출 처: | C4: 국립생태원 貴下
B6: 제 출 일: | C6: 2018년 10월 31일
B8: 아래와 같이 見積書를 제출합니다.
B13: 공 사 명: | C13: 국립생태원 온실식물부 전력증설공사
B15: 공사금액: | C15: ="일금"&NUMBERSTRING(F40,1)&"원정("&DOLLAR(F40,0)&")" -> 일금영원정(₩0)
B17: 내 용 | D17: 단위 | E17: 수량 | F17: 금 액 | H17: 비 고 | M17: 요율 | N17: 금액 | O17: 이윤 | P17: 끝자리맞추기
B18: 재 료 비 | D18: 식 | E18: 1 | F18: =옵션!$B$2 -> 0 | N18: =E18*F18 -> 0
B19: 노 무 비 | D19: 식 | E19: 1 | F19: =옵션!$C$2 -> 0 | N19: =E19*F19 -> 0
B20: 간 접 노 무 비 | D20: 식 | E20: 1 | F20: =TRUNC((F19)*M20/100) -> 0 | H20: (직접 노무비) * 7.9 % | M20: 7.9 | N20: =E20*F20 -> 0
B21: ( 소 계 ) | F21: =SUM(F18:F20) -> 0 | N21: =E21*F21 -> 0
B22: 산 재 보 험 료 | D22: 식 | E22: 1 | F22: =TRUNC((F19+F20)*M22/100) -> 0 | H22: (노무비) * 4.05 % | M22: 4.05 | N22: =E22*F22 -> 0
B23: 고 용 보 험 료 | D23: 식 | E23: 1 | F23: =TRUNC((F19+F20)*M23/100) -> 0 | H23: (노무비) * 0.87 % | M23: 0.87 | N23: =E23*F23 -> 0
B24: 기 타 경 비 | D24: 식 | E24: 1 | F24: =TRUNC((F21)*M28/100) -> 0 | H24: (재료+노무) * 5.5 % | M24: 1.7 | N24: =E24*F24 -> 0
M25: 2.49 | N25: =E25*F25 -> 0
M26: 2.3 | N26: =E26*F26 -> 0
M27: 2.93 | N27: =E27*F27 -> 0
M28: 3.3 | N28: =E28*F28 -> 0
M29: 7.38 | N29: =E29*F29 -> 0
B30: ( 소 계 ) | F30: =SUM(F22:F29) -> 0 | N30: =E30*F30 -> 0
B31: 일 반 관 리 비 | D31: 식 | E31: 1 | F31: =TRUNC((F21+F30)*M31/100) -> 0 | H31: (재료+노무+경비) * 6 % | M31: 6 | N31: =E31*F31 -> 0
B32: 이 윤 | D32: 식 | E32: 1 | F32: =O32-((SUM(N18:N31)+O32-TRUNC((SUM(N18:N31)+O32)/P32)*P32)) -> 0 | H32: (노무+경비+일반관리비) * 15 % | M32: 15 | N32: =E32*F32 -> 0 | O32: =TRUNC((F19+F20+F30+F31)*M32/100) -> 0 | P32: 10000
B33: ( 총 원 가 ) | F33: =SUM(N18:N32) -> 0 | N33: =E33*F33 -> 0
B34: 부 가 가 치 세 | D34: 식 | E34: 1 | F34: =TRUNC((F33)*M34/100) -> 0 | M34: 10 | N34: =E34*F34 -> 0
N35: =E35*F35 -> 0
N36: =E36*F36 -> 0
N37: =E37*F37 -> 0
N38: =E38*F38 -> 0
N39: =E39*F39 -> 0
B40: ( 총 계 ) | F40: =N40 -> 0 | N40: =SUM(N18:N39) -> 0

Sheet 원가
A1: 원 가 계 산 서
A3: 공사명: | C3: 국립생태원 온실식물부 전력증설공사
A4: 비 목 | C4: 구 분 | D4: 금 액 | E4: 구 성 비 | I4: 요율 | J4: 수량 | K4: 금액 | L4: 이윤 | M4: 끝자리 맞추기
B5: 재 료 비 | C5: 직 접 재 료 비 | D5: =옵션!$B$2 -> 0 | J5: 1 | K5: =D5*J5 -> 0
C6: 간 접 재 료 비 | K6: =D6*J6 -> 0
C7: ( 소 계 ) | D7: =SUM(D5:D6) -> 0 | K7: =D7*J7 -> 0
A8: 순 | B8: 노 무 비 | C8: 직 접 노 무 비 | D8: =옵션!$C$2 -> 0 | J8: 1 | K8: =D8*J8 -> 0
C9: 간 접 노 무 비 | D9: =TRUNC((D8)*I9/100) -> 0 | E9: (직접 노무비) * 7.9 % | I9: 7.9 | J9: 1 | K9: =D9*J9 -> 0
C10: ( 소 계 ) | D10: =SUM(D8:D9) -> 0 | K10: =D10*J10 -> 0
C11: 산 재 보 험 료 | D11: =TRUNC((D10)*I11/100) -> 0 | E11: (노무비) * 4.05 % | I11: 4.05 | J11: 1 | K11: =D11*J11 -> 0
C12: 고 용 보 험 료 | D12: =TRUNC((D10)*I12/100) -> 0 | E12: (노무비) * 0.87 % | I12: 0.87 | J12: 1 | K12: =D12*J12 -> 0
A13: 공 | C13: 기 타 경 비 | D13: =TRUNC((D7+D10)*I15/100) -> 0 | E13: (재료+노무) * 5.5 % | I13: 2.3 | J13: 1 | K13: =D13*J13 -> 0
B14: 경 | I14: 2.93 | J14: 1 | K14: =D14*J14 -> 0
I15: 3.3 | J15: 1 | K15: =D15*J15 -> 0
I16: 1.7 | J16: 1 | K16: =D16*J16 -> 0
I17: 2.49 | J17: 1 | K17: =D17*J17 -> 0
A18: 사 | I18: 7.38 | J18: 1 | K18: =D18*J18 -> 0
K19: =D19*J19 -> 0
K20: =D20*J20 -> 0
K21: =D21*J21 -> 0
B22: 비 | K22: =D22*J22 -> 0
A23: 비 | K23: =D23*J23 -> 0
K24: =D24*J24 -> 0
K25: =D25*J25 -> 0
C26: ( 소 계 ) | D26: =SUM(D11:D25) -> 0 | K26: =D26*J26 -> 0
A27: 일 반 관 리 비 | D27: =TRUNC((D7+D10+D26)*I27/100) -> 0 | E27: (재료+노무+경비) * 6 % | I27: 6 | J27: 1 | K27: =D27*J27 -> 0
A28: 이 윤 | D28: =L28-((SUM(K5:K27)+L28-TRUNC((SUM(K5:K27)+L28)/M28)*M28)) -> 0 | E28: (노무+경비+일반관리비) * 15 % | I28: 15 | J28: 1 | K28: =D28*J28 -> 0 | L28: =TRUNC((D10+D26+D27)*I28/100) -> 0 | M28: 10000
A29: ( 총 원 가 ) | D29: =SUM(K5:K28) -> 0 | K29: =D29*J29 -> 0
A30: 부 가 가 치 세 | D30: =TRUNC((D29)*I30/100) -> 0 | I30: 10 | J30: 1 | K30: =D30*J30 -> 0
K31: =D31*J31 -> 0
K32: =D32*J32 -> 0
K33: =D33*J33 -> 0
K34: =D34*J34 -> 0
A35: ( 총 계 ) | D35: =K35 -> 0 | K35: =SUM(K5:K34) -> 0

Sheet 총괄표
B1: 29 | D1: [ 국립생태원 온실식물부 전력증설공사 ] | AA1: 연속견적가로형식
A2: 번호 | B2: 공종코드 | C2: … | D2: 공 종 명 | E2: 규격 | F2: 단위 | G2: 수량 | H2: 재료비 | J2: 노무비 | M2: 경비 | P2: 계 | Q2: 비고
H3: 단가 | I3: 금액 | J3: 수량 | K3: 단가 | L3: 금액 | M3: 단가 | N3: 금액 | O3: 단가
B4: 공종줄 | D4: 국립생태원 온실식물부 전력증설공사
B5: 01 | D5: 1. 전기공사 | F5: 식 | G5: 1 | H5: =내역서!I29 -> 0 | I5: =G5*H5 -> 0 | K5: =내역서!L29 -> 0 | L5: =G5*K5 -> 0 | M5: =내역서!N29 -> 0 | N5: =G5*M5 -> 0 | O5: =IF((H5+K5+M5)=0, "", (H5+K5+M5)) | P5: =SUM(I5,L5,N5) -> 0
C29: Total | D29: ( 합 계 ) | I29: =TRUNC(SUM(I4:I28)) -> 0 | L29: =TRUNC(SUM(L4:L28)) -> 0 | N29: =TRUNC(SUM(N4:N28)) -> 0 | P29: =TRUNC(SUM(P4:P28)) -> 0

Sheet 내역서
B1: 29 | D1: [ 국립생태원 온실식물부 전력증설공사 ] | W1: 노임 계산 정보 | AA1: 부속재 및 손료
A2: 번호 | B2: 공종코드 | C2: 코드 | D2: 명 칭 | E2: 규 격 | F2: 단위 | G2: 수량 | H2: 재료비 | J2: 노무비 | M2: 경비 | P2: 계 | Q2: 비고 | W2: 노임계 | X2: 전체(%) | Y2: 공종별(%) | Z2: 노임 소수 | AA2: CD배관재 | AB2: 일반배관재 | AC2: 소모재 | AD2: 자재계 | AE2: 노임계
H3: 단가 | I3: 금액 | J3: 수량 | K3: 단가 | L3: 금액 | M3: 단가 | N3: 금액 | O3: 단가 | AD3: =IF(옵션!$C$11 =0, "1", 옵션!$C$11) -> 1000 | AE3: =IF(옵션!$C$12 =0, "1", 옵션!$C$12) -> 1000
B4: 공종줄 | D4: 1.전기공사
A5: E1450287514 | B5: 01 | C5: 2612162920683893 | D5: 폴리에틸렌 난연케이블 | E5: 0.6/1kv F-CV 1C×150㎟ | F5: M | G5: 1350 | I5: =TRUNC(G5*H5) -> 0 | J5: 1285 | L5: =TRUNC(G5*K5) -> 0 | M5: =합산자재!J4 -> 0 | N5: =TRUNC(G5*M5) -> 0 | O5: =IF((H5+K5+M5)=0, "", (H5+K5+M5)) | P5: =SUM(I5,L5,N5) -> 0 | AC5: =G5*H5 -> 0
D6: 폴리에틸렌 난연케이블 | E6: 0.6/1kv F-CV 4C×6㎟ | F6: M | G6: 300 | I6: =TRUNC(G6*H6) -> 0 | P6: =SUM(I6,L6,N6) -> 0
A7: MM300015805 | B7: 01 | C7: 3912161620167063 | D7: 배선용차단기 | E7: 4P 225AF 225AT | F7: EA | G7: 1 | I7: =TRUNC(G7*H7) -> 0 | J7: 1 | L7: =TRUNC(G7*K7) -> 0 | M7: =합산자재!J6 -> 0 | N7: =TRUNC(G7*M7) -> 0 | O7: =IF((H7+K7+M7)=0, "", (H7+K7+M7)) | P7: =SUM(I7,L7,N7) -> 0
A8: E9400177008 | B8: 01 | C8: 3912143210033793 | D8: 러그단자 | E8: 동관단자 1 HOLE 150 ㎟ | F8: 개 | G8: 16 | I8: =TRUNC(G8*H8) -> 0 | J8: 16 | L8: =TRUNC(G8*K8) -> 0 | M8: =합산자재!J7 -> 0 | N8: =TRUNC(G8*M8) -> 0 | O8: =IF((H8+K8+M8)=0, "", (H8+K8+M8)) | P8: =SUM(I8,L8,N8) -> 0
A9: 61100338110 | B9: 01 | C9: 3912110120178369 | D9: 분전함 | E9: 연강, 자립형 | F9: 면 | G9: 1 | I9: =TRUNC(G9*H9) -> 0 | J9: 1 | L9: =TRUNC(G9*K9) -> 0 | M9: =합산자재!J5 -> 0 | N9: =TRUNC(G9*M9) -> 0 | O9: =IF((H9+K9+M9)=0, "", (H9+K9+M9)) | P9: =SUM(I9,L9,N9) -> 0 | Q9: 차단기 포함
D10: 분전함 | E10: 연강, | F10: 면 | G10: 14 | I10: =TRUNC(G10*H10) -> 0 | P10: =SUM(I10,L10,N10) -> 0
A11: A0100000000 | B11: 01 | C11: RENT000000000003 | D11: [ 소모 잡자재 ] | E11: 전선, 전선관의 2 % | F11: 식 | G11: 1 | I11: =H11 -> 0 | J11: 1 | L11: =TRUNC(G11*K11) -> 0 | N11: =TRUNC(G11*M11) -> 0 | O11: =IF((H11+K11+M11)=0, "", (H11+K11+M11)) | P11: =SUM(I11,L11,N11) -> 0 | AC11: =TRUNC(TRUNC(SUM(AC4:AC9))*옵션!$B$33/100) -> 0 | AD11: =TRUNC(SUM(I4:I9))+TRUNC(SUM(N4:N9)) -> 0
A12: 56900017016 | B12: 01 | C12: L001010101000075 | D12: 노 무 비 | E12: 내선전공 | F12: 인 | G12: 2 | I12: =TRUNC(G12*H12) -> 0 | J12: =노임근거!G10 -> 3 | L12: =TRUNC(G12*K12) -> 0 | M12: =합산자재!J8 -> 0 | N12: =TRUNC(G12*M12) -> 0 | O12: =IF((H12+K12+M12)=0, "", (H12+K12+M12)) | P12: =SUM(I12,L12,N12) -> 0 | AE12: =L12 -> 0
A13: 56900017076 | B13: 01 | C13: L001010101000078 | D13: 노 무 비 | E13: 저압케이블전공 | F13: 인 | G13: =노임근거!G11 -> 138 | H13: =합산자재!H9 -> 0 | I13: =TRUNC(G13*H13) -> 0 | J13: =노임근거!G11 -> 138 | L13: =TRUNC(G13*K13) -> 0 | M13: =합산자재!J9 -> 0 | N13: =TRUNC(G13*M13) -> 0 | O13: =IF((H13+K13+M13)=0, "", (H13+K13+M13)) | P13: =SUM(I13,L13,N13) -> 0 | AE13: =L13 -> 0
A14: A0300000000 | B14: 01 | C14: RENT000000000006 | D14: [ 공 구 손 료 ] | E14: 노무비의 3 % | F14: 식 | G14: 1 | I14: =TRUNC(G14*H14) -> 0 | J14: 1 | L14: =K14 -> 0 | N14: =TRUNC(G14*M14) -> 0 | O14: =IF((H14+K14+M14)=0, "", (H14+K14+M14)) | P14: =SUM(I14,L14,N14) -> 0
AC15: =TRUNC(AE15*옵션!$B$36/100) -> 0 | AD15: =TRUNC(SUM(L4:L13)) -> 0 | AE15: =TRUNC(SUM(AE4:AE14)) -> 0
B29: 합계줄 | D29: ( 합 계 ) | I29: =TRUNC(SUM(I4:I28)) -> 0 | L29: =TRUNC(SUM(L4:L28)) -> 0 | N29: =TRUNC(SUM(N4:N28)) -> 0 | P29: =TRUNC(SUM(P4:P28)) -> 0

Sheet 노임근거
B1: 29 | D1: [ 국립생태원 온실식물부 전력증설공사 ] - 노임 산출근거(2018년 하반기 노임) | AA1: 내선전공 | AB1: 저압케이블전공
A2: 번호 | B2: 공종코드 | C2: 코드 | D2: 명 칭 | E2: 규 격 | F2: 단위 | G2: 수량 | K2: 코드 | L2: 공량산출 | P2: 단 위 단 가 산 출 | S2: 품셈근거 | T2: 비고
G3: 결정수량 | H3: 할증 | I3: 산출수량 | J3: 재할% | L3: 명칭 | M3: 품셈 | N3: 할증% | O3: 공량 | P3: 단가 | Q3: 단위단가 | R3: 단위계
B4: 공종줄 | D4: 1.전기공사
B5: 01 | C5: 2612162920683893 | D5: 폴리에틸렌 난연케이블 | E5: 0.6/1kv F-CV 1C×150㎟ | F5: M | G5: =내역서!G5 -> 1350 | H5: =IF(I5<>0, G5-I5, "") -> 65 | I5: =내역서!J5 -> 1285 | J5: 5 | K5: 56900017076 | L5: 저압케이블전공 | M5: 0.097 | N5: 100 | O5: =IF(I5*M5=0, "", I5*M5*(N5/100)) -> 124.645 | Q5: =TRUNC(P5*M5*N5/100) -> 0 | S5: 전기5-11 | AB5: =O5 -> 124.645
D6: 폴리에틸렌 난연케이블 | E6: 0.6/1kv F-CV 4C×6㎟ | F6: M | G6: 285 | H6: =IF(I6<>0, G6-I6, "") -> -15 | I6: 300 | J6: 5 | K6: 56900017076 | L6: 저압케이블전공 | M6: 0.034 | N6: 100 | O6: =IF(I6*M6=0, "", I6*M6*(N6/100)) -> 10.2 | Q6: =TRUNC(P6*M6*N6/100) -> 0 | S6: 전기5-13 | AB6: =O6 -> 10.2
B7: 01 | C7: 3912161620167063 | D7: 배선용차단기 | E7: 4P 225AF 225AT | F7: EA | G7: =내역서!G7 -> 1 | H7: =IF(I7<>0, G7-I7, "") -> 0 | I7: =내역서!J7 -> 1 | K7: 56900017016 | L7: 내선전공 | M7: 0.611 | N7: 100 | O7: =IF(I7*M7=0, "", I7*M7*(N7/100)) -> 0.611 | Q7: =TRUNC(P7*M7*N7/100) -> 0 | S7: 전기5-19 | AA7: =O7 -> 0.611
B8: 01 | C8: 3912143210033793 | D8: 러그단자 | E8: 동관단자 1 HOLE 150 ㎟ | F8: 개 | G8: =내역서!G8 -> 16 | H8: =IF(I8<>0, G8-I8, "") -> 0 | I8: =내역서!J8 -> 16 | K8: 56900017076 | L8: 저압케이블전공 | M8: 0.204 | N8: 120 | O8: =IF(I8*M8=0, "", I8*M8*(N8/100)) -> 3.9168 | Q8: =TRUNC(P8*M8*N8/100) -> 0 | S8: 전기4-37 | AB8: =O8 -> 3.9168
B9: 01 | C9: 3912110120178369 | D9: 분전함 | E9: 연강 자립형 | F9: 면 | G9: =내역서!G9 -> 1 | H9: =IF(I9<>0, G9-I9, "") -> 0 | I9: =내역서!J9 -> 1 | K9: 56900017016 | L9: 내선전공 | M9: 3 | N9: 100 | O9: =IF(I9*M9=0, "", I9*M9*(N9/100)) -> 3 | Q9: =TRUNC(P9*M9*N9/100) -> 0 | S9: 전기5-4 | AA9: =O9 -> 3
B10: 01 | C10: L001010101000075 | D10: 노 무 비 | E10: 내선전공 | F10: 인 | G10: 3 | H10: =(옵션!$B$12*옵션!$B$41)/100 -> 100 | I10: =SUM(AA5:AA9) -> 3.611 | J10: =옵션!$C$41 -> 0 | O10: =IF(I10*M10=0, "", I10*M10*(N10/100)) | Q10: =TRUNC(P10*M10*N10/100) -> 0 | Z10: 노임계 | AA10: =SUM(AA5:AA9) -> 3.611 | AB10: =SUM(AB5:AB9) -> 138.7618
B11: 01 | C11: L001010101000078 | D11: 노 무 비 | E11: 저압케이블전공 | F11: 인 | G11: 138 | H11: =(옵션!$B$12*옵션!$B$41)/100 -> 100 | I11: =SUM(AB5:AB9) -> 138.7618 | J11: =옵션!$C$41 -> 0 | O11: =IF(I11*M11=0, "", I11*M11*(N11/100)) | Q11: =TRUNC(P11*M11*N11/100) -> 0

Sheet 단위일위대가
A1: 일위대가가 안 나왔나요!
B5: 일위대가를 나오게 하는 방법
B7: 1. 자료사전에서 데이터를 입력할 때 일위대가 데이터를 입력합니다.
B23: ※ 견적 또는 산출내역서에서 Tab키 두번 누른 대제목으로 자료찾기 화면의 일부 모습입니다.
B24: 좌측 첫번째 박스 하단의 일위대가를 선택하면 데이터의 일부가 일위대가로 만들어져 있습니다.
B26: 2. 관공서에서는 단일 자재 등도 모두 일위대가로 만들어야 하는 경우가 있습니다.
B28: ※ 이런 경우엔 완성된 견적 내용을 한꺼번에 일위대가로 만드는 기능을 사용하시면 됩니다.
B40: 프로그램 화면 우측 상단 [사용설명서] 버튼을 눌러 도움말 서비스의 일위대가-일위_108번을 보세요!
B68: ※ 단일자재 전부를 일위대가로 만드는 과정이 동영상으로도 제작되어 있습니다.
B70: 동영상은 이지테크 프르그램 상단 도움말 > 교육용 동영상 > XML파일 만들기를 보세요
B72: 동영상 바로보기

Sheet 합산자재
B1: 29 | C1: [ 국립생태원 온실식물부 전력증설공사 ] - 합산자재목록
A2: 번호 | B2: … | C2: 코드 | D2: 명 칭 | E2: 규 격 | F2: 단위 | G2: 수량 | H2: 재료비 | I2: 노무비 | J2: 경비 | K2: 지급비 | L2: 계 | M2: 비고
B4: E1450287514 | C4: 2612162920683893 | D4: 폴리에틸렌 난연케이블 | E4: 0.6/1kv F-CV 1C×150㎟ | F4: M | G4: 1350 | H4: =ROUNDDOWN(단가조사!G4*옵션!$D$11, 0) -> 15583 | L4: =SUM(H4,I4,J4) -> 15583
B5: 61100338110 | C5: 3912110120178369 | D5: 분전함 | E5: SUS문짝, 매입, 800x1850 | F5: 면 | G5: 1 | H5: =ROUNDDOWN(단가조사!G5*옵션!$D$11, 0) -> 799000 | L5: =SUM(H5,I5,J5) -> 799000
B6: MM300015805 | C6: 3912161620167063 | D6: 배선용차단기 | E6: 4P 225AF 225AT | F6: EA | G6: 1 | H6: =ROUNDDOWN(단가조사!G6*옵션!$D$11, 0) -> 253800 | L6: =SUM(H6,I6,J6) -> 253800
B7: E9400177008 | C7: 3912143210033793 | D7: 러그단자 | E7: 동관단자 1 HOLE 150 ㎟ | F7: 개 | G7: 16 | H7: =ROUNDDOWN(단가조사!G7*옵션!$D$11, 0) -> 4213 | L7: =SUM(H7,I7,J7) -> 4213
B8: 56900017016 | C8: L001010101000075 | D8: 노 무 비 | E8: 내선전공 | F8: 인 | G8: 4 | I8: =ROUNDDOWN(단가조사!G8, 0) -> 212226 | L8: =SUM(H8,I8,J8) -> 212226
B9: 56900017076 | C9: L001010101000078 | D9: 노 무 비 | E9: 저압케이블전공 | F9: 인 | G9: 129 | I9: =ROUNDDOWN(단가조사!G9, 0) -> 223581 | L9: =SUM(H9,I9,J9) -> 223581

Sheet 단가조사
B1: 33 | D1: [ 국립생태원 온실식물부 전력증설공사 ] - 단가조사서
A2: 번호 | B2: 공종코드 | C2: 코드 | D2: 명 칭 | E2: 규 격 | F2: 단위 | G2: 적용단가 | H2: 시설단가 | J2: 거래가격 | L2: 물가정보 | N2: 물가자료 | P2: 조사단가1 | R2: 조사단가2 | T2: 비고
H3: 단가 | I3: 코드 | J3: 단가 | K3: PAGE | L3: 단가 | M3: PAGE | N3: 단가 | O3: PAGE | P3: 단가 | Q3: PAGE | R3: 단가 | S3: PAGE
C4: 2612162920683893 | D4: 폴리에틸렌 난연케이블 | E4: 0.6/1kv F-CV 1C×150㎟ | F4: M | G4: 15583 | H4: 11842 | J4: 12413 | K4: 961 | L4: 15583 | M4: 690
C5: 3912110120178369 | D5: 분전함 | E5: SUS문짝, 매입, 800x1850 | F5: 면 | G5: 799000 | L5: 799000
C6: 3912161620167063 | D6: 배선용차단기 | E6: 4P 225AF 225AT | F6: EA | G6: 253800 | J6: 253800 | K6: 1039 | L6: 253800 | M6: 768771~
C7: 3912143210033793 | D7: 러그단자 | E7: 동관단자 1 HOLE 150 ㎟ | F7: 개 | G7: 4213 | H7: 2400 | J7: 4213 | K7: 986 | L7: 4213 | M7: 722
C8: L001010101000075 | D8: 노 무 비 | E8: 내선전공 | F8: 인 | G8: 212226
C9: L001010101000078 | D9: 노 무 비 | E9: 저압케이블전공 | F9: 인 | G9: 223581

Sheet 옵션
B1: 재료비 | C1: 노무비 | D1: 경비 | F1: 계
A2: 총 급 액 | B2: =총괄표!I29 -> 0 | C2: =총괄표!L29 -> 0 | D2: =총괄표!N29 -> 0 | F2: =SUM(B2,C2,D2) -> 0
A3: 관급 자재비 | F3: =SUM(B3,C3,D3) -> 0 | H3: 금액조정이 안되나요?
H6: 이지테크에서 변환할 때 2번 옵션을 지정하여 다시 해보세요
H9: 시트를 삭제할 때 에러가 뜨면 1번 옵션으로 하면 됩니다.
B10: 적용율(%) | C10: 끝자리 | D10: 적용율(%)/100 | E10: 일위대가소수
A11: 전체자재 적용율(%)(공종/일위대가) | B11: 100 | C11: 1000 | D11: =$B$11/100 -> 1
A12: 전체노임 적용율(%)(공종) | B12: 100 | C12: 1000 | D12: =$B$12/100 -> 1 | E12: 2 | H12: 2번 옵션으로 변환했을 때에는 결과값이 다를 수 있습니다.
A13: 전체노임 적용율(%)(일위대가) | B13: 100 | C13: 1 | D13: =$B$13/100 -> 1 | E13: 5
A20: *(그룹별 자재 단가 추가 할증)* | B20: 적용율(%) | D20: 적용율(%)/100
A21: Cable(CAB) 할증(%) | B21: =B11 -> 100 | D21: =$B$21/100 -> 1
A22: Wire (WIR) 할증(%) | B22: =B11 -> 100 | D22: =$B$22/100 -> 1
A23: Pipe (PIP) 할증(%) | B23: =B11 -> 100 | D23: =$B$23/100 -> 1
A24: 제 4그룹 할증(%) | B24: =B11 -> 100 | D24: =$B$24/100 -> 1
A25: 제 5그룹 할증(%) | B25: =B11 -> 100 | D25: =$B$25/100 -> 1
A30: *(그룹별 노임 추가 할증)* | B30: 적용율(%) | C30: 자동부속재(전기) | D30: 자동부속재(통신)
A31: 배관부속재(%) | B31: 15 | C31: 15 | D31: 20
A32: CD관부속재(%) | B32: 40 | C32: 40 | D32: 40
A33: 소모잡자재(%) | B33: 2 | H33: 본 파일은 이지테크에서 2번 옵션으로 만들었습니다.
A34: 방폭할증(%)
A35: 고소할증(%) | B35: 2
A36: 공구손료(%) | B36: 3
A40: *(공종별 노임 적용율(%))* | B40: 적용율(%) | C40: 소수자릿수
A41: 1. 전기공사 | B41: 100 | C41: 0

Sheet 사용설명
B1: ** 반드시 다음 사항을 숙지하신 다음 수정 작업을 하십시오 **
A2: 1. | B2: 속성이 숫자인 셀을 삭제할 때는 반드시 'Delete' 키를 사용하십시오.
B3: **주의:'Space Bar' 로 지웠을 때는 '#Value' Error가 발생됩니다.
A4: 2. | B4: 일위대가(을지)는 소수점 처리 때문에 셀 속성을 '일반'으로 하였습니다.(소수점 능동 처리)
B5: **참고: (수량*단가)의 결과는 소수 한자리, 금액을 취합한 소계는 1원 이하 절사입니다.
A6: 3. | B6: 내역서에서는 수량에만 셀 속성을 '일반'으로 하였습니다.(소수점 능동 처리)
A7: 4. | B7: 단가수정은 '단가조사서'시트 에서 하십시오.
B8: a)표지와 원가 -> 총괄표 -> 내역서 ->일위대가와 합산자재 ->단가조사서 를 참조하고
B9: 있으므로 단가조사서의 결정단가를 수정하면 전체 금액이 갱신됩니다.
B10: **주의: 금액란은 공식이 걸려있으므로 조심하여 수정하십시오.
B11: b)전체 자재를 일정 요율(%)로 변경할 때는 옵션시트의 자재 적용율을 조정하면 됩니다.
A12: 5. | B12: 노임 단가는 '단가조사서'시트에서 품셈은 '노임근거'시트에서 수정하십시오.
B13: a)전체 노임을 일정 요율(%)로 변경할 때는 '옵션시트'의 전체노임 적용율을 조정하면 됩니다.
B14: b)공종별로 노임을 수정하려면 '옵션시트'의 공종별 노임 적용율을 조정하면 됩니다.
B15: c)케이블 및 전선 자재 단가를 추가로 조정하려면 그룹별 자재 적용율을 조정하면 됩니다.
B16: 그룹은 견적 프로그램에서 엑셀파일이 만들어질때 지정됩니다.
A17: 6. | B17: 겉표지의 모든 정보는 표지를 참조하였습니다.(정보 수정은 표지에서만 하시면 됩니다.)
A18: 7. | B18: 필수 :본 프로그램의 총 금액을 확인한 후 사용하십시오.
A19: 8. | B19: 본 파일의 내용을 인쇄할 경우, 미리보기를 통하여 페이지 절선을 확인 후 인쇄하십시오.
A20: 9. | B20: 관급자재 Sheet가 해당이 없을 경우엔 삭제하십시오.
A21: 10. | B21: 페이지 절선이 맞지 않으면 다음을 참고하십시오.
B33: a. 해당시트의 셀 전체를 선택합니다.
B34: b. 행높이를 적절히 가감하면 페이지 절선을 맞출 수 있습니다.
