Workbook

Sheet 원가계산서
B1: 공 사 원 가 계 산 서
B2: 공사명 : 2017 생태교육 야외학습장 신축공사 | F2: 금액 : 이억사천사백일십삼만사천원(￦244,134,000)
B3: 비 목 | E3: 금 액 | F3: 구 성 비 | G3: 비 고
A4: A1 | B4: 순 공 사 원 가 | C4: 재 료 비 | D4: 직 접 재 료 비 | E4: =TRUNC(공종별집계표!F5, 0) -> 0
A5: A2 | D5: 간 접 재 료 비 | E5: 0
A6: A3 | D6: 작업설, 부산물(△) | E6: 0
A7: AS | D7: [ 소 계 ] | E7: =TRUNC(E4+E5-E6, 0) -> 0
A8: B1 | C8: 노 무 비 | D8: 직 접 노 무 비 | E8: =TRUNC(공종별집계표!H5, 0) -> 0
A9: B2 | D9: 간 접 노 무 비 | E9: =TRUNC(E8*0.097, 0) -> 0 | F9: 직접노무비 * 9.7%
A10: BS | D10: [ 소 계 ] | E10: =TRUNC(E8+E9, 0) -> 0
A11: C2 | C11: 경 비 | D11: 기 계 경 비 | E11: =TRUNC(공종별집계표!J5, 0) -> 0
A12: C4 | D12: 산 재 보 험 료 | E12: =TRUNC(E10*0.039, 0) -> 0 | F12: 노무비 * 3.9%
A13: C5 | D13: 고 용 보 험 료 | E13: =TRUNC(E10*0.87/100, 0) -> 0 | F13: 노무비 * 0.87%
A14: C6 | D14: 국민 건강 보험료 | E14: 1357263 | F14: 직접노무비 * 1.7%
A15: C7 | D15: 국민 연금 보험료 | E15: 1987991 | F15: 직접노무비 * 2.49%
A16: CB | D16: 노인장기요양보험료 | E16: =TRUNC(E14*0.0655, 0) -> 88900 | F16: 건강보험료 * 6.55%
A17: C8 | D17: 퇴직 공제 부금비 | E17: =TRUNC(E8*0.023, 0) -> 0 | F17: 직접노무비 * 2.3%
A18: CH | D18: 환 경 보 전 비 | E18: =TRUNC((E7+E8+E11)*0.005, 0) -> 0 | F18: (재료비+직노+기계경비) * 0.5%
A19: CG | D19: 기 타 경 비 | E19: =TRUNC((E7+E10)*0.048, 0) -> 0 | F19: (재료비+노무비) * 4.8%
A20: CK | D20: 하도급지급보증수수료 | E20: =TRUNC((E7+E8+E11)*0.00081, 0) -> 0 | F20: (재료비+직노+기계경비) * 0.081%
A21: CL | D21: 건설기계대여금지급보증서발급수수료 | E21: =TRUNC((E7+E8+E11)*0.0007, 0) -> 0 | F21: (재료비+직노+기계경비) * 0.07%
A22: CS | D22: [ 소 계 ]
A23: S1 | B23: 계
A24: D1 | B24: 일 반 관 리 비 | F24: 계 * 6%
A25: D2 | B25: 이 윤 | F25: (노무비+경비+일반관리비) * 10%
A26: D9 | B26: 공 급 가 액 | E26: 209640000
A27: DB | B27: 부 가 가 치 세 | E27: 20964000 | F27: 공급가액 * 10%
A28: DH | B28: 도 급 액 | E28: 230604000
A29: DK | B29: 관급자관급자재비 | E29: 13530000
A30: S2 | B30: 총 공 사 비 | E30: 244134000

Sheet 공종별집계표
A1: 공 종 별 집 계 표
A2: [ 2017 생태교육 야외학습장 신축공사 ]
A3: 품 명 | B3: 규 격 | C3: 단위 | D3: 수량 | E3: 재 료 비 | G3: 노 무 비 | I3: 경 비 | K3: 합 계 | M3: 비 고 | N3: 공종코드 | O3: 변수 | P3: 상위공종 | Q3: 공종구분 | R3: 공종레벨 | S3: 공종소계 | T3: 원가계산서 연결금액
E4: 단 가 | F4: 금 액 | G4: 단 가 | H4: 금 액 | I4: 단 가 | J4: 금 액 | K4: 단 가 | L4: 금 액
A5: 01 2017 생태교육 야외학습장 신축공사 | D5: 1 | E5: =F6+F21 -> 0 | F5: =E5*D5 -> 0 | G5: =H6+H21 -> 0 | H5: =G5*D5 -> 0 | I5: =J6+J21 -> 0 | J5: =I5*D5 -> 0 | K5: =E5+G5+I5 -> 0 | L5: =F5+H5+J5 -> 0 | N5: 01 | R5: 1
A6: 0101 【01】건축공사 | D6: 1 | E6: =F7+F8+F9+F10+F11+F12+F13+F14+F15+F16+F17+F18+F19+F20 -> 0 | F6: =E6*D6 -> 0 | G6: =H7+H8+H9+H10+H11+H12+H13+H14+H15+H16+H17+H18+H19+H20 -> 0 | H6: =G6*D6 -> 0 | I6: =J7+J8+J9+J10+J11+J12+J13+J14+J15+J16+J17+J18+J19+J20 -> 0 | J6: =I6*D6 -> 0 | K6: =E6+G6+I6 -> 0 | L6: =F6+H6+J6 -> 0 | N6: 0101 | P6: 01 | R6: 2
A7: 010101 가설공사 | D7: 1 | E7: =공종별내역서!F27 -> 0 | F7: =E7*D7 -> 0 | G7: =공종별내역서!H27 -> 0 | H7: =G7*D7 -> 0 | I7: =공종별내역서!J27 -> 0 | J7: =I7*D7 -> 0 | K7: =E7+G7+I7 -> 0 | L7: =F7+H7+J7 -> 0 | N7: 010101 | P7: 0101 | R7: 3
A8: 010102 토및지정공사 | D8: 1 | E8: =공종별내역서!F51 -> 0 | F8: =E8*D8 -> 0 | G8: =공종별내역서!H51 -> 0 | H8: =G8*D8 -> 0 | I8: =공종별내역서!J51 -> 0 | J8: =I8*D8 -> 0 | K8: =E8+G8+I8 -> 0 | L8: =F8+H8+J8 -> 0 | N8: 010102 | P8: 0101 | R8: 3
A9: 010103 철근콘크리트공사 | D9: 1 | E9: =공종별내역서!F75 -> 0 | F9: =E9*D9 -> 0 | G9: =공종별내역서!H75 -> 0 | H9: =G9*D9 -> 0 | I9: =공종별내역서!J75 -> 0 | J9: =I9*D9 -> 0 | K9: =E9+G9+I9 -> 0 | L9: =F9+H9+J9 -> 0 | N9: 010103 | P9: 0101 | R9: 3
A10: 010104 철골공사 | D10: 1 | E10: =공종별내역서!F123 -> 0 | F10: =E10*D10 -> 0 | G10: =공종별내역서!H123 -> 0 | H10: =G10*D10 -> 0 | I10: =공종별내역서!J123 -> 0 | J10: =I10*D10 -> 0 | K10: =E10+G10+I10 -> 0 | L10: =F10+H10+J10 -> 0 | N10: 010104 | P10: 0101 | R10: 3
A11: 010105 목공사 | D11: 1 | E11: =공종별내역서!F147 -> 0 | F11: =E11*D11 -> 0 | G11: =공종별내역서!H147 -> 0 | H11: =G11*D11 -> 0 | I11: =공종별내역서!J147 -> 0 | J11: =I11*D11 -> 0 | K11: =E11+G11+I11 -> 0 | L11: =F11+H11+J11 -> 0 | N11: 010105 | P11: 0101 | R11: 3
A12: 010106 방수공사 | D12: 1 | E12: =공종별내역서!F171 -> 0 | F12: =E12*D12 -> 0 | G12: =공종별내역서!H171 -> 0 | H12: =G12*D12 -> 0 | I12: =공종별내역서!J171 -> 0 | J12: =I12*D12 -> 0 | K12: =E12+G12+I12 -> 0 | L12: =F12+H12+J12 -> 0 | N12: 010106 | P12: 0101 | R12: 3
A13: 010107 홈통공사 | D13: 1 | E13: =공종별내역서!F195 -> 0 | F13: =E13*D13 -> 0 | G13: =공종별내역서!H195 -> 0 | H13: =G13*D13 -> 0 | I13: =공종별내역서!J195 -> 0 | J13: =I13*D13 -> 0 | K13: =E13+G13+I13 -> 0 | L13: =F13+H13+J13 -> 0 | N13: 010107 | P13: 0101 | R13: 3
A14: 010108 금속공사 | D14: 1 | E14: =공종별내역서!F219 -> 0 | F14: =E14*D14 -> 0 | G14: =공종별내역서!H219 -> 0 | H14: =G14*D14 -> 0 | I14: =공종별내역서!J219 -> 0 | J14: =I14*D14 -> 0 | K14: =E14+G14+I14 -> 0 | L14: =F14+H14+J14 -> 0 | N14: 010108 | P14: 0101 | R14: 3
A15: 010109 미장및도장공사 | D15: 1 | E15: =공종별내역서!F243 -> 0 | F15: =E15*D15 -> 0 | G15: =공종별내역서!H243 -> 0 | H15: =G15*D15 -> 0 | I15: =공종별내역서!J243 -> 0 | J15: =I15*D15 -> 0 | K15: =E15+G15+I15 -> 0 | L15: =F15+H15+J15 -> 0 | N15: 010109 | P15: 0101 | R15: 3
A16: 010110 창호및유리공사 | D16: 1 | E16: =공종별내역서!F267 -> 0 | F16: =E16*D16 -> 0 | G16: =공종별내역서!H267 -> 0 | H16: =G16*D16 -> 0 | I16: =공종별내역서!J267 -> 0 | J16: =I16*D16 -> 0 | K16: =E16+G16+I16 -> 0 | L16: =F16+H16+J16 -> 0 | N16: 010110 | P16: 0101 | R16: 3
A17: 010111 수장공사 | D17: 1 | E17: =공종별내역서!F291 -> 0 | F17: =E17*D17 -> 0 | G17: =공종별내역서!H291 -> 0 | H17: =G17*D17 -> 0 | I17: =공종별내역서!J291 -> 0 | J17: =I17*D17 -> 0 | K17: =E17+G17+I17 -> 0 | L17: =F17+H17+J17 -> 0 | N17: 010111 | P17: 0101 | R17: 3
A18: 010112 기타공사 | D18: 1 | E18: =공종별내역서!F315 -> 0 | F18: =E18*D18 -> 0 | G18: =공종별내역서!H315 -> 0 | H18: =G18*D18 -> 0 | I18: =공종별내역서!J315 -> 0 | J18: =I18*D18 -> 0 | K18: =E18+G18+I18 -> 0 | L18: =F18+H18+J18 -> 0 | N18: 010112 | P18: 0101 | R18: 3
A19: 010113 부대공사 | D19: 1 | E19: =공종별내역서!F339 -> 0 | F19: =E19*D19 -> 0 | G19: =공종별내역서!H339 -> 0 | H19: =G19*D19 -> 0 | I19: =공종별내역서!J339 -> 0 | J19: =I19*D19 -> 0 | K19: =E19+G19+I19 -> 0 | L19: =F19+H19+J19 -> 0 | N19: 010113 | P19: 0101 | R19: 3
A20: 010114 골재비 | D20: 1 | E20: =공종별내역서!F363 -> 0 | F20: =E20*D20 -> 0 | G20: =공종별내역서!H363 -> 0 | H20: =G20*D20 -> 0 | I20: =공종별내역서!J363 -> 0 | J20: =I20*D20 -> 0 | K20: =E20+G20+I20 -> 0 | L20: =F20+H20+J20 -> 0 | N20: 010114 | P20: 0101 | R20: 3
A21: 0102 【02】기계설비공사 | D21: 1 | F21: =E21*D21 -> 0 | H21: =G21*D21 -> 0 | J21: =I21*D21 -> 0 | K21: =E21+G21+I21 -> 0 | L21: =F21+H21+J21 -> 0 | N21: 0102 | P21: 01 | R21: 2
A22: 010201 관급자관급공사 | D22: 1 | E22: =공종별내역서!F387 -> 0 | F22: =E22*D22 -> 0 | G22: =공종별내역서!H387 -> 0 | H22: =G22*D22 -> 0 | I22: =공종별내역서!J387 -> 0 | J22: =I22*D22 -> 0 | K22: =E22+G22+I22 -> 0 | L22: =F22+H22+J22 -> 0 | N22: 010201 | Q22: 6 | R22: 3 | T22: =L22*1 -> 0
A27: [ 합 계 ] | F27: =F5 -> 0 | H27: =H5 -> 0 | J27: =J5 -> 0 | L27: =L5 -> 0

Sheet 공종별내역서
A1: [ 2017 생태교육 야외학습장 신축공사 ]
A2: 품 명 | B2: 규 격 | C2: 단위 | D2: 수량 | E2: 재 료 비 | G2: 노 무 비 | I2: 경 비 | K2: 합 계 | M2: 비 고 | N2: 품목코드 | O2: 변수 | P2: 설정 | Q2: 공종코드 | R2: 일위 | S2: 단산 | T2: 자재 | U2: 손료적용 | V2: 손료저장 | W2: 적용율 | X2: JUK1 | Y2: JUK2 | Z2: JUK3 | AA2: JUK4 | AB2: JUK5 | AC2: JUK6 | AD2: JUK7 | AE2: JUK8 | AF2: JUK9 | AG2: JUK10 | AH2: JUK11 | AI2: JUK12 | AJ2: JUK13 | AK2: JUK14 | AL2: JUK15 | AM2: JUK16 | AN2: JUK17 | AO2: JUK18 | AP2: JUK19 | AQ2: JUK20 | AR2: 자재구분 | AS2: 공종구분 | AT2: 공종레벨 | AU2: 공종+자재 | AV2: 고유번호
E3: 단 가 | F3: 금 액 | G3: 단 가 | H3: 금 액 | I3: 단 가 | J3: 금 액 | K3: 단 가 | L3: 금 액
A4: 010101 가설공사 | Q4: 010101
A5: 컨테이너형 가설건축물 - 사무실 | B5: 3.0*6.0*2.6m, 3개월 | C5: 개소 | D5: 1 | E5: =TRUNC(일위대가목록!E4,0) -> 0 | F5: =TRUNC(E5*D5, 0) -> 0 | G5: =TRUNC(일위대가목록!F4,0) -> 0 | H5: =TRUNC(G5*D5, 0) -> 0 | I5: =TRUNC(일위대가목록!G4,0) -> 0 | J5: =TRUNC(I5*D5, 0) -> 0 | K5: =TRUNC(E5+G5+I5, 0) -> 0 | L5: =TRUNC(F5+H5+J5, 0) -> 0 | N5: 5B6D56E6C833553F54E885FC89A53F | Q5: 010101 | R5: T | S5: F | T5: F | AU5: 0101015B6D56E6C833553F54E885FC89A53F | AV5: 8
A6: 컨테이너형 가설건축물 - 창고 | B6: 3.0*6.0*2.6m, 3개월 | C6: 개소 | D6: 1 | E6: =TRUNC(일위대가목록!E5,0) -> 0 | F6: =TRUNC(E6*D6, 0) -> 0 | G6: =TRUNC(일위대가목록!F5,0) -> 0 | H6: =TRUNC(G6*D6, 0) -> 0 | I6: =TRUNC(일위대가목록!G5,0) -> 0 | J6: =TRUNC(I6*D6, 0) -> 0 | K6: =TRUNC(E6+G6+I6, 0) -> 0 | L6: =TRUNC(F6+H6+J6, 0) -> 0 | N6: 5B6D56E6C8336633F494C563F3860E | Q6: 010101 | R6: T | S6: F | T6: F | AU6: 0101015B6D56E6C8336633F494C563F3860E | AV6: 9
A7: 수평 규준틀 | B7: 귀 | C7: 개소 | D7: 4 | N7: 5B6D56E520E3553494EFD5C55BDF9F | Q7: 010101 | R7: T | S7: F | T7: F | AU7: 0101015B6D56E520E3553494EFD5C55BDF9F | AV7: 7
A8: 강관비계 매기/쌍줄 | B8: 10m 이하 | C8: M2 | D8: 230 | N8: 5B6D56E520E35535A44C959CE22A8B | Q8: 010101 | R8: T | S8: F | T8: F | AU8: 0101015B6D56E520E35535A44C959CE22A8B | AV8: 4
A9: 강관 조립말비계(이동식) | B9: 높이 2m, 3개월 | C9: 대 | D9: 2 | N9: 5B6D56E520E35535A421F5DD078A6C | Q9: 010101 | R9: T | S9: F | T9: F | AU9: 0101015B6D56E520E35535A421F5DD078A6C | AV9: 6
A10: 건축물현장정리 | B10: 철골조 | C10: M2 | D10: 120 | N10: 5B6D56E0A053113A04D9D5149883EB | Q10: 010101 | R10: T | S10: F | T10: F | AU10: 0101015B6D56E0A053113A04D9D5149883EB | AV10: 10
A11: 거푸집 먹매김 | B11: 일반 | C11: M2 | D11: 120 | N11: 5B6D56E0A323B030C4BEC59DD3C00E | Q11: 010101 | R11: T | S11: F | T11: F | AU11: 0101015B6D56E0A323B030C4BEC59DD3C00E | AV11: 11
A12: 구조부 먹매김 | B12: 일반 | C12: M2 | D12: 120 | N12: 5B6D56E0A323B030C4BEC59DD3C697 | Q12: 010101 | R12: T | S12: F | T12: F | AU12: 0101015B6D56E0A323B030C4BEC59DD3C697 | AV12: 12
A13: 건축물 보양 - 콘크리트 | B13: 살수 | C13: M2 | D13: 240 | N13: 5B6D56E0A323B03394F485480FF4EE | Q13: 010101 | R13: T | S13: F | T13: F | AU13: 0101015B6D56E0A323B03394F485480FF4EE | AV13: 13
A27: [ 합 계 ] | N27: TOTAL
A28: 010102 토및지정공사 | Q28: 010102
A29: 터파기/토사 | B29: 보통, 유압식백호 0.7m3 90%, 인력10% | C29: M3 | D29: 103 | N29: 5B483673CD03F030145165C7A69C57 | Q29: 010102 | R29: F | S29: T | T29: F | AU29: 0101025B483673CD03F030145165C7A69C57 | AV29: 18
A30: 토사 운반/단지외 10km | B30: 보통, 덤프 15톤+백호0.7(고르기 별도) | C30: M3 | D30: 88 | N30: 5B4836707B33F23AF4E135B74C881F | Q30: 010102 | R30: F | S30: T | T30: F | AU30: 0101025B4836707B33F23AF4E135B74C881F | AV30: 19
A31: 되메우고 다지기(백호+래머) | B31: 토사, T=15cm | C31: M3 | D31: 15 | N31: 5B6D66CF30B3DD35F4800590CC2E94 | Q31: 010102 | R31: T | S31: F | T31: F | AU31: 0101025B6D66CF30B3DD35F4800590CC2E94 | AV31: 15
A32: 잡석깔기지정 | B32: 장비, 백호0.2m3+진동롤러(핸드가이드식) | C32: M3 | D32: 29 | N32: 5B6D76304013FF3714C7353CE050EE | Q32: 010102 | R32: T | S32: F | T32: F | AU32: 0101025B6D76304013FF3714C7353CE050EE | AV32: 16
A33: 방습필름 - 바닥 | B33: 폴리에틸렌필름, 두께, 0.03mm, 2겹 | C33: M2 | D33: 154 | N33: 5B6DB6482C43453A440DE5F5F392E9 | Q33: 010102 | R33: T | S33: F | T33: F | AU33: 0101025B6DB6482C43453A440DE5F5F392E9 | AV33: 17
A51: [ 합 계 ] | N51: TOTAL
A52: 010103 철근콘크리트공사 | Q52: 010103
A53: 레미콘 | B53: 25-24-15 | C53: M3 | D53: 90 | N53: 5C4036CFDDF33C386401755FF906CCF7064B3A | Q53: 010103 | R53: F | S53: F | T53: T | AU53: 0101035C4036CFDDF33C386401755FF906CCF7064B3A | AV53: 114
A54: 레미콘 | B54: 25-21-12 | C54: M3 | D54: 12 | N54: 5C4036CFDDF33C386401755FF906CCF7064A14 | Q54: 010103 | R54: F | S54: F | T54: T | AU54: 0101035C4036CFDDF33C386401755FF906CCF7064A14 | AV54: 116
A55: 레미콘 | B55: 25-18-08 | C55: M3 | D55: 9 | N55: 5C4036CFDDF33C386401755FF906CCF70758BB | Q55: 010103 | R55: F | S55: F | T55: T | AU55: 0101035C4036CFDDF33C386401755FF906CCF70758BB | AV55: 115
A56: 콘크리트 펌프차 타설(매트기초 등) | B56: 100m3 미만, 슬럼프 15cm, 양호(72.005M3) | C56: 회 | D56: 1 | N56: 5B6D066432C3503FF4CB75103B3E61 | Q56: 010103 | R56: F | S56: T | T56: F | AU56: 0101035B6D066432C3503FF4CB75103B3E61 | AV56: 190
A57: 콘크리트 펌프차 타설(벽,기둥,슬래브 등) | B57: 100m3 미만, 슬럼프 15cm, 양호(14.299M3) | C57: 회 | D57: 1 | N57: 5B6D066432C3503FF4E6558D41AEA1 | Q57: 010103 | R57: F | S57: T | T57: F | AU57: 0101035B6D066432C3503FF4E6558D41AEA1 | AV57: 170
A58: 콘크리트 펌프차 타설(벽,기둥,슬래브 등) | B58: 100m3 미만, 슬럼프 15cm, 양호(3.647M3) | C58: 회 | D58: 1 | N58: 5B6D066432C3503FF4E6558D41AEA2 | Q58: 010103 | R58: F | S58: T | T58: F | AU58: 0101035B6D066432C3503FF4E6558D41AEA2 | AV58: 171
A59: 콘크리트 펌프차 타설(무근, 진동기無) | B59: 100m3 미만, 슬럼프 8~12cm, 양호(매트기초 등)(9.466M3) | C59: 회 | D59: 1 | N59: 5B6D06643133EF3E942BE528257EC6 | Q59: 010103 | R59: F | S59: T | T59: F | AU59: 0101035B6D06643133EF3E942BE528257EC6 | AV59: 164
A60: 콘크리트 펌프차 타설(무근) | B60: 100m3 미만, 슬럼프 8~12cm, 양호(벽,기둥,슬래브 등)(12M3) | C60: 회 | D60: 1 | N60: 5B6D06643133EF3E940F35683127F1 | Q60: 010103 | R60: F | S60: T | T60: F | AU60: 0101035B6D06643133EF3E940F35683127F1 | AV60: 167
A61: 철근콘크리트용봉강 | B61: 이형봉강(SD300), D-10(D-6/데크면) | C61: TON | D61: 0.05 | N61: 5C4036CFDCE3A23804CD657CBE8CA8086B7BE4 | Q61: 010103 | R61: F | S61: F | T61: T | AU61: 0101035C4036CFDCE3A23804CD657CBE8CA8086B7BE4 | AV61: 168
A62: 철근콘크리트용봉강 | B62: 이형봉강(SD350/400), HD-10 | C62: TON | D62: 1.72 | N62: 5C4036CFDCE3A23804CD657CBE8CA80EF34024 | Q62: 010103 | R62: F | S62: F | T62: T | AU62: 0101035C4036CFDCE3A23804CD657CBE8CA80EF34024 | AV62: 117
A63: 철근콘크리트용봉강 | B63: 이형봉강(SD350/400), HD-13 | C63: TON | D63: 0.77 | N63: 5C4036CFDCE3A23804CD657CBE8CA80EF08B57 | Q63: 010103 | R63: F | S63: F | T63: T | AU63: 0101035C4036CFDCE3A23804CD657CBE8CA80EF08B57 | AV63: 118
A64: 철근콘크리트용봉강 | B64: 이형봉강(SD350/400), HD-16 | C64: TON | D64: 4.13 | N64: 5C4036CFDCE3A23804CD657CBE8CA80EF19248 | Q64: 010103 | R64: F | S64: F | T64: T | AU64: 0101035C4036CFDCE3A23804CD657CBE8CA80EF19248 | AV64: 119
... A66: 유로폼 설치 및 해체 | B66: 보통, 수직고 7m까지 | C66: M2 | D66: 115 | N66: 5B6D06632EA3833A94E3751DEAF21C | Q66: 010103 | R66: T | S66: F | T66: F | AU66: 0101035B6D06632EA3833A94E3751DEAF21C | AV66: 161
A75: [ 합 계 ] | N75: TOTAL
A76: 010104 철골공사 | Q76: 010104
A77: H빔 | B77: SS400, 400*200*8.0*13.0mm | C77: TON | D77: 6.22 | N77: 5C4036CFDCE3A239144DC5FE017BB89F01C565 | Q77: 010104 | R77: F | S77: F | T77: T | AU77: 0101045C4036CFDCE3A239144DC5FE017BB89F01C565 | AV77: 24
A78: H빔 | B78: SS400, 390*300*10.0*16.0mm | C78: TON | D78: 3.41 | N78: 5C4036CFDCE3A239144DC5FE017BB89F01C560 | Q78: 010104 | R78: F | S78: F | T78: T | AU78: 0101045C4036CFDCE3A239144DC5FE017BB89F01C560 | AV78: 25
A79: 경량용접H형강 | B79: SS400, 200*150*3.2*4.5mm | C79: TON | D79: 0.91 | N79: 5C4036CFDCE3A239144DC5FD7B4DFD11DAC773 | Q79: 010104 | R79: F | S79: F | T79: T | AU79: 0101045C4036CFDCE3A239144DC5FD7B4DFD11DAC773 | AV79: 26
...

Sheet 일위대가목록
A1: 일 위 대 가 목 록
A2: [ 2017 생태교육 야외학습장 신축공사 ]
A3: 코 드 | B3: 품 명 | C3: 규 격 | D3: 단위 | E3: 재 료 비 | F3: 노 무 비 | G3: 경 비 | H3: 합 계 | I3: 번 호 | J3: 비 고 | K3: 노임계수 | L3: 할증 | M3: 품셈개요 | N3: 장비일위
A4: 5B6D56E6C833553F54E885FC89A53F | B4: 컨테이너형 가설건축물 - 사무실 | C4: 3.0*6.0*2.6m, 3개월 | D4: 개소 | I4: 호표 1 | J4: 토목 2-2-3 | M4: 토목 2-2-3
A5: 5B6D56E6C8336633F494C563F3860E | B5: 컨테이너형 가설건축물 - 창고 | C5: 3.0*6.0*2.6m, 3개월 | D5: 개소 | I5: 호표 2 | J5: 토목 2-2-3 | M5: 토목 2-2-3
A6: 5B6D56E520E3553494EFD5C55BDF9F | B6: 수평 규준틀 | C6: 귀 | D6: 개소 | I6: 호표 3 | J6: 토목 2-4-2 | M6: 토목 2-4-2
A7: 5B6D56E520E35535A44C959CE22A8B | B7: 강관비계 매기/쌍줄 | C7: 10m 이하 | D7: M2 | I7: 호표 4 | J7: 토목 2-6-1, 5 | M7: 토목 2-6-1, 5
A8: 5B6D56E520E35535A421F5DD078A6C | B8: 강관 조립말비계(이동식) | C8: 높이 2m, 3개월 | D8: 대 | I8: 호표 5 | J8: 토목 2-6-4, 6 | M8: 토목 2-6-4, 6
A9: 5B6D56E0A053113A04D9D5149883EB | B9: 건축물현장정리 | C9: 철골조 | D9: M2 | I9: 호표 6 | J9: 토목 2-10 | M9: 토목 2-10
A10: 5B6D56E0A323B030C4BEC59DD3C00E | B10: 거푸집 먹매김 | C10: 일반 | D10: M2 | I10: 호표 7 | J10: 건축 11-1-1 | M10: 건축 11-1-1
A11: 5B6D56E0A323B030C4BEC59DD3C697 | B11: 구조부 먹매김 | C11: 일반 | D11: M2 | I11: 호표 8 | J11: 건축 11-1-1 | M11: 건축 11-1-1
A12: 5B6D56E0A323B03394F485480FF4EE | B12: 건축물 보양 - 콘크리트 | C12: 살수 | D12: M2 | I12: 호표 9 | J12: 토목 2-9 | M12: 토목 2-9
A13: 5B6D66CF30B3DD35F4800590CC2E94 | B13: 되메우고 다지기(백호+래머) | C13: 토사, T=15cm | D13: M3 | I13: 호표 10 | J13: 토목 9-3, 9-11.3 | M13: 토목 9-3, 9-11.3
A14: 5B6D76304013FF3714C7353CE050EE | B14: 잡석깔기지정 | C14: 장비, 백호0.2m3+진동롤러(핸드가이드식) | D14: M3 | I14: 호표 11 | J14: 토목 5-1-1.2 | M14: 토목 5-1-1.2
A15: 5B6DB6482C43453A440DE5F5F392E9 | B15: 방습필름 - 바닥 | C15: 폴리에틸렌필름, 두께, 0.03mm, 2겹 | D15: M2 | I15: 호표 12 | J15: 건축 11-4-1.3 | M15: 건축 11-4-1.3
... A30: 5B6DD69B40A37F3184A93515B7B735 | B30: 미송방부목데크설치 | C30: 21T+□-40*40*2.3T | D30: M2 | I30: 호표 27 | J30: 건축 11-1-2.2 | M30: 건축 11-1-2.2
A31: 5B6DB64F5A03CC3EA4969580EE514A | B31: 방부찬넬사이딩설치 | C31: 17T/내수합판12t/방습필름/□-40*40*2.3t@600 | D31: M2 | I31: 호표 28
A32: 5B6DC6B0AE93A031941B550E12BDD5 | B32: 우레탄방수 - 바탕, 프라이머 포함 | C32: 바닥 3mm, 노출 | D32: M2 | I32: 호표 29 | J32: 건축 12-1,2,5 | M32: 건축 12-1,2,5
A33: 5B6DC6B0AE93973BE46E25955B92B1 | B33: 우레탄방수 - 바탕, 프라이머 포함 | C33: 수직 1mm, 노출 | D33: M2 | I33: 호표 30
A34: 5B6DC6B512E39C37542E8533122ACD | B34: 수밀코킹(실리콘) | C34: 삼각, 10mm, 창호주위 | D34: M | I34: 호표 31 | J34: 건축 12-12-1 | M34: 건축 12-12-1
A35: 5B6DF6E59D93A436C49195514FB437 | B35: 선홈통(강관) 설치 | C35: 152.4mm, 스테인리스관 | D35: M | I35: 호표 32 | J35: 건축 13-6-2.3 | M35: 건축 13-6-2.3
A36: 5B6DF6E59813A73B549B353E77CC88 | B36: 스텐상자홈통설치 | C36: 250*250*250*1.5t | D36: EA | I36: 호표 33
A37: 5B6DF6E4F7334D3374AF3538CA8D29 | B37: 루프드레인(L형)설치 | C37: D150mm | D37: 개소 | I37: 호표 34 | J37: 건축 13-6-4 | M37: 건축 13-6-4
A38: 5B6DE683A673DF35B45285EB4905C0 | B38: 칼라강판(하지철물포함) | C38: 0.8T+내수합판12T+방습필름+□-40*40*2.3T@600 | D38: M2 | I38: 호표 35
A39: 5B6DE6855223B231749845BFFC4576 | B39: 와이어메시 바닥깔기 | C39: #8-150*150 | D39: M2 | I39: 호표 36 | J39: 건축 14-3-2 | M39: 건축 14-3-2
A40: 5B6DE6882793043B449A555D6B152F | B40: 경량철골천정틀 | C40: M-BAR | D40: M2 | I40: 호표 37 | J40: 건축 14-5 | M40: 건축 14-5
A41: 5B6DE68820631F3D2462C5504478AD | B41: 천장 점검구 설치 | C41: AL 백색, 450*450mm | D41: 개소 | I41: 호표 38 | J41: 건축 14-9 | M41: 건축 14-9
A42: 5B6DB64BE2F3B93F34350543B4B911 | B42: 스테인리스재료분리대 | C42: 바닥, W150*H30*1.2t | D42: M | I42: 호표 39
A43: 5B6DB644B5D36337343C45DC294C67 | B43: 철재커텐박스(ㄱ자형) | C43: 150*200*1.2t, STL(도장 유) | D43: M | I43: 호표 40
A44: 5B6DB6455983D639E4AF051D6072D4 | B44: AL몰딩설치(W형) | C44: 15*15*15*15*1.0mm | D44: M | I44: 호표 41 | J44: 건축 14-7 | M44: 건축 14-7
A45: 5B6DB6455983D639E4AF051D6073F9 | B45: 하지철물(칼라강판면) | C45: L-30*30*3T@600 L:620 | D45: M | I45: 호표 42
A46: 5B6DB6455983D639E4AF051D607027 | B46: 하지철물(칼라강판면) | C46: L-30*30*3T@600 L:760 | D46: M | I46: 호표 43
A47: 5B6DB6455983D639E4AF051D6073FD | B47: 하지철물(방부목찬넬사이딩면) | C47: □-40*40*2.3T@600H:200 | D47: M2 | I47: 호표 44
A48: 5B6DB6455983D639E4AF051D6073FC | B48: 하지철물(칼라강판면) | C48: □-40*40*2.3T@600H:520 | D48: M2 | I48: 호표 45
A49: 5B6DB6455983D639E4AF051D6073F3 | B49: 하지철물(칼라강판면) | C49: □-40*40*2.3T@600H:820 | D49: M2 | I49: 호표 46
A50: 5B6DB6455983D639E4AF051D607026 | B50: 하지철물(칼라강판면) | C50: □-40*40*2.3T@600H:200 | D50: M2 | I50: 호표 47
A51: 5B6D369771B3943194B5D541DC512F | B51: 모르타르 바름 | C51: 바닥, 27mm | D51: M2 | I51: 호표 48 | J51: 건축 10-1 준용 | M51: 건축 10-1 준용
A52: 5B6D861EC823C73D64F595BDEFDBEA | B52: 창문틀 주위 충전 | C52: 발포우레탄 충전 | D52: M | I52: 호표 49 | J52: 건축 16-3-2 | M52: 건축 16-3-2
A53: 5B6DA665B1638A3D04DB659AD59A8B | B53: 바탕만들기+수성페인트(롤러칠) | C53: 내부, 3회, 1급, 석고보드면(올퍼티) | D53: M2 | I53: 호표 50 | J53: 건축 17-2-2 | M53: 건축 17-2-2
A54: 5B6DA664AA738832F43165AF540A35 | B54: 바탕만들기+걸레받이용 페인트 | C54: 붓칠, 2회, 석고보드면(올퍼티) | D54: M2 | I54: 호표 51 | J54: 건축 17-9 | M54: 건축 17-9
...

Sheet  공사설정 
A1: 이 Sheet는 수정하지 마십시요
A2: 공사구분 | B2: A
A3: 확정내역 | B3: 원내역
A4: 자재단가적용 | B4: 5
A5: 경비단가적용 | B5: 5
A6: 품목코드형식 | B6: XXXX-XXXX-XXXXXXXXX
A7: 내역금액소수점처리 | B7: C | C7: T
A8: 일위대가내역소수점처리 | B8: C | C8: 2
A9: 단가명 | B9: 가격정보 | C9: 거래가격 | D9: 유통물가 | E9: 물가자료 | F9: 조사가격 | G9: TTTTT
A10: 환율 | B10: 1208 | C10: 0 | D10: 0
A11: 시간당작업량 | B11: R | C11: 4
A12: 1회 사이클시간 | B12: R | C12: 4
A13: 시간당 작업사이클 | B13: R | C13: 3
A14: 일반변수 | B14: C | C14: 5
A15: 시간당 노임산출 계수 | B15: A | C15: 1/8*16/12*25/20 | D15: 1/8*16/12*25/20 | E15: 1/8*16/12*25/20 | F15: 1
A16: 재료비 할증 계수 | B16: 1.11 | C16: 1.12
A17: 노무비 할증 계수 | B17: 1 | C17: 1.5 | D17: 1.16 | E17: 1.6 | F17: 1.6 | G17: 1.6 | H17: 1.94 | I17: 1.94 | J17: 1.94 | K17: 1 | L17: 1 | M17: 1
A18: 경비 할증 계수 | B18: 1.25 | C18: 1.071
A19: 내역,일위대가 품명,규격,단위 따로적용
A20: 내역단가 소수점처리 | B20: C | C20: 1
A21: 코드 | B21: 공종구분명 | C21: 원가비목코드
A22: 1 | B22: 작 업 부 산 물 | C22: A3
A23: 2 | B23: 운 반 비 | C23: C1
A24: 3 | B24: 관 급 자 재 비 | C24: DJ
A25: 4 | B25: 사 급 자 재 비 | C25: D3
A26: 5 | B26: 외 자 재
A27: 6 | B27: 관급자관급자재비 | C27: DK
A28: 7 | B28: ...
A29: 8 | B29: ...
A30: 9 | B30: ...

Sheet Sheet1
