Workbook

Sheet 원가계산서
B1: 공 사 원 가 계 산 서
B2: 공사명 : 온실식물부 장비보관소 신축공사 | F2: 금액 : 원(￦)
B3: 비 목 | E3: 금 액 | F3: 구 성 비 | G3: 비 고
A4: A1 | B4: 순 공 사 원 가 | C4: 재 료 비 | D4: 직 접 재 료 비 | E4: =TRUNC(공종별집계표!F5, 0) -> 0
A5: A2 | D5: 간 접 재 료 비 | E5: 0
A6: A3 | D6: 작업설, 부산물(△) | E6: 0
A7: AS | D7: [ 소 계 ] | E7: =TRUNC(E4+E5-E6, 0) -> 0
A8: B1 | C8: 노 무 비 | D8: 직 접 노 무 비 | E8: =TRUNC(공종별집계표!H5, 0) -> 0
A9: B2 | D9: 간 접 노 무 비 | E9: =TRUNC(E8*0.079, 0) -> 0 | F9: 직접노무비 * 7.9%
A10: BS | D10: [ 소 계 ] | E10: =TRUNC(E8+E9, 0) -> 0
A11: C2 | C11: 경 비 | D11: 기 계 경 비 | E11: =TRUNC(공종별집계표!J5, 0) -> 0
A12: C4 | D12: 산 재 보 험 료 | E12: 1558856 | F12: 노무비 * 4.05%
A13: C5 | D13: 고 용 보 험 료 | E13: 535015 | F13: 노무비 * 1.39%
A14: C6 | D14: 국민 건강 보험료 | E14: 1112972 | F14: 직접노무비 * 3.12%
A15: C7 | D15: 국민 연금 보험료 | E15: 1605248 | F15: 직접노무비 * 4.5%
A16: CB | D16: 노인장기요양보험료 | E16: =TRUNC(E14*0.0738, 0) -> 82137 | F16: 건강보험료 * 7.38%
A17: CA | D17: 산업안전보건관리비 | E17: =TRUNC((E7+E8+(0/1.1))*0.0293, 0) -> 0 | F17: (재료비+직노) * 2.93%
A18: CH | D18: 환 경 보 전 비 | E18: =TRUNC((E7+E8+E11)*0.005, 0) -> 0 | F18: (재료비+직노+기계경비) * 0.5%
A19: CG | D19: 기 타 경 비 | E19: =TRUNC((E7+E10)*0.055, 0) -> 0 | F19: (재료비+노무비) * 5.5%
A20: CK | D20: 하도급지급보증수수료 | E20: =TRUNC((E7+E8+E11)*0.00081, 0) -> 0 | F20: (재료비+직노+기계경비) * 0.081%
A21: CL | D21: 건설기계대여금지급보증서발급수수료 | E21: =TRUNC((E7+E8+E11)*0.0007, 0) -> 0 | F21: (재료비+직노+기계경비) * 0.07%
A22: CS | D22: [ 소 계 ]
A23: S1 | B23: 계
A24: D1 | B24: 일 반 관 리 비 | F24: 계 * 6%
A25: D2 | B25: 이 윤 | F25: (노무비+경비+일반관리비) * 15%
A26: D9 | B26: 공 급 가 액
A27: DB | B27: 부 가 가 치 세 | F27: 공급가액 * 10%
A28: DH | B28: 도 급 액 | E28: =TRUNC(E26+E27, 0) -> 0
A29: DK | B29: 도급자관급자재비 | E29: 10172000
A30: S2 | B30: 총 공 사 비

Sheet 공종별집계표
A1: 공 종 별 집 계 표
A2: [ 국립생태원 온실식물부 장비보관소 신축공사 ]
A3: 품 명 | B3: 규 격 | C3: 단위 | D3: 수량 | E3: 재 료 비 | G3: 노 무 비 | I3: 경 비 | K3: 합 계 | M3: 비 고 | N3: 공종코드 | O3: 변수 | P3: 상위공종 | Q3: 공종구분 | R3: 공종레벨 | S3: 공종소계 | T3: 원가계산서 연결금액
E4: 단 가 | F4: 금 액 | G4: 단 가 | H4: 금 액 | I4: 단 가 | J4: 금 액 | K4: 단 가 | L4: 금 액
A5: 01 국립생태원 온실식물부 장비보관소 신축공사 | D5: 1 | E5: =F6+F7+F8+F9+F10+F11+F12+F13+F14+F15+F16+F17 -> 0 | F5: =E5*D5 -> 0 | G5: =H6+H7+H8+H9+H10+H11+H12+H13+H14+H15+H16+H17 -> 0 | H5: =G5*D5 -> 0 | I5: =J6+J7+J8+J9+J10+J11+J12+J13+J14+J15+J16+J17 -> 0 | J5: =I5*D5 -> 0 | K5: =E5+G5+I5 -> 0 | L5: =F5+H5+J5 -> 0 | N5: 01 | R5: 1
A6: 0101 가 설 공 사 | D6: 1 | E6: =공종별내역서!F27 -> 0 | F6: =E6*D6 -> 0 | G6: =공종별내역서!H27 -> 0 | H6: =G6*D6 -> 0 | I6: =공종별내역서!J27 -> 0 | J6: =I6*D6 -> 0 | K6: =E6+G6+I6 -> 0 | L6: =F6+H6+J6 -> 0 | N6: 0101 | P6: 01 | R6: 2
A7: 0102 기초 및 토공사 | D7: 1 | E7: =공종별내역서!F51 -> 0 | F7: =E7*D7 -> 0 | G7: =공종별내역서!H51 -> 0 | H7: =G7*D7 -> 0 | I7: =공종별내역서!J51 -> 0 | J7: =I7*D7 -> 0 | K7: =E7+G7+I7 -> 0 | L7: =F7+H7+J7 -> 0 | N7: 0102 | P7: 01 | R7: 2
A8: 0103 철근콘크리트공사 | D8: 1 | E8: =공종별내역서!F75 -> 0 | F8: =E8*D8 -> 0 | G8: =공종별내역서!H75 -> 0 | H8: =G8*D8 -> 0 | I8: =공종별내역서!J75 -> 0 | J8: =I8*D8 -> 0 | K8: =E8+G8+I8 -> 0 | L8: =F8+H8+J8 -> 0 | N8: 0103 | P8: 01 | R8: 2
A9: 0104 철 골 공 사 | D9: 1 | E9: =공종별내역서!F99 -> 0 | F9: =E9*D9 -> 0 | G9: =공종별내역서!H99 -> 0 | H9: =G9*D9 -> 0 | I9: =공종별내역서!J99 -> 0 | J9: =I9*D9 -> 0 | K9: =E9+G9+I9 -> 0 | L9: =F9+H9+J9 -> 0 | N9: 0104 | P9: 01 | R9: 2
A10: 0105 목공사 및 수장공사 | D10: 1 | E10: =공종별내역서!F123 -> 0 | F10: =E10*D10 -> 0 | G10: =공종별내역서!H123 -> 0 | H10: =G10*D10 -> 0 | I10: =공종별내역서!J123 -> 0 | J10: =I10*D10 -> 0 | K10: =E10+G10+I10 -> 0 | L10: =F10+H10+J10 -> 0 | N10: 0105 | P10: 01 | R10: 2
A11: 0106 방 수 공 사 | D11: 1 | E11: =공종별내역서!F147 -> 0 | F11: =E11*D11 -> 0 | G11: =공종별내역서!H147 -> 0 | H11: =G11*D11 -> 0 | I11: =공종별내역서!J147 -> 0 | J11: =I11*D11 -> 0 | K11: =E11+G11+I11 -> 0 | L11: =F11+H11+J11 -> 0 | N11: 0106 | P11: 01 | R11: 2
A12: 0107 지붕 및 홈통공사 | D12: 1 | E12: =공종별내역서!F171 -> 0 | F12: =E12*D12 -> 0 | G12: =공종별내역서!H171 -> 0 | H12: =G12*D12 -> 0 | I12: =공종별내역서!J171 -> 0 | J12: =I12*D12 -> 0 | K12: =E12+G12+I12 -> 0 | L12: =F12+H12+J12 -> 0 | N12: 0107 | P12: 01 | R12: 2
A13: 0108 미 장 공 사 | D13: 1 | E13: =공종별내역서!F195 -> 0 | F13: =E13*D13 -> 0 | G13: =공종별내역서!H195 -> 0 | H13: =G13*D13 -> 0 | I13: =공종별내역서!J195 -> 0 | J13: =I13*D13 -> 0 | K13: =E13+G13+I13 -> 0 | L13: =F13+H13+J13 -> 0 | N13: 0108 | P13: 01 | R13: 2
A14: 0109 창호 및 유리공사 | D14: 1 | E14: =공종별내역서!F219 -> 0 | F14: =E14*D14 -> 0 | G14: =공종별내역서!H219 -> 0 | H14: =G14*D14 -> 0 | I14: =공종별내역서!J219 -> 0 | J14: =I14*D14 -> 0 | K14: =E14+G14+I14 -> 0 | L14: =F14+H14+J14 -> 0 | N14: 0109 | P14: 01 | R14: 2
A15: 0110 칠 공 사 | D15: 1 | E15: =공종별내역서!F243 -> 0 | F15: =E15*D15 -> 0 | G15: =공종별내역서!H243 -> 0 | H15: =G15*D15 -> 0 | I15: =공종별내역서!J243 -> 0 | J15: =I15*D15 -> 0 | K15: =E15+G15+I15 -> 0 | L15: =F15+H15+J15 -> 0 | N15: 0110 | P15: 01 | R15: 2
A16: 0111 판 넬 공 사 | D16: 1 | E16: =공종별내역서!F267 -> 0 | F16: =E16*D16 -> 0 | G16: =공종별내역서!H267 -> 0 | H16: =G16*D16 -> 0 | I16: =공종별내역서!J267 -> 0 | J16: =I16*D16 -> 0 | K16: =E16+G16+I16 -> 0 | L16: =F16+H16+J16 -> 0 | N16: 0111 | P16: 01 | R16: 2
A17: 0112 골재비 및 운반비 | D17: 1 | E17: =공종별내역서!F291 -> 0 | F17: =E17*D17 -> 0 | G17: =공종별내역서!H291 -> 0 | H17: =G17*D17 -> 0 | I17: =공종별내역서!J291 -> 0 | J17: =I17*D17 -> 0 | K17: =E17+G17+I17 -> 0 | L17: =F17+H17+J17 -> 0 | N17: 0112 | P17: 01 | R17: 2
A18: 0113 도급자 관급자재비 | D18: 1 | E18: =공종별내역서!F315 -> 0 | F18: =E18*D18 -> 0 | G18: =공종별내역서!H315 -> 0 | H18: =G18*D18 -> 0 | I18: =공종별내역서!J315 -> 0 | J18: =I18*D18 -> 0 | K18: =E18+G18+I18 -> 0 | L18: =F18+H18+J18 -> 0 | N18: 0113 | Q18: 7 | R18: 2 | T18: =L18*1 -> 0
A27: [ 합 계 ] | F27: =F5 -> 0 | H27: =H5 -> 0 | J27: =J5 -> 0 | L27: =L5 -> 0

Sheet 공종별내역서
A1: [ 국립생태원 온실식물부 장비보관소 신축공사 ]
A2: 품 명 | B2: 규 격 | C2: 단위 | D2: 수량 | E2: 재 료 비 | G2: 노 무 비 | I2: 경 비 | K2: 합 계 | M2: 비 고 | N2: 품목코드 | O2: 변수 | P2: 설정 | Q2: 공종코드 | R2: 일위 | S2: 단산 | T2: 자재 | U2: 손료적용 | V2: 손료저장 | W2: 적용율 | X2: JUK1 | Y2: JUK2 | Z2: JUK3 | AA2: JUK4 | AB2: JUK5 | AC2: JUK6 | AD2: JUK7 | AE2: JUK8 | AF2: JUK9 | AG2: JUK10 | AH2: JUK11 | AI2: JUK12 | AJ2: JUK13 | AK2: JUK14 | AL2: JUK15 | AM2: JUK16 | AN2: JUK17 | AO2: JUK18 | AP2: JUK19 | AQ2: JUK20 | AR2: 자재구분 | AS2: 공종구분 | AT2: 공종레벨 | AU2: 공종+자재 | AV2: 고유번호
E3: 단 가 | F3: 금 액 | G3: 단 가 | H3: 금 액 | I3: 단 가 | J3: 금 액 | K3: 단 가 | L3: 금 액
A4: 0101 가 설 공 사 | Q4: 0101
A5: 건축물현장정리 | B5: 철골조 | C5: M2 | D5: 198 | E5: 0 | F5: =TRUNC(E5*D5, 0) -> 0 | H5: =TRUNC(G5*D5, 0) -> 0 | J5: =TRUNC(I5*D5, 0) -> 0 | K5: =TRUNC(E5+G5+I5, 0) -> 0 | L5: =TRUNC(F5+H5+J5, 0) -> 0 | N5: 5825756546016B9B113E3255D9AA45 | Q5: 0101 | R5: T | S5: F | T5: F | AU5: 01015825756546016B9B113E3255D9AA45 | AV5: 4
A6: 구조부 먹매김 | B6: 일반 | C6: M2 | D6: 198 | F6: =TRUNC(E6*D6, 0) -> 0 | H6: =TRUNC(G6*D6, 0) -> 0 | J6: =TRUNC(I6*D6, 0) -> 0 | K6: =TRUNC(E6+G6+I6, 0) -> 0 | L6: =TRUNC(F6+H6+J6, 0) -> 0 | N6: 5825756545016983183B859063CD90 | Q6: 0101 | R6: T | S6: F | T6: F | AU6: 01015825756545016983183B859063CD90 | AV6: 5
A7: 거푸집 먹매김 | B7: 일반 | C7: M2 | D7: 198 | F7: =TRUNC(E7*D7, 0) -> 0 | H7: =TRUNC(G7*D7, 0) -> 0 | J7: =TRUNC(I7*D7, 0) -> 0 | K7: =TRUNC(E7+G7+I7, 0) -> 0 | L7: =TRUNC(F7+H7+J7, 0) -> 0 | N7: 5825756545016983183B875DD0B5B1 | Q7: 0101 | R7: T | S7: F | T7: F | AU7: 01015825756545016983183B875DD0B5B1 | AV7: 6
A8: 건축물 보양 - 콘크리트 | B8: 살수 | C8: M2 | D8: 198 | F8: =TRUNC(E8*D8, 0) -> 0 | H8: =TRUNC(G8*D8, 0) -> 0 | J8: =TRUNC(I8*D8, 0) -> 0 | K8: =TRUNC(E8+G8+I8, 0) -> 0 | L8: =TRUNC(F8+H8+J8, 0) -> 0 | N8: 58257565450169832A3ECD10319E43 | Q8: 0101 | R8: T | S8: F | T8: F | AU8: 010158257565450169832A3ECD10319E43 | AV8: 7
A27: [ 합 계 ] | F27: =SUM(F5:F26) -> 0 | H27: =SUM(H5:H26) -> 0 | J27: =SUM(J5:J26) -> 0 | L27: =SUM(L5:L26) -> 0 | N27: TOTAL
A28: 0102 기초 및 토공사 | Q28: 0102
A29: 터파기/토사 | B29: 보통, 굴삭기 0.7m3 | C29: M3 | D29: 185.64 | F29: =TRUNC(E29*D29, 0) -> 0 | H29: =TRUNC(G29*D29, 0) -> 0 | J29: =TRUNC(I29*D29, 0) -> 0 | K29: =TRUNC(E29+G29+I29, 0) -> 0 | L29: =TRUNC(F29+H29+J29, 0) -> 0 | N29: 5800D5AC040160FA9338059778AACE | Q29: 0102 | R29: F | S29: T | T29: F | AU29: 01025800D5AC040160FA9338059778AACE | AV29: 10
A30: 되메우기/토사, 두께 30cm | B30: 보통, 굴삭기 0.7m3+래머 80kg | C30: M3 | D30: 119.97 | F30: =TRUNC(E30*D30, 0) -> 0 | H30: =TRUNC(G30*D30, 0) -> 0 | J30: =TRUNC(I30*D30, 0) -> 0 | K30: =TRUNC(E30+G30+I30, 0) -> 0 | L30: =TRUNC(F30+H30+J30, 0) -> 0 | N30: 5800D5A17B016119263628DCC706E2 | Q30: 0102 | R30: F | S30: T | T30: F | AU30: 01025800D5A17B016119263628DCC706E2 | AV30: 76
A31: 토사 운반/단지외 10km | B31: 보통, 덤프 15ton+굴삭기 0.7m3(고르기 별도) | C31: M3 | D31: 65.67 | F31: =TRUNC(E31*D31, 0) -> 0 | H31: =TRUNC(G31*D31, 0) -> 0 | J31: =TRUNC(I31*D31, 0) -> 0 | K31: =TRUNC(E31+G31+I31, 0) -> 0 | L31: =TRUNC(F31+H31+J31, 0) -> 0 | N31: 5800D5AFDA0165AE893BD32C57D684 | Q31: 0102 | R31: F | S31: T | T31: F | AU31: 01025800D5AFDA0165AE893BD32C57D684 | AV31: 77
A51: [ 합 계 ] | F51: =SUM(F29:F50) -> 0 | H51: =SUM(H29:H50) -> 0 | J51: =SUM(J29:J50) -> 0 | L51: =SUM(L29:L50) -> 0 | N51: TOTAL
A52: 0103 철근콘크리트공사 | Q52: 0103
A53: 레미콘(관급) | B53: 25-18-80 | C53: M3 | D53: 22 | F53: =TRUNC(E53*D53, 0) -> 0 | H53: =TRUNC(G53*D53, 0) -> 0 | J53: =TRUNC(I53*D53, 0) -> 0 | K53: =TRUNC(E53+G53+I53, 0) -> 0 | L53: =TRUNC(F53+H53+J53, 0) -> 0 | N53: 5F00C52A1001646142353049C87024CBF6C330 | Q53: 0103 | R53: F | S53: F | T53: T | AU53: 01035F00C52A1001646142353049C87024CBF6C330 | AV53: 96
A54: 레미콘(관급) | B54: 25-21-120 | C54: M3 | D54: 89 | F54: =TRUNC(E54*D54, 0) -> 0 | H54: =TRUNC(G54*D54, 0) -> 0 | J54: =TRUNC(I54*D54, 0) -> 0 | K54: =TRUNC(E54+G54+I54, 0) -> 0 | L54: =TRUNC(F54+H54+J54, 0) -> 0 | N54: 5F00C52A1001646142353049C87024CBF6C337 | Q54: 0103 | R54: F | S54: F | T54: T | AU54: 01035F00C52A1001646142353049C87024CBF6C337 | AV54: 97
A55: 콘크리트 펌프차 타설(무근, 진동기無) | B55: 100m3 미만, 슬럼프 8~12cm, 양호(매트기초 등) | C55: 회 | D55: 1 | F55: =TRUNC(E55*D55, 0) -> 0 | H55: =TRUNC(G55*D55, 0) -> 0 | J55: =TRUNC(I55*D55, 0) -> 0 | K55: =TRUNC(E55+G55+I55, 0) -> 0 | L55: =TRUNC(F55+H55+J55, 0) -> 0 | N55: 582525D9080168A2F130741A7C99D0 | Q55: 0103 | R55: F | S55: T | T55: F | AU55: 0103582525D9080168A2F130741A7C99D0 | AV55: 98
A56: 콘크리트 펌프차 타설(매트기초 등) | B56: 100m3 미만, 슬럼프 8~12cm, 양호 | C56: 회 | D56: 1 | F56: =TRUNC(E56*D56, 0) -> 0 | H56: =TRUNC(G56*D56, 0) -> 0 | J56: =TRUNC(I56*D56, 0) -> 0 | K56: =TRUNC(E56+G56+I56, 0) -> 0 | L56: =TRUNC(F56+H56+J56, 0) -> 0 | N56: 582525D90B0165E89E3E64810683C0 | Q56: 0103 | R56: F | S56: T | T56: F | AU56: 0103582525D90B0165E89E3E64810683C0 | AV56: 99
A57: 유로폼 설치 및 해체 | B57: 보통, 수직고 7m까지 | C57: M2 | D57: 30.1 | F57: =TRUNC(E57*D57, 0) -> 0 | H57: =TRUNC(G57*D57, 0) -> 0 | J57: =TRUNC(I57*D57, 0) -> 0 | K57: =TRUNC(E57+G57+I57, 0) -> 0 | L57: =TRUNC(F57+H57+J57, 0) -> 0 | N57: 582525DE8F01605D22340C1A058682 | Q57: 0103 | R57: T | S57: F | T57: F | AU57: 0103582525DE8F01605D22340C1A058682 | AV57: 100
A58: 철근콘크리트용봉강(관급) | B58: 철근콘크리트용봉강, 이형봉강(SD350/400), HD-10 | C58: TON | D58: 2.539 | F58: =TRUNC(E58*D58, 0) -> 0 | H58: =TRUNC(G58*D58, 0) -> 0 | J58: =TRUNC(I58*D58, 0) -> 0 | K58: =TRUNC(E58+G58+I58, 0) -> 0 | L58: =TRUNC(F58+H58+J58, 0) -> 0 | M58: 별도 | N58: 5F00C52A110166FEE83E878B0FE5DE62144A1D | Q58: 0103 | R58: F | S58: F | T58: T | AU58: 01035F00C52A110166FEE83E878B0FE5DE62144A1D | AV58: 102
A59: 철근콘크리트용봉강(관급) | B59: 철근콘크리트용봉강, 이형봉강(SD350/400), HD-13 | C59: TON | D59: 0.467 | F59: =TRUNC(E59*D59, 0) -> 0 | H59: =TRUNC(G59*D59, 0) -> 0 | J59: =TRUNC(I59*D59, 0) -> 0 | K59: =TRUNC(E59+G59+I59, 0) -> 0 | L59: =TRUNC(F59+H59+J59, 0) -> 0 | M59: 별도 | N59: 5F00C52A110166FEE83E878B0FE5DE62144A1E | Q59: 0103 | R59: F | S59: F | T59: T | AU59: 01035F00C52A110166FEE83E878B0FE5DE62144A1E | AV59: 103
A60: 철근콘크리트용봉강(관급) | B60: 철근콘크리트용봉강, 이형봉강(SD350/400), HD-16 | C60: TON | D60: 0.837 | F60: =TRUNC(E60*D60, 0) -> 0 | H60: =TRUNC(G60*D60, 0) -> 0 | J60: =TRUNC(I60*D60, 0) -> 0 | K60: =TRUNC(E60+G60+I60, 0) -> 0 | L60: =TRUNC(F60+H60+J60, 0) -> 0 | M60: 별도 | N60: 5F00C52A110166FEE83E878B0FE5DE62144A1F | Q60: 0103 | R60: F | S60: F | T60: T | AU60: 01035F00C52A110166FEE83E878B0FE5DE62144A1F | AV60: 104
A61: 철근, 현장 - 보통 가공 및 조립 | B61: 수직고 7m 미만 | C61: TON | D61: 3.73 | F61: =TRUNC(E61*D61, 0) -> 0 | H61: =TRUNC(G61*D61, 0) -> 0 | J61: =TRUNC(I61*D61, 0) -> 0 | K61: =TRUNC(E61+G61+I61, 0) -> 0 | L61: =TRUNC(F61+H61+J61, 0) -> 0 | N61: 582525DDE401620F95342CE404934B | Q61: 0103 | R61: T | S61: F | T61: F | AU61: 0103582525DDE401620F95342CE404934B | AV61: 105
A62: 철강설 | B62: 철강설, 고철, 작업설부산물 | C62: kg | D62: -112 | F62: =TRUNC(E62*D62, 0) -> 0 | H62: =TRUNC(G62*D62, 0) -> 0 | J62: =TRUNC(I62*D62, 0) -> 0 | K62: =TRUNC(E62+G62+I62, 0) -> 0 | L62: =TRUNC(F62+H62+J62, 0) -> 0 | M62: 수집상차도 | N62: 5F23B5CCDD01694F963420849328F766B3EE9A | Q62: 0103 | R62: F | S62: F | T62: T | AU62: 01035F23B5CCDD01694F963420849328F766B3EE9A | AV62: 106
A75: [ 합 계 ] | F75: =SUM(F53:F74) -> 0 | H75: =SUM(H53:H74) -> 0 | J75: =SUM(J53:J74) -> 0 | L75: =SUM(L53:L74) -> 0 | N75: TOTAL
A76: 0104 철 골 공 사 | Q76: 0104
A77: ㄱ형강 | B77: ㄱ형강, 등변, 70*70*6mm | C77: kg | D77: 434.09 | F77: =TRUNC(E77*D77, 0) -> 0 | H77: =TRUNC(G77*D77, 0) -> 0 | J77: =TRUNC(I77*D77, 0) -> 0 | K77: =TRUNC(E77+G77+I77, 0) -> 0 | L77: =TRUNC(F77+H77+J77, 0) -> 0 | N77: 5F00C52A110166FEDE382FF744A172D8CAE8E8 | Q77: 0104 | R77: F | S77: F | T77: T | AU77: 01045F00C52A110166FEDE382FF744A172D8CAE8E8 | AV77: 13
A78: 일반봉강 | B78: 일반봉강, SS400, ∮19mm | C78: kg | D78: 289.17 | F78: =TRUNC(E78*D78, 0) -> 0 | H78: =TRUNC(G78*D78, 0) -> 0 | J78: =TRUNC(I78*D78, 0) -> 0 | K78: =TRUNC(E78+G78+I78, 0) -> 0 | L78: =TRUNC(F78+H78+J78, 0) -> 0 | N78: 5F00C52A110166FEE83F914DCA0483A960ECA0 | Q78: 0104 | R78: F | S78: F | T78: T | AU78: 01045F00C52A110166FEE83F914DCA0483A960ECA0 | AV78: 14
A79: H형강 | B79: SS275, 300*150*6.5*9mm, 현장도착도 | C79: TON | D79: 4.12 | F79: =TRUNC(E79*D79, 0) -> 0 | H79: =TRUNC(G79*D79, 0) -> 0 | J79: =TRUNC(I79*D79, 0) -> 0 | K79: =TRUNC(E79+G79+I79, 0) -> 0 | L79: =TRUNC(F79+H79+J79, 0) -> 0 | M79: 36.7kg/m | N79: 5F00C52A110166FEF93683060A0E2E13C383C6 | Q79: 0104 | R79: F | S79: F | T79: T | AU79: 01045F00C52A110166FEF93683060A0E2E13C383C6 | AV79: 78
A80: H형강 | B80: SS275, 200*100*5.5*8mm, 현장도착도 | C80: TON | D80: 2.05 | F80: =TRUNC(E80*D80, 0) -> 0 | H80: =TRUNC(G80*D80, 0) -> 0 | J80: =TRUNC(I80*D80, 0) -> 0 | K80: =TRUNC(E80+G80+I80, 0) -> 0 | L80: =TRUNC(F80+H80+J80, 0) -> 0 | M80: 21.3kg/m | N80: 5F00C52A110166FEF93683060A0E2E13C38110 | Q80: 0104 | R80: F | S80: F | T80: T | AU80: 01045F00C52A110166FEF93683060A0E2E13C38110 | AV80: 79
A81: H형강 | B81: SS275, 250*125*6*9mm, 현장도착도 | C81: TON | D81: 1.63 | F81: =TRUNC(E81*D81, 0) -> 0 | H81: =TRUNC(G81*D81, 0) -> 0 | J81: =TRUNC(I81*D81, 0) -> 0 | K81: =TRUNC(E81+G81+I81, 0) -> 0 | L81: =TRUNC(F81+H81+J81, 0) -> 0 | M81: 29.6kg/m | N81: 5F00C52A110166FEF93683060A0E2E13C38074 | Q81: 0104 | R81: F | S81: F | T81: T | AU81: 01045F00C52A110166FEF93683060A0E2E13C38074 | AV81: 80
A82: 경량형강 | B82: 경량형강, 칼라C형강, 100*50*20, t2.3 | C82: TON | D82: 1.36 | F82: =TRUNC(E82*D82, 0) -> 0 | H82: =TRUNC(G82*D82, 0) -> 0 | J82: =TRUNC(I82*D82, 0) -> 0 | K82: =TRUNC(E82+G82+I82, 0) -> 0 | L82: =TRUNC(F82+H82+J82, 0) -> 0 | N82: 5F00C52A110166FEF936830564A9097E0EE948 | Q82: 0104 | R82: F | S82: F | T82: T | AU82: 01045F00C52A110166FEF936830564A9097E0EE948 | AV82: 18
A83: 일반구조용압연강판 | B83: 일반구조용압연강판, 16mm | C83: TON | D83: 0.63 | F83: =TRUNC(E83*D83, 0) -> 0 | H83: =TRUNC(G83*D83, 0) -> 0 | J83: =TRUNC(I83*D83, 0) -> 0 | K83: =TRUNC(E83+G83+I83, 0) -> 0 | L83: =TRUNC(F83+H83+J83, 0) -> 0 | N83: 5F00C52A110166C117357493D4C19A181B743C | Q83: 0104 | R83: F | S83: F | T83: T | AU83: 01045F00C52A110166C117357493D4C19A181B743C | AV83: 19
A84: 일반구조용압연강판 | B84: 일반구조용압연강판, 20mm | C84: TON | D84: 0.14 | F84: =TRUNC(E84*D84, 0) -> 0 | H84: =TRUNC(G84*D84, 0) -> 0 | J84: =TRUNC(I84*D84, 0) -> 0 | K84: =TRUNC(E84+G84+I84, 0) -> 0 | L84: =TRUNC(F84+H84+J84, 0) -> 0 | N84: 5F00C52A110166C117357493D4C19A181B75DA | Q84: 0104 | R84: F | S84: F | T84: T | AU84: 01045F00C52A110166C117357493D4C19A181B75DA | AV84: 20
A85: 일반구조용압연강판 | B85: 일반구조용압연강판, 9.0mm | C85: TON | D85: 0.44 | F85: =TRUNC(E85*D85, 0) -> 0 | H85: =TRUNC(G85*D85, 0) -> 0 | J85: =TRUNC(I85*D85, 0) -> 0 | K85: =TRUNC(E85+G85+I85, 0) -> 0 | L85: =TRUNC(F85+H85+J85, 0) -> 0 | N85: 5F00C52A110166C117357493D5E2155C8CDBAF | Q85: 0104 | R85: F | S85: F | T85: T | AU85: 01045F00C52A110166C117357493D5E2155C8CDBAF | AV85: 21
A86: 턴바클(아연도금) | B86: ∮19∼20 | C86: 조 | D86: 24 | F86: =TRUNC(E86*D86, 0) -> 0 | H86: =TRUNC(G86*D86, 0) -> 0 | J86: =TRUNC(I86*D86, 0) -> 0 | K86: =TRUNC(E86+G86+I86, 0) -> 0 | L86: =TRUNC(F86+H86+J86, 0) -> 0 | M86: 공장상차도 | N86: 5F00C52A1401620DA83F42E300663B985DBD4B | Q86: 0104 | R86: F | S86: F | T86: T | AU86: 01045F00C52A1401620DA83F42E300663B985DBD4B | AV86: 22
A87: 앵커볼트 | B87: 앵커볼트, M20*800mm | C87: 개 | D87: 51 | F87: =TRUNC(E87*D87, 0) -> 0 | H87: =TRUNC(G87*D87, 0) -> 0 | J87: =TRUNC(I87*D87, 0) -> 0 | K87: =TRUNC(E87+G87+I87, 0) -> 0 | L87: =TRUNC(F87+H87+J87, 0) -> 0 | N87: 5F00D5307A016A475030E13275B021D546623C | Q87: 0104 | R87: F | S87: F | T87: T | AU87: 01045F00D5307A016A475030E13275B021D546623C | AV87: 93
A88: 고장력볼트 | B88: 고장력볼트, F10T, M16*50mm | C88: 조 | D88: 132 | F88: =TRUNC(E88*D88, 0) -> 0 | H88: =TRUNC(G88*D88, 0) -> 0 | J88: =TRUNC(I88*D88, 0) -> 0 | K88: =TRUNC(E88+G88+I88, 0) -> 0 | L88: =TRUNC(F88+H88+J88, 0) -> 0 | N88: 5F00D5307A016A475030E13275B021D5477052 | Q88: 0104 | R88: F | S88: F | T88: T | AU88: 01045F00D5307A016A475030E13275B021D5477052 | AV88: 25
A89: 고장력볼트 | B89: 고장력볼트, F10T, M20*50mm | C89: 조 | D89: 99 | F89: =TRUNC(E89*D89, 0) -> 0 | H89: =TRUNC(G89*D89, 0) -> 0 | J89: =TRUNC(I89*D89, 0) -> 0 | K89: =TRUNC(E89+G89+I89, 0) -> 0 | L89: =TRUNC(F89+H89+J89, 0) -> 0 | N89: 5F00D5307A016A475030E13275B021D54775DA | Q89: 0104 | R89: F | S89: F | T89: T | AU89: 01045F00D5307A016A475030E13275B021D54775DA | AV89: 26
...

Sheet  공사설정 
A1: 이 Sheet는 수정하지 마십시요
A2: 공사구분 | B2: A
A3: 확정내역 | B3: 원내역
A4: 자재단가적용 | B4: 5
A5: 경비단가적용 | B5: 5
A6: 품목코드형식 | B6: XXXX-XXXX-XXXXXXXXX
A7: 내역금액소수점처리 | B7: C | C7: T
A8: 일위대가내역소수점처리 | B8: C | C8: 2
A9: 단가명 | B9: 조달청가격 | C9: 거래가격 | D9: 유통물가 | E9: 조사가격1 | F9: 조사가격2 | G9: TTTTT
A10: 환율 | B10: 1071 | C10: 0 | D10: 0
A11: 시간당작업량 | B11: R | C11: 4
A12: 1회 사이클시간 | B12: R | C12: 4
A13: 시간당 작업사이클 | B13: R | C13: 3
A14: 일반변수 | B14: C | C14: 5
A15: 시간당 노임산출 계수 | B15: A | C15: 1/8*16/12*25/20 | D15: 1/8*16/12*25/20 | E15: 1/8*16/12*25/20 | F15: 1
A16: 재료비 할증 계수 | B16: 1.11 | C16: 1.12
A17: 노무비 할증 계수 | B17: 1 | C17: 1.5 | D17: 1.16 | E17: 1.6 | F17: 1.6 | G17: 1.6 | H17: 1.94 | I17: 1.94 | J17: 1.94 | K17: 1 | L17: 1 | M17: 1
A18: 경비 할증 계수 | B18: 1.25 | C18: 1.071
A19: 내역,일위대가 품명,규격,단위 따로적용
A20: 내역단가 소수점처리 | B20: C | C20: 1
A21: 코드 | B21: 공종구분명 | C21: 원가비목코드
A22: 1 | B22: 작 업 부 산 물 | C22: A3
A23: 2 | B23: 운 반 비 | C23: C1
A24: 3 | B24: 관 급 자 재 비 | C24: DJ
A25: 4 | B25: 사 급 자 재 비 | C25: D3
A26: 5 | B26: 외 자 재
A27: 6 | B27: ...
A28: 7 | B28: 도급자관급자재비 | C28: DK
A29: 8 | B29: ...
A30: 9 | B30: ...

Sheet Sheet1
