Workbook

Sheet 원가계산서
B1: 공 사 원 가 계 산 서
B2: 공사명 : 온실식물부 장비보관소 신축공사 | F2: 금액 : 원(￦)
B3: 비 목 | E3: 금 액 | F3: 구 성 비 | G3: 비 고
A4: A1 | B4: 순 공 사 원 가 | C4: 재 료 비 | D4: 직 접 재 료 비 | E4: =TRUNC(공종별집계표!F5, 0) -> 0
A5: A2 | D5: 간 접 재 료 비 | E5: 0
A6: A3 | D6: 작업설, 부산물(△) | E6: 0
A7: AS | D7: [ 소 계 ] | E7: =TRUNC(E4+E5-E6, 0) -> 0
A8: B1 | C8: 노 무 비 | D8: 직 접 노 무 비 | E8: =TRUNC(공종별집계표!H5, 0) -> 0
A9: B2 | D9: 간 접 노 무 비 | E9: =TRUNC(E8*0.079, 0) -> 0 | F9: 직접노무비 * 7.9%
A10: BS | D10: [ 소 계 ] | E10: =TRUNC(E8+E9, 0) -> 0
A11: C2 | C11: 경 비 | D11: 기 계 경 비 | E11: =TRUNC(공종별집계표!J5, 0) -> 0
A12: C4 | D12: 산 재 보 험 료 | E12: 1558856 | F12: 노무비 * 4.05%
A13: C5 | D13: 고 용 보 험 료 | E13: 535015 | F13: 노무비 * 1.39%
A14: C6 | D14: 국민 건강 보험료 | E14: 1112972 | F14: 직접노무비 * 3.12%
A15: C7 | D15: 국민 연금 보험료 | E15: 1605248 | F15: 직접노무비 * 4.5%
A16: CB | D16: 노인장기요양보험료 | E16: =TRUNC(E14*0.0738, 0) -> 82137 | F16: 건강보험료 * 7.38%
A17: CA | D17: 산업안전보건관리비 | E17: =TRUNC((E7+E8+(0/1.1))*0.0293, 0) -> 0 | F17: (재료비+직노) * 2.93%
A18: CH | D18: 환 경 보 전 비 | E18: =TRUNC((E7+E8+E11)*0.005, 0) -> 0 | F18: (재료비+직노+기계경비) * 0.5%
A19: CG | D19: 기 타 경 비 | E19: =TRUNC((E7+E10)*0.055, 0) -> 0 | F19: (재료비+노무비) * 5.5%
A20: CK | D20: 하도급지급보증수수료 | E20: =TRUNC((E7+E8+E11)*0.00081, 0) -> 0 | F20: (재료비+직노+기계경비) * 0.081%
A21: CL | D21: 건설기계대여금지급보증서발급수수료 | E21: =TRUNC((E7+E8+E11)*0.0007, 0) -> 0 | F21: (재료비+직노+기계경비) * 0.07%
A22: CS | D22: [ 소 계 ]
A23: S1 | B23: 계
A24: D1 | B24: 일 반 관 리 비 | F24: 계 * 6%
A25: D2 | B25: 이 윤 | F25: (노무비+경비+일반관리비) * 15%
A26: D9 | B26: 공 급 가 액
A27: DB | B27: 부 가 가 치 세 | F27: 공급가액 * 10%
A28: DH | B28: 도 급 액 | E28: =TRUNC(E26+E27, 0) -> 0
A29: DK | B29: 도급자관급자재비 | E29: 10172000
A30: S2 | B30: 총 공 사 비

Sheet 공종별집계표
A1: 공 종 별 집 계 표
A2: [ 국립생태원 온실식물부 장비보관소 신축공사 ]
A3: 품 명 | B3: 규 격 | C3: 단위 | D3: 수량 | E3: 재 료 비 | G3: 노 무 비 | I3: 경 비 | K3: 합 계 | M3: 비 고 | N3: 공종코드 | O3: 변수 | P3: 상위공종 | Q3: 공종구분 | R3: 공종레벨 | S3: 공종소계 | T3: 원가계산서 연결금액
E4: 단 가 | F4: 금 액 | G4: 단 가 | H4: 금 액 | I4: 단 가 | J4: 금 액 | K4: 단 가 | L4: 금 액
A5: 01 국립생태원 온실식물부 장비보관소 신축공사 | D5: 1 | E5: =F6+F7+F8+F9+F10+F11+F12+F13+F14+F15+F16+F17 -> 0 | F5: =E5*D5 -> 0 | G5: =H6+H7+H8+H9+H10+H11+H12+H13+H14+H15+H16+H17 -> 0 | H5: =G5*D5 -> 0 | I5: =J6+J7+J8+J9+J10+J11+J12+J13+J14+J15+J16+J17 -> 0 | J5: =I5*D5 -> 0 | K5: =E5+G5+I5 -> 0 | L5: =F5+H5+J5 -> 0 | N5: 01 | R5: 1
A6: 0101 가 설 공 사 | D6: 1 | E6: =공종별내역서!F27 -> 0 | F6: =E6*D6 -> 0 | G6: =공종별내역서!H27 -> 0 | H6: =G6*D6 -> 0 | I6: =공종별내역서!J27 -> 0 | J6: =I6*D6 -> 0 | K6: =E6+G6+I6 -> 0 | L6: =F6+H6+J6 -> 0 | N6: 0101 | P6: 01 | R6: 2
A7: 0102 기초 및 토공사 | D7: 1 | E7: =공종별내역서!F51 -> 0 | F7: =E7*D7 -> 0 | G7: =공종별내역서!H51 -> 0 | H7: =G7*D7 -> 0 | I7: =공종별내역서!J51 -> 0 | J7: =I7*D7 -> 0 | K7: =E7+G7+I7 -> 0 | L7: =F7+H7+J7 -> 0 | N7: 0102 | P7: 01 | R7: 2
A8: 0103 철근콘크리트공사 | D8: 1 | E8: =공종별내역서!F75 -> 0 | F8: =E8*D8 -> 0 | G8: =공종별내역서!H75 -> 0 | H8: =G8*D8 -> 0 | I8: =공종별내역서!J75 -> 0 | J8: =I8*D8 -> 0 | K8: =E8+G8+I8 -> 0 | L8: =F8+H8+J8 -> 0 | N8: 0103 | P8: 01 | R8: 2
A9: 0104 철 골 공 사 | D9: 1 | E9: =공종별내역서!F99 -> 0 | F9: =E9*D9 -> 0 | G9: =공종별내역서!H99 -> 0 | H9: =G9*D9 -> 0 | I9: =공종별내역서!J99 -> 0 | J9: =I9*D9 -> 0 | K9: =E9+G9+I9 -> 0 | L9: =F9+H9+J9 -> 0 | N9: 0104 | P9: 01 | R9: 2
A10: 0105 목공사 및 수장공사 | D10: 1 | E10: =공종별내역서!F123 -> 0 | F10: =E10*D10 -> 0 | G10: =공종별내역서!H123 -> 0 | H10: =G10*D10 -> 0 | I10: =공종별내역서!J123 -> 0 | J10: =I10*D10 -> 0 | K10: =E10+G10+I10 -> 0 | L10: =F10+H10+J10 -> 0 | N10: 0105 | P10: 01 | R10: 2
A11: 0106 방 수 공 사 | D11: 1 | E11: =공종별내역서!F147 -> 0 | F11: =E11*D11 -> 0 | G11: =공종별내역서!H147 -> 0 | H11: =G11*D11 -> 0 | I11: =공종별내역서!J147 -> 0 | J11: =I11*D11 -> 0 | K11: =E11+G11+I11 -> 0 | L11: =F11+H11+J11 -> 0 | N11: 0106 | P11: 01 | R11: 2
A12: 0107 지붕 및 홈통공사 | D12: 1 | E12: =공종별내역서!F171 -> 0 | F12: =E12*D12 -> 0 | G12: =공종별내역서!H171 -> 0 | H12: =G12*D12 -> 0 | I12: =공종별내역서!J171 -> 0 | J12: =I12*D12 -> 0 | K12: =E12+G12+I12 -> 0 | L12: =F12+H12+J12 -> 0 | N12: 0107 | P12: 01 | R12: 2
A13: 0108 미 장 공 사 | D13: 1 | E13: =공종별내역서!F195 -> 0 | F13: =E13*D13 -> 0 | G13: =공종별내역서!H195 -> 0 | H13: =G13*D13 -> 0 | I13: =공종별내역서!J195 -> 0 | J13: =I13*D13 -> 0 | K13: =E13+G13+I13 -> 0 | L13: =F13+H13+J13 -> 0 | N13: 0108 | P13: 01 | R13: 2
A14: 0109 창호 및 유리공사 | D14: 1 | E14: =공종별내역서!F219 -> 0 | F14: =E14*D14 -> 0 | G14: =공종별내역서!H219 -> 0 | H14: =G14*D14 -> 0 | I14: =공종별내역서!J219 -> 0 | J14: =I14*D14 -> 0 | K14: =E14+G14+I14 -> 0 | L14: =F14+H14+J14 -> 0 | N14: 0109 | P14: 01 | R14: 2
A15: 0110 칠 공 사 | D15: 1 | E15: =공종별내역서!F243 -> 0 | F15: =E15*D15 -> 0 | G15: =공종별내역서!H243 -> 0 | H15: =G15*D15 -> 0 | I15: =공종별내역서!J243 -> 0 | J15: =I15*D15 -> 0 | K15: =E15+G15+I15 -> 0 | L15: =F15+H15+J15 -> 0 | N15: 0110 | P15: 01 | R15: 2
A16: 0111 판 넬 공 사 | D16: 1 | E16: =공종별내역서!F267 -> 0 | F16: =E16*D16 -> 0 | G16: =공종별내역서!H267 -> 0 | H16: =G16*D16 -> 0 | I16: =공종별내역서!J267 -> 0 | J16: =I16*D16 -> 0 | K16: =E16+G16+I16 -> 0 | L16: =F16+H16+J16 -> 0 | N16: 0111 | P16: 01 | R16: 2
A17: 0112 골재비 및 운반비 | D17: 1 | E17: =공종별내역서!F291 -> 0 | F17: =E17*D17 -> 0 | G17: =공종별내역서!H291 -> 0 | H17: =G17*D17 -> 0 | I17: =공종별내역서!J291 -> 0 | J17: =I17*D17 -> 0 | K17: =E17+G17+I17 -> 0 | L17: =F17+H17+J17 -> 0 | N17: 0112 | P17: 01 | R17: 2
A18: 0113 도급자 관급자재비 | D18: 1 | E18: =공종별내역서!F315 -> 0 | F18: =E18*D18 -> 0 | G18: =공종별내역서!H315 -> 0 | H18: =G18*D18 -> 0 | I18: =공종별내역서!J315 -> 0 | J18: =I18*D18 -> 0 | K18: =E18+G18+I18 -> 0 | L18: =F18+H18+J18 -> 0 | N18: 0113 | Q18: 7 | R18: 2 | T18: =L18*1 -> 0
A27: [ 합 계 ] | F27: =F5 -> 0 | H27: =H5 -> 0 | J27: =J5 -> 0 | L27: =L5 -> 0

Sheet 공종별내역서
A1: [ 국립생태원 온실식물부 장비보관소 신축공사 ]
A2: 품 명 | B2: 규 격 | C2: 단위 | D2: 수량 | E2: 재 료 비 | G2: 노 무 비 | I2: 경 비 | K2: 합 계 | M2: 비 고 | N2: 품목코드 | O2: 변수 | P2: 설정 | Q2: 공종코드 | R2: 일위 | S2: 단산 | T2: 자재 | U2: 손료적용 | V2: 손료저장 | W2: 적용율 | X2: JUK1 | Y2: JUK2 | Z2: JUK3 | AA2: JUK4 | AB2: JUK5 | AC2: JUK6 | AD2: JUK7 | AE2: JUK8 | AF2: JUK9 | AG2: JUK10 | AH2: JUK11 | AI2: JUK12 | AJ2: JUK13 | AK2: JUK14 | AL2: JUK15 | AM2: JUK16 | AN2: JUK17 | AO2: JUK18 | AP2: JUK19 | AQ2: JUK20 | AR2: 자재구분 | AS2: 공종구분 | AT2: 공종레벨 | AU2: 공종+자재 | AV2: 고유번호
E3: 단 가 | F3: 금 액 | G3: 단 가 | H3: 금 액 | I3: 단 가 | J3: 금 액 | K3: 단 가 | L3: 금 액
A4: 0101 가 설 공 사 | Q4: 0101
A5: 건축물현장정리 | B5: 철골조 | C5: M2 | D5: 198 | E5: 0 | F5: =TRUNC(E5*D5, 0) -> 0 | H5: =TRUNC(G5*D5, 0) -> 0 | J5: =TRUNC(I5*D5, 0) -> 0 | K5: =TRUNC(E5+G5+I5, 0) -> 0 | L5: =TRUNC(F5+H5+J5, 0) -> 0 | N5: 5825756546016B9B113E3255D9AA45 | Q5: 0101 | R5: T | S5: F | T5: F | AU5: 01015825756546016B9B113E3255D9AA45 | AV5: 4
A6: 구조부 먹매김 | B6: 일반 | C6: M2 | D6: 198 | F6: =TRUNC(E6*D6, 0) -> 0 | H6: =TRUNC(G6*D6, 0) -> 0 | J6: =TRUNC(I6*D6, 0) -> 0 | K6: =TRUNC(E6+G6+I6, 0) -> 0 | L6: =TRUNC(F6+H6+J6, 0) -> 0 | N6: 5825756545016983183B859063CD90 | Q6: 0101 | R6: T | S6: F | T6: F | AU6: 01015825756545016983183B859063CD90 | AV6: 5
A7: 거푸집 먹매김 | B7: 일반 | C7: M2 | D7: 198 | F7: =TRUNC(E7*D7, 0) -> 0 | H7: =TRUNC(G7*D7, 0) -> 0 | J7: =TRUNC(I7*D7, 0) -> 0 | K7: =TRUNC(E7+G7+I7, 0) -> 0 | L7: =TRUNC(F7+H7+J7, 0) -> 0 | N7: 5825756545016983183B875DD0B5B1 | Q7: 0101 | R7: T | S7: F | T7: F | AU7: 01015825756545016983183B875DD0B5B1 | AV7: 6
A8: 건축물 보양 - 콘크리트 | B8: 살수 | C8: M2 | D8: 198 | F8: =TRUNC(E8*D8, 0) -> 0 | H8: =TRUNC(G8*D8, 0) -> 0 | J8: =TRUNC(I8*D8, 0) -> 0 | K8: =TRUNC(E8+G8+I8, 0) -> 0 | L8: =TRUNC(F8+H8+J8, 0) -> 0 | N8: 58257565450169832A3ECD10319E43 | Q8: 0101 | R8: T | S8: F | T8: F | AU8: 010158257565450169832A3ECD10319E43 | AV8: 7
A27: [ 합 계 ] | F27: =SUM(F5:F26) -> 0 | H27: =SUM(H5:H26) -> 0 | J27: =SUM(J5:J26) -> 0 | L27: =SUM(L5:L26) -> 0 | N27: TOTAL
A28: 0102 기초 및 토공사 | Q28: 0102
A29: 터파기/토사 | B29: 보통, 굴삭기 0.7m3 | C29: M3 | D29: 185.64 | F29: =TRUNC(E29*D29, 0) -> 0 | H29: =TRUNC(G29*D29, 0) -> 0 | J29: =TRUNC(I29*D29, 0) -> 0 | K29: =TRUNC(E29+G29+I29, 0) -> 0 | L29: =TRUNC(F29+H29+J29, 0) -> 0 | N29: 5800D5AC040160FA9338059778AACE | Q29: 0102 | R29: F | S29: T | T29: F | AU29: 01025800D5AC040160FA9338059778AACE | AV29: 10
A30: 되메우기/토사, 두께 30cm | B30: 보통, 굴삭기 0.7m3+래머 80kg | C30: M3 | D30: 119.97 | F30: =TRUNC(E30*D30, 0) -> 0 | H30: =TRUNC(G30*D30, 0) -> 0 | J30: =TRUNC(I30*D30, 0) -> 0 | K30: =TRUNC(E30+G30+I30, 0) -> 0 | L30: =TRUNC(F30+H30+J30, 0) -> 0 | N30: 5800D5A17B016119263628DCC706E2 | Q30: 0102 | R30: F | S30: T | T30: F | AU30: 01025800D5A17B016119263628DCC706E2 | AV30: 76
A31: 토사 운반/단지외 10km | B31: 보통, 덤프 15ton+굴삭기 0.7m3(고르기 별도) | C31: M3 | D31: 65.67 | F31: =TRUNC(E31*D31, 0) -> 0 | H31: =TRUNC(G31*D31, 0) -> 0 | J31: =TRUNC(I31*D31, 0) -> 0 | K31: =TRUNC(E31+G31+I31, 0) -> 0 | L31: =TRUNC(F31+H31+J31, 0) -> 0 | N31: 5800D5AFDA0165AE893BD32C57D684 | Q31: 0102 | R31: F | S31: T | T31: F | AU31: 01025800D5AFDA0165AE893BD32C57D684 | AV31: 77
A51: [ 합 계 ] | F51: =SUM(F29:F50) -> 0 | H51: =SUM(H29:H50) -> 0 | J51: =SUM(J29:J50) -> 0 | L51: =SUM(L29:L50) -> 0 | N51: TOTAL
A52: 0103 철근콘크리트공사 | Q52: 0103
A53: 레미콘(관급) | B53: 25-18-80 | C53: M3 | D53: 22 | F53: =TRUNC(E53*D53, 0) -> 0 | H53: =TRUNC(G53*D53, 0) -> 0 | J53: =TRUNC(I53*D53, 0) -> 0 | K53: =TRUNC(E53+G53+I53, 0) -> 0 | L53: =TRUNC(F53+H53+J53, 0) -> 0 | N53: 5F00C52A1001646142353049C87024CBF6C330 | Q53: 0103 | R53: F | S53: F | T53: T | AU53: 01035F00C52A1001646142353049C87024CBF6C330 | AV53: 96
A54: 레미콘(관급) | B54: 25-21-120 | C54: M3 | D54: 89 | F54: =TRUNC(E54*D54, 0) -> 0 | H54: =TRUNC(G54*D54, 0) -> 0 | J54: =TRUNC(I54*D54, 0) -> 0 | K54: =TRUNC(E54+G54+I54, 0) -> 0 | L54: =TRUNC(F54+H54+J54, 0) -> 0 | N54: 5F00C52A1001646142353049C87024CBF6C337 | Q54: 0103 | R54: F | S54: F | T54: T | AU54: 01035F00C52A1001646142353049C87024CBF6C337 | AV54: 97
A55: 콘크리트 펌프차 타설(무근, 진동기無) | B55: 100m3 미만, 슬럼프 8~12cm, 양호(매트기초 등) | C55: 회 | D55: 1 | F55: =TRUNC(E55*D55, 0) -> 0 | H55: =TRUNC(G55*D55, 0) -> 0 | J55: =TRUNC(I55*D55, 0) -> 0 | K55: =TRUNC(E55+G55+I55, 0) -> 0 | L55: =TRUNC(F55+H55+J55, 0) -> 0 | N55: 582525D9080168A2F130741A7C99D0 | Q55: 0103 | R55: F | S55: T | T55: F | AU55: 0103582525D9080168A2F130741A7C99D0 | AV55: 98
A56: 콘크리트 펌프차 타설(매트기초 등) | B56: 100m3 미만, 슬럼프 8~12cm, 양호 | C56: 회 | D56: 1 | F56: =TRUNC(E56*D56, 0) -> 0 | H56: =TRUNC(G56*D56, 0) -> 0 | J56: =TRUNC(I56*D56, 0) -> 0 | K56: =TRUNC(E56+G56+I56, 0) -> 0 | L56: =TRUNC(F56+H56+J56, 0) -> 0 | N56: 582525D90B0165E89E3E64810683C0 | Q56: 0103 | R56: F | S56: T | T56: F | AU56: 0103582525D90B0165E89E3E64810683C0 | AV56: 99
A57: 유로폼 설치 및 해체 | B57: 보통, 수직고 7m까지 | C57: M2 | D57: 30.1 | F57: =TRUNC(E57*D57, 0) -> 0 | H57: =TRUNC(G57*D57, 0) -> 0 | J57: =TRUNC(I57*D57, 0) -> 0 | K57: =TRUNC(E57+G57+I57, 0) -> 0 | L57: =TRUNC(F57+H57+J57, 0) -> 0 | N57: 582525DE8F01605D22340C1A058682 | Q57: 0103 | R57: T | S57: F | T57: F | AU57: 0103582525DE8F01605D22340C1A058682 | AV57: 100
A58: 철근콘크리트용봉강(관급) | B58: 철근콘크리트용봉강, 이형봉강(SD350/400), HD-10 | C58: TON | D58: 2.539 | F58: =TRUNC(E58*D58, 0) -> 0 | H58: =TRUNC(G58*D58, 0) -> 0 | J58: =TRUNC(I58*D58, 0) -> 0 | K58: =TRUNC(E58+G58+I58, 0) -> 0 | L58: =TRUNC(F58+H58+J58, 0) -> 0 | M58: 별도 | N58: 5F00C52A110166FEE83E878B0FE5DE62144A1D | Q58: 0103 | R58: F | S58: F | T58: T | AU58: 01035F00C52A110166FEE83E878B0FE5DE62144A1D | AV58: 102
A59: 철근콘크리트용봉강(관급) | B59: 철근콘크리트용봉강, 이형봉강(SD350/400), HD-13 | C59: TON | D59: 0.467 | F59: =TRUNC(E59*D59, 0) -> 0 | H59: =TRUNC(G59*D59, 0) -> 0 | J59: =TRUNC(I59*D59, 0) -> 0 | K59: =TRUNC(E59+G59+I59, 0) -> 0 | L59: =TRUNC(F59+H59+J59, 0) -> 0 | M59: 별도 | N59: 5F00C52A110166FEE83E878B0FE5DE62144A1E | Q59: 0103 | R59: F | S59: F | T59: T | AU59: 01035F00C52A110166FEE83E878B0FE5DE62144A1E | AV59: 103
A60: 철근콘크리트용봉강(관급) | B60: 철근콘크리트용봉강, 이형봉강(SD350/400), HD-16 | C60: TON | D60: 0.837 | F60: =TRUNC(E60*D60, 0) -> 0 | H60: =TRUNC(G60*D60, 0) -> 0 | J60: =TRUNC(I60*D60, 0) -> 0 | K60: =TRUNC(E60+G60+I60, 0) -> 0 | L60: =TRUNC(F60+H60+J60, 0) -> 0 | M60: 별도 | N60: 5F00C52A110166FEE83E878B0FE5DE62144A1F | Q60: 0103 | R60: F | S60: F | T60: T | AU60: 01035F00C52A110166FEE83E878B0FE5DE62144A1F | AV60: 104
A61: 철근, 현장 - 보통 가공 및 조립 | B61: 수직고 7m 미만 | C61: TON | D61: 3.73 | F61: =TRUNC(E61*D61, 0) -> 0 | H61: =TRUNC(G61*D61, 0) -> 0 | J61: =TRUNC(I61*D61, 0) -> 0 | K61: =TRUNC(E61+G61+I61, 0) -> 0 | L61: =TRUNC(F61+H61+J61, 0) -> 0 | N61: 582525DDE401620F95342CE404934B | Q61: 0103 | R61: T | S61: F | T61: F | AU61: 0103582525DDE401620F95342CE404934B | AV61: 105
A62: 철강설 | B62: 철강설, 고철, 작업설부산물 | C62: kg | D62: -112 | F62: =TRUNC(E62*D62, 0) -> 0 | H62: =TRUNC(G62*D62, 0) -> 0 | J62: =TRUNC(I62*D62, 0) -> 0 | K62: =TRUNC(E62+G62+I62, 0) -> 0 | L62: =TRUNC(F62+H62+J62, 0) -> 0 | M62: 수집상차도 | N62: 5F23B5CCDD01694F963420849328F766B3EE9A | Q62: 0103 | R62: F | S62: F | T62: T | AU62: 01035F23B5CCDD01694F963420849328F766B3EE9A | AV62: 106
A75: [ 합 계 ] | F75: =SUM(F53:F74) -> 0 | H75: =SUM(H53:H74) -> 0 | J75: =SUM(J53:J74) -> 0 | L75: =SUM(L53:L74) -> 0 | N75: TOTAL
A76: 0104 철 골 공 사 | Q76: 0104
A77: ㄱ형강 | B77: ㄱ형강, 등변, 70*70*6mm | C77: kg | D77: 434.09 | F77: =TRUNC(E77*D77, 0) -> 0 | H77: =TRUNC(G77*D77, 0) -> 0 | J77: =TRUNC(I77*D77, 0) -> 0 | K77: =TRUNC(E77+G77+I77, 0) -> 0 | L77: =TRUNC(F77+H77+J77, 0) -> 0 | N77: 5F00C52A110166FEDE382FF744A172D8CAE8E8 | Q77: 0104 | R77: F | S77: F | T77: T | AU77: 01045F00C52A110166FEDE382FF744A172D8CAE8E8 | AV77: 13
A78: 일반봉강 | B78: 일반봉강, SS400, ∮19mm | C78: kg | D78: 289.17 | F78: =TRUNC(E78*D78, 0) -> 0 | H78: =TRUNC(G78*D78, 0) -> 0 | J78: =TRUNC(I78*D78, 0) -> 0 | K78: =TRUNC(E78+G78+I78, 0) -> 0 | L78: =TRUNC(F78+H78+J78, 0) -> 0 | N78: 5F00C52A110166FEE83F914DCA0483A960ECA0 | Q78: 0104 | R78: F | S78: F | T78: T | AU78: 01045F00C52A110166FEE83F914DCA0483A960ECA0 | AV78: 14
A79: H형강 | B79: SS275, 300*150*6.5*9mm, 현장도착도 | C79: TON | D79: 4.12 | F79: =TRUNC(E79*D79, 0) -> 0 | H79: =TRUNC(G79*D79, 0) -> 0 | J79: =TRUNC(I79*D79, 0) -> 0 | K79: =TRUNC(E79+G79+I79, 0) -> 0 | L79: =TRUNC(F79+H79+J79, 0) -> 0 | M79: 36.7kg/m | N79: 5F00C52A110166FEF93683060A0E2E13C383C6 | Q79: 0104 | R79: F | S79: F | T79: T | AU79: 01045F00C52A110166FEF93683060A0E2E13C383C6 | AV79: 78
A80: H형강 | B80: SS275, 200*100*5.5*8mm, 현장도착도 | C80: TON | D80: 2.05 | F80: =TRUNC(E80*D80, 0) -> 0 | H80: =TRUNC(G80*D80, 0) -> 0 | J80: =TRUNC(I80*D80, 0) -> 0 | K80: =TRUNC(E80+G80+I80, 0) -> 0 | L80: =TRUNC(F80+H80+J80, 0) -> 0 | M80: 21.3kg/m | N80: 5F00C52A110166FEF93683060A0E2E13C38110 | Q80: 0104 | R80: F | S80: F | T80: T | AU80: 01045F00C52A110166FEF93683060A0E2E13C38110 | AV80: 79
A81: H형강 | B81: SS275, 250*125*6*9mm, 현장도착도 | C81: TON | D81: 1.63 | F81: =TRUNC(E81*D81, 0) -> 0 | H81: =TRUNC(G81*D81, 0) -> 0 | J81: =TRUNC(I81*D81, 0) -> 0 | K81: =TRUNC(E81+G81+I81, 0) -> 0 | L81: =TRUNC(F81+H81+J81, 0) -> 0 | M81: 29.6kg/m | N81: 5F00C52A110166FEF93683060A0E2E13C38074 | Q81: 0104 | R81: F | S81: F | T81: T | AU81: 01045F00C52A110166FEF93683060A0E2E13C38074 | AV81: 80
A82: 경량형강 | B82: 경량형강, 칼라C형강, 100*50*20, t2.3 | C82: TON | D82: 1.36 | F82: =TRUNC(E82*D82, 0) -> 0 | H82: =TRUNC(G82*D82, 0) -> 0 | J82: =TRUNC(I82*D82, 0) -> 0 | K82: =TRUNC(E82+G82+I82, 0) -> 0 | L82: =TRUNC(F82+H82+J82, 0) -> 0 | N82: 5F00C52A110166FEF936830564A9097E0EE948 | Q82: 0104 | R82: F | S82: F | T82: T | AU82: 01045F00C52A110166FEF936830564A9097E0EE948 | AV82: 18
A83: 일반구조용압연강판 | B83: 일반구조용압연강판, 16mm | C83: TON | D83: 0.63 | F83: =TRUNC(E83*D83, 0) -> 0 | H83: =TRUNC(G83*D83, 0) -> 0 | J83: =TRUNC(I83*D83, 0) -> 0 | K83: =TRUNC(E83+G83+I83, 0) -> 0 | L83: =TRUNC(F83+H83+J83, 0) -> 0 | N83: 5F00C52A110166C117357493D4C19A181B743C | Q83: 0104 | R83: F | S83: F | T83: T | AU83: 01045F00C52A110166C117357493D4C19A181B743C | AV83: 19
A84: 일반구조용압연강판 | B84: 일반구조용압연강판, 20mm | C84: TON | D84: 0.14 | F84: =TRUNC(E84*D84, 0) -> 0 | H84: =TRUNC(G84*D84, 0) -> 0 | J84: =TRUNC(I84*D84, 0) -> 0 | K84: =TRUNC(E84+G84+I84, 0) -> 0 | L84: =TRUNC(F84+H84+J84, 0) -> 0 | N84: 5F00C52A110166C117357493D4C19A181B75DA | Q84: 0104 | R84: F | S84: F | T84: T | AU84: 01045F00C52A110166C117357493D4C19A181B75DA | AV84: 20
A85: 일반구조용압연강판 | B85: 일반구조용압연강판, 9.0mm | C85: TON | D85: 0.44 | F85: =TRUNC(E85*D85, 0) -> 0 | H85: =TRUNC(G85*D85, 0) -> 0 | J85: =TRUNC(I85*D85, 0) -> 0 | K85: =TRUNC(E85+G85+I85, 0) -> 0 | L85: =TRUNC(F85+H85+J85, 0) -> 0 | N85: 5F00C52A110166C117357493D5E2155C8CDBAF | Q85: 0104 | R85: F | S85: F | T85: T | AU85: 01045F00C52A110166C117357493D5E2155C8CDBAF | AV85: 21
A86: 턴바클(아연도금) | B86: ∮19∼20 | C86: 조 | D86: 24 | F86: =TRUNC(E86*D86, 0) -> 0 | H86: =TRUNC(G86*D86, 0) -> 0 | J86: =TRUNC(I86*D86, 0) -> 0 | K86: =TRUNC(E86+G86+I86, 0) -> 0 | L86: =TRUNC(F86+H86+J86, 0) -> 0 | M86: 공장상차도 | N86: 5F00C52A1401620DA83F42E300663B985DBD4B | Q86: 0104 | R86: F | S86: F | T86: T | AU86: 01045F00C52A1401620DA83F42E300663B985DBD4B | AV86: 22
A87: 앵커볼트 | B87: 앵커볼트, M20*800mm | C87: 개 | D87: 51 | F87: =TRUNC(E87*D87, 0) -> 0 | H87: =TRUNC(G87*D87, 0) -> 0 | J87: =TRUNC(I87*D87, 0) -> 0 | K87: =TRUNC(E87+G87+I87, 0) -> 0 | L87: =TRUNC(F87+H87+J87, 0) -> 0 | N87: 5F00D5307A016A475030E13275B021D546623C | Q87: 0104 | R87: F | S87: F | T87: T | AU87: 01045F00D5307A016A475030E13275B021D546623C | AV87: 93
A88: 고장력볼트 | B88: 고장력볼트, F10T, M16*50mm | C88: 조 | D88: 132 | F88: =TRUNC(E88*D88, 0) -> 0 | H88: =TRUNC(G88*D88, 0) -> 0 | J88: =TRUNC(I88*D88, 0) -> 0 | K88: =TRUNC(E88+G88+I88, 0) -> 0 | L88: =TRUNC(F88+H88+J88, 0) -> 0 | N88: 5F00D5307A016A475030E13275B021D5477052 | Q88: 0104 | R88: F | S88: F | T88: T | AU88: 01045F00D5307A016A475030E13275B021D5477052 | AV88: 25
A89: 고장력볼트 | B89: 고장력볼트, F10T, M20*50mm | C89: 조 | D89: 99 | F89: =TRUNC(E89*D89, 0) -> 0 | H89: =TRUNC(G89*D89, 0) -> 0 | J89: =TRUNC(I89*D89, 0) -> 0 | K89: =TRUNC(E89+G89+I89, 0) -> 0 | L89: =TRUNC(F89+H89+J89, 0) -> 0 | N89: 5F00D5307A016A475030E13275B021D54775DA | Q89: 0104 | R89: F | S89: F | T89: T | AU89: 01045F00D5307A016A475030E13275B021D54775DA | AV89: 26
A90: 고장력볼트 | B90: 고장력볼트, F10T, M20*60mm | C90: 조 | D90: 41 | F90: =TRUNC(E90*D90, 0) -> 0 | H90: =TRUNC(G90*D90, 0) -> 0 | J90: =TRUNC(I90*D90, 0) -> 0 | K90: =TRUNC(E90+G90+I90, 0) -> 0 | L90: =TRUNC(F90+H90+J90, 0) -> 0 | N90: 5F00D5307A016A475030E13275B021D54775DC | Q90: 0104 | R90: F | S90: F | T90: T | AU90: 01045F00D5307A016A475030E13275B021D54775DC | AV90: 27
A91: 앵커 볼트 설치 | B91: ∮20 이하 | C91: 개 | D91: 48 | F91: =TRUNC(E91*D91, 0) -> 0 | H91: =TRUNC(G91*D91, 0) -> 0 | J91: =TRUNC(I91*D91, 0) -> 0 | K91: =TRUNC(E91+G91+I91, 0) -> 0 | L91: =TRUNC(F91+H91+J91, 0) -> 0 | N91: 582535C43E016467513C06472044A8 | Q91: 0104 | R91: T | S91: F | T91: F | AU91: 0104582535C43E016467513C06472044A8 | AV91: 29
A92: 철골 가공 조립(적은 구조) | B92: Rolled shape, 60ton 미만 | C92: TON | D92: 7.44 | F92: =TRUNC(E92*D92, 0) -> 0 | H92: =TRUNC(G92*D92, 0) -> 0 | J92: =TRUNC(I92*D92, 0) -> 0 | K92: =TRUNC(E92+G92+I92, 0) -> 0 | L92: =TRUNC(F92+H92+J92, 0) -> 0 | N92: 582535C5C4016311A03152CB09F762 | Q92: 0104 | R92: T | S92: F | T92: F | AU92: 0104582535C5C4016311A03152CB09F762 | AV92: 30
A93: 부대철골 설치 | C93: TON | D93: 1.71 | F93: =TRUNC(E93*D93, 0) -> 0 | H93: =TRUNC(G93*D93, 0) -> 0 | J93: =TRUNC(I93*D93, 0) -> 0 | K93: =TRUNC(E93+G93+I93, 0) -> 0 | L93: =TRUNC(F93+H93+J93, 0) -> 0 | N93: 582535C271016D94C0373E68A7573C | Q93: 0104 | R93: T | S93: F | T93: F | AU93: 0104582535C271016D94C0373E68A7573C | AV93: 31
A94: 철골세우기 - 표준단가 | B94: 6층 미만 | C94: TON | D94: 7.44 | F94: =TRUNC(E94*D94, 0) -> 0 | H94: =TRUNC(G94*D94, 0) -> 0 | J94: =TRUNC(I94*D94, 0) -> 0 | K94: =TRUNC(E94+G94+I94, 0) -> 0 | L94: =TRUNC(F94+H94+J94, 0) -> 0 | N94: 582535C3150168E311330334CAB06F | Q94: 0104 | R94: T | S94: F | T94: F | AU94: 0104582535C3150168E311330334CAB06F | AV94: 32
A95: 고장력 볼트 본조임 - 표준단가 | B95: 30본/t 미만 | C95: TON | D95: 7.44 | F95: =TRUNC(E95*D95, 0) -> 0 | H95: =TRUNC(G95*D95, 0) -> 0 | J95: =TRUNC(I95*D95, 0) -> 0 | K95: =TRUNC(E95+G95+I95, 0) -> 0 | L95: =TRUNC(F95+H95+J95, 0) -> 0 | N95: 582535C31E016ECA0F312771A2674E | Q95: 0104 | R95: T | S95: F | T95: F | AU95: 0104582535C31E016ECA0F312771A2674E | AV95: 33
A96: 기둥밑 무수축 고름모르타르 재료량 | B96: 무수축모르타르, GP600 | C96: M3 | D96: 0.03 | F96: =TRUNC(E96*D96, 0) -> 0 | H96: =TRUNC(G96*D96, 0) -> 0 | J96: =TRUNC(I96*D96, 0) -> 0 | K96: =TRUNC(E96+G96+I96, 0) -> 0 | L96: =TRUNC(F96+H96+J96, 0) -> 0 | N96: 582535C31E016ED4773B1749FB955E | Q96: 0104 | R96: T | S96: F | T96: F | AU96: 0104582535C31E016ED4773B1749FB955E | AV96: 34
A99: [ 합 계 ] | F99: =SUM(F77:F98) -> 0 | H99: =SUM(H77:H98) -> 0 | J99: =SUM(J77:J98) -> 0 | L99: =SUM(L77:L98) -> 0 | N99: TOTAL
A100: 0105 목공사 및 수장공사 | Q100: 0105
A101: 동력환기팬 | B101: 400*400 | C101: 개 | D101: 4 | F101: =TRUNC(E101*D101, 0) -> 0 | H101: =TRUNC(G101*D101, 0) -> 0 | J101: =TRUNC(I101*D101, 0) -> 0 | K101: =TRUNC(E101+G101+I101, 0) -> 0 | L101: =TRUNC(F101+H101+J101, 0) -> 0 | N101: 5825C5E48E0163BAB532F605F8AB78 | Q101: 0105 | R101: T | S101: F | T101: F | AU101: 01055825C5E48E0163BAB532F605F8AB78 | AV101: 38
A102: 방습필름 - 바닥 | B102: 폴리에틸렌필름, 두께, 0.03mm, 2겹 | C102: M2 | D102: 195.02 | F102: =TRUNC(E102*D102, 0) -> 0 | H102: =TRUNC(G102*D102, 0) -> 0 | J102: =TRUNC(I102*D102, 0) -> 0 | K102: =TRUNC(E102+G102+I102, 0) -> 0 | L102: =TRUNC(F102+H102+J102, 0) -> 0 | N102: 582595AB26016DE0C93CCD57163BDF | Q102: 0105 | R102: T | S102: F | T102: F | AU102: 0105582595AB26016DE0C93CCD57163BDF | AV102: 39
A123: [ 합 계 ] | F123: =SUM(F101:F122) -> 0 | H123: =SUM(H101:H122) -> 0 | J123: =SUM(J101:J122) -> 0 | L123: =SUM(L101:L122) -> 0 | N123: TOTAL
A124: 0106 방 수 공 사 | Q124: 0106
A125: 바탕만들기+에폭시 코팅 | B125: 바닥, 롤러칠 | C125: M2 | D125: 195.02 | F125: =TRUNC(E125*D125, 0) -> 0 | H125: =TRUNC(G125*D125, 0) -> 0 | J125: =TRUNC(I125*D125, 0) -> 0 | K125: =TRUNC(E125+G125+I125, 0) -> 0 | L125: =TRUNC(F125+H125+J125, 0) -> 0 | N125: 582585429E0167D4863D6495D6B898 | Q125: 0106 | R125: T | S125: F | T125: F | AU125: 0106582585429E0167D4863D6495D6B898 | AV125: 81
A126: 수밀코킹(실리콘) | B126: 삼각, 10mm, 창호주위 | C126: M | D126: 48 | F126: =TRUNC(E126*D126, 0) -> 0 | H126: =TRUNC(G126*D126, 0) -> 0 | J126: =TRUNC(I126*D126, 0) -> 0 | K126: =TRUNC(E126+G126+I126, 0) -> 0 | L126: =TRUNC(F126+H126+J126, 0) -> 0 | N126: 5825E5365F016B2FFA368DFCE36F43 | Q126: 0106 | R126: T | S126: F | T126: F | AU126: 01065825E5365F016B2FFA368DFCE36F43 | AV126: 42
A147: [ 합 계 ] | F147: =SUM(F125:F146) -> 0 | H147: =SUM(H125:H146) -> 0 | J147: =SUM(J125:J146) -> 0 | L147: =SUM(L125:L146) -> 0 | N147: TOTAL
A148: 0107 지붕 및 홈통공사 | Q148: 0107
A149: 선홈통(염화비닐) 설치 | B149: 100mm, VG2 | C149: M | D149: 57 | F149: =TRUNC(E149*D149, 0) -> 0 | H149: =TRUNC(G149*D149, 0) -> 0 | J149: =TRUNC(I149*D149, 0) -> 0 | K149: =TRUNC(E149+G149+I149, 0) -> 0 | L149: =TRUNC(F149+H149+J149, 0) -> 0 | N149: 5825D5C87301640D43355CF3ABFE8F | Q149: 0107 | R149: T | S149: F | T149: F | AU149: 01075825D5C87301640D43355CF3ABFE8F | AV149: 91
A150: 처마홈통 | B150: T1.2*W200*H200 | C150: M | D150: 40.4 | F150: =TRUNC(E150*D150, 0) -> 0 | H150: =TRUNC(G150*D150, 0) -> 0 | J150: =TRUNC(I150*D150, 0) -> 0 | K150: =TRUNC(E150+G150+I150, 0) -> 0 | L150: =TRUNC(F150+H150+J150, 0) -> 0 | N150: 5F6935616C01638B7437B733690A | Q150: 0107 | R150: T | S150: F | T150: F | AU150: 01075F6935616C01638B7437B733690A | AV150: 90
A171: [ 합 계 ] | F171: =SUM(F149:F170) -> 0 | H171: =SUM(H149:H170) -> 0 | J171: =SUM(J149:J170) -> 0 | L171: =SUM(L149:L170) -> 0 | N171: TOTAL
A172: 0108 미 장 공 사 | Q172: 0108
A173: 모르타르 바름 | B173: 외벽, 18mm | C173: M2 | D173: 12.04 | F173: =TRUNC(E173*D173, 0) -> 0 | H173: =TRUNC(G173*D173, 0) -> 0 | J173: =TRUNC(I173*D173, 0) -> 0 | K173: =TRUNC(E173+G173+I173, 0) -> 0 | L173: =TRUNC(F173+H173+J173, 0) -> 0 | N173: 582515F8590167774030AA3B55A85F | Q173: 0108 | R173: T | S173: F | T173: F | AU173: 0108582515F8590167774030AA3B55A85F | AV173: 49
A174: 모르타르 기계바름 | B174: 기계마감 | C174: M2 | D174: 195.02 | F174: =TRUNC(E174*D174, 0) -> 0 | H174: =TRUNC(G174*D174, 0) -> 0 | J174: =TRUNC(I174*D174, 0) -> 0 | K174: =TRUNC(E174+G174+I174, 0) -> 0 | L174: =TRUNC(F174+H174+J174, 0) -> 0 | N174: 582515F85C016C8A0435D05E6423FA | Q174: 0108 | R174: T | S174: F | T174: F | AU174: 0108582515F85C016C8A0435D05E6423FA | AV174: 50
A195: [ 합 계 ] | F195: =SUM(F173:F194) -> 0 | H195: =SUM(H173:H194) -> 0 | J195: =SUM(J173:J194) -> 0 | L195: =SUM(L173:L194) -> 0 | N195: TOTAL
A196: 0109 창호 및 유리공사 | Q196: 0109
A197: PVC방충망(백색) | C197: M2 | D197: 8 | F197: =TRUNC(E197*D197, 0) -> 0 | H197: =TRUNC(G197*D197, 0) -> 0 | J197: =TRUNC(I197*D197, 0) -> 0 | K197: =TRUNC(E197+G197+I197, 0) -> 0 | L197: =TRUNC(F197+H197+J197, 0) -> 0 | N197: 5F00C52A16016EE2BB36AD77E47AA67365B4F9 | Q197: 0109 | R197: F | S197: F | T197: T | AU197: 01095F00C52A16016EE2BB36AD77E47AA67365B4F9 | AV197: 89
A198: 복층유리 | B198: 복층유리, 투명, 16mm | C198: M2 | D198: 16 | F198: =TRUNC(E198*D198, 0) -> 0 | H198: =TRUNC(G198*D198, 0) -> 0 | J198: =TRUNC(I198*D198, 0) -> 0 | K198: =TRUNC(E198+G198+I198, 0) -> 0 | L198: =TRUNC(F198+H198+J198, 0) -> 0 | N198: 5F00C52A16016EE2A9314BE25F88EFEC7BAB1D | Q198: 0109 | R198: F | S198: F | T198: T | AU198: 01095F00C52A16016EE2A9314BE25F88EFEC7BAB1D | AV198: 54
A199: 유리주위코킹 | B199: 5*5, 실리콘 | C199: M | D199: 128 | F199: =TRUNC(E199*D199, 0) -> 0 | H199: =TRUNC(G199*D199, 0) -> 0 | J199: =TRUNC(I199*D199, 0) -> 0 | K199: =TRUNC(E199+G199+I199, 0) -> 0 | L199: =TRUNC(F199+H199+J199, 0) -> 0 | N199: 5825E5365E016A837837D73BE115E8 | Q199: 0109 | R199: T | S199: F | T199: F | AU199: 01095825E5365E016A837837D73BE115E8 | AV199: 55
A200: PW01[창고] | B200: 2.000 x 1.000 = 2.000 | C200: EA | D200: 8 | F200: =TRUNC(E200*D200, 0) -> 0 | H200: =TRUNC(G200*D200, 0) -> 0 | J200: =TRUNC(I200*D200, 0) -> 0 | K200: =TRUNC(E200+G200+I200, 0) -> 0 | L200: =TRUNC(F200+H200+J200, 0) -> 0 | N200: 5825A5942C016D250131B8871F6BE5 | Q200: 0109 | R200: T | S200: F | T200: F | AU200: 01095825A5942C016D250131B8871F6BE5 | AV200: 56
A201: 창문틀 주위 충전 | B201: 발포우레탄 충전 | C201: M | D201: 48 | F201: =TRUNC(E201*D201, 0) -> 0 | H201: =TRUNC(G201*D201, 0) -> 0 | J201: =TRUNC(I201*D201, 0) -> 0 | K201: =TRUNC(E201+G201+I201, 0) -> 0 | L201: =TRUNC(F201+H201+J201, 0) -> 0 | N201: 5825A593010166D97D377C8B7C64B2 | Q201: 0109 | R201: T | S201: F | T201: F | AU201: 01095825A593010166D97D377C8B7C64B2 | AV201: 57
A202: 유리끼우기 - 복층유리, 일반창호 | B202: 16mm(5+6A+5) | C202: M2 | D202: 16 | F202: =TRUNC(E202*D202, 0) -> 0 | H202: =TRUNC(G202*D202, 0) -> 0 | J202: =TRUNC(I202*D202, 0) -> 0 | K202: =TRUNC(E202+G202+I202, 0) -> 0 | L202: =TRUNC(F202+H202+J202, 0) -> 0 | N202: 5825A59D090161CD263E2D8E5C9F42 | Q202: 0109 | R202: T | S202: F | T202: F | AU202: 01095825A59D090161CD263E2D8E5C9F42 | AV202: 58
A219: [ 합 계 ] | F219: =SUM(F197:F218) -> 0 | H219: =SUM(H197:H218) -> 0 | J219: =SUM(J197:J218) -> 0 | L219: =SUM(L197:L218) -> 0 | N219: TOTAL
A220: 0110 칠 공 사 | Q220: 0110
A221: 녹막이페인트(붓칠) | B221: 철재면, 2회, 1종 | C221: M2 | D221: 459.54 | F221: =TRUNC(E221*D221, 0) -> 0 | H221: =TRUNC(G221*D221, 0) -> 0 | J221: =TRUNC(I221*D221, 0) -> 0 | K221: =TRUNC(E221+G221+I221, 0) -> 0 | L221: =TRUNC(F221+H221+J221, 0) -> 0 | N221: 58258549CD016CCB22390BC6590669 | Q221: 0110 | R221: T | S221: F | T221: F | AU221: 011058258549CD016CCB22390BC6590669 | AV221: 60
A222: 유성페인트(붓칠) | B222: 철재면, 2회. 2급 | C222: M2 | D222: 459.54 | F222: =TRUNC(E222*D222, 0) -> 0 | H222: =TRUNC(G222*D222, 0) -> 0 | J222: =TRUNC(I222*D222, 0) -> 0 | K222: =TRUNC(E222+G222+I222, 0) -> 0 | L222: =TRUNC(F222+H222+J222, 0) -> 0 | N222: 5825854AD5016C57973C94776E7F84 | Q222: 0110 | R222: T | S222: F | T222: F | AU222: 01105825854AD5016C57973C94776E7F84 | AV222: 61
A223: 수성페인트(롤러칠) | B223: 외부, 3회, 1급 | C223: M2 | D223: 12.04 | F223: =TRUNC(E223*D223, 0) -> 0 | H223: =TRUNC(G223*D223, 0) -> 0 | J223: =TRUNC(I223*D223, 0) -> 0 | K223: =TRUNC(E223+G223+I223, 0) -> 0 | L223: =TRUNC(F223+H223+J223, 0) -> 0 | N223: 5825854BFB016C47453B06D1DFF841 | Q223: 0110 | R223: T | S223: F | T223: F | AU223: 01105825854BFB016C47453B06D1DFF841 | AV223: 62
A243: [ 합 계 ] | F243: =SUM(F221:F242) -> 0 | H243: =SUM(H221:H242) -> 0 | J243: =SUM(J221:J242) -> 0 | L243: =SUM(L221:L242) -> 0 | N243: TOTAL
A244: 0111 판 넬 공 사 | Q244: 0111
A245: 샌드위치패널 | B245: 샌드위치패널, 난연2급, 벽재, 100mm | C245: M2 | D245: 254 | F245: =TRUNC(E245*D245, 0) -> 0 | H245: =TRUNC(G245*D245, 0) -> 0 | J245: =TRUNC(I245*D245, 0) -> 0 | K245: =TRUNC(E245+G245+I245, 0) -> 0 | L245: =TRUNC(F245+H245+J245, 0) -> 0 | N245: 5F00C52A1401623A733E8F126DE979EFF88377 | Q245: 0111 | R245: F | S245: F | T245: T | AU245: 01115F00C52A1401623A733E8F126DE979EFF88377 | AV245: 64
A246: 샌드위치패널 | B246: 샌드위치패널, 난연2급, 지붕재, 100mm | C246: M2 | D246: 210.14 | F246: =TRUNC(E246*D246, 0) -> 0 | H246: =TRUNC(G246*D246, 0) -> 0 | J246: =TRUNC(I246*D246, 0) -> 0 | K246: =TRUNC(E246+G246+I246, 0) -> 0 | L246: =TRUNC(F246+H246+J246, 0) -> 0 | N246: 5F00C52A1401623A733E8F126DE979EFF88374 | Q246: 0111 | R246: F | S246: F | T246: T | AU246: 01115F00C52A1401623A733E8F126DE979EFF88374 | AV246: 65
A247: 베이스찬넬 | B247: THK0.5 C/S | C247: M | D247: 40.1 | F247: =TRUNC(E247*D247, 0) -> 0 | H247: =TRUNC(G247*D247, 0) -> 0 | J247: =TRUNC(I247*D247, 0) -> 0 | K247: =TRUNC(E247+G247+I247, 0) -> 0 | L247: =TRUNC(F247+H247+J247, 0) -> 0 | N247: 5F6935616C01638B133C3AD02449 | Q247: 0111 | R247: T | S247: F | T247: F | AU247: 01115F6935616C01638B133C3AD02449 | AV247: 82
A248: 처마C/S후레싱 | B248: THK0.5 C/S | C248: M | D248: 40.4 | F248: =TRUNC(E248*D248, 0) -> 0 | H248: =TRUNC(G248*D248, 0) -> 0 | J248: =TRUNC(I248*D248, 0) -> 0 | K248: =TRUNC(E248+G248+I248, 0) -> 0 | L248: =TRUNC(F248+H248+J248, 0) -> 0 | N248: 5F6935616C01638B133C3AD02707 | Q248: 0111 | R248: T | S248: F | T248: F | AU248: 01115F6935616C01638B133C3AD02707 | AV248: 83
A249: 톱찬넬 후레싱 | B249: THK0.5 C/S | C249: M | D249: 80.3 | F249: =TRUNC(E249*D249, 0) -> 0 | H249: =TRUNC(G249*D249, 0) -> 0 | J249: =TRUNC(I249*D249, 0) -> 0 | K249: =TRUNC(E249+G249+I249, 0) -> 0 | L249: =TRUNC(F249+H249+J249, 0) -> 0 | N249: 5F6935616C01638B133C3AD02709 | Q249: 0111 | R249: T | S249: F | T249: F | AU249: 01115F6935616C01638B133C3AD02709 | AV249: 84
A250: 코너C/S후레싱 | B250: THK0.5 C/S | C250: M | D250: 24 | F250: =TRUNC(E250*D250, 0) -> 0 | H250: =TRUNC(G250*D250, 0) -> 0 | J250: =TRUNC(I250*D250, 0) -> 0 | K250: =TRUNC(E250+G250+I250, 0) -> 0 | L250: =TRUNC(F250+H250+J250, 0) -> 0 | N250: 5F6935616C01638B133C3AD02708 | Q250: 0111 | R250: T | S250: F | T250: F | AU250: 01115F6935616C01638B133C3AD02708 | AV250: 85
A251: 용마루C/S후레싱 | B251: THK0.5 C/S | C251: M | D251: 20.2 | F251: =TRUNC(E251*D251, 0) -> 0 | H251: =TRUNC(G251*D251, 0) -> 0 | J251: =TRUNC(I251*D251, 0) -> 0 | K251: =TRUNC(E251+G251+I251, 0) -> 0 | L251: =TRUNC(F251+H251+J251, 0) -> 0 | N251: 5F6935616C01638B133C3AD02702 | Q251: 0111 | R251: T | S251: F | T251: F | AU251: 01115F6935616C01638B133C3AD02702 | AV251: 86
A252: 박공 후레싱 | B252: THK0.5 C/S | C252: M | D252: 20.2 | F252: =TRUNC(E252*D252, 0) -> 0 | H252: =TRUNC(G252*D252, 0) -> 0 | J252: =TRUNC(I252*D252, 0) -> 0 | K252: =TRUNC(E252+G252+I252, 0) -> 0 | L252: =TRUNC(F252+H252+J252, 0) -> 0 | N252: 5F6935616C01638B133C3AD02703 | Q252: 0111 | R252: T | S252: F | T252: F | AU252: 01115F6935616C01638B133C3AD02703 | AV252: 87
A253: 샌드위치(단열)페널 - 칸막이벽 설치비 | B253: 시공비, 두께 50~100mm 기준 | C253: M2 | D253: 246.6 | F253: =TRUNC(E253*D253, 0) -> 0 | H253: =TRUNC(G253*D253, 0) -> 0 | J253: =TRUNC(I253*D253, 0) -> 0 | K253: =TRUNC(E253+G253+I253, 0) -> 0 | L253: =TRUNC(F253+H253+J253, 0) -> 0 | N253: 582595ADD40167A69C32D874F25E92 | Q253: 0111 | R253: T | S253: F | T253: F | AU253: 0111582595ADD40167A69C32D874F25E92 | AV253: 69
A254: 샌드위치(단열)패널 - 지붕 설치비 | B254: 시공비, 두께 50~100mm 기준 | C254: M2 | D254: 204.02 | F254: =TRUNC(E254*D254, 0) -> 0 | H254: =TRUNC(G254*D254, 0) -> 0 | J254: =TRUNC(I254*D254, 0) -> 0 | K254: =TRUNC(E254+G254+I254, 0) -> 0 | L254: =TRUNC(F254+H254+J254, 0) -> 0 | N254: 582595ADD40167A69C32D87017CF37 | Q254: 0111 | R254: T | S254: F | T254: F | AU254: 0111582595ADD40167A69C32D87017CF37 | AV254: 88
A267: [ 합 계 ] | F267: =SUM(F245:F266) -> 0 | H267: =SUM(H245:H266) -> 0 | J267: =SUM(J245:J266) -> 0 | L267: =SUM(L245:L266) -> 0 | N267: TOTAL
A268: 0112 골재비 및 운반비 | Q268: 0112
A269: 모래 | B269: 모래, 대전, 도착도 | C269: M3 | D269: 0.24 | F269: =TRUNC(E269*D269, 0) -> 0 | H269: =TRUNC(G269*D269, 0) -> 0 | J269: =TRUNC(I269*D269, 0) -> 0 | K269: =TRUNC(E269+G269+I269, 0) -> 0 | L269: =TRUNC(F269+H269+J269, 0) -> 0 | N269: 5F23B5CCD50165E3923BF5AA1CB2727A12895E | Q269: 0112 | R269: F | S269: F | T269: T | AU269: 01125F23B5CCD50165E3923BF5AA1CB2727A12895E | AV269: 109
A270: 시멘트 | B270: 대리점 | C270: 포 | D270: 3 | F270: =TRUNC(E270*D270, 0) -> 0 | H270: =TRUNC(G270*D270, 0) -> 0 | J270: =TRUNC(I270*D270, 0) -> 0 | K270: =TRUNC(E270+G270+I270, 0) -> 0 | L270: =TRUNC(F270+H270+J270, 0) -> 0 | N270: 5F00C52A100164617F3A7871A21475474CE59E | Q270: 0112 | R270: F | S270: F | T270: T | AU270: 01125F00C52A100164617F3A7871A21475474CE59E | AV270: 110
A271: 시멘트운반 | B271: L:20km, 덤프 8ton | C271: 포 | D271: 3 | F271: =TRUNC(E271*D271, 0) -> 0 | H271: =TRUNC(G271*D271, 0) -> 0 | J271: =TRUNC(I271*D271, 0) -> 0 | K271: =TRUNC(E271+G271+I271, 0) -> 0 | L271: =TRUNC(F271+H271+J271, 0) -> 0 | N271: 58242572090162B09636E030F8CF9F | Q271: 0112 | R271: F | S271: T | T271: F | AU271: 011258242572090162B09636E030F8CF9F | AV271: 111
A272: 운반비(트레일러 20ton+크레인 10ton) | B272: 철근, L:20km | C272: TON | D272: 3.84 | F272: =TRUNC(E272*D272, 0) -> 0 | H272: =TRUNC(G272*D272, 0) -> 0 | J272: =TRUNC(I272*D272, 0) -> 0 | K272: =TRUNC(E272+G272+I272, 0) -> 0 | L272: =TRUNC(F272+H272+J272, 0) -> 0 | N272: 582425720E016AD02D32E8925430D4 | Q272: 0112 | R272: F | S272: T | T272: F | AU272: 0112582425720E016AD02D32E8925430D4 | AV272: 108
A291: [ 합 계 ] | F291: =SUM(F269:F290) -> 0 | H291: =SUM(H269:H290) -> 0 | J291: =SUM(J269:J290) -> 0 | L291: =SUM(L269:L290) -> 0 | N291: TOTAL
A292: 0113 도급자 관급자재비 | Q292: 0113
A293: 레미콘 | B293: 레미콘, 충남(서천군, 예산군, 태안군, 홍성군), 25-18-80 | C293: M3 | D293: 22 | F293: =TRUNC(E293*D293, 0) -> 0 | H293: =TRUNC(G293*D293, 0) -> 0 | J293: =TRUNC(I293*D293, 0) -> 0 | K293: =TRUNC(E293+G293+I293, 0) -> 0 | L293: =TRUNC(F293+H293+J293, 0) -> 0 | N293: 5F00C52A1001646142353049C918B103CBF53C | Q293: 0113 | R293: F | S293: F | T293: T | X293: 1 | AU293: 01135F00C52A1001646142353049C918B103CBF53C | AV293: 113
A294: 레미콘 | B294: 레미콘, 충남(서천군, 예산군, 태안군, 홍성군), 25-21-120 | C294: M3 | D294: 89 | F294: =TRUNC(E294*D294, 0) -> 0 | H294: =TRUNC(G294*D294, 0) -> 0 | J294: =TRUNC(I294*D294, 0) -> 0 | K294: =TRUNC(E294+G294+I294, 0) -> 0 | L294: =TRUNC(F294+H294+J294, 0) -> 0 | N294: 5F00C52A1001646142353049C918B103CBF6C2 | Q294: 0113 | R294: F | S294: F | T294: T | X294: 1 | AU294: 01135F00C52A1001646142353049C918B103CBF6C2 | AV294: 114
A295: 소 계 | F295: =SUM(F293:F294) -> 0 | H295: =SUM(H293:H294) -> 0 | J295: =SUM(J293:J294) -> 0 | L295: =SUM(L293:L294) -> 0 | N295: 59988591F00168BDD4345BB2D9CA | R295: F | S295: F | T295: F | AU295: 011359988591F00168BDD4345BB2D9CA | AV295: 118
A296: 철근콘크리트용봉강 | B296: 철근콘크리트용봉강, 이형봉강(SD350/400), HD-10, 하치장상차도 | C296: TON | D296: 2.539 | F296: =TRUNC(E296*D296, 0) -> 0 | H296: =TRUNC(G296*D296, 0) -> 0 | J296: =TRUNC(I296*D296, 0) -> 0 | K296: =TRUNC(E296+G296+I296, 0) -> 0 | L296: =TRUNC(F296+H296+J296, 0) -> 0 | N296: 5F00C52A110166FEE83E878B0FE5DE6A525DBA | Q296: 0113 | R296: F | S296: F | T296: T | X296: 1 | AU296: 01135F00C52A110166FEE83E878B0FE5DE6A525DBA | AV296: 115
...

Sheet  공사설정 
A1: 이 Sheet는 수정하지 마십시요
A2: 공사구분 | B2: A
A3: 확정내역 | B3: 원내역
A4: 자재단가적용 | B4: 5
A5: 경비단가적용 | B5: 5
A6: 품목코드형식 | B6: XXXX-XXXX-XXXXXXXXX
A7: 내역금액소수점처리 | B7: C | C7: T
A8: 일위대가내역소수점처리 | B8: C | C8: 2
A9: 단가명 | B9: 조달청가격 | C9: 거래가격 | D9: 유통물가 | E9: 조사가격1 | F9: 조사가격2 | G9: TTTTT
A10: 환율 | B10: 1071 | C10: 0 | D10: 0
A11: 시간당작업량 | B11: R | C11: 4
A12: 1회 사이클시간 | B12: R | C12: 4
A13: 시간당 작업사이클 | B13: R | C13: 3
A14: 일반변수 | B14: C | C14: 5
A15: 시간당 노임산출 계수 | B15: A | C15: 1/8*16/12*25/20 | D15: 1/8*16/12*25/20 | E15: 1/8*16/12*25/20 | F15: 1
A16: 재료비 할증 계수 | B16: 1.11 | C16: 1.12
A17: 노무비 할증 계수 | B17: 1 | C17: 1.5 | D17: 1.16 | E17: 1.6 | F17: 1.6 | G17: 1.6 | H17: 1.94 | I17: 1.94 | J17: 1.94 | K17: 1 | L17: 1 | M17: 1
A18: 경비 할증 계수 | B18: 1.25 | C18: 1.071
A19: 내역,일위대가 품명,규격,단위 따로적용
A20: 내역단가 소수점처리 | B20: C | C20: 1
A21: 코드 | B21: 공종구분명 | C21: 원가비목코드
A22: 1 | B22: 작 업 부 산 물 | C22: A3
A23: 2 | B23: 운 반 비 | C23: C1
A24: 3 | B24: 관 급 자 재 비 | C24: DJ
A25: 4 | B25: 사 급 자 재 비 | C25: D3
A26: 5 | B26: 외 자 재
A27: 6 | B27: ...
A28: 7 | B28: 도급자관급자재비 | C28: DK
A29: 8 | B29: ...
A30: 9 | B30: ...

Sheet Sheet1
