Workbook

Sheet 원가계산서
B1: 공 사 원 가 계 산 서
B2: 공사명 : 국립생태원 맹금사 안전망 교체공사 | F2: 금액 : 사억오천만원(￦450,000,000)
B3: 비 목 | E3: 금 액 | F3: 구 성 비 | G3: 비 고
A4: A1 | B4: 순 공 사 원 가 | C4: 재 료 비 | D4: 직 접 재 료 비
A5: A2 | D5: 간 접 재 료 비
A6: A3 | D6: 작 업 부 산 물
A7: AS | D7: [ 소 계 ]
A8: B1 | C8: 노 무 비 | D8: 직 접 노 무 비
A9: B2 | D9: 간 접 노 무 비 | F9: 직접노무비 * 8%
A10: BS | D10: [ 소 계 ]
A11: C2 | C11: 경 비 | D11: 기 계 경 비
A12: C3 | D12: 가 설 비
A13: C4 | D13: 산 재 보 험 료 | F13: 노무비 * 3.73%
A14: C5 | D14: 고 용 보 험 료 | F14: 노무비 * 0.87%
A15: C6 | D15: 국민 건강 보험료 | E15: 3105274 | F15: 직접노무비 * 3.335%
A16: C7 | D16: 국민 연금 보험료 | E16: 4190025 | F16: 직접노무비 * 4.5%
A17: CB | D17: 노인장기요양보험료 | E17: 318290 | F17: 건강보험료 * 10.25%
A18: C8 | D18: 퇴직 공제 부금비 | E18: 2141568 | F18: 직접노무비 * 2.3%
A19: CA | D19: 산업안전보건관리비 | E19: 9328127 | F19: (재료비+직노+도급자관급/1.1) * 2.93%
A20: CH | D20: 환 경 보 전 비 | F20: (재료비+직노+기계경비) * 0.3%
A21: CG | D21: 기 타 경 비 | F21: (재료비+노무비) * 5.6%
A22: CK | D22: 하도급지급보증수수료 | F22: (재료비+직노+기계경비) * 0.081%
A23: CL | D23: 건설기계대여금지급보증서발급수수료 | F23: (재료비+직노+기계경비) * 0.1%
A24: CS | D24: [ 소 계 ]
A25: S1 | B25: 계
A26: D1 | B26: 일 반 관 리 비
A27: D2 | B27: 이 윤
A28: D9 | B28: 공 급 가 액
A29: DB | B29: 부 가 가 치 세
A30: DH | B30: 도 급 액
A31: DK | B31: 도급자관급자재비
A32: S2 | B32: 총 공 사 비

Sheet 공종별집계표
A1: 공 종 별 집 계 표
A2: [ 국립생태원 맹금사 안전망 교체공사 ]
A3: 품 명 | B3: 규 격 | C3: 단위 | D3: 수량 | E3: 재 료 비 | G3: 노 무 비 | I3: 경 비 | K3: 합 계 | M3: 비 고 | N3: 공종코드 | O3: 변수 | P3: 상위공종 | Q3: 공종구분 | R3: 공종레벨 | S3: 공종소계 | T3: 원가계산서 연결금액
E4: 단 가 | F4: 금 액 | G4: 단 가 | H4: 금 액 | I4: 단 가 | J4: 금 액 | K4: 단 가 | L4: 금 액
A5: 01 국립생태원 맹금사 안전망 교체공사 | D5: 1 | E5: =F6 -> 229658383 | F5: =E5*D5 -> 229658383 | G5: =H6 -> 93111684 | H5: =G5*D5 -> 93111684 | I5: =J6 -> 1794796 | J5: =I5*D5 -> 1794796 | K5: =E5+G5+I5 -> 324564863 | L5: =F5+H5+J5 -> 324564863 | N5: 01 | R5: 1
A6: 0101 건축공사 | D6: 1 | E6: =F7+F8+F9+F10+F11+F12+F13+F14+F15+F16 -> 229658383 | F6: =E6*D6 -> 229658383 | G6: =H7+H8+H9+H10+H11+H12+H13+H14+H15+H16 -> 93111684 | H6: =G6*D6 -> 93111684 | I6: =J7+J8+J9+J10+J11+J12+J13+J14+J15+J16 -> 1794796 | J6: =I6*D6 -> 1794796 | K6: =E6+G6+I6 -> 324564863 | L6: =F6+H6+J6 -> 324564863 | N6: 0101 | P6: 01 | R6: 2
A7: 010101 가설공사 | D7: 1 | E7: =공종별내역서!F27 -> 198010 | F7: =E7*D7 -> 198010 | G7: =공종별내역서!H27 -> 10621065 | H7: =G7*D7 -> 10621065 | I7: =공종별내역서!J27 -> 1152892 | J7: =I7*D7 -> 1152892 | K7: =E7+G7+I7 -> 11971967 | L7: =F7+H7+J7 -> 11971967 | N7: 010101 | P7: 0101 | R7: 3
A8: 010102 토및지정공사 | D8: 1 | E8: =공종별내역서!F51 -> 37770 | F8: =E8*D8 -> 37770 | G8: =공종별내역서!H51 -> 514678 | H8: =G8*D8 -> 514678 | I8: =공종별내역서!J51 -> 33745 | J8: =I8*D8 -> 33745 | K8: =E8+G8+I8 -> 586193 | L8: =F8+H8+J8 -> 586193 | N8: 010102 | P8: 0101 | R8: 3
A9: 010103 철근콘크리트공사 | D9: 1 | E9: =공종별내역서!F75 -> 4186752 | F9: =E9*D9 -> 4186752 | G9: =공종별내역서!H75 -> 8193938 | H9: =G9*D9 -> 8193938 | I9: =공종별내역서!J75 -> 356760 | J9: =I9*D9 -> 356760 | K9: =E9+G9+I9 -> 12737450 | L9: =F9+H9+J9 -> 12737450 | N9: 010103 | P9: 0101 | R9: 3
A10: 010104 방수및미장공사 | D10: 1 | E10: =공종별내역서!F99 -> 29277 | F10: =E10*D10 -> 29277 | G10: =공종별내역서!H99 -> 432943 | H10: =G10*D10 -> 432943 | I10: =공종별내역서!J99 -> 9011 | J10: =I10*D10 -> 9011 | K10: =E10+G10+I10 -> 471231 | L10: =F10+H10+J10 -> 471231 | N10: 010104 | P10: 0101 | R10: 3
A11: 010105 창호공사 | D11: 1 | E11: =공종별내역서!F123 -> 286240 | F11: =E11*D11 -> 286240 | G11: =공종별내역서!H123 -> 310933 | H11: =G11*D11 -> 310933 | I11: =공종별내역서!J123 -> 4583 | J11: =I11*D11 -> 4583 | K11: =E11+G11+I11 -> 601756 | L11: =F11+H11+J11 -> 601756 | N11: 010105 | P11: 0101 | R11: 3
A12: 010106 도장공사 | D12: 1 | E12: =공종별내역서!F147 -> 182207 | F12: =E12*D12 -> 182207 | G12: =공종별내역서!H147 -> 615547 | H12: =G12*D12 -> 615547 | I12: =공종별내역서!J147 -> 0 | J12: =I12*D12 -> 0 | K12: =E12+G12+I12 -> 797754 | L12: =F12+H12+J12 -> 797754 | N12: 010106 | P12: 0101 | R12: 3
A13: 010107 STS316 CABLE MESH NET 설치공사 | D13: 1 | E13: =공종별내역서!F171 -> 223042364 | F13: =E13*D13 -> 223042364 | G13: =공종별내역서!H171 -> 40594000 | H13: =G13*D13 -> 40594000 | I13: =공종별내역서!J171 -> 0 | J13: =I13*D13 -> 0 | K13: =E13+G13+I13 -> 263636364 | L13: =F13+H13+J13 -> 263636364 | N13: 010107 | P13: 0101 | R13: 3
A14: 010108 부대공사 | D14: 1 | E14: =공종별내역서!F195 -> 1509651 | F14: =E14*D14 -> 1509651 | G14: =공종별내역서!H195 -> 910998 | H14: =G14*D14 -> 910998 | I14: =공종별내역서!J195 -> 210078 | J14: =I14*D14 -> 210078 | K14: =E14+G14+I14 -> 2630727 | L14: =F14+H14+J14 -> 2630727 | N14: 010108 | P14: 0101 | R14: 3
A15: 010109 철거공사 | D15: 1 | E15: =공종별내역서!F219 -> 75042 | F15: =E15*D15 -> 75042 | G15: =공종별내역서!H219 -> 30917582 | H15: =G15*D15 -> 30917582 | I15: =공종별내역서!J219 -> 0 | J15: =I15*D15 -> 0 | K15: =E15+G15+I15 -> 30992624 | L15: =F15+H15+J15 -> 30992624 | N15: 010109 | P15: 0101 | R15: 3
A16: 010110 골재및운반비 | D16: 1 | E16: =공종별내역서!F243 -> 111070 | F16: =E16*D16 -> 111070 | G16: =공종별내역서!H243 -> 0 | H16: =G16*D16 -> 0 | I16: =공종별내역서!J243 -> 27727 | J16: =I16*D16 -> 27727 | K16: =E16+G16+I16 -> 138797 | L16: =F16+H16+J16 -> 138797 | N16: 010110 | P16: 0101 | R16: 3 | S16: <
A17: 010111 도급자관급자재비 | D17: 1 | E17: =공종별내역서!F267 -> 3741000 | F17: =E17*D17 -> 3741000 | G17: =공종별내역서!H267 -> 0 | H17: =G17*D17 -> 0 | I17: =공종별내역서!J267 -> 0 | J17: =I17*D17 -> 0 | K17: =E17+G17+I17 -> 3741000 | L17: =F17+H17+J17 -> 3741000 | N17: 010111 | Q17: 6 | R17: 3 | T17: =L17*1 -> 3741000
A18: 010112 작업부산물 | D18: 1 | E18: =공종별내역서!F291 -> 7804836 | F18: =E18*D18 -> 7804836 | G18: =공종별내역서!H291 -> 0 | H18: =G18*D18 -> 0 | I18: =공종별내역서!J291 -> 0 | J18: =I18*D18 -> 0 | K18: =E18+G18+I18 -> 7804836 | L18: =F18+H18+J18 -> 7804836 | N18: 010112 | Q18: 1 | R18: 3 | T18: =L18*1 -> 7804836
A27: [ 합 계 ] | F27: =F5 -> 229658383 | H27: =H5 -> 93111684 | J27: =J5 -> 1794796 | L27: =L5 -> 324564863

Sheet 공종별내역서
A1: [ 국립생태원 맹금사 안전망 교체공사 ]
A2: 품 명 | B2: 규 격 | C2: 단위 | D2: 수량 | E2: 재 료 비 | G2: 노 무 비 | I2: 경 비 | K2: 합 계 | M2: 비 고 | N2: 품목코드 | O2: 변수 | P2: 설정 | Q2: 공종코드 | R2: 일위 | S2: 단산 | T2: 자재 | U2: 손료적용 | V2: 손료저장 | W2: 적용율 | X2: JUK1 | Y2: JUK2 | Z2: JUK3 | AA2: JUK4 | AB2: JUK5 | AC2: JUK6 | AD2: JUK7 | AE2: JUK8 | AF2: JUK9 | AG2: JUK10 | AH2: JUK11 | AI2: JUK12 | AJ2: JUK13 | AK2: JUK14 | AL2: JUK15 | AM2: JUK16 | AN2: JUK17 | AO2: JUK18 | AP2: JUK19 | AQ2: JUK20 | AR2: 자재구분 | AS2: 공종구분 | AT2: 공종레벨 | AU2: 공종+자재 | AV2: 고유번호
E3: 단 가 | F3: 금 액 | G3: 단 가 | H3: 금 액 | I3: 단 가 | J3: 금 액 | K3: 단 가 | L3: 금 액
A4: 010101 가설공사 | Q4: 010101
A5: 콘테이너형 가설사무소 설치 및 해체 | B5: 3.0*6.0*2.6m, 3개월 | C5: 개소 | D5: 1 | E5: =TRUNC(일위대가목록!E4,0) -> 0 | F5: =TRUNC(E5*D5, 0) -> 0 | G5: =TRUNC(일위대가목록!F4,0) -> 0 | H5: =TRUNC(G5*D5, 0) -> 0 | I5: =TRUNC(일위대가목록!G4,0) -> 589586 | J5: =TRUNC(I5*D5, 0) -> 589586 | K5: =TRUNC(E5+G5+I5, 0) -> 589586 | L5: =TRUNC(F5+H5+J5, 0) -> 589586 | N5: 5775614F5A0055EBF84D09578D7C13 | Q5: 010101 | R5: T | S5: F | T5: F | AU5: 0101015775614F5A0055EBF84D09578D7C13 | AV5: 11
A6: 콘테이너형 가설창고 설치 및 해체 | B6: 3.0*6.0*2.6m, 3개월 | C6: 개소 | D6: 1 | E6: =TRUNC(일위대가목록!E5,0) -> 0 | F6: =TRUNC(E6*D6, 0) -> 0 | G6: =TRUNC(일위대가목록!F5,0) -> 0 | H6: =TRUNC(G6*D6, 0) -> 0 | I6: =TRUNC(일위대가목록!G5,0) -> 563306 | J6: =TRUNC(I6*D6, 0) -> 563306 | K6: =TRUNC(E6+G6+I6, 0) -> 563306 | L6: =TRUNC(F6+H6+J6, 0) -> 563306 | N6: 5775614F5A0055E82AB3A84D3DCDC9 | Q6: 010101 | R6: T | S6: F | T6: F | AU6: 0101015775614F5A0055E82AB3A84D3DCDC9 | AV6: 13
A7: 강관 조립말비계(이동식)설치 및 해체 | B7: 높이 2m, 3개월 | C7: 대 | D7: 2 | E7: =TRUNC(일위대가목록!E6,0) -> 12912 | F7: =TRUNC(E7*D7, 0) -> 25824 | G7: =TRUNC(일위대가목록!F6,0) -> 77934 | H7: =TRUNC(G7*D7, 0) -> 155868 | I7: =TRUNC(일위대가목록!G6,0) -> 0 | J7: =TRUNC(I7*D7, 0) -> 0 | K7: =TRUNC(E7+G7+I7, 0) -> 90846 | L7: =TRUNC(F7+H7+J7, 0) -> 181692 | N7: 5775614F64005D7A2A77EEF753BBCD | Q7: 010101 | R7: T | S7: F | T7: F | AU7: 0101015775614F64005D7A2A77EEF753BBCD | AV7: 14
A8: 시스템비계 설치, 해체(외부) | B8: 10m이하, 3개월(발판2열)-계단설치해체비포함 | C8: M2 | D8: 76 | E8: =TRUNC(일위대가목록!E7,0) -> 2114 | F8: =TRUNC(E8*D8, 0) -> 160664 | G8: =TRUNC(일위대가목록!F7,0) -> 10754 | H8: =TRUNC(G8*D8, 0) -> 817304 | I8: =TRUNC(일위대가목록!G7,0) -> 0 | J8: =TRUNC(I8*D8, 0) -> 0 | K8: =TRUNC(E8+G8+I8, 0) -> 12868 | L8: =TRUNC(F8+H8+J8, 0) -> 977968 | N8: 5775614F64005D79063D045D0E3CF4 | Q8: 010101 | R8: T | S8: F | T8: F | AU8: 0101015775614F64005D79063D045D0E3CF4 | AV8: 18
A9: 강관동바리 | B9: 3개월,3.5m이하 | C9: M2 | D9: 7 | E9: =TRUNC(일위대가목록!E8,0) -> 1646 | F9: =TRUNC(E9*D9, 0) -> 11522 | G9: =TRUNC(일위대가목록!F8,0) -> 4711 | H9: =TRUNC(G9*D9, 0) -> 32977 | I9: =TRUNC(일위대가목록!G8,0) -> 0 | J9: =TRUNC(I9*D9, 0) -> 0 | K9: =TRUNC(E9+G9+I9, 0) -> 6357 | L9: =TRUNC(F9+H9+J9, 0) -> 44499 | N9: 5775614F64005D7901BDF4DB40DF1A | Q9: 010101 | R9: T | S9: F | T9: F | AU9: 0101015775614F64005D7901BDF4DB40DF1A | AV9: 19
A10: 건축물 현장정리 | B10: 수선 | C10: M2 | D10: 1143 | E10: =TRUNC(일위대가목록!E9,0) -> 0 | F10: =TRUNC(E10*D10, 0) -> 0 | G10: =TRUNC(일위대가목록!F9,0) -> 4840 | H10: =TRUNC(G10*D10, 0) -> 5532120 | I10: =TRUNC(일위대가목록!G9,0) -> 0 | J10: =TRUNC(I10*D10, 0) -> 0 | K10: =TRUNC(E10+G10+I10, 0) -> 4840 | L10: =TRUNC(F10+H10+J10, 0) -> 5532120 | N10: 5775614F3F005BEF869E2A9674F673 | Q10: 010101 | R10: T | S10: F | T10: F | AU10: 0101015775614F3F005BEF869E2A9674F673 | AV10: 15
A11: 거푸집 먹매김 | B11: 일반 | C11: M2 | D11: 1143 | E11: =TRUNC(일위대가목록!E10,0) -> 0 | F11: =TRUNC(E11*D11, 0) -> 0 | G11: =TRUNC(일위대가목록!F10,0) -> 2522 | H11: =TRUNC(G11*D11, 0) -> 2882646 | I11: =TRUNC(일위대가목록!G10,0) -> 0 | J11: =TRUNC(I11*D11, 0) -> 0 | K11: =TRUNC(E11+G11+I11, 0) -> 2522 | L11: =TRUNC(F11+H11+J11, 0) -> 2882646 | N11: 5775614F3F005815C1192F9E1633B7 | Q11: 010101 | R11: T | S11: F | T11: F | AU11: 0101015775614F3F005815C1192F9E1633B7 | AV11: 16
A12: 구조부 먹매김 | B12: 일반 | C12: M2 | D12: 1143 | E12: =TRUNC(일위대가목록!E11,0) -> 0 | F12: =TRUNC(E12*D12, 0) -> 0 | G12: =TRUNC(일위대가목록!F11,0) -> 1050 | H12: =TRUNC(G12*D12, 0) -> 1200150 | I12: =TRUNC(일위대가목록!G11,0) -> 0 | J12: =TRUNC(I12*D12, 0) -> 0 | K12: =TRUNC(E12+G12+I12, 0) -> 1050 | L12: =TRUNC(F12+H12+J12, 0) -> 1200150 | N12: 5775614F3F005815C1192F9E163565 | Q12: 010101 | R12: T | S12: F | T12: F | AU12: 0101015775614F3F005815C1192F9E163565 | AV12: 17
A27: [ 합 계 ] | F27: =SUM(F5:F26) -> 198010 | H27: =SUM(H5:H26) -> 10621065 | J27: =SUM(J5:J26) -> 1152892 | L27: =SUM(L5:L26) -> 11971967 | N27: TOTAL
A28: 010102 토및지정공사 | Q28: 010102
A29: 터파기/토사 | B29: 보통, 굴삭기 0.7m3 90%, 인력10% | C29: M3 | D29: 39 | E29: =TRUNC(중기단가목록!E4,0) -> 270 | F29: =TRUNC(E29*D29, 0) -> 10530 | G29: =TRUNC(중기단가목록!F4,0) -> 3410 | H29: =TRUNC(G29*D29, 0) -> 132990 | I29: =TRUNC(중기단가목록!G4,0) -> 325 | J29: =TRUNC(I29*D29, 0) -> 12675 | K29: =TRUNC(E29+G29+I29, 0) -> 4005 | L29: =TRUNC(F29+H29+J29, 0) -> 156195 | N29: 5750D14202005A5749D84B918B45DE | Q29: 010102 | R29: F | S29: T | T29: F | AU29: 0101025750D14202005A5749D84B918B45DE | AV29: 20
A30: 되메우기/토사, 두께 10cm | B30: 보통, 굴삭기 0.7m3+플레이트콤팩터 1.5ton+인력 10% | C30: M3 | D30: 21 | E30: =TRUNC(중기단가목록!E5,0) -> 370 | F30: =TRUNC(E30*D30, 0) -> 7770 | G30: =TRUNC(중기단가목록!F5,0) -> 6684 | H30: =TRUNC(G30*D30, 0) -> 140364 | I30: =TRUNC(중기단가목록!G5,0) -> 290 | J30: =TRUNC(I30*D30, 0) -> 6090 | K30: =TRUNC(E30+G30+I30, 0) -> 7344 | L30: =TRUNC(F30+H30+J30, 0) -> 154224 | N30: 5750D142DE005217FDA5752C8526C8 | Q30: 010102 | R30: F | S30: T | T30: F | AU30: 0101025750D142DE005217FDA5752C8526C8 | AV30: 22
A31: 토사(단지내 잔토포설) | B31: 보통, 굴삭기 0.7m3 | C31: M3 | D31: 18 | E31: =TRUNC(중기단가목록!E6,0) -> 170 | F31: =TRUNC(E31*D31, 0) -> 3060 | G31: =TRUNC(중기단가목록!F6,0) -> 406 | H31: =TRUNC(G31*D31, 0) -> 7308 | I31: =TRUNC(중기단가목록!G6,0) -> 205 | J31: =TRUNC(I31*D31, 0) -> 3690 | K31: =TRUNC(E31+G31+I31, 0) -> 781 | L31: =TRUNC(F31+H31+J31, 0) -> 14058 | N31: 5750D142CD005EF33B3B3707A41997 | Q31: 010102 | R31: F | S31: T | T31: F | AU31: 0101025750D142CD005EF33B3B3707A41997 | AV31: 21
A32: 성토다지기 | B32: 보통, 굴삭기 0.7m3+플레이트콤팩터 1.5ton+인력 10% | C32: M3 | D32: 32 | E32: =TRUNC(중기단가목록!E7,0) -> 370 | F32: =TRUNC(E32*D32, 0) -> 11840 | G32: =TRUNC(중기단가목록!F7,0) -> 6684 | H32: =TRUNC(G32*D32, 0) -> 213888 | I32: =TRUNC(중기단가목록!G7,0) -> 290 | J32: =TRUNC(I32*D32, 0) -> 9280 | K32: =TRUNC(E32+G32+I32, 0) -> 7344 | L32: =TRUNC(F32+H32+J32, 0) -> 235008 | N32: 5750D142DE005217FDA5752C8526C9 | Q32: 010102 | R32: F | S32: T | T32: F | AU32: 0101025750D142DE005217FDA5752C8526C9 | AV32: 24
A33: 잡석지정 | B33: 굴삭기 0.2m3+진동롤러(핸드가이드식) | C33: M3 | D33: 2 | E33: =TRUNC(일위대가목록!E12,0) -> 797 | F33: =TRUNC(E33*D33, 0) -> 1594 | G33: =TRUNC(일위대가목록!F12,0) -> 5448 | H33: =TRUNC(G33*D33, 0) -> 10896 | I33: =TRUNC(일위대가목록!G12,0) -> 1005 | J33: =TRUNC(I33*D33, 0) -> 2010 | K33: =TRUNC(E33+G33+I33, 0) -> 7250 | L33: =TRUNC(F33+H33+J33, 0) -> 14500 | N33: 5775414A890058A9AE59F2FCE08318 | Q33: 010102 | R33: T | S33: F | T33: F | AU33: 0101025775414A890058A9AE59F2FCE08318 | AV33: 23
A34: 방습필름 설치 - 바닥 | B34: 폴리에틸렌필름, 두께, 0.03mm, 2겹 | C34: M2 | D34: 8 | E34: =TRUNC(일위대가목록!E13,0) -> 372 | F34: =TRUNC(E34*D34, 0) -> 2976 | G34: =TRUNC(일위대가목록!F13,0) -> 1154 | H34: =TRUNC(G34*D34, 0) -> 9232 | I34: =TRUNC(일위대가목록!G13,0) -> 0 | J34: =TRUNC(I34*D34, 0) -> 0 | K34: =TRUNC(E34+G34+I34, 0) -> 1526 | L34: =TRUNC(F34+H34+J34, 0) -> 12208 | N34: 5775814C06005436DC90933F8E99CD | Q34: 010102 | R34: T | S34: F | T34: F | AU34: 0101025775814C06005436DC90933F8E99CD | AV34: 36
A51: [ 합 계 ] | F51: =SUM(F29:F50) -> 37770 | H51: =SUM(H29:H50) -> 514678 | J51: =SUM(J29:J50) -> 33745 | L51: =SUM(L29:L50) -> 586193 | N51: TOTAL
A52: 010103 철근콘크리트공사 | Q52: 010103
A53: 레미콘(관급) | B53: 25-24-15 | C53: M3 | D53: 21.4 | E53: =TRUNC(단가대비표!O36,0) -> 0 | F53: =TRUNC(E53*D53, 0) -> 0 | G53: =TRUNC(단가대비표!P36,0) -> 0 | H53: =TRUNC(G53*D53, 0) -> 0 | I53: =TRUNC(단가대비표!V36,0) -> 0 | J53: =TRUNC(I53*D53, 0) -> 0 | K53: =TRUNC(E53+G53+I53, 0) -> 0 | L53: =TRUNC(F53+H53+J53, 0) -> 0 | N53: 5056614B470054E799F098EC67B27B102195F4 | Q53: 010103 | R53: F | S53: F | T53: T | AU53: 0101035056614B470054E799F098EC67B27B102195F4 | AV53: 26
A54: 레미콘(관급) | B54: 25-18-12 | C54: M3 | D54: 0.5 | E54: =TRUNC(단가대비표!O35,0) -> 0 | F54: =TRUNC(E54*D54, 0) -> 0 | G54: =TRUNC(단가대비표!P35,0) -> 0 | H54: =TRUNC(G54*D54, 0) -> 0 | I54: =TRUNC(단가대비표!V35,0) -> 0 | J54: =TRUNC(I54*D54, 0) -> 0 | K54: =TRUNC(E54+G54+I54, 0) -> 0 | L54: =TRUNC(F54+H54+J54, 0) -> 0 | N54: 5056614B470054E799F098EC67B27B102194D1 | Q54: 010103 | R54: F | S54: F | T54: T | AU54: 0101035056614B470054E799F098EC67B27B102194D1 | AV54: 25
A55: 콘크리트 펌프차 타설(철근) | B55: 기초외,50m3미만타설/회,슬럼프 15cm | C55: M3 | D55: 21.2 | E55: =TRUNC(일위대가목록!E14,0) -> 3045 | F55: =TRUNC(E55*D55, 0) -> 64554 | G55: =TRUNC(일위대가목록!F14,0) -> 28149 | H55: =TRUNC(G55*D55, 0) -> 596758 | I55: =TRUNC(일위대가목록!G14,0) -> 7827 | J55: =TRUNC(I55*D55, 0) -> 165932 | K55: =TRUNC(E55+G55+I55, 0) -> 39021 | L55: =TRUNC(F55+H55+J55, 0) -> 827244 | N55: 577531450A00528CE92E59933E281C | Q55: 010103 | R55: T | S55: F | T55: F | AU55: 010103577531450A00528CE92E59933E281C | AV55: 33
A56: 콘크리트 펌프차 타설(무근) | B56: 50m3미만타설/회,슬럼프 8~12cm | C56: M3 | D56: 0.4 | E56: =TRUNC(일위대가목록!E15,0) -> 2457 | F56: =TRUNC(E56*D56, 0) -> 982 | G56: =TRUNC(일위대가목록!F15,0) -> 18693 | H56: =TRUNC(G56*D56, 0) -> 7477 | I56: =TRUNC(일위대가목록!G15,0) -> 6113 | J56: =TRUNC(I56*D56, 0) -> 2445 | K56: =TRUNC(E56+G56+I56, 0) -> 27263 | L56: =TRUNC(F56+H56+J56, 0) -> 10904 | N56: 577531450A00528CE92E5991709F54 | Q56: 010103 | R56: T | S56: F | T56: F | AU56: 010103577531450A00528CE92E5991709F54 | AV56: 34
A57: 철근콘크리트용봉강(관급) | B57: 이형봉강(SD350/400), HD-10, 지정장소도 | C57: TON | D57: 0.8 | E57: =TRUNC(단가대비표!O30,0) -> 0 | F57: =TRUNC(E57*D57, 0) -> 0 | G57: =TRUNC(단가대비표!P30,0) -> 0 | H57: =TRUNC(G57*D57, 0) -> 0 | I57: =TRUNC(단가대비표!V30,0) -> 0 | J57: =TRUNC(I57*D57, 0) -> 0 | K57: =TRUNC(E57+G57+I57, 0) -> 0 | L57: =TRUNC(F57+H57+J57, 0) -> 0 | N57: 5056614B4700558C5E427F3327F17D8808AEF7 | Q57: 010103 | R57: F | S57: F | T57: T | AU57: 0101035056614B4700558C5E427F3327F17D8808AEF7 | AV57: 27
A58: 철근콘크리트용봉강(관급) | B58: 이형봉강(SD350/400), HD-13, 지정장소도 | C58: TON | D58: 0.31 | E58: =TRUNC(단가대비표!O31,0) -> 0 | F58: =TRUNC(E58*D58, 0) -> 0 | G58: =TRUNC(단가대비표!P31,0) -> 0 | H58: =TRUNC(G58*D58, 0) -> 0 | I58: =TRUNC(단가대비표!V31,0) -> 0 | J58: =TRUNC(I58*D58, 0) -> 0 | K58: =TRUNC(E58+G58+I58, 0) -> 0 | L58: =TRUNC(F58+H58+J58, 0) -> 0 | N58: 5056614B4700558C5E427F3327F17D880B6345 | Q58: 010103 | R58: F | S58: F | T58: T | AU58: 0101035056614B4700558C5E427F3327F17D880B6345 | AV58: 28
A59: 철근콘크리트용봉강(관급) | B59: 이형봉강(SD350/400), HD-16, 지정장소도 | C59: TON | D59: 1.08 | E59: =TRUNC(단가대비표!O32,0) -> 0 | F59: =TRUNC(E59*D59, 0) -> 0 | G59: =TRUNC(단가대비표!P32,0) -> 0 | H59: =TRUNC(G59*D59, 0) -> 0 | I59: =TRUNC(단가대비표!V32,0) -> 0 | J59: =TRUNC(I59*D59, 0) -> 0 | K59: =TRUNC(E59+G59+I59, 0) -> 0 | L59: =TRUNC(F59+H59+J59, 0) -> 0 | N59: 5056614B4700558C5E427F3327F17D880A5C53 | Q59: 010103 | R59: F | S59: F | T59: T | AU59: 0101035056614B4700558C5E427F3327F17D880A5C53 | AV59: 29
A60: 철근 현장가공 및 조립 | B60: 보통 | C60: TON | D60: 2.13 | E60: =TRUNC(일위대가목록!E16,0) -> 7930 | F60: =TRUNC(E60*D60, 0) -> 16890 | G60: =TRUNC(일위대가목록!F16,0) -> 841674 | H60: =TRUNC(G60*D60, 0) -> 1792765 | I60: =TRUNC(일위대가목록!G16,0) -> 6685 | J60: =TRUNC(I60*D60, 0) -> 14239 | K60: =TRUNC(E60+G60+I60, 0) -> 856289 | L60: =TRUNC(F60+H60+J60, 0) -> 1823894 | N60: 5750C143B9005F6B22FE0F93B40B36 | Q60: 010103 | R60: T | S60: F | T60: F | AU60: 0101035750C143B9005F6B22FE0F93B40B36 | AV60: 32
A61: 유로폼 설치 및 해체 | B61: 보통, 수직고 7m까지 | C61: M2 | D61: 138 | E61: =TRUNC(일위대가목록!E17,0) -> 2495 | F61: =TRUNC(E61*D61, 0) -> 344310 | G61: =TRUNC(일위대가목록!F17,0) -> 25745 | H61: =TRUNC(G61*D61, 0) -> 3552810 | I61: =TRUNC(일위대가목록!G17,0) -> 772 | J61: =TRUNC(I61*D61, 0) -> 106536 | K61: =TRUNC(E61+G61+I61, 0) -> 29012 | L61: =TRUNC(F61+H61+J61, 0) -> 4003656 | N61: 577531443E005B98D82F7FA441F468 | Q61: 010103 | R61: T | S61: F | T61: F | AU61: 010103577531443E005B98D82F7FA441F468 | AV61: 31
A62: 합판거푸집 설치 및 해체 | B62: 보통 4회, 수직고 7m까지 | C62: M2 | D62: 8 | E62: =TRUNC(일위대가목록!E18,0) -> 9346 | F62: =TRUNC(E62*D62, 0) -> 74768 | G62: =TRUNC(일위대가목록!F18,0) -> 27904 | H62: =TRUNC(G62*D62, 0) -> 223232 | I62: =TRUNC(일위대가목록!G18,0) -> 279 | J62: =TRUNC(I62*D62, 0) -> 2232 | K62: =TRUNC(E62+G62+I62, 0) -> 37529 | L62: =TRUNC(F62+H62+J62, 0) -> 300232 | N62: 577531443E005D45AF13244E9386C9 | Q62: 010103 | R62: T | S62: F | T62: F | AU62: 010103577531443E005D45AF13244E9386C9 | AV62: 30
A63: 케미컬앵커 | B63: HVU M16*125 + HIT-C M16*190 | C63: EA | D63: 288 | E63: =TRUNC(일위대가목록!E19,0) -> 12796 | F63: =TRUNC(E63*D63, 0) -> 3685248 | G63: =TRUNC(일위대가목록!F19,0) -> 7017 | H63: =TRUNC(G63*D63, 0) -> 2020896 | I63: =TRUNC(일위대가목록!G19,0) -> 227 | J63: =TRUNC(I63*D63, 0) -> 65376 | K63: =TRUNC(E63+G63+I63, 0) -> 20040 | L63: =TRUNC(F63+H63+J63, 0) -> 5771520 | N63: 57752145E40052E3F9C2E84381A585 | Q63: 010103 | R63: T | S63: F | T63: F | AU63: 01010357752145E40052E3F9C2E84381A585 | AV63: 35
A75: [ 합 계 ] | F75: =SUM(F53:F74) -> 4186752 | H75: =SUM(H53:H74) -> 8193938 | J75: =SUM(J53:J74) -> 356760 | L75: =SUM(L53:L74) -> 12737450 | N75: TOTAL
A76: 010104 방수및미장공사 | Q76: 010104
A77: 수밀코킹(실리콘) | B77: 삼각, 10mm, 창호주위 | C77: M | D77: 17 | E77: =TRUNC(일위대가목록!E20,0) -> 565 | F77: =TRUNC(E77*D77, 0) -> 9605 | G77: =TRUNC(일위대가목록!F20,0) -> 4483 | H77: =TRUNC(G77*D77, 0) -> 76211 | I77: =TRUNC(일위대가목록!G20,0) -> 0 | J77: =TRUNC(I77*D77, 0) -> 0 | K77: =TRUNC(E77+G77+I77, 0) -> 5048 | L77: =TRUNC(F77+H77+J77, 0) -> 85816 | N77: 5775F1495D0055668A14ACE2B9518E | Q77: 010104 | R77: T | S77: F | T77: F | AU77: 0101045775F1495D0055668A14ACE2B9518E | AV77: 38
A78: 시멘트 액체방수 | B78: 바닥, 2차 | C78: M2 | D78: 8 | E78: =TRUNC(일위대가목록!E21,0) -> 2459 | F78: =TRUNC(E78*D78, 0) -> 19672 | G78: =TRUNC(일위대가목록!F21,0) -> 17426 | H78: =TRUNC(G78*D78, 0) -> 139408 | I78: =TRUNC(일위대가목록!G21,0) -> 522 | J78: =TRUNC(I78*D78, 0) -> 4176 | K78: =TRUNC(E78+G78+I78, 0) -> 20407 | L78: =TRUNC(F78+H78+J78, 0) -> 163256 | N78: 5775F149A500596C306E40F89F30EA | Q78: 010104 | R78: T | S78: F | T78: F | AU78: 0101045775F149A500596C306E40F89F30EA | AV78: 37
A79: 모르타르 바름 | B79: 바닥, 24mm | C79: M2 | D79: 8 | E79: =TRUNC(일위대가목록!E22,0) -> 0 | F79: =TRUNC(E79*D79, 0) -> 0 | G79: =TRUNC(일위대가목록!F22,0) -> 11427 | H79: =TRUNC(G79*D79, 0) -> 91416 | I79: =TRUNC(일위대가목록!G22,0) -> 184 | J79: =TRUNC(I79*D79, 0) -> 1472 | K79: =TRUNC(E79+G79+I79, 0) -> 11611 | L79: =TRUNC(F79+H79+J79, 0) -> 92888 | N79: 57750140F80058EE39E33B77632E68 | Q79: 010104 | R79: T | S79: F | T79: F | AU79: 01010457750140F80058EE39E33B77632E68 | AV79: 41
A80: 콘크리트면 정리 | B80: 3.6m 이하 | C80: M2 | D80: 36 | E80: =TRUNC(일위대가목록!E23,0) -> 0 | F80: =TRUNC(E80*D80, 0) -> 0 | G80: =TRUNC(일위대가목록!F23,0) -> 2190 | H80: =TRUNC(G80*D80, 0) -> 78840 | I80: =TRUNC(일위대가목록!G23,0) -> 65 | J80: =TRUNC(I80*D80, 0) -> 2340 | K80: =TRUNC(E80+G80+I80, 0) -> 2255 | L80: =TRUNC(F80+H80+J80, 0) -> 81180 | N80: 57750140F8005BA033082BCD89E062 | Q80: 010104 | R80: T | S80: F | T80: F | AU80: 01010457750140F8005BA033082BCD89E062 | AV80: 39
A81: 콘크리트면 정리 | B81: 3.6m 이하, 천장 | C81: M2 | D81: 7 | E81: =TRUNC(일위대가목록!E24,0) -> 0 | F81: =TRUNC(E81*D81, 0) -> 0 | G81: =TRUNC(일위대가목록!F24,0) -> 2628 | H81: =TRUNC(G81*D81, 0) -> 18396 | I81: =TRUNC(일위대가목록!G24,0) -> 65 | J81: =TRUNC(I81*D81, 0) -> 455 | K81: =TRUNC(E81+G81+I81, 0) -> 2693 | L81: =TRUNC(F81+H81+J81, 0) -> 18851 | N81: 57750140F8005BA033082BCD8F0927 | Q81: 010104 | R81: T | S81: F | T81: F | AU81: 01010457750140F8005BA033082BCD8F0927 | AV81: 40
...

Sheet 일위대가목록
A1: 일 위 대 가 목 록
A2: [ 국립생태원 맹금사 안전망 교체공사 ]
A3: 코 드 | B3: 품 명 | C3: 규 격 | D3: 단위 | E3: 재 료 비 | F3: 노 무 비 | G3: 경 비 | H3: 합 계 | I3: 번 호 | J3: 비 고 | K3: 노임계수 | L3: 할증 | M3: 품셈개요 | N3: 장비일위
A4: 5775614F5A0055EBF84D09578D7C13 | B4: 콘테이너형 가설사무소 설치 및 해체 | C4: 3.0*6.0*2.6m, 3개월 | D4: 개소 | E4: =일위대가!F9 -> 0 | F4: =일위대가!H9 -> 0 | G4: =일위대가!J9 -> 589586 | H4: =E4+F4+G4 -> 589586 | I4: 호표 1 | J4: 공통 2-3-2 | M4: 공통 2-3-2
A5: 5775614F5A0055E82AB3A84D3DCDC9 | B5: 콘테이너형 가설창고 설치 및 해체 | C5: 3.0*6.0*2.6m, 3개월 | D5: 개소 | E5: =일위대가!F16 -> 0 | F5: =일위대가!H16 -> 0 | G5: =일위대가!J16 -> 563306 | H5: =E5+F5+G5 -> 563306 | I5: 호표 2 | J5: 공통 2-3-2 | M5: 공통 2-3-2
A6: 5775614F64005D7A2A77EEF753BBCD | B6: 강관 조립말비계(이동식)설치 및 해체 | C6: 높이 2m, 3개월 | D6: 대 | E6: =일위대가!F29 -> 12912 | F6: =일위대가!H29 -> 77934 | G6: =일위대가!J29 -> 0 | H6: =E6+F6+G6 -> 90846 | I6: 호표 3 | J6: 공통 2-7-4 | M6: 공통 2-7-4
A7: 5775614F64005D79063D045D0E3CF4 | B7: 시스템비계 설치, 해체(외부) | C7: 10m이하, 3개월(발판2열)-계단설치해체비포함 | D7: M2 | E7: =일위대가!F45 -> 2114 | F7: =일위대가!H45 -> 10754 | G7: =일위대가!J45 -> 0 | H7: =E7+F7+G7 -> 12868 | I7: 호표 4
A8: 5775614F64005D7901BDF4DB40DF1A | B8: 강관동바리 | C8: 3개월,3.5m이하 | D8: M2 | E8: =일위대가!F51 -> 1646 | F8: =일위대가!H51 -> 4711 | G8: =일위대가!J51 -> 0 | H8: =E8+F8+G8 -> 6357 | I8: 호표 5
A9: 5775614F3F005BEF869E2A9674F673 | B9: 건축물 현장정리 | C9: 수선 | D9: M2 | E9: =일위대가!F55 -> 0 | F9: =일위대가!H55 -> 4840 | G9: =일위대가!J55 -> 0 | H9: =E9+F9+G9 -> 4840 | I9: 호표 6 | J9: 공통 2-9-2 | M9: 공통 2-9-2
A10: 5775614F3F005815C1192F9E1633B7 | B10: 거푸집 먹매김 | C10: 일반 | D10: M2 | E10: =일위대가!F59 -> 0 | F10: =일위대가!H59 -> 2522 | G10: =일위대가!J59 -> 0 | H10: =E10+F10+G10 -> 2522 | I10: 호표 7 | J10: 건축 11-1-1 | M10: 건축 11-1-1
A11: 5775614F3F005815C1192F9E163565 | B11: 구조부 먹매김 | C11: 일반 | D11: M2 | E11: =일위대가!F63 -> 0 | F11: =일위대가!H63 -> 1050 | G11: =일위대가!J63 -> 0 | H11: =E11+F11+G11 -> 1050 | I11: 호표 8 | J11: 건축 11-1-1 | M11: 건축 11-1-1
A12: 5775414A890058A9AE59F2FCE08318 | B12: 잡석지정 | C12: 굴삭기 0.2m3+진동롤러(핸드가이드식) | D12: M3 | E12: =일위대가!F70 -> 797 | F12: =일위대가!H70 -> 5448 | G12: =일위대가!J70 -> 1005 | H12: =E12+F12+G12 -> 7250 | I12: 호표 9 | J12: 공통 3-2-4 | M12: 공통 3-2-4
A13: 5775814C06005436DC90933F8E99CD | B13: 방습필름 설치 - 바닥 | C13: 폴리에틸렌필름, 두께, 0.03mm, 2겹 | D13: M2 | E13: =일위대가!F75 -> 372 | F13: =일위대가!H75 -> 1154 | G13: =일위대가!J75 -> 0 | H13: =E13+F13+G13 -> 1526 | I13: 호표 10 | J13: 건축 5-3-3 | M13: 건축 5-3-3
A14: 577531450A00528CE92E59933E281C | B14: 콘크리트 펌프차 타설(철근) | C14: 기초외,50m3미만타설/회,슬럼프 15cm | D14: M3 | E14: =일위대가!F79 -> 3045 | F14: =일위대가!H79 -> 28149 | G14: =일위대가!J79 -> 7827 | H14: =E14+F14+G14 -> 39021 | I14: 호표 11
A15: 577531450A00528CE92E5991709F54 | B15: 콘크리트 펌프차 타설(무근) | C15: 50m3미만타설/회,슬럼프 8~12cm | D15: M3 | E15: =일위대가!F83 -> 2457 | F15: =일위대가!H83 -> 18693 | G15: =일위대가!J83 -> 6113 | H15: =E15+F15+G15 -> 27263 | I15: 호표 12
A16: 5750C143B9005F6B22FE0F93B40B36 | B16: 철근 현장가공 및 조립 | C16: 보통 | D16: TON | E16: =일위대가!F89 -> 7930 | F16: =일위대가!H89 -> 841674 | G16: =일위대가!J89 -> 6685 | H16: =E16+F16+G16 -> 856289 | I16: 호표 13 | J16: 공통 6-2-1 | M16: 공통 6-2-1
A17: 577531443E005B98D82F7FA441F468 | B17: 유로폼 설치 및 해체 | C17: 보통, 수직고 7m까지 | D17: M2 | E17: =일위대가!F94 -> 2495 | F17: =일위대가!H94 -> 25745 | G17: =일위대가!J94 -> 772 | H17: =E17+F17+G17 -> 29012 | I17: 호표 14 | J17: 공통 6-3-3 | M17: 공통 6-3-3
A18: 577531443E005D45AF13244E9386C9 | B18: 합판거푸집 설치 및 해체 | C18: 보통 4회, 수직고 7m까지 | D18: M2 | E18: =일위대가!F99 -> 9346 | F18: =일위대가!H99 -> 27904 | G18: =일위대가!J99 -> 279 | H18: =E18+F18+G18 -> 37529 | I18: 호표 15 | J18: 공통 6-3-1 | M18: 공통 6-3-1
A19: 57752145E40052E3F9C2E84381A585 | B19: 케미컬앵커 | C19: HVU M16*125 + HIT-C M16*190 | D19: EA | E19: =일위대가!F111 -> 12796 | F19: =일위대가!H111 -> 7017 | G19: =일위대가!J111 -> 227 | H19: =E19+F19+G19 -> 20040 | I19: 호표 16
A20: 5775F1495D0055668A14ACE2B9518E | B20: 수밀코킹(실리콘) | C20: 삼각, 10mm, 창호주위 | D20: M | E20: =일위대가!F116 -> 565 | F20: =일위대가!H116 -> 4483 | G20: =일위대가!J116 -> 0 | H20: =E20+F20+G20 -> 5048 | I20: 호표 17 | J20: 건축 6-6-1 | M20: 건축 6-6-1
A21: 5775F149A500596C306E40F89F30EA | B21: 시멘트 액체방수 | C21: 바닥, 2차 | D21: M2 | E21: =일위대가!F123 -> 2459 | F21: =일위대가!H123 -> 17426 | G21: =일위대가!J123 -> 522 | H21: =E21+F21+G21 -> 20407 | I21: 호표 18
A22: 57750140F80058EE39E33B77632E68 | B22: 모르타르 바름 | C22: 바닥, 24mm | D22: M2 | E22: =일위대가!F128 -> 0 | F22: =일위대가!H128 -> 11427 | G22: =일위대가!J128 -> 184 | H22: =E22+F22+G22 -> 11611 | I22: 호표 19 | J22: 건축 3-1-1 준용 | M22: 건축 3-1-1 준용
A23: 57750140F8005BA033082BCD89E062 | B23: 콘크리트면 정리 | C23: 3.6m 이하 | D23: M2 | E23: =일위대가!F133 -> 0 | F23: =일위대가!H133 -> 2190 | G23: =일위대가!J133 -> 65 | H23: =E23+F23+G23 -> 2255 | I23: 호표 20 | J23: 건축 9-2-1 | M23: 건축 9-2-1
A24: 57750140F8005BA033082BCD8F0927 | B24: 콘크리트면 정리 | C24: 3.6m 이하, 천장 | D24: M2 | E24: =일위대가!F139 -> 0 | F24: =일위대가!H139 -> 2628 | G24: =일위대가!J139 -> 65 | H24: =E24+F24+G24 -> 2693 | I24: 호표 21 | J24: 건축 9-2-1 | M24: 건축 9-2-1
A25: 5775B147E100558AE52BDD85D0CAF2 | B25: 창호주위 모르타르 충전 | D25: M | E25: =일위대가!F147 -> 0 | F25: =일위대가!H147 -> 3584 | G25: =일위대가!J147 -> 71 | H25: =E25+F25+G25 -> 3655 | I25: 호표 22 | J25: 건축 9-3-1 | M25: 건축 9-3-1
A26: 5775B1479A005EE5357C3EE00F99F7 | B26: SD-1(100*100*3.2T-우레탄도장)(메쉬별도) | C26: 2.57*3.0 | D26: 개소 | E26: =일위대가!F158 -> 286240 | F26: =일위대가!H158 -> 310933 | G26: =일위대가!J158 -> 4583 | H26: =E26+F26+G26 -> 601756 | I26: 호표 23
A27: 5775914282005952A571C508746562 | B27: 바탕만들기+수성페인트 롤러칠 | C27: 내부, 2회, 1급, con'c·mortar면 | D27: M2 | E27: =일위대가!F164 -> 641 | F27: =일위대가!H164 -> 7443 | G27: =일위대가!J164 -> 0 | H27: =E27+F27+G27 -> 8084 | I27: 호표 24 | J27: 건축 11-1-1,-2-2 | M27: 건축 11-1-1,-2-2
A28: 5775914282005952A5764EF2E9441F | B28: 바탕만들기+수성페인트 롤러칠 | C28: 내부천장, 2회, 1급, con'c·mortar면 | D28: M2 | E28: =일위대가!F170 -> 641 | F28: =일위대가!H170 -> 8932 | G28: =일위대가!J170 -> 0 | H28: =E28+F28+G28 -> 9573 | I28: 호표 25 | J28: 건축 11-1-1,-2-2 | M28: 건축 11-1-1,-2-2
A29: 577591421F005B68EB1B5D06C782F6 | B29: 철제용 우레탄도료 | D29: M2 | E29: =일위대가!F187 -> 7364 | F29: =일위대가!H187 -> 13575 | G29: =일위대가!J187 -> 0 | H29: =E29+F29+G29 -> 20939 | I29: 호표 26
A30: 5750114D7C005317E59F670546BC1F | B30: U형측구설치 | C30: W=360 (토공사포함) | D30: M | E30: =일위대가!F196 -> 15249 | F30: =일위대가!H196 -> 9202 | G30: =일위대가!J196 -> 2122 | H30: =E30+F30+G30 -> 26573 | I30: 호표 27
A31: 57746140AA005ABF8A3813679DAA51 | B31: 철골재 철거 | C31: LPG사용 | D31: TON | E31: =일위대가!F202 -> 2274 | F31: =일위대가!H202 -> 656754 | G31: =일위대가!J202 -> 0 | H31: =E31+F31+G31 -> 659028 | I31: 호표 28 | J31: 건축 12-3-3 | M31: 건축 12-3-3
A32: 57746140AA0056C0A7EF3FF0808F84 | B32: 철망 철거 | C32: 해체재 재사용 안 함 | D32: M2 | E32: =일위대가!F207 -> 0 | F32: =일위대가!H207 -> 4790 | G32: =일위대가!J207 -> 0 | H32: =E32+F32+G32 -> 4790 | I32: 호표 29 | J32: 건축 12-2-1 | M32: 건축 12-2-1
A33: 5775614F5A0055EBF845331D0CB22A | B33: 콘테이너형 가설건축물 설치 | C33: 3.0*6.0*2.6m | D33: 개소 | E33: =일위대가!F214 -> 0 | F33: =일위대가!H214 -> 0 | G33: =일위대가!J214 -> 171253 | H33: =E33+F33+G33 -> 171253 | I33: 호표 30 | J33: 공통 2-3-2 | M33: 공통 2-3-2
A34: 5775614F5A0055EBF845331D0CB22F | B34: 콘테이너형 가설건축물 해체 | C34: 3.0*6.0*2.6m | D34: 개소 | E34: =일위대가!F221 -> 0 | F34: =일위대가!H221 -> 0 | G34: =일위대가!J221 -> 171253 | H34: =E34+F34+G34 -> 171253 | I34: 호표 31 | J34: 공통 2-3-2 | M34: 공통 2-3-2
A35: 5060D143F000551D86E2A51C0A889F5FF9949B13 | B35: 크레인(타이어) | C35: 10ton | D35: HR | E35: =일위대가!F228 -> 6613 | F35: =일위대가!H228 -> 42267 | G35: =일위대가!J228 -> 26197 | H35: =E35+F35+G35 -> 75077 | I35: 호표 32 | J35: 공통 8-3,4(2104) | K35: A | M35: 공통 8-3,4(2104) | N35: T
A36: 5775614F64005D7A2A77EEF64D6E33 | B36: 강관 조립말비계(이동식)설치 및 해체 | C36: 높이 2m, 노무비 | D36: 대 | E36: =일위대가!F233 -> 0 | F36: =일위대가!H233 -> 77934 | G36: =일위대가!J233 -> 0 | H36: =E36+F36+G36 -> 77934 | I36: 호표 33 | J36: 공통 2-7-4 | M36: 공통 2-7-4
A37: 5775614F64005D7A2A70BB4C54782A | B37: 시스템비계 설치, 해체 | C37: 10m이하 - 조달자원 대체 | D37: M2 | E37: =일위대가!F238 -> 0 | F37: =일위대가!H238 -> 10754 | G37: =일위대가!J238 -> 0 | H37: =E37+F37+G37 -> 10754 | I37: 호표 34 | J37: 건축 2-6-2 | M37: 건축 2-6-2
A38: 5775614F64005D7A2A76C7ECEBF74A | B38: 작업발판(3개월이하) | C38: 안전발판 손료(2열) | D38: M2 | E38: =일위대가!F243 -> 923 | F38: =일위대가!H243 -> 0 | G38: =일위대가!J243 -> 0 | H38: =E38+F38+G38 -> 923 | I38: 호표 35
A39: 5775614F64005D790243A30B1955E4 | B39: 강관동바리 설치 및 해체 | C39: 2.5m초과 ~ 3.5m이하 - 17-2/4 삭제 | D39: 10공M3 | E39: =일위대가!F248 -> 0 | F39: =일위대가!H248 -> 157065 | G39: =일위대가!J248 -> 0 | H39: =E39+F39+G39 -> 157065 | I39: 호표 36 | J39: 토목 2-5-1 | M39: 토목 2-5-1
A40: 5060D143F000551FB6AB4F043B7D62DD2D2E0346 | B40: 굴삭기(무한궤도) | C40: 0.7㎥ | D40: HR | E40: =일위대가!F255 -> 17718 | F40: =일위대가!H255 -> 42267 | G40: =일위대가!J255 -> 21332 | H40: =E40+F40+G40 -> 81317 | I40: 호표 37 | J40: 공통 8-3,4(0201) | K40: A | M40: 공통 8-3,4(0201) | N40: T
...

Sheet 일위대가
A1: [ 국립생태원 맹금사 안전망 교체공사 ]
A2: 품 명 | B2: 규 격 | C2: 단위 | D2: 수량 | E2: 재 료 비 | G2: 노 무 비 | I2: 경 비 | K2: 합 계 | M2: 비 고 | N2: 일위대가 | O2: 품목코드 | P2: 일위 | Q2: 단산 | R2: 자재 | S2: 손료적용 | T2: 손료저장 | U2: 적용율 | V2: JUK1 | W2: JUK2 | X2: JUK3 | Y2: JUK4 | Z2: JUK5 | AA2: JUK6 | AB2: JUK7 | AC2: JUK8 | AD2: JUK9 | AE2: JUK10 | AF2: JUK11 | AG2: JUK12 | AH2: JUK13 | AI2: JUK14 | AJ2: JUK15 | AK2: JUK16 | AL2: JUK17 | AM2: JUK18 | AN2: JUK19 | AO2: JUK20 | AP2: 할증적용 | AQ2: 할증저장 | AR2: 할증율 | AS2: HAL1 | AT2: HAL2 | AU2: HAL3 | AV2: 자재구분 | AW2: 일위대가+자재 | AX2: 장비일위 | AY2: 설정
E3: 단 가 | F3: 금 액 | G3: 단 가 | H3: 금 액 | I3: 단 가 | J3: 금 액 | K3: 단 가 | L3: 금 액
A4: 콘테이너형 가설사무소 설치 및 해체 3.0*6.0*2.6m, 3개월 개소 공통 2-3-2 ( 호표 1 ) | N4: 5775614F5A0055EBF84D09578D7C13
A5: 컨테이너하우스 | B5: 컨테이너하우스, 사무실용, 3.0*6.0*2.6m | C5: 개 | D5: 0.12 | E5: =단가대비표!O71 -> 2059000 | F5: =TRUNC(E5*D5,1) -> 247080 | G5: =단가대비표!P71 -> 0 | H5: =TRUNC(G5*D5,1) -> 0 | I5: =단가대비표!V71 -> 0 | J5: =TRUNC(I5*D5,1) -> 0 | K5: =TRUNC(E5+G5+I5,1) -> 2059000 | L5: =TRUNC(F5+H5+J5,1) -> 247080 | M5: 금액제외 | O5: 5056614B7C005A936FF6A234FE474888B6A117 | P5: F | Q5: F | R5: T | V5: 1 | AW5: 5775614F5A0055EBF84D09578D7C135056614B7C005A936FF6A234FE474888B6A117 | AY5: -
A6: 콘테이너형 가설건축물 설치 | B6: 3.0*6.0*2.6m | C6: 개소 | D6: 1 | E6: =일위대가목록!E33 -> 0 | F6: =TRUNC(E6*D6,1) -> 0 | G6: =일위대가목록!F33 -> 0 | H6: =TRUNC(G6*D6,1) -> 0 | I6: =일위대가목록!G33 -> 171253 | J6: =TRUNC(I6*D6,1) -> 171253 | K6: =TRUNC(E6+G6+I6,1) -> 171253 | L6: =TRUNC(F6+H6+J6,1) -> 171253 | M6: 금액제외 | O6: 5775614F5A0055EBF845331D0CB22A | P6: T | Q6: F | R6: F | V6: 1 | AW6: 5775614F5A0055EBF84D09578D7C135775614F5A0055EBF845331D0CB22A | AY6: -
A7: 콘테이너형 가설건축물 해체 | B7: 3.0*6.0*2.6m | C7: 개소 | D7: 1 | E7: =일위대가목록!E34 -> 0 | F7: =TRUNC(E7*D7,1) -> 0 | G7: =일위대가목록!F34 -> 0 | H7: =TRUNC(G7*D7,1) -> 0 | I7: =일위대가목록!G34 -> 171253 | J7: =TRUNC(I7*D7,1) -> 171253 | K7: =TRUNC(E7+G7+I7,1) -> 171253 | L7: =TRUNC(F7+H7+J7,1) -> 171253 | M7: 금액제외 | O7: 5775614F5A0055EBF845331D0CB22F | P7: T | Q7: F | R7: F | V7: 1 | AW7: 5775614F5A0055EBF84D09578D7C135775614F5A0055EBF845331D0CB22F | AY7: -
A8: 경비로 적용 | B8: 합계의 100% | C8: 식 | D8: 1 | E8: 0 | F8: =TRUNC(E8*D8,1) -> 0 | G8: 0 | H8: =TRUNC(G8*D8,1) -> 0 | I8: =TRUNC(SUMIF(V5:V8, RIGHTB(O8, 1), L5:L8)*U8, 2) -> 589586 | J8: =TRUNC(I8*D8,1) -> 589586 | K8: =TRUNC(E8+G8+I8,1) -> 589586 | L8: =TRUNC(F8+H8+J8,1) -> 589586 | N8: 5775614F5A0055EBF84D09578D7C13 | O8: 5669414FD90050C28EF6A81D4861001 | P8: F | Q8: F | R8: F | S8: 3 | T8: 2 | U8: 1 | AW8: 5775614F5A0055EBF84D09578D7C135669414FD90050C28EF6A81D4861001
A9: [ 합 계 ] | F9: =TRUNC(SUMIF(N5:N8, N4, F5:F8),0) -> 0 | H9: =TRUNC(SUMIF(N5:N8, N4, H5:H8),0) -> 0 | J9: =TRUNC(SUMIF(N5:N8, N4, J5:J8),0) -> 589586 | L9: =F9+H9+J9 -> 589586 | N9: TOTAL | O9: TOTAL
A11: 콘테이너형 가설창고 설치 및 해체 3.0*6.0*2.6m, 3개월 개소 공통 2-3-2 ( 호표 2 ) | N11: 5775614F5A0055E82AB3A84D3DCDC9
A12: 컨테이너하우스 | B12: 컨테이너하우스, 창고용, 3.0*6.0*2.6m | C12: 개 | D12: 0.12 | E12: =단가대비표!O72 -> 1840000 | F12: =TRUNC(E12*D12,1) -> 220800 | G12: =단가대비표!P72 -> 0 | H12: =TRUNC(G12*D12,1) -> 0 | I12: =단가대비표!V72 -> 0 | J12: =TRUNC(I12*D12,1) -> 0 | K12: =TRUNC(E12+G12+I12,1) -> 1840000 | L12: =TRUNC(F12+H12+J12,1) -> 220800 | M12: 금액제외 | O12: 5056614B7C005A936FF6A234FE474888B6A7B1 | P12: F | Q12: F | R12: T | V12: 1 | AW12: 5775614F5A0055E82AB3A84D3DCDC95056614B7C005A936FF6A234FE474888B6A7B1 | AY12: -
A13: 콘테이너형 가설건축물 설치 | B13: 3.0*6.0*2.6m | C13: 개소 | D13: 1 | E13: =일위대가목록!E33 -> 0 | F13: =TRUNC(E13*D13,1) -> 0 | G13: =일위대가목록!F33 -> 0 | H13: =TRUNC(G13*D13,1) -> 0 | I13: =일위대가목록!G33 -> 171253 | J13: =TRUNC(I13*D13,1) -> 171253 | K13: =TRUNC(E13+G13+I13,1) -> 171253 | L13: =TRUNC(F13+H13+J13,1) -> 171253 | M13: 금액제외 | O13: 5775614F5A0055EBF845331D0CB22A | P13: T | Q13: F | R13: F | V13: 1 | AW13: 5775614F5A0055E82AB3A84D3DCDC95775614F5A0055EBF845331D0CB22A | AY13: -
A14: 콘테이너형 가설건축물 해체 | B14: 3.0*6.0*2.6m | C14: 개소 | D14: 1 | E14: =일위대가목록!E34 -> 0 | F14: =TRUNC(E14*D14,1) -> 0 | G14: =일위대가목록!F34 -> 0 | H14: =TRUNC(G14*D14,1) -> 0 | I14: =일위대가목록!G34 -> 171253 | J14: =TRUNC(I14*D14,1) -> 171253 | K14: =TRUNC(E14+G14+I14,1) -> 171253 | L14: =TRUNC(F14+H14+J14,1) -> 171253 | M14: 금액제외 | O14: 5775614F5A0055EBF845331D0CB22F | P14: T | Q14: F | R14: F | V14: 1 | AW14: 5775614F5A0055E82AB3A84D3DCDC95775614F5A0055EBF845331D0CB22F | AY14: -
A15: 경비로 적용 | B15: 합계의 100% | C15: 식 | D15: 1 | E15: 0 | F15: =TRUNC(E15*D15,1) -> 0 | G15: 0 | H15: =TRUNC(G15*D15,1) -> 0 | I15: =TRUNC(SUMIF(V12:V15, RIGHTB(O15, 1), L12:L15)*U15, 2) -> 563306 | J15: =TRUNC(I15*D15,1) -> 563306 | K15: =TRUNC(E15+G15+I15,1) -> 563306 | L15: =TRUNC(F15+H15+J15,1) -> 563306 | N15: 5775614F5A0055E82AB3A84D3DCDC9 | O15: 5669414FD90050C28EF6A81D4861001 | P15: F | Q15: F | R15: F | S15: 3 | T15: 2 | U15: 1 | AW15: 5775614F5A0055E82AB3A84D3DCDC95669414FD90050C28EF6A81D4861001
A16: [ 합 계 ] | F16: =TRUNC(SUMIF(N12:N15, N11, F12:F15),0) -> 0 | H16: =TRUNC(SUMIF(N12:N15, N11, H12:H15),0) -> 0 | J16: =TRUNC(SUMIF(N12:N15, N11, J12:J15),0) -> 563306 | L16: =F16+H16+J16 -> 563306 | N16: TOTAL | O16: TOTAL
A18: 강관 조립말비계(이동식)설치 및 해체 높이 2m, 3개월 대 공통 2-7-4 ( 호표 3 ) | N18: 5775614F64005D7A2A77EEF753BBCD
A19: 비계안정장치 | B19: 비계안정장치, 비계기본틀, 기둥, 1.2*1.7m | C19: 개 | D19: 0.12 | E19: =단가대비표!O49 -> 20400 | F19: =TRUNC(E19*D19,1) -> 2448 | G19: =단가대비표!P49 -> 0 | H19: =TRUNC(G19*D19,1) -> 0 | I19: =단가대비표!V49 -> 0 | J19: =TRUNC(I19*D19,1) -> 0 | K19: =TRUNC(E19+G19+I19,1) -> 20400 | L19: =TRUNC(F19+H19+J19,1) -> 2448 | N19: 5775614F64005D7A2A77EEF753BBCD | O19: 5056614B47005C3DB318211A54BF94BF04E624 | P19: F | Q19: F | R19: T | AW19: 5775614F64005D7A2A77EEF753BBCD5056614B47005C3DB318211A54BF94BF04E624
A20: 비계안정장치 | B20: 비계안정장치, 가새, 1.2*1.9m | C20: 개 | D20: 0.12 | E20: =단가대비표!O50 -> 6100 | F20: =TRUNC(E20*D20,1) -> 732 | G20: =단가대비표!P50 -> 0 | H20: =TRUNC(G20*D20,1) -> 0 | I20: =단가대비표!V50 -> 0 | J20: =TRUNC(I20*D20,1) -> 0 | K20: =TRUNC(E20+G20+I20,1) -> 6100 | L20: =TRUNC(F20+H20+J20,1) -> 732 | N20: 5775614F64005D7A2A77EEF753BBCD | O20: 5056614B47005C3DB318211A54BF94BF04E62A | P20: F | Q20: F | R20: T | AW20: 5775614F64005D7A2A77EEF753BBCD5056614B47005C3DB318211A54BF94BF04E62A
A21: 비계안정장치 | B21: 비계안정장치, 수평띠장, 1829mm | C21: 개 | D21: 0.24 | E21: =단가대비표!O51 -> 14900 | F21: =TRUNC(E21*D21,1) -> 3576 | G21: =단가대비표!P51 -> 0 | H21: =TRUNC(G21*D21,1) -> 0 | I21: =단가대비표!V51 -> 0 | J21: =TRUNC(I21*D21,1) -> 0 | K21: =TRUNC(E21+G21+I21,1) -> 14900 | L21: =TRUNC(F21+H21+J21,1) -> 3576 | N21: 5775614F64005D7A2A77EEF753BBCD | O21: 5056614B47005C3DB318211A54BF94BF04E9FA | P21: F | Q21: F | R21: T | AW21: 5775614F64005D7A2A77EEF753BBCD5056614B47005C3DB318211A54BF94BF04E9FA
A22: 비계안정장치 | B22: 비계안정장치, 손잡이기둥 | C22: 개 | D22: 0.24 | E22: =단가대비표!O54 -> 0 | F22: =TRUNC(E22*D22,1) -> 0 | G22: =단가대비표!P54 -> 0 | H22: =TRUNC(G22*D22,1) -> 0 | I22: =단가대비표!V54 -> 0 | J22: =TRUNC(I22*D22,1) -> 0 | K22: =TRUNC(E22+G22+I22,1) -> 0 | L22: =TRUNC(F22+H22+J22,1) -> 0 | N22: 5775614F64005D7A2A77EEF753BBCD | O22: 5056614B47005C3DB318211A54BF94BF04E9FD | P22: F | Q22: F | R22: T | AW22: 5775614F64005D7A2A77EEF753BBCD5056614B47005C3DB318211A54BF94BF04E9FD
A23: 비계안정장치 | B23: 비계안정장치, 손잡이, 1229mm | C23: 개 | D23: 0.12 | E23: =단가대비표!O52 -> 0 | F23: =TRUNC(E23*D23,1) -> 0 | G23: =단가대비표!P52 -> 0 | H23: =TRUNC(G23*D23,1) -> 0 | I23: =단가대비표!V52 -> 0 | J23: =TRUNC(I23*D23,1) -> 0 | K23: =TRUNC(E23+G23+I23,1) -> 0 | L23: =TRUNC(F23+H23+J23,1) -> 0 | N23: 5775614F64005D7A2A77EEF753BBCD | O23: 5056614B47005C3DB318211A54BF94BF04E9FB | P23: F | Q23: F | R23: T | AW23: 5775614F64005D7A2A77EEF753BBCD5056614B47005C3DB318211A54BF94BF04E9FB
A24: 비계안정장치 | B24: 비계안정장치, 손잡이, 1829mm | C24: 개 | D24: 0.24 | E24: =단가대비표!O53 -> 0 | F24: =TRUNC(E24*D24,1) -> 0 | G24: =단가대비표!P53 -> 0 | H24: =TRUNC(G24*D24,1) -> 0 | I24: =단가대비표!V53 -> 0 | J24: =TRUNC(I24*D24,1) -> 0 | K24: =TRUNC(E24+G24+I24,1) -> 0 | L24: =TRUNC(F24+H24+J24,1) -> 0 | N24: 5775614F64005D7A2A77EEF753BBCD | O24: 5056614B47005C3DB318211A54BF94BF04E9FC | P24: F | Q24: F | R24: T | AW24: 5775614F64005D7A2A77EEF753BBCD5056614B47005C3DB318211A54BF94BF04E9FC
A25: 비계안정장치 | B25: 비계안정장치, 바퀴 | C25: 개 | D25: 0.36 | E25: =단가대비표!O55 -> 9900 | F25: =TRUNC(E25*D25,1) -> 3564 | G25: =단가대비표!P55 -> 0 | H25: =TRUNC(G25*D25,1) -> 0 | I25: =단가대비표!V55 -> 0 | J25: =TRUNC(I25*D25,1) -> 0 | K25: =TRUNC(E25+G25+I25,1) -> 9900 | L25: =TRUNC(F25+H25+J25,1) -> 3564 | N25: 5775614F64005D7A2A77EEF753BBCD | O25: 5056614B47005C3DB318211A54BF94BF04E9FE | P25: F | Q25: F | R25: T | AW25: 5775614F64005D7A2A77EEF753BBCD5056614B47005C3DB318211A54BF94BF04E9FE
A26: 비계안정장치 | B26: 비계안정장치, 쟈키 | C26: 개 | D26: 0.36 | E26: =단가대비표!O56 -> 7200 | F26: =TRUNC(E26*D26,1) -> 2592 | G26: =단가대비표!P56 -> 0 | H26: =TRUNC(G26*D26,1) -> 0 | I26: =단가대비표!V56 -> 0 | J26: =TRUNC(I26*D26,1) -> 0 | K26: =TRUNC(E26+G26+I26,1) -> 7200 | L26: =TRUNC(F26+H26+J26,1) -> 2592 | N26: 5775614F64005D7A2A77EEF753BBCD | O26: 5056614B47005C3DB318211A54BF94BF04E9FF | P26: F | Q26: F | R26: T | AW26: 5775614F64005D7A2A77EEF753BBCD5056614B47005C3DB318211A54BF94BF04E9FF
A27: 비계안정장치 | B27: 비계안정장치, 발판, 40*200*2000 | C27: 장 | D27: 0.42 | E27: =단가대비표!O58 -> 0 | F27: =TRUNC(E27*D27,1) -> 0 | G27: =단가대비표!P58 -> 0 | H27: =TRUNC(G27*D27,1) -> 0 | I27: =단가대비표!V58 -> 0 | J27: =TRUNC(I27*D27,1) -> 0 | K27: =TRUNC(E27+G27+I27,1) -> 0 | L27: =TRUNC(F27+H27+J27,1) -> 0 | N27: 5775614F64005D7A2A77EEF753BBCD | O27: 5056614B47005C3DB318211A566889A4A1474F | P27: F | Q27: F | R27: T | AW27: 5775614F64005D7A2A77EEF753BBCD5056614B47005C3DB318211A566889A4A1474F
A28: 강관 조립말비계(이동식)설치 및 해체 | B28: 높이 2m, 노무비 | C28: 대 | D28: 1 | E28: =일위대가목록!E36 -> 0 | F28: =TRUNC(E28*D28,1) -> 0 | G28: =일위대가목록!F36 -> 77934 | H28: =TRUNC(G28*D28,1) -> 77934 | I28: =일위대가목록!G36 -> 0 | J28: =TRUNC(I28*D28,1) -> 0 | K28: =TRUNC(E28+G28+I28,1) -> 77934 | L28: =TRUNC(F28+H28+J28,1) -> 77934 | N28: 5775614F64005D7A2A77EEF753BBCD | O28: 5775614F64005D7A2A77EEF64D6E33 | P28: T | Q28: F | R28: F | AW28: 5775614F64005D7A2A77EEF753BBCD5775614F64005D7A2A77EEF64D6E33
A29: [ 합 계 ] | F29: =TRUNC(SUMIF(N19:N28, N18, F19:F28),0) -> 12912 | H29: =TRUNC(SUMIF(N19:N28, N18, H19:H28),0) -> 77934 | J29: =TRUNC(SUMIF(N19:N28, N18, J19:J28),0) -> 0 | L29: =F29+H29+J29 -> 90846 | N29: TOTAL | O29: TOTAL
A31: 시스템비계 설치, 해체(외부) 10m이하, 3개월(발판2열)-계단설치해체비포함 M2 ( 호표 4 ) | N31: 5775614F64005D79063D045D0E3CF4
A32: 시스템비계-수직재 | B32: S-38(3800mm) | C32: 본 | D32: 0.3009 | E32: =단가대비표!O59 -> 17000 | F32: =TRUNC(E32*D32,1) -> 5115.3 | G32: =단가대비표!P59 -> 0 | H32: =TRUNC(G32*D32,1) -> 0 | I32: =단가대비표!V59 -> 0 | J32: =TRUNC(I32*D32,1) -> 0 | K32: =TRUNC(E32+G32+I32,1) -> 17000 | L32: =TRUNC(F32+H32+J32,1) -> 5115.3 | M32: 금액제외 | O32: 5056614B47005C3DB31825F10B1E877AC9F4 | P32: F | Q32: F | R32: T | V32: 1 | AW32: 5775614F64005D79063D045D0E3CF45056614B47005C3DB31825F10B1E877AC9F4 | AY32: -
A33: 시스템비계-대각재 | B33: B-1918(2484mm) | C33: 본 | D33: 0.0543 | E33: =단가대비표!O62 -> 7700 | F33: =TRUNC(E33*D33,1) -> 418.1 | G33: =단가대비표!P62 -> 0 | H33: =TRUNC(G33*D33,1) -> 0 | I33: =단가대비표!V62 -> 0 | J33: =TRUNC(I33*D33,1) -> 0 | K33: =TRUNC(E33+G33+I33,1) -> 7700 | L33: =TRUNC(F33+H33+J33,1) -> 418.1 | M33: 금액제외 | O33: 5056614B47005C3DB31825F10B1E877ACD6F | P33: F | Q33: F | R33: T | V33: 1 | AW33: 5775614F64005D79063D045D0E3CF45056614B47005C3DB31825F10B1E877ACD6F | AY33: -
A34: 시스템비계-수평재 | B34: L-12(1200mm) | C34: 본 | D34: 0.3009 | E34: =단가대비표!O60 -> 6600 | F34: =TRUNC(E34*D34,1) -> 1985.9 | G34: =단가대비표!P60 -> 0 | H34: =TRUNC(G34*D34,1) -> 0 | I34: =단가대비표!V60 -> 0 | J34: =TRUNC(I34*D34,1) -> 0 | K34: =TRUNC(E34+G34+I34,1) -> 6600 | L34: =TRUNC(F34+H34+J34,1) -> 1985.9 | M34: 금액제외 | O34: 5056614B47005C3DB31825F10B1E877ACF1C | P34: F | Q34: F | R34: T | V34: 1 | AW34: 5775614F64005D79063D045D0E3CF45056614B47005C3DB31825F10B1E877ACF1C | AY34: -
A35: 시스템비계-수평재 | B35: L-18(1829MM) | C35: 본 | D35: 0.5847 | E35: =단가대비표!O61 -> 8400 | F35: =TRUNC(E35*D35,1) -> 4911.4 | G35: =단가대비표!P61 -> 0 | H35: =TRUNC(G35*D35,1) -> 0 | I35: =단가대비표!V61 -> 0 | J35: =TRUNC(I35*D35,1) -> 0 | K35: =TRUNC(E35+G35+I35,1) -> 8400 | L35: =TRUNC(F35+H35+J35,1) -> 4911.4 | M35: 금액제외 | O35: 5056614B47005C3DB31825F10B1E877ACE75 | P35: F | Q35: F | R35: T | V35: 1 | AW35: 5775614F64005D79063D045D0E3CF45056614B47005C3DB31825F10B1E877ACE75 | AY35: -
A36: 시스템비계-난간대 | B36: HL-12(1200mm) | C36: 본 | D36: 0.0309 | E36: =단가대비표!O63 -> 7200 | F36: =TRUNC(E36*D36,1) -> 222.4 | G36: =단가대비표!P63 -> 0 | H36: =TRUNC(G36*D36,1) -> 0 | I36: =단가대비표!V63 -> 0 | J36: =TRUNC(I36*D36,1) -> 0 | K36: =TRUNC(E36+G36+I36,1) -> 7200 | L36: =TRUNC(F36+H36+J36,1) -> 222.4 | M36: 금액제외 | O36: 5056614B47005C3DB31825F10B1E877AC36B | P36: F | Q36: F | R36: T | V36: 1 | AW36: 5775614F64005D79063D045D0E3CF45056614B47005C3DB31825F10B1E877AC36B | AY36: -
A37: 시스템비계-난간대 | B37: HL-18(1829mm) | C37: 본 | D37: 0.7894 | E37: =단가대비표!O64 -> 8400 | F37: =TRUNC(E37*D37,1) -> 6630.9 | G37: =단가대비표!P64 -> 0 | H37: =TRUNC(G37*D37,1) -> 0 | I37: =단가대비표!V64 -> 0 | J37: =TRUNC(I37*D37,1) -> 0 | K37: =TRUNC(E37+G37+I37,1) -> 8400 | L37: =TRUNC(F37+H37+J37,1) -> 6630.9 | M37: 금액제외 | O37: 5056614B47005C3DB31825F10B1E877AC244 | P37: F | Q37: F | R37: T | V37: 1 | AW37: 5775614F64005D79063D045D0E3CF45056614B47005C3DB31825F10B1E877AC244 | AY37: -
A38: 강관손료 | B38: 주재료비의 6% | C38: 식 | D38: 1 | E38: =TRUNC(SUMIF(V32:V44, RIGHTB(O38, 1), F32:F44)*U38, 2) -> 1157.04 | F38: =TRUNC(E38*D38,1) -> 1157 | G38: 0 | H38: =TRUNC(G38*D38,1) -> 0 | I38: 0 | J38: =TRUNC(I38*D38,1) -> 0 | K38: =TRUNC(E38+G38+I38,1) -> 1157 | L38: =TRUNC(F38+H38+J38,1) -> 1157 | N38: 5775614F64005D79063D045D0E3CF4 | O38: 5669414FD90050C28EF6A81D4861001 | P38: F | Q38: F | R38: F | S38: 0 | T38: 0 | U38: 0.06 | AW38: 5775614F64005D79063D045D0E3CF45669414FD90050C28EF6A81D4861001
A39: 비계안정장치 | B39: 비계안정장치, 기둥, 각파이프, 60*60*2.3mm | C39: M | D39: 0.0601 | E39: =단가대비표!O57 -> 0 | F39: =TRUNC(E39*D39,1) -> 0 | G39: =단가대비표!P57 -> 0 | H39: =TRUNC(G39*D39,1) -> 0 | I39: =단가대비표!V57 -> 0 | J39: =TRUNC(I39*D39,1) -> 0 | K39: =TRUNC(E39+G39+I39,1) -> 0 | L39: =TRUNC(F39+H39+J39,1) -> 0 | M39: 금액제외 | O39: 5056614B47005C3DB318211A54BF94BF04E9F1 | P39: F | Q39: F | R39: T | W39: 2 | AW39: 5775614F64005D79063D045D0E3CF45056614B47005C3DB318211A54BF94BF04E9F1 | AY39: -
A40: 받침철물손료 | B40: 주재료비의 9% | C40: 식 | D40: 1 | E40: =TRUNC(SUMIF(W32:W44, RIGHTB(O40, 1), F32:F44)*U40, 2) -> 0 | F40: =TRUNC(E40*D40,1) -> 0 | G40: 0 | H40: =TRUNC(G40*D40,1) -> 0 | I40: 0 | J40: =TRUNC(I40*D40,1) -> 0 | K40: =TRUNC(E40+G40+I40,1) -> 0 | L40: =TRUNC(F40+H40+J40,1) -> 0 | N40: 5775614F64005D79063D045D0E3CF4 | O40: 5669414FD90050C28EF6A81D4862002 | P40: F | Q40: F | R40: F | S40: 0 | T40: 0 | U40: 0.09 | AW40: 5775614F64005D79063D045D0E3CF45669414FD90050C28EF6A81D4862002
A41: 강관비계 부속철물 | B41: 앙카용철물 | C41: 개 | D41: 0.0386 | E41: =단가대비표!O48 -> 900 | F41: =TRUNC(E41*D41,1) -> 34.7 | G41: =단가대비표!P48 -> 0 | H41: =TRUNC(G41*D41,1) -> 0 | I41: =단가대비표!V48 -> 0 | J41: =TRUNC(I41*D41,1) -> 0 | K41: =TRUNC(E41+G41+I41,1) -> 900 | L41: =TRUNC(F41+H41+J41,1) -> 34.7 | M41: 금액제외 | O41: 5056614B47005C3DB04446D1EF10D42C54030B | P41: F | Q41: F | R41: T | X41: 3 | AW41: 5775614F64005D79063D045D0E3CF45056614B47005C3DB04446D1EF10D42C54030B | AY41: -
A42: 철물(앵커)손료 | B42: 주재료비의 100% | C42: 식 | D42: 1 | E42: =TRUNC(SUMIF(X32:X44, RIGHTB(O42, 1), F32:F44)*U42, 2) -> 34.7 | F42: =TRUNC(E42*D42,1) -> 34.7 | G42: 0 | H42: =TRUNC(G42*D42,1) -> 0 | I42: 0 | J42: =TRUNC(I42*D42,1) -> 0 | K42: =TRUNC(E42+G42+I42,1) -> 34.7 | L42: =TRUNC(F42+H42+J42,1) -> 34.7 | N42: 5775614F64005D79063D045D0E3CF4 | O42: 5669414FD90050C28EF6A81D4863003 | P42: F | Q42: F | R42: F | S42: 0 | T42: 0 | U42: 1 | AW42: 5775614F64005D79063D045D0E3CF45669414FD90050C28EF6A81D4863003
A43: 시스템비계 설치, 해체 | B43: 10m이하 - 조달자원 대체 | C43: M2 | D43: 1 | E43: =일위대가목록!E37 -> 0 | F43: =TRUNC(E43*D43,1) -> 0 | G43: =일위대가목록!F37 -> 10754 | H43: =TRUNC(G43*D43,1) -> 10754 | I43: =일위대가목록!G37 -> 0 | J43: =TRUNC(I43*D43,1) -> 0 | K43: =TRUNC(E43+G43+I43,1) -> 10754 | L43: =TRUNC(F43+H43+J43,1) -> 10754 | N43: 5775614F64005D79063D045D0E3CF4 | O43: 5775614F64005D7A2A70BB4C54782A | P43: T | Q43: F | R43: F | AW43: 5775614F64005D79063D045D0E3CF45775614F64005D7A2A70BB4C54782A
...

Sheet 중기단가목록
A1: 중 기 단 가 목 록
A2: [ 국립생태원 맹금사 안전망 교체공사 ]
A3: 코 드 | B3: 품 명 | C3: 규 격 | D3: 단위 | E3: 재 료 비 | F3: 노 무 비 | G3: 경 비 | H3: 합 계 | I3: 번 호 | J3: 비 고 | K3: START
A4: 5750D14202005A5749D84B918B45DE | B4: 터파기/토사 | C4: 보통, 굴삭기 0.7m3 90%, 인력10% | D4: M3 | E4: 270 | F4: 3410 | G4: 325 | H4: 4005 | I4: 산근 1 | K4: 5750D14202005A5749D84B918B45DE
A5: 5750D142DE005217FDA5752C8526C8 | B5: 되메우기/토사, 두께 10cm | C5: 보통, 굴삭기 0.7m3+플레이트콤팩터 1.5ton+인력 10% | D5: M3 | E5: 370 | F5: 6684 | G5: 290 | H5: 7344 | I5: 산근 2 | K5: 5750D142DE005217FDA5752C8526C8
A6: 5750D142CD005EF33B3B3707A41997 | B6: 토사(단지내 잔토포설) | C6: 보통, 굴삭기 0.7m3 | D6: M3 | E6: 170 | F6: 406 | G6: 205 | H6: 781 | I6: 산근 3 | K6: 5750D142CD005EF33B3B3707A41997
A7: 5750D142DE005217FDA5752C8526C9 | B7: 성토다지기 | C7: 보통, 굴삭기 0.7m3+플레이트콤팩터 1.5ton+인력 10% | D7: M3 | E7: 370 | F7: 6684 | G7: 290 | H7: 7344 | I7: 산근 4 | K7: 5750D142DE005217FDA5752C8526C9
A8: 5774314D720059CA8946A84FD8398C | B8: 운반비(트레일러 20ton+크레인 10ton) | C8: 철근, L:10km | D8: TON | E8: 0 | F8: 0 | G8: 8692 | H8: 8692 | I8: 산근 5 | K8: 5774314D720059CA8946A84FD8398C
A9: 577531444F0054B787A66D0E7D986A | B9: 콘크리트 펌프차 타설(벽,기둥,슬래브 등) | C9: 100m3 미만, 슬럼프 15cm, 보통 | D9: 회 | E9: 152291 | F9: 1407465 | G9: 391381 | H9: 1951137 | I9: 산근 6 | K9: 577531444F0054B787A66D0E7D986A
A10: 577531444F00570BC68B610FB9B7E3 | B10: 콘크리트 펌프차 타설(무근, 진동기無) | C10: 100m3 미만, 슬럼프 8~12cm, 보통(매트기초 등) | D10: 회 | E10: 122857 | F10: 934698 | G10: 305699 | H10: 1363254 | I10: 산근 7 | K10: 577531444F00570BC68B610FB9B7E3

Sheet 중기단가산출서
A1: 중 기 단 가 산 출 서
A2: [ 국립생태원 맹금사 안전망 교체공사 ]
A3: 산 출 내 역 | B3: 재 료 비 | C3: 노 무 비 | D3: 경 비 | E3: 합 계 | F3: 비 고 | G3: START | H3: 코드 | I3: 품명 | J3: 규격 | K3: 단위 | L3: 수량
A4: 터파기/토사 보통, 굴삭기 0.7m3 90%, 인력10% M3 공통 8-2-3 ( 산근 1 ) | G4: 5750D14202005A5749D84B918B45DE | I4: 터파기/토사 | J4: 보통, 굴삭기 0.7m3 90%, 인력10% | K4: M3
G5: 5750D14202005A5749D84B918B45DE | H5: C | L5: 1
A6: 굴삭기(무한궤도),0.7㎥90%+인력10% M3 | B6: 0 | C6: 0 | D6: 0 | E6: 0 | G6: 5750D14202005A5749D84B918B45DE | H6: C! | I6: '굴삭기(무한궤도),0.7㎥90%+인력10% M3'
B7: 0 | C7: 0 | D7: 0 | E7: 0 | G7: 5750D14202005A5749D84B918B45DE | H7: C!
A8: Q1 바켓용량(M3) =0.70 | B8: 0 | C8: 0 | D8: 0 | E8: 0 | G8: 5750D14202005A5749D84B918B45DE | H8: C! | I8: q1 '바켓용량(M3)' =0.70
A9: K 바켓계수(양호1.1,보통0.90,불량0.70,파쇄암0.55) = 0.90 | B9: 0 | C9: 0 | D9: 0 | E9: 0 | G9: 5750D14202005A5749D84B918B45DE | H9: C! | I9: k '바켓계수(양호1.1,보통0.90,불량0.70,파쇄암0.55)'= 0.90
A10: F 토량환산계수(1/L) = 1/1.25= 0.8 | B10: 0 | C10: 0 | D10: 0 | E10: 0 | G10: 5750D14202005A5749D84B918B45DE | H10: C! | I10: f '토량환산계수(1/L)'= 1/1.25=?
A11: E1 터파기에 대하여 -0.05 =0.05 | B11: 0 | C11: 0 | D11: 0 | E11: 0 | G11: 5750D14202005A5749D84B918B45DE | H11: C! | I11: E1 '터파기에 대하여 -0.05'=0.05
A12: E 작업효율사질토(양호0.85,보통0.70,불량0.55) = 0.70-E1= 0.65 | B12: 0 | C12: 0 | D12: 0 | E12: 0 | G12: 5750D14202005A5749D84B918B45DE | H12: C! | I12: E '작업효율사질토(양호0.85,보통0.70,불량0.55)'= 0.70-E1=?
A13: CM 1회 싸이클시간(135˚SEC) =20 | B13: 0 | C13: 0 | D13: 0 | E13: 0 | G13: 5750D14202005A5749D84B918B45DE | H13: C! | I13: Cm '1회 싸이클시간(135˚SEC)'=20
A14: Q 시간당 작업량 (M3/HR) = 3600*Q1*K*F*E/CM/0.9= 65.52 | B14: 0 | C14: 0 | D14: 0 | E14: 0 | G14: 5750D14202005A5749D84B918B45DE | H14: C! | I14: Q '시간당 작업량 (M3/Hr)'= 3600*q1*k*f*E/Cm/0.9=?
B15: 0 | C15: 0 | D15: 0 | E15: 0 | G15: 5750D14202005A5749D84B918B45DE | H15: C!
A16: 재료비: 17718 / 65.52 = 270.4 | B16: 270.4 | C16: 0 | D16: 0 | E16: 270.4 | G16: 5750D14202005A5749D84B918B45DE | H16: C! | I16: '재료비:' ~00000201007000000.M~ / {Q} =?MA+
A17: 노무비: 42267 / 65.52 = 645.1 | B17: 0 | C17: 645.1 | D17: 0 | E17: 645.1 | G17: 5750D14202005A5749D84B918B45DE | H17: C! | I17: '노무비:' ~00000201007000000.L~ / {Q} =?LA+
A18: 경 비: 21332 / 65.52 = 325.5 | B18: 0 | C18: 0 | D18: 325.5 | E18: 325.5 | G18: 5750D14202005A5749D84B918B45DE | H18: C! | I18: '경 비:' ~00000201007000000.E~ / {Q} =?EQ+
A19: 소 계 | B19: 270.4 | C19: 645.1 | D19: 325.5 | E19: 1241 | G19: 5750D14202005A5749D84B918B45DE | H19: C! | I19: >'소 계'
B20: 0 | C20: 0 | D20: 0 | E20: 0 | G20: 5750D14202005A5749D84B918B45DE | H20: C!
A21: 인력터파기,0-1m,보통인부0.2인*10% | B21: 0 | C21: 0 | D21: 0 | E21: 0 | G21: 5750D14202005A5749D84B918B45DE | H21: C! | I21: '인력터파기,0-1m,보통인부0.2인*10%'
A22: Q 시간당 작업량 (M3/HR) = 1/8/0.2/0.1= 6.25 | B22: 0 | C22: 0 | D22: 0 | E22: 0 | G22: 5750D14202005A5749D84B918B45DE | H22: C! | I22: Q '시간당 작업량 (M3/Hr)'= 1/8/0.2/0.1=?
B23: 0 | C23: 0 | D23: 0 | E23: 0 | G23: 5750D14202005A5749D84B918B45DE | H23: C!
A24: 보통인부 1인/8HR*작업시간 | B24: 0 | C24: 0 | D24: 0 | E24: 0 | G24: 5750D14202005A5749D84B918B45DE | H24: C! | I24: '보통인부 1인/8HR*작업시간
A25: 노무비: 138290*1/8/6.25 = 2765.8 | B25: 0 | C25: 2765.8 | D25: 0 | E25: 2765.8 | G25: 5750D14202005A5749D84B918B45DE | H25: C! | I25: '노무비:' ~L001010101000002.L~*1/8/{Q} =?LA+
A26: 소 계 | B26: 0 | C26: 2765.8 | D26: 0 | E26: 2765.8 | G26: 5750D14202005A5749D84B918B45DE | H26: C! | I26: >'소 계'
A27: 총 계 | B27: 270 | C27: 3410 | D27: 325 | E27: 4005
A29: 되메우기/토사, 두께 10cm 보통, 굴삭기 0.7m3+플레이트콤팩터 1.5ton+인력 10% M3 공통 8-2-3+10 ( 산근 2 ) | G29: 5750D142DE005217FDA5752C8526C8 | I29: 되메우기/토사, 두께 10cm | J29: 보통, 굴삭기 0.7m3+플레이트콤팩터 1.5ton+인력 10% | K29: M3
G30: 5750D142DE005217FDA5752C8526C8 | H30: C | K30: M3 | L30: 1
A31: 1.굴삭기 (무한궤도)0.7㎥M3 | B31: 0 | C31: 0 | D31: 0 | E31: 0 | G31: 5750D142DE005217FDA5752C8526C8 | H31: C! | I31: '1.굴삭기 (무한궤도)0.7㎥M3 '
A32: Q1 바켓용량(M3) = 0.7 | B32: 0 | C32: 0 | D32: 0 | E32: 0 | G32: 5750D142DE005217FDA5752C8526C8 | H32: C! | I32: q1 '바켓용량(M3)'= 0.7
A33: k 바켓계수 = 1.1 | B33: 0 | C33: 0 | D33: 0 | E33: 0 | G33: 5750D142DE005217FDA5752C8526C8 | H33: C! | I33: k '바켓계수'= 1.1
A34: L1 흐트러진상태 =1.25 | B34: 0 | C34: 0 | D34: 0 | E34: 0 | G34: 5750D142DE005217FDA5752C8526C8 | H34: C! | I34: L1 '흐트러진상태' =1.25
A35: C 다져진상태 =0.875 | B35: 0 | C35: 0 | D35: 0 | E35: 0 | G35: 5750D142DE005217FDA5752C8526C8 | H35: C! | I35: C '다져진상태'=0.875
A36: F 토량환산계(C/L) =C/L1= 0.7 | B36: 0 | C36: 0 | D36: 0 | E36: 0 | G36: 5750D142DE005217FDA5752C8526C8 | H36: C! | I36: f '토량환산계(C/L)'=C/L1=?
A37: E 작업효율(양호0.9,보통0.75,불량0.6) = 0.75 | B37: 0 | C37: 0 | D37: 0 | E37: 0 | G37: 5750D142DE005217FDA5752C8526C8 | H37: C! | I37: E '작업효율(양호0.9,보통0.75,불량0.6)'= 0.75
A38: CM 1회 싸이클시간(90˚SEC) =18 | B38: 0 | C38: 0 | D38: 0 | E38: 0 | G38: 5750D142DE005217FDA5752C8526C8 | H38: C! | I38: Cm '1회 싸이클시간(90˚sec)'=18
A39: Q 시간당 작업량 (M3/HR) = 3600*Q1*K*F*E/CM/0.9= 89.833 | B39: 0 | C39: 0 | D39: 0 | E39: 0 | G39: 5750D142DE005217FDA5752C8526C8 | H39: C! | I39: Q '시간당 작업량 (M3/Hr)'= 3600*q1*k*f*E/Cm/0.9=?
A40: 재료비: 17718 / 89.833 = 197.2 | B40: 197.2 | C40: 0 | D40: 0 | E40: 197.2 | G40: 5750D142DE005217FDA5752C8526C8 | H40: C! | I40: '재료비:' ~00000201007000000.M~ / {Q} =?MA+
A41: 노무비: 42267 / 89.833 = 470.5 | B41: 0 | C41: 470.5 | D41: 0 | E41: 470.5 | G41: 5750D142DE005217FDA5752C8526C8 | H41: C! | I41: '노무비:' ~00000201007000000.L~ / {Q} =?LA+
...

Sheet 단가대비표
A1: 단 가 대 비 표
A2: [ 국립생태원 맹금사 안전망 교체공사 ]
A3: 코 드 | B3: 품 명 | C3: 규격 | D3: 단위 | E3: 재 료 비 | P3: 노 무 비 | Q3: 경 비 | W3: 번 호 | X3: 비 고 | Y3: 품목구분 | Z3: 노임구분 | AA3: 소수점처리 | AB3: 자재구분
E4: 조달청가격 | F4: PAGE | G4: 거래가격 | H4: PAGE | I4: 유통물가 | J4: PAGE | K4: 물가자료 | L4: PAGE | M4: 조사가격 | N4: PAGE | O4: 적용단가 | Q4: 조달청가격 | R4: 거래가격 | S4: 유통물가 | T4: 물가자료 | U4: 조사가격 | V4: 적용단가
A5: 5060D143F000551FB6AB4F043B78E08394E2F3 | B5: 굴삭기(무한궤도) | C5: 0.2㎥ | D5: 대 | E5: 0 | G5: 0 | I5: 0 | K5: 0 | M5: 0 | O5: 0 | P5: 0 | Q5: 0 | R5: 0 | S5: 0 | T5: 0 | U5: 59000 | V5: =SMALL(Q5:U5,COUNTIF(Q5:U5,0)+1) -> 59000 | W5: 자재 1 | X5: 천원
A6: 5060D143F000551FB6AB4F043B7D62DD2D2E03 | B6: 굴삭기(무한궤도) | C6: 0.7㎥ | D6: 대 | E6: 0 | G6: 0 | I6: 0 | K6: 0 | M6: 0 | O6: 0 | P6: 0 | Q6: 0 | R6: 0 | S6: 0 | T6: 0 | U6: 102313 | V6: =SMALL(Q6:U6,COUNTIF(Q6:U6,0)+1) -> 102313 | W6: 자재 2 | X6: 천원
A7: 5060D143F000551EAD8BF903C8E99778108A45 | B7: 진동롤러(핸드가이드식) | C7: 0.7ton | D7: 대 | E7: 0 | G7: 0 | I7: 0 | K7: 0 | M7: 0 | O7: 0 | P7: 0 | Q7: 0 | R7: 0 | S7: 0 | T7: 0 | U7: 5948 | V7: =SMALL(Q7:U7,COUNTIF(Q7:U7,0)+1) -> 5948 | W7: 자재 3 | X7: 천원
A8: 5060D143F000551EA913A8C4615FDCB27A870D | B8: 플레이트 콤팩터 | C8: 1.5ton | D8: 대 | E8: 0 | G8: 0 | I8: 0 | K8: 0 | M8: 0 | O8: 0 | P8: 0 | Q8: 0 | R8: 0 | S8: 0 | T8: 0 | U8: 1428 | V8: =SMALL(Q8:U8,COUNTIF(Q8:U8,0)+1) -> 1428 | W8: 자재 4 | X8: 천원
A9: 5060D143F000551D86E2A51C0A889F5FF9949B | B9: 크레인(타이어) | C9: 10ton | D9: 대 | E9: 0 | G9: 0 | I9: 0 | K9: 0 | M9: 0 | O9: 0 | P9: 0 | Q9: 0 | R9: 0 | S9: 0 | T9: 0 | U9: 114000 | V9: =SMALL(Q9:U9,COUNTIF(Q9:U9,0)+1) -> 114000 | W9: 자재 5 | X9: 천원
A10: 5060D143F000551D86E2A47580818CBE2F0613 | B10: 트럭탑재형 크레인 | C10: 10ton | D10: 대 | E10: 0 | G10: 0 | I10: 0 | K10: 0 | M10: 0 | O10: 0 | P10: 0 | Q10: 0 | R10: 0 | S10: 0 | T10: 0 | U10: 76510 | V10: =SMALL(Q10:U10,COUNTIF(Q10:U10,0)+1) -> 76510 | W10: 자재 6 | X10: 천원
A11: 5060D143F000551D8059B70579D32BD1CCAD6E | B11: 트럭 트랙터 및 평판트레일러 | C11: 20ton | D11: 대 | E11: 0 | G11: 0 | I11: 0 | K11: 0 | M11: 0 | O11: 0 | P11: 0 | Q11: 0 | R11: 0 | S11: 0 | T11: 0 | U11: 58288 | V11: =SMALL(Q11:U11,COUNTIF(Q11:U11,0)+1) -> 58288 | W11: 자재 7 | X11: 천원 | Y11: C
A12: 5060D143F000551BDCE1CD6A63D2886765BEA7 | B12: 콘크리트 펌프차 | C12: 32m(80∼95㎥/hr) | D12: 대 | E12: 0 | G12: 0 | I12: 0 | K12: 0 | M12: 0 | O12: 0 | P12: 0 | Q12: 0 | R12: 0 | S12: 0 | T12: 0 | U12: 241467 | V12: =SMALL(Q12:U12,COUNTIF(Q12:U12,0)+1) -> 241467 | W12: 자재 8 | X12: 천원
A13: 507121462A00533A03F4E7EE7E112F8CE6C4F2 | B13: 자갈 | C13: 도착도, #467 | D13: M3 | E13: 0 | G13: 21000 | H13: 110 | I13: 0 | K13: 0 | M13: 0 | O13: =SMALL(E13:M13,COUNTIF(E13:M13,0)+1) -> 21000 | P13: 0 | Q13: 0 | R13: 0 | S13: 0 | T13: 0 | U13: 0 | V13: 0 | W13: 자재 9
A14: 507121462A00533A03F4E7EE7E112F8CE6CEF4 | B14: 자갈 | C14: (별도), 40mm, #467 | D14: M3 | E14: 0 | G14: 0 | I14: 0 | K14: 0 | M14: 0 | O14: 0 | P14: 0 | Q14: 0 | R14: 0 | S14: 0 | T14: 0 | U14: 0 | V14: 0 | W14: 자재 10 | X14: 별도
A15: 507121462A00533A03FC3BDA8A3C6395964E70 | B15: 잡석 | C15: (별도) | D15: M3 | E15: 0 | G15: 0 | I15: 0 | K15: 0 | M15: 0 | O15: 0 | P15: 0 | Q15: 0 | R15: 0 | S15: 0 | T15: 0 | U15: 0 | V15: 0 | W15: 자재 11 | X15: 별도
A16: 507121462A00533A02EE9AD3A9A9F6C4B71CA1 | B16: 모래 | C16: (별도) | D16: M3 | E16: 0 | G16: 0 | I16: 0 | K16: 0 | M16: 0 | O16: 0 | P16: 0 | Q16: 0 | R16: 0 | S16: 0 | T16: 0 | U16: 0 | V16: 0 | W16: 자재 12 | X16: 별도
A17: 507121462A00533A02EE9AD3A9A9F6C4B71D4A | B17: 모래 | C17: 도착도 | D17: M3 | E17: 0 | G17: 27000 | H17: 110 | I17: 28000 | J17: 61 | K17: 0 | M17: 0 | O17: =SMALL(E17:M17,COUNTIF(E17:M17,0)+1) -> 27000 | P17: 0 | Q17: 0 | R17: 0 | S17: 0 | T17: 0 | U17: 0 | V17: 0 | W17: 자재 13
A18: 507121462A005065803F204FE1C75383E588C9 | B18: 내수합판 | C18: 내수합판, 1급, 12*1220*2440mm | D18: M2 | E18: 8419 | G18: 9002.95 | H18: 653 | I18: 8011.95 | J18: 417 | K18: 0 | M18: 0 | O18: =SMALL(E18:M18,COUNTIF(E18:M18,0)+1) -> 8011.95 | P18: 0 | Q18: 0 | R18: 0 | S18: 0 | T18: 0 | U18: 0 | V18: 0 | W18: 자재 14
A19: 507121462A005B70C079ADEDA8E6AC6DE1868B | B19: 철강설 | C19: 철강설, 고철, 작업설부산물 | D19: kg | E19: 330 | G19: 270 | H19: 1488 | I19: 234 | J19: 1246 | K19: 0 | M19: 0 | O19: =SMALL(E19:M19,COUNTIF(E19:M19,0)+1) -> 234 | P19: 0 | Q19: 0 | R19: 0 | S19: 0 | T19: 0 | U19: 0 | V19: 0 | W19: 자재 15 | X19: 수집상차도
A20: 50711145C50051BB69E5BE4FDBF34B3CCF6621 | B20: 기타도막방수재 | C20: 기타도막방수재, 방수액고점도(1:50희석) | D20: L | E20: 0 | G20: 3754.75 | H20: 553 | I20: 3754.75 | J20: 382 | K20: 0 | M20: 0 | O20: =SMALL(E20:M20,COUNTIF(E20:M20,0)+1) -> 3754.75 | P20: 0 | Q20: 0 | R20: 0 | S20: 0 | T20: 0 | U20: 0 | V20: 0 | W20: 자재 16
A21: 5071014B79005B53BB111EC1E8A3EF498E339D | B21: 폴리에틸렌필름 | C21: 폴리에틸렌필름, 두께, 0.03mm | D21: M2 | E21: 162 | G21: 183.91 | H21: 1476 | I21: 177.04 | J21: 1230 | K21: 0 | M21: 0 | O21: =SMALL(E21:M21,COUNTIF(E21:M21,0)+1) -> 162 | P21: 0 | Q21: 0 | R21: 0 | S21: 0 | T21: 0 | U21: 0 | V21: 0 | W21: 자재 17
A22: 5071614DF700575D4FEBBD049D982F5EE3D738 | B22: 경유 | C22: 경유, 저유황 | D22: L | E22: 0 | G22: 1320.9 | H22: 1467 | I22: 1252 | J22: 1237 | K22: 0 | M22: 0 | O22: =SMALL(E22:M22,COUNTIF(E22:M22,0)+1) -> 1252 | P22: 0 | Q22: 0 | R22: 0 | S22: 0 | T22: 0 | U22: 0 | V22: 0 | W22: 자재 18
A23: 5071614DF700575D4FEBBE2F02963963A2FB4D | B23: 공업용휘발유 | C23: 공업용휘발유, 무연 | D23: L | E23: 0 | G23: 1466.36 | H23: 1467 | I23: 1445 | J23: 1237 | K23: 0 | M23: 0 | O23: =SMALL(E23:M23,COUNTIF(E23:M23,0)+1) -> 1445 | P23: 0 | Q23: 0 | R23: 0 | S23: 0 | T23: 0 | U23: 0 | V23: 0 | W23: 자재 19
A24: 5071614DF70056B7E289AC0D8438882658774A | B24: 액화석유가스 | C24: 액화석유가스, 건설용 LPG | D24: kg | E24: 1137 | G24: 0 | I24: 0 | K24: 0 | M24: 0 | O24: =SMALL(E24:M24,COUNTIF(E24:M24,0)+1) -> 1137 | P24: 0 | Q24: 0 | R24: 0 | S24: 0 | T24: 0 | U24: 0 | V24: 0 | W24: 자재 20
A25: 5045B14E99005A56542D064296FC5F8E6C25C0 | B25: 안전발판(유공발판) | C25: 400*1829mm | D25: 매 | E25: 0 | G25: 19500 | H25: 123 | I25: 24900 | J25: 83 | K25: 0 | M25: 0 | O25: =SMALL(E25:M25,COUNTIF(E25:M25,0)+1) -> 19500 | P25: 0 | Q25: 0 | R25: 0 | S25: 0 | T25: 0 | U25: 0 | V25: 0 | W25: 자재 21
A26: 5056614B4700558C5E4319E1414572B8096767 | B26: 일반봉강 | C26: 일반봉강, SS400, ∮12mm | D26: kg | E26: 0 | G26: 760 | H26: 50 | I26: 0 | K26: 0 | M26: 0 | O26: =SMALL(E26:M26,COUNTIF(E26:M26,0)+1) -> 760 | P26: 0 | Q26: 0 | R26: 0 | S26: 0 | T26: 0 | U26: 0 | V26: 0 | W26: 자재 22
A27: 5056614B4700558C5E427F3327F17D8D8AAA34 | B27: 철근콘크리트용봉강 | C27: 이형봉강(SD350/400), HD-10, 하치장상차도 | D27: TON | E27: 696300 | G27: 0 | I27: 0 | K27: 0 | M27: 0 | O27: =SMALL(E27:M27,COUNTIF(E27:M27,0)+1) -> 696300 | P27: 0 | Q27: 0 | R27: 0 | S27: 0 | T27: 0 | U27: 0 | V27: 0 | W27: 자재 23
A28: 5056614B4700558C5E427F3327F17D8D8AAA33 | B28: 철근콘크리트용봉강 | C28: 이형봉강(SD350/400), HD-13, 하치장상차도 | D28: TON | E28: 685850 | G28: 0 | I28: 0 | K28: 0 | M28: 0 | O28: =SMALL(E28:M28,COUNTIF(E28:M28,0)+1) -> 685850 | P28: 0 | Q28: 0 | R28: 0 | S28: 0 | T28: 0 | U28: 0 | V28: 0 | W28: 자재 24
A29: 5056614B4700558C5E427F3327F17D8D8AAA32 | B29: 철근콘크리트용봉강 | C29: 이형봉강(SD350/400), HD-16, 하치장상차도 | D29: TON | E29: 680620 | G29: 0 | I29: 0 | K29: 0 | M29: 0 | O29: =SMALL(E29:M29,COUNTIF(E29:M29,0)+1) -> 680620 | P29: 0 | Q29: 0 | R29: 0 | S29: 0 | T29: 0 | U29: 0 | V29: 0 | W29: 자재 25
A30: 5056614B4700558C5E427F3327F17D8808AEF7 | B30: 철근콘크리트용봉강(관급) | C30: 이형봉강(SD350/400), HD-10, 지정장소도 | D30: TON | E30: 0 | G30: 0 | I30: 0 | K30: 0 | M30: 0 | O30: 0 | P30: 0 | Q30: 0 | R30: 0 | S30: 0 | T30: 0 | U30: 0 | V30: 0 | W30: 자재 26
