Workbook

Sheet 원가계산서
B1: 공 사 원 가 계 산 서
B2: 공사명 : 국립생태원 맹금사 안전망 교체공사 | F2: 금액 : 사억오천만원(￦450,000,000)
B3: 비 목 | E3: 금 액 | F3: 구 성 비 | G3: 비 고
A4: A1 | B4: 순 공 사 원 가 | C4: 재 료 비 | D4: 직 접 재 료 비
A5: A2 | D5: 간 접 재 료 비
A6: A3 | D6: 작 업 부 산 물
A7: AS | D7: [ 소 계 ]
A8: B1 | C8: 노 무 비 | D8: 직 접 노 무 비
A9: B2 | D9: 간 접 노 무 비 | F9: 직접노무비 * 8%
A10: BS | D10: [ 소 계 ]
A11: C2 | C11: 경 비 | D11: 기 계 경 비
A12: C3 | D12: 가 설 비
A13: C4 | D13: 산 재 보 험 료 | F13: 노무비 * 3.73%
A14: C5 | D14: 고 용 보 험 료 | F14: 노무비 * 0.87%
A15: C6 | D15: 국민 건강 보험료 | E15: 3105274 | F15: 직접노무비 * 3.335%
A16: C7 | D16: 국민 연금 보험료 | E16: 4190025 | F16: 직접노무비 * 4.5%
A17: CB | D17: 노인장기요양보험료 | E17: 318290 | F17: 건강보험료 * 10.25%
A18: C8 | D18: 퇴직 공제 부금비 | E18: 2141568 | F18: 직접노무비 * 2.3%
A19: CA | D19: 산업안전보건관리비 | E19: 9328127 | F19: (재료비+직노+도급자관급/1.1) * 2.93%
A20: CH | D20: 환 경 보 전 비 | F20: (재료비+직노+기계경비) * 0.3%
A21: CG | D21: 기 타 경 비 | F21: (재료비+노무비) * 5.6%
A22: CK | D22: 하도급지급보증수수료 | F22: (재료비+직노+기계경비) * 0.081%
A23: CL | D23: 건설기계대여금지급보증서발급수수료 | F23: (재료비+직노+기계경비) * 0.1%
A24: CS | D24: [ 소 계 ]
A25: S1 | B25: 계
A26: D1 | B26: 일 반 관 리 비
A27: D2 | B27: 이 윤
A28: D9 | B28: 공 급 가 액
A29: DB | B29: 부 가 가 치 세
A30: DH | B30: 도 급 액
A31: DK | B31: 도급자관급자재비
A32: S2 | B32: 총 공 사 비

Sheet 공종별집계표
A1: 공 종 별 집 계 표
A2: [ 국립생태원 맹금사 안전망 교체공사 ]
A3: 품 명 | B3: 규 격 | C3: 단위 | D3: 수량 | E3: 재 료 비 | G3: 노 무 비 | I3: 경 비 | K3: 합 계 | M3: 비 고 | N3: 공종코드 | O3: 변수 | P3: 상위공종 | Q3: 공종구분 | R3: 공종레벨 | S3: 공종소계 | T3: 원가계산서 연결금액
E4: 단 가 | F4: 금 액 | G4: 단 가 | H4: 금 액 | I4: 단 가 | J4: 금 액 | K4: 단 가 | L4: 금 액
A5: 01 국립생태원 맹금사 안전망 교체공사 | D5: 1 | E5: =F6 -> 229658383 | F5: =E5*D5 -> 229658383 | G5: =H6 -> 93111684 | H5: =G5*D5 -> 93111684 | I5: =J6 -> 1794796 | J5: =I5*D5 -> 1794796 | K5: =E5+G5+I5 -> 324564863 | L5: =F5+H5+J5 -> 324564863 | N5: 01 | R5: 1
A6: 0101 건축공사 | D6: 1 | E6: =F7+F8+F9+F10+F11+F12+F13+F14+F15+F16 -> 229658383 | F6: =E6*D6 -> 229658383 | G6: =H7+H8+H9+H10+H11+H12+H13+H14+H15+H16 -> 93111684 | H6: =G6*D6 -> 93111684 | I6: =J7+J8+J9+J10+J11+J12+J13+J14+J15+J16 -> 1794796 | J6: =I6*D6 -> 1794796 | K6: =E6+G6+I6 -> 324564863 | L6: =F6+H6+J6 -> 324564863 | N6: 0101 | P6: 01 | R6: 2
A7: 010101 가설공사 | D7: 1 | E7: =공종별내역서!F27 -> 198010 | F7: =E7*D7 -> 198010 | G7: =공종별내역서!H27 -> 10621065 | H7: =G7*D7 -> 10621065 | I7: =공종별내역서!J27 -> 1152892 | J7: =I7*D7 -> 1152892 | K7: =E7+G7+I7 -> 11971967 | L7: =F7+H7+J7 -> 11971967 | N7: 010101 | P7: 0101 | R7: 3
A8: 010102 토및지정공사 | D8: 1 | E8: =공종별내역서!F51 -> 37770 | F8: =E8*D8 -> 37770 | G8: =공종별내역서!H51 -> 514678 | H8: =G8*D8 -> 514678 | I8: =공종별내역서!J51 -> 33745 | J8: =I8*D8 -> 33745 | K8: =E8+G8+I8 -> 586193 | L8: =F8+H8+J8 -> 586193 | N8: 010102 | P8: 0101 | R8: 3
A9: 010103 철근콘크리트공사 | D9: 1 | E9: =공종별내역서!F75 -> 4186752 | F9: =E9*D9 -> 4186752 | G9: =공종별내역서!H75 -> 8193938 | H9: =G9*D9 -> 8193938 | I9: =공종별내역서!J75 -> 356760 | J9: =I9*D9 -> 356760 | K9: =E9+G9+I9 -> 12737450 | L9: =F9+H9+J9 -> 12737450 | N9: 010103 | P9: 0101 | R9: 3
A10: 010104 방수및미장공사 | D10: 1 | E10: =공종별내역서!F99 -> 29277 | F10: =E10*D10 -> 29277 | G10: =공종별내역서!H99 -> 432943 | H10: =G10*D10 -> 432943 | I10: =공종별내역서!J99 -> 9011 | J10: =I10*D10 -> 9011 | K10: =E10+G10+I10 -> 471231 | L10: =F10+H10+J10 -> 471231 | N10: 010104 | P10: 0101 | R10: 3
A11: 010105 창호공사 | D11: 1 | E11: =공종별내역서!F123 -> 286240 | F11: =E11*D11 -> 286240 | G11: =공종별내역서!H123 -> 310933 | H11: =G11*D11 -> 310933 | I11: =공종별내역서!J123 -> 4583 | J11: =I11*D11 -> 4583 | K11: =E11+G11+I11 -> 601756 | L11: =F11+H11+J11 -> 601756 | N11: 010105 | P11: 0101 | R11: 3
A12: 010106 도장공사 | D12: 1 | E12: =공종별내역서!F147 -> 182207 | F12: =E12*D12 -> 182207 | G12: =공종별내역서!H147 -> 615547 | H12: =G12*D12 -> 615547 | I12: =공종별내역서!J147 -> 0 | J12: =I12*D12 -> 0 | K12: =E12+G12+I12 -> 797754 | L12: =F12+H12+J12 -> 797754 | N12: 010106 | P12: 0101 | R12: 3
A13: 010107 STS316 CABLE MESH NET 설치공사 | D13: 1 | E13: =공종별내역서!F171 -> 223042364 | F13: =E13*D13 -> 223042364 | G13: =공종별내역서!H171 -> 40594000 | H13: =G13*D13 -> 40594000 | I13: =공종별내역서!J171 -> 0 | J13: =I13*D13 -> 0 | K13: =E13+G13+I13 -> 263636364 | L13: =F13+H13+J13 -> 263636364 | N13: 010107 | P13: 0101 | R13: 3
A14: 010108 부대공사 | D14: 1 | E14: =공종별내역서!F195 -> 1509651 | F14: =E14*D14 -> 1509651 | G14: =공종별내역서!H195 -> 910998 | H14: =G14*D14 -> 910998 | I14: =공종별내역서!J195 -> 210078 | J14: =I14*D14 -> 210078 | K14: =E14+G14+I14 -> 2630727 | L14: =F14+H14+J14 -> 2630727 | N14: 010108 | P14: 0101 | R14: 3
A15: 010109 철거공사 | D15: 1 | E15: =공종별내역서!F219 -> 75042 | F15: =E15*D15 -> 75042 | G15: =공종별내역서!H219 -> 30917582 | H15: =G15*D15 -> 30917582 | I15: =공종별내역서!J219 -> 0 | J15: =I15*D15 -> 0 | K15: =E15+G15+I15 -> 30992624 | L15: =F15+H15+J15 -> 30992624 | N15: 010109 | P15: 0101 | R15: 3
A16: 010110 골재및운반비 | D16: 1 | E16: =공종별내역서!F243 -> 111070 | F16: =E16*D16 -> 111070 | G16: =공종별내역서!H243 -> 0 | H16: =G16*D16 -> 0 | I16: =공종별내역서!J243 -> 27727 | J16: =I16*D16 -> 27727 | K16: =E16+G16+I16 -> 138797 | L16: =F16+H16+J16 -> 138797 | N16: 010110 | P16: 0101 | R16: 3 | S16: <
A17: 010111 도급자관급자재비 | D17: 1 | E17: =공종별내역서!F267 -> 3741000 | F17: =E17*D17 -> 3741000 | G17: =공종별내역서!H267 -> 0 | H17: =G17*D17 -> 0 | I17: =공종별내역서!J267 -> 0 | J17: =I17*D17 -> 0 | K17: =E17+G17+I17 -> 3741000 | L17: =F17+H17+J17 -> 3741000 | N17: 010111 | Q17: 6 | R17: 3 | T17: =L17*1 -> 3741000
A18: 010112 작업부산물 | D18: 1 | E18: =공종별내역서!F291 -> 7804836 | F18: =E18*D18 -> 7804836 | G18: =공종별내역서!H291 -> 0 | H18: =G18*D18 -> 0 | I18: =공종별내역서!J291 -> 0 | J18: =I18*D18 -> 0 | K18: =E18+G18+I18 -> 7804836 | L18: =F18+H18+J18 -> 7804836 | N18: 010112 | Q18: 1 | R18: 3 | T18: =L18*1 -> 7804836
A27: [ 합 계 ] | F27: =F5 -> 229658383 | H27: =H5 -> 93111684 | J27: =J5 -> 1794796 | L27: =L5 -> 324564863

Sheet 공종별내역서
A1: [ 국립생태원 맹금사 안전망 교체공사 ]
A2: 품 명 | B2: 규 격 | C2: 단위 | D2: 수량 | E2: 재 료 비 | G2: 노 무 비 | I2: 경 비 | K2: 합 계 | M2: 비 고 | N2: 품목코드 | O2: 변수 | P2: 설정 | Q2: 공종코드 | R2: 일위 | S2: 단산 | T2: 자재 | U2: 손료적용 | V2: 손료저장 | W2: 적용율 | X2: JUK1 | Y2: JUK2 | Z2: JUK3 | AA2: JUK4 | AB2: JUK5 | AC2: JUK6 | AD2: JUK7 | AE2: JUK8 | AF2: JUK9 | AG2: JUK10 | AH2: JUK11 | AI2: JUK12 | AJ2: JUK13 | AK2: JUK14 | AL2: JUK15 | AM2: JUK16 | AN2: JUK17 | AO2: JUK18 | AP2: JUK19 | AQ2: JUK20 | AR2: 자재구분 | AS2: 공종구분 | AT2: 공종레벨 | AU2: 공종+자재 | AV2: 고유번호
E3: 단 가 | F3: 금 액 | G3: 단 가 | H3: 금 액 | I3: 단 가 | J3: 금 액 | K3: 단 가 | L3: 금 액
A4: 010101 가설공사 | Q4: 010101
A5: 콘테이너형 가설사무소 설치 및 해체 | B5: 3.0*6.0*2.6m, 3개월 | C5: 개소 | D5: 1 | E5: =TRUNC(일위대가목록!E4,0) -> 0 | F5: =TRUNC(E5*D5, 0) -> 0 | G5: =TRUNC(일위대가목록!F4,0) -> 0 | H5: =TRUNC(G5*D5, 0) -> 0 | I5: =TRUNC(일위대가목록!G4,0) -> 589586 | J5: =TRUNC(I5*D5, 0) -> 589586 | K5: =TRUNC(E5+G5+I5, 0) -> 589586 | L5: =TRUNC(F5+H5+J5, 0) -> 589586 | N5: 5775614F5A0055EBF84D09578D7C13 | Q5: 010101 | R5: T | S5: F | T5: F | AU5: 0101015775614F5A0055EBF84D09578D7C13 | AV5: 11
A6: 콘테이너형 가설창고 설치 및 해체 | B6: 3.0*6.0*2.6m, 3개월 | C6: 개소 | D6: 1 | E6: =TRUNC(일위대가목록!E5,0) -> 0 | F6: =TRUNC(E6*D6, 0) -> 0 | G6: =TRUNC(일위대가목록!F5,0) -> 0 | H6: =TRUNC(G6*D6, 0) -> 0 | I6: =TRUNC(일위대가목록!G5,0) -> 563306 | J6: =TRUNC(I6*D6, 0) -> 563306 | K6: =TRUNC(E6+G6+I6, 0) -> 563306 | L6: =TRUNC(F6+H6+J6, 0) -> 563306 | N6: 5775614F5A0055E82AB3A84D3DCDC9 | Q6: 010101 | R6: T | S6: F | T6: F | AU6: 0101015775614F5A0055E82AB3A84D3DCDC9 | AV6: 13
A7: 강관 조립말비계(이동식)설치 및 해체 | B7: 높이 2m, 3개월 | C7: 대 | D7: 2 | E7: =TRUNC(일위대가목록!E6,0) -> 12912 | F7: =TRUNC(E7*D7, 0) -> 25824 | G7: =TRUNC(일위대가목록!F6,0) -> 77934 | H7: =TRUNC(G7*D7, 0) -> 155868 | I7: =TRUNC(일위대가목록!G6,0) -> 0 | J7: =TRUNC(I7*D7, 0) -> 0 | K7: =TRUNC(E7+G7+I7, 0) -> 90846 | L7: =TRUNC(F7+H7+J7, 0) -> 181692 | N7: 5775614F64005D7A2A77EEF753BBCD | Q7: 010101 | R7: T | S7: F | T7: F | AU7: 0101015775614F64005D7A2A77EEF753BBCD | AV7: 14
A8: 시스템비계 설치, 해체(외부) | B8: 10m이하, 3개월(발판2열)-계단설치해체비포함 | C8: M2 | D8: 76 | E8: =TRUNC(일위대가목록!E7,0) -> 2114 | F8: =TRUNC(E8*D8, 0) -> 160664 | G8: =TRUNC(일위대가목록!F7,0) -> 10754 | H8: =TRUNC(G8*D8, 0) -> 817304 | I8: =TRUNC(일위대가목록!G7,0) -> 0 | J8: =TRUNC(I8*D8, 0) -> 0 | K8: =TRUNC(E8+G8+I8, 0) -> 12868 | L8: =TRUNC(F8+H8+J8, 0) -> 977968 | N8: 5775614F64005D79063D045D0E3CF4 | Q8: 010101 | R8: T | S8: F | T8: F | AU8: 0101015775614F64005D79063D045D0E3CF4 | AV8: 18
A9: 강관동바리 | B9: 3개월,3.5m이하 | C9: M2 | D9: 7 | E9: =TRUNC(일위대가목록!E8,0) -> 1646 | F9: =TRUNC(E9*D9, 0) -> 11522 | G9: =TRUNC(일위대가목록!F8,0) -> 4711 | H9: =TRUNC(G9*D9, 0) -> 32977 | I9: =TRUNC(일위대가목록!G8,0) -> 0 | J9: =TRUNC(I9*D9, 0) -> 0 | K9: =TRUNC(E9+G9+I9, 0) -> 6357 | L9: =TRUNC(F9+H9+J9, 0) -> 44499 | N9: 5775614F64005D7901BDF4DB40DF1A | Q9: 010101 | R9: T | S9: F | T9: F | AU9: 0101015775614F64005D7901BDF4DB40DF1A | AV9: 19
A10: 건축물 현장정리 | B10: 수선 | C10: M2 | D10: 1143 | E10: =TRUNC(일위대가목록!E9,0) -> 0 | F10: =TRUNC(E10*D10, 0) -> 0 | G10: =TRUNC(일위대가목록!F9,0) -> 4840 | H10: =TRUNC(G10*D10, 0) -> 5532120 | I10: =TRUNC(일위대가목록!G9,0) -> 0 | J10: =TRUNC(I10*D10, 0) -> 0 | K10: =TRUNC(E10+G10+I10, 0) -> 4840 | L10: =TRUNC(F10+H10+J10, 0) -> 5532120 | N10: 5775614F3F005BEF869E2A9674F673 | Q10: 010101 | R10: T | S10: F | T10: F | AU10: 0101015775614F3F005BEF869E2A9674F673 | AV10: 15
A11: 거푸집 먹매김 | B11: 일반 | C11: M2 | D11: 1143 | E11: =TRUNC(일위대가목록!E10,0) -> 0 | F11: =TRUNC(E11*D11, 0) -> 0 | G11: =TRUNC(일위대가목록!F10,0) -> 2522 | H11: =TRUNC(G11*D11, 0) -> 2882646 | I11: =TRUNC(일위대가목록!G10,0) -> 0 | J11: =TRUNC(I11*D11, 0) -> 0 | K11: =TRUNC(E11+G11+I11, 0) -> 2522 | L11: =TRUNC(F11+H11+J11, 0) -> 2882646 | N11: 5775614F3F005815C1192F9E1633B7 | Q11: 010101 | R11: T | S11: F | T11: F | AU11: 0101015775614F3F005815C1192F9E1633B7 | AV11: 16
A12: 구조부 먹매김 | B12: 일반 | C12: M2 | D12: 1143 | E12: =TRUNC(일위대가목록!E11,0) -> 0 | F12: =TRUNC(E12*D12, 0) -> 0 | G12: =TRUNC(일위대가목록!F11,0) -> 1050 | H12: =TRUNC(G12*D12, 0) -> 1200150 | I12: =TRUNC(일위대가목록!G11,0) -> 0 | J12: =TRUNC(I12*D12, 0) -> 0 | K12: =TRUNC(E12+G12+I12, 0) -> 1050 | L12: =TRUNC(F12+H12+J12, 0) -> 1200150 | N12: 5775614F3F005815C1192F9E163565 | Q12: 010101 | R12: T | S12: F | T12: F | AU12: 0101015775614F3F005815C1192F9E163565 | AV12: 17
A27: [ 합 계 ] | F27: =SUM(F5:F26) -> 198010 | H27: =SUM(H5:H26) -> 10621065 | J27: =SUM(J5:J26) -> 1152892 | L27: =SUM(L5:L26) -> 11971967 | N27: TOTAL
A28: 010102 토및지정공사 | Q28: 010102
A29: 터파기/토사 | B29: 보통, 굴삭기 0.7m3 90%, 인력10% | C29: M3 | D29: 39 | E29: =TRUNC(중기단가목록!E4,0) -> 270 | F29: =TRUNC(E29*D29, 0) -> 10530 | G29: =TRUNC(중기단가목록!F4,0) -> 3410 | H29: =TRUNC(G29*D29, 0) -> 132990 | I29: =TRUNC(중기단가목록!G4,0) -> 325 | J29: =TRUNC(I29*D29, 0) -> 12675 | K29: =TRUNC(E29+G29+I29, 0) -> 4005 | L29: =TRUNC(F29+H29+J29, 0) -> 156195 | N29: 5750D14202005A5749D84B918B45DE | Q29: 010102 | R29: F | S29: T | T29: F | AU29: 0101025750D14202005A5749D84B918B45DE | AV29: 20
A30: 되메우기/토사, 두께 10cm | B30: 보통, 굴삭기 0.7m3+플레이트콤팩터 1.5ton+인력 10% | C30: M3 | D30: 21 | E30: =TRUNC(중기단가목록!E5,0) -> 370 | F30: =TRUNC(E30*D30, 0) -> 7770 | G30: =TRUNC(중기단가목록!F5,0) -> 6684 | H30: =TRUNC(G30*D30, 0) -> 140364 | I30: =TRUNC(중기단가목록!G5,0) -> 290 | J30: =TRUNC(I30*D30, 0) -> 6090 | K30: =TRUNC(E30+G30+I30, 0) -> 7344 | L30: =TRUNC(F30+H30+J30, 0) -> 154224 | N30: 5750D142DE005217FDA5752C8526C8 | Q30: 010102 | R30: F | S30: T | T30: F | AU30: 0101025750D142DE005217FDA5752C8526C8 | AV30: 22
A31: 토사(단지내 잔토포설) | B31: 보통, 굴삭기 0.7m3 | C31: M3 | D31: 18 | E31: =TRUNC(중기단가목록!E6,0) -> 170 | F31: =TRUNC(E31*D31, 0) -> 3060 | G31: =TRUNC(중기단가목록!F6,0) -> 406 | H31: =TRUNC(G31*D31, 0) -> 7308 | I31: =TRUNC(중기단가목록!G6,0) -> 205 | J31: =TRUNC(I31*D31, 0) -> 3690 | K31: =TRUNC(E31+G31+I31, 0) -> 781 | L31: =TRUNC(F31+H31+J31, 0) -> 14058 | N31: 5750D142CD005EF33B3B3707A41997 | Q31: 010102 | R31: F | S31: T | T31: F | AU31: 0101025750D142CD005EF33B3B3707A41997 | AV31: 21
A32: 성토다지기 | B32: 보통, 굴삭기 0.7m3+플레이트콤팩터 1.5ton+인력 10% | C32: M3 | D32: 32 | E32: =TRUNC(중기단가목록!E7,0) -> 370 | F32: =TRUNC(E32*D32, 0) -> 11840 | G32: =TRUNC(중기단가목록!F7,0) -> 6684 | H32: =TRUNC(G32*D32, 0) -> 213888 | I32: =TRUNC(중기단가목록!G7,0) -> 290 | J32: =TRUNC(I32*D32, 0) -> 9280 | K32: =TRUNC(E32+G32+I32, 0) -> 7344 | L32: =TRUNC(F32+H32+J32, 0) -> 235008 | N32: 5750D142DE005217FDA5752C8526C9 | Q32: 010102 | R32: F | S32: T | T32: F | AU32: 0101025750D142DE005217FDA5752C8526C9 | AV32: 24
A33: 잡석지정 | B33: 굴삭기 0.2m3+진동롤러(핸드가이드식) | C33: M3 | D33: 2 | E33: =TRUNC(일위대가목록!E12,0) -> 797 | F33: =TRUNC(E33*D33, 0) -> 1594 | G33: =TRUNC(일위대가목록!F12,0) -> 5448 | H33: =TRUNC(G33*D33, 0) -> 10896 | I33: =TRUNC(일위대가목록!G12,0) -> 1005 | J33: =TRUNC(I33*D33, 0) -> 2010 | K33: =TRUNC(E33+G33+I33, 0) -> 7250 | L33: =TRUNC(F33+H33+J33, 0) -> 14500 | N33: 5775414A890058A9AE59F2FCE08318 | Q33: 010102 | R33: T | S33: F | T33: F | AU33: 0101025775414A890058A9AE59F2FCE08318 | AV33: 23
A34: 방습필름 설치 - 바닥 | B34: 폴리에틸렌필름, 두께, 0.03mm, 2겹 | C34: M2 | D34: 8 | E34: =TRUNC(일위대가목록!E13,0) -> 372 | F34: =TRUNC(E34*D34, 0) -> 2976 | G34: =TRUNC(일위대가목록!F13,0) -> 1154 | H34: =TRUNC(G34*D34, 0) -> 9232 | I34: =TRUNC(일위대가목록!G13,0) -> 0 | J34: =TRUNC(I34*D34, 0) -> 0 | K34: =TRUNC(E34+G34+I34, 0) -> 1526 | L34: =TRUNC(F34+H34+J34, 0) -> 12208 | N34: 5775814C06005436DC90933F8E99CD | Q34: 010102 | R34: T | S34: F | T34: F | AU34: 0101025775814C06005436DC90933F8E99CD | AV34: 36
A51: [ 합 계 ] | F51: =SUM(F29:F50) -> 37770 | H51: =SUM(H29:H50) -> 514678 | J51: =SUM(J29:J50) -> 33745 | L51: =SUM(L29:L50) -> 586193 | N51: TOTAL
A52: 010103 철근콘크리트공사 | Q52: 010103
A53: 레미콘(관급) | B53: 25-24-15 | C53: M3 | D53: 21.4 | E53: =TRUNC(단가대비표!O36,0) -> 0 | F53: =TRUNC(E53*D53, 0) -> 0 | G53: =TRUNC(단가대비표!P36,0) -> 0 | H53: =TRUNC(G53*D53, 0) -> 0 | I53: =TRUNC(단가대비표!V36,0) -> 0 | J53: =TRUNC(I53*D53, 0) -> 0 | K53: =TRUNC(E53+G53+I53, 0) -> 0 | L53: =TRUNC(F53+H53+J53, 0) -> 0 | N53: 5056614B470054E799F098EC67B27B102195F4 | Q53: 010103 | R53: F | S53: F | T53: T | AU53: 0101035056614B470054E799F098EC67B27B102195F4 | AV53: 26
A54: 레미콘(관급) | B54: 25-18-12 | C54: M3 | D54: 0.5 | E54: =TRUNC(단가대비표!O35,0) -> 0 | F54: =TRUNC(E54*D54, 0) -> 0 | G54: =TRUNC(단가대비표!P35,0) -> 0 | H54: =TRUNC(G54*D54, 0) -> 0 | I54: =TRUNC(단가대비표!V35,0) -> 0 | J54: =TRUNC(I54*D54, 0) -> 0 | K54: =TRUNC(E54+G54+I54, 0) -> 0 | L54: =TRUNC(F54+H54+J54, 0) -> 0 | N54: 5056614B470054E799F098EC67B27B102194D1 | Q54: 010103 | R54: F | S54: F | T54: T | AU54: 0101035056614B470054E799F098EC67B27B102194D1 | AV54: 25
A55: 콘크리트 펌프차 타설(철근) | B55: 기초외,50m3미만타설/회,슬럼프 15cm | C55: M3 | D55: 21.2 | E55: =TRUNC(일위대가목록!E14,0) -> 3045 | F55: =TRUNC(E55*D55, 0) -> 64554 | G55: =TRUNC(일위대가목록!F14,0) -> 28149 | H55: =TRUNC(G55*D55, 0) -> 596758 | I55: =TRUNC(일위대가목록!G14,0) -> 7827 | J55: =TRUNC(I55*D55, 0) -> 165932 | K55: =TRUNC(E55+G55+I55, 0) -> 39021 | L55: =TRUNC(F55+H55+J55, 0) -> 827244 | N55: 577531450A00528CE92E59933E281C | Q55: 010103 | R55: T | S55: F | T55: F | AU55: 010103577531450A00528CE92E59933E281C | AV55: 33
A56: 콘크리트 펌프차 타설(무근) | B56: 50m3미만타설/회,슬럼프 8~12cm | C56: M3 | D56: 0.4 | E56: =TRUNC(일위대가목록!E15,0) -> 2457 | F56: =TRUNC(E56*D56, 0) -> 982 | G56: =TRUNC(일위대가목록!F15,0) -> 18693 | H56: =TRUNC(G56*D56, 0) -> 7477 | I56: =TRUNC(일위대가목록!G15,0) -> 6113 | J56: =TRUNC(I56*D56, 0) -> 2445 | K56: =TRUNC(E56+G56+I56, 0) -> 27263 | L56: =TRUNC(F56+H56+J56, 0) -> 10904 | N56: 577531450A00528CE92E5991709F54 | Q56: 010103 | R56: T | S56: F | T56: F | AU56: 010103577531450A00528CE92E5991709F54 | AV56: 34
A57: 철근콘크리트용봉강(관급) | B57: 이형봉강(SD350/400), HD-10, 지정장소도 | C57: TON | D57: 0.8 | E57: =TRUNC(단가대비표!O30,0) -> 0 | F57: =TRUNC(E57*D57, 0) -> 0 | G57: =TRUNC(단가대비표!P30,0) -> 0 | H57: =TRUNC(G57*D57, 0) -> 0 | I57: =TRUNC(단가대비표!V30,0) -> 0 | J57: =TRUNC(I57*D57, 0) -> 0 | K57: =TRUNC(E57+G57+I57, 0) -> 0 | L57: =TRUNC(F57+H57+J57, 0) -> 0 | N57: 5056614B4700558C5E427F3327F17D8808AEF7 | Q57: 010103 | R57: F | S57: F | T57: T | AU57: 0101035056614B4700558C5E427F3327F17D8808AEF7 | AV57: 27
A58: 철근콘크리트용봉강(관급) | B58: 이형봉강(SD350/400), HD-13, 지정장소도 | C58: TON | D58: 0.31 | E58: =TRUNC(단가대비표!O31,0) -> 0 | F58: =TRUNC(E58*D58, 0) -> 0 | G58: =TRUNC(단가대비표!P31,0) -> 0 | H58: =TRUNC(G58*D58, 0) -> 0 | I58: =TRUNC(단가대비표!V31,0) -> 0 | J58: =TRUNC(I58*D58, 0) -> 0 | K58: =TRUNC(E58+G58+I58, 0) -> 0 | L58: =TRUNC(F58+H58+J58, 0) -> 0 | N58: 5056614B4700558C5E427F3327F17D880B6345 | Q58: 010103 | R58: F | S58: F | T58: T | AU58: 0101035056614B4700558C5E427F3327F17D880B6345 | AV58: 28
A59: 철근콘크리트용봉강(관급) | B59: 이형봉강(SD350/400), HD-16, 지정장소도 | C59: TON | D59: 1.08 | E59: =TRUNC(단가대비표!O32,0) -> 0 | F59: =TRUNC(E59*D59, 0) -> 0 | G59: =TRUNC(단가대비표!P32,0) -> 0 | H59: =TRUNC(G59*D59, 0) -> 0 | I59: =TRUNC(단가대비표!V32,0) -> 0 | J59: =TRUNC(I59*D59, 0) -> 0 | K59: =TRUNC(E59+G59+I59, 0) -> 0 | L59: =TRUNC(F59+H59+J59, 0) -> 0 | N59: 5056614B4700558C5E427F3327F17D880A5C53 | Q59: 010103 | R59: F | S59: F | T59: T | AU59: 0101035056614B4700558C5E427F3327F17D880A5C53 | AV59: 29
A60: 철근 현장가공 및 조립 | B60: 보통 | C60: TON | D60: 2.13 | E60: =TRUNC(일위대가목록!E16,0) -> 7930 | F60: =TRUNC(E60*D60, 0) -> 16890 | G60: =TRUNC(일위대가목록!F16,0) -> 841674 | H60: =TRUNC(G60*D60, 0) -> 1792765 | I60: =TRUNC(일위대가목록!G16,0) -> 6685 | J60: =TRUNC(I60*D60, 0) -> 14239 | K60: =TRUNC(E60+G60+I60, 0) -> 856289 | L60: =TRUNC(F60+H60+J60, 0) -> 1823894 | N60: 5750C143B9005F6B22FE0F93B40B36 | Q60: 010103 | R60: T | S60: F | T60: F | AU60: 0101035750C143B9005F6B22FE0F93B40B36 | AV60: 32
A61: 유로폼 설치 및 해체 | B61: 보통, 수직고 7m까지 | C61: M2 | D61: 138 | E61: =TRUNC(일위대가목록!E17,0) -> 2495 | F61: =TRUNC(E61*D61, 0) -> 344310 | G61: =TRUNC(일위대가목록!F17,0) -> 25745 | H61: =TRUNC(G61*D61, 0) -> 3552810 | I61: =TRUNC(일위대가목록!G17,0) -> 772 | J61: =TRUNC(I61*D61, 0) -> 106536 | K61: =TRUNC(E61+G61+I61, 0) -> 29012 | L61: =TRUNC(F61+H61+J61, 0) -> 4003656 | N61: 577531443E005B98D82F7FA441F468 | Q61: 010103 | R61: T | S61: F | T61: F | AU61: 010103577531443E005B98D82F7FA441F468 | AV61: 31
A62: 합판거푸집 설치 및 해체 | B62: 보통 4회, 수직고 7m까지 | C62: M2 | D62: 8 | E62: =TRUNC(일위대가목록!E18,0) -> 9346 | F62: =TRUNC(E62*D62, 0) -> 74768 | G62: =TRUNC(일위대가목록!F18,0) -> 27904 | H62: =TRUNC(G62*D62, 0) -> 223232 | I62: =TRUNC(일위대가목록!G18,0) -> 279 | J62: =TRUNC(I62*D62, 0) -> 2232 | K62: =TRUNC(E62+G62+I62, 0) -> 37529 | L62: =TRUNC(F62+H62+J62, 0) -> 300232 | N62: 577531443E005D45AF13244E9386C9 | Q62: 010103 | R62: T | S62: F | T62: F | AU62: 010103577531443E005D45AF13244E9386C9 | AV62: 30
A63: 케미컬앵커 | B63: HVU M16*125 + HIT-C M16*190 | C63: EA | D63: 288 | E63: =TRUNC(일위대가목록!E19,0) -> 12796 | F63: =TRUNC(E63*D63, 0) -> 3685248 | G63: =TRUNC(일위대가목록!F19,0) -> 7017 | H63: =TRUNC(G63*D63, 0) -> 2020896 | I63: =TRUNC(일위대가목록!G19,0) -> 227 | J63: =TRUNC(I63*D63, 0) -> 65376 | K63: =TRUNC(E63+G63+I63, 0) -> 20040 | L63: =TRUNC(F63+H63+J63, 0) -> 5771520 | N63: 57752145E40052E3F9C2E84381A585 | Q63: 010103 | R63: T | S63: F | T63: F | AU63: 01010357752145E40052E3F9C2E84381A585 | AV63: 35
A75: [ 합 계 ] | F75: =SUM(F53:F74) -> 4186752 | H75: =SUM(H53:H74) -> 8193938 | J75: =SUM(J53:J74) -> 356760 | L75: =SUM(L53:L74) -> 12737450 | N75: TOTAL
A76: 010104 방수및미장공사 | Q76: 010104
A77: 수밀코킹(실리콘) | B77: 삼각, 10mm, 창호주위 | C77: M | D77: 17 | E77: =TRUNC(일위대가목록!E20,0) -> 565 | F77: =TRUNC(E77*D77, 0) -> 9605 | G77: =TRUNC(일위대가목록!F20,0) -> 4483 | H77: =TRUNC(G77*D77, 0) -> 76211 | I77: =TRUNC(일위대가목록!G20,0) -> 0 | J77: =TRUNC(I77*D77, 0) -> 0 | K77: =TRUNC(E77+G77+I77, 0) -> 5048 | L77: =TRUNC(F77+H77+J77, 0) -> 85816 | N77: 5775F1495D0055668A14ACE2B9518E | Q77: 010104 | R77: T | S77: F | T77: F | AU77: 0101045775F1495D0055668A14ACE2B9518E | AV77: 38
A78: 시멘트 액체방수 | B78: 바닥, 2차 | C78: M2 | D78: 8 | E78: =TRUNC(일위대가목록!E21,0) -> 2459 | F78: =TRUNC(E78*D78, 0) -> 19672 | G78: =TRUNC(일위대가목록!F21,0) -> 17426 | H78: =TRUNC(G78*D78, 0) -> 139408 | I78: =TRUNC(일위대가목록!G21,0) -> 522 | J78: =TRUNC(I78*D78, 0) -> 4176 | K78: =TRUNC(E78+G78+I78, 0) -> 20407 | L78: =TRUNC(F78+H78+J78, 0) -> 163256 | N78: 5775F149A500596C306E40F89F30EA | Q78: 010104 | R78: T | S78: F | T78: F | AU78: 0101045775F149A500596C306E40F89F30EA | AV78: 37
A79: 모르타르 바름 | B79: 바닥, 24mm | C79: M2 | D79: 8 | E79: =TRUNC(일위대가목록!E22,0) -> 0 | F79: =TRUNC(E79*D79, 0) -> 0 | G79: =TRUNC(일위대가목록!F22,0) -> 11427 | H79: =TRUNC(G79*D79, 0) -> 91416 | I79: =TRUNC(일위대가목록!G22,0) -> 184 | J79: =TRUNC(I79*D79, 0) -> 1472 | K79: =TRUNC(E79+G79+I79, 0) -> 11611 | L79: =TRUNC(F79+H79+J79, 0) -> 92888 | N79: 57750140F80058EE39E33B77632E68 | Q79: 010104 | R79: T | S79: F | T79: F | AU79: 01010457750140F80058EE39E33B77632E68 | AV79: 41
A80: 콘크리트면 정리 | B80: 3.6m 이하 | C80: M2 | D80: 36 | E80: =TRUNC(일위대가목록!E23,0) -> 0 | F80: =TRUNC(E80*D80, 0) -> 0 | G80: =TRUNC(일위대가목록!F23,0) -> 2190 | H80: =TRUNC(G80*D80, 0) -> 78840 | I80: =TRUNC(일위대가목록!G23,0) -> 65 | J80: =TRUNC(I80*D80, 0) -> 2340 | K80: =TRUNC(E80+G80+I80, 0) -> 2255 | L80: =TRUNC(F80+H80+J80, 0) -> 81180 | N80: 57750140F8005BA033082BCD89E062 | Q80: 010104 | R80: T | S80: F | T80: F | AU80: 01010457750140F8005BA033082BCD89E062 | AV80: 39
A81: 콘크리트면 정리 | B81: 3.6m 이하, 천장 | C81: M2 | D81: 7 | E81: =TRUNC(일위대가목록!E24,0) -> 0 | F81: =TRUNC(E81*D81, 0) -> 0 | G81: =TRUNC(일위대가목록!F24,0) -> 2628 | H81: =TRUNC(G81*D81, 0) -> 18396 | I81: =TRUNC(일위대가목록!G24,0) -> 65 | J81: =TRUNC(I81*D81, 0) -> 455 | K81: =TRUNC(E81+G81+I81, 0) -> 2693 | L81: =TRUNC(F81+H81+J81, 0) -> 18851 | N81: 57750140F8005BA033082BCD8F0927 | Q81: 010104 | R81: T | S81: F | T81: F | AU81: 01010457750140F8005BA033082BCD8F0927 | AV81: 40
A82: 창호주위 모르타르 충전 | C82: M | D82: 8 | E82: =TRUNC(일위대가목록!E25,0) -> 0 | F82: =TRUNC(E82*D82, 0) -> 0 | G82: =TRUNC(일위대가목록!F25,0) -> 3584 | H82: =TRUNC(G82*D82, 0) -> 28672 | I82: =TRUNC(일위대가목록!G25,0) -> 71 | J82: =TRUNC(I82*D82, 0) -> 568 | K82: =TRUNC(E82+G82+I82, 0) -> 3655 | L82: =TRUNC(F82+H82+J82, 0) -> 29240 | N82: 5775B147E100558AE52BDD85D0CAF2 | Q82: 010104 | R82: T | S82: F | T82: F | AU82: 0101045775B147E100558AE52BDD85D0CAF2 | AV82: 42
A99: [ 합 계 ] | F99: =SUM(F77:F98) -> 29277 | H99: =SUM(H77:H98) -> 432943 | J99: =SUM(J77:J98) -> 9011 | L99: =SUM(L77:L98) -> 471231 | N99: TOTAL
A100: 010105 창호공사 | Q100: 010105
A101: SD-1(100*100*3.2T-우레탄도장)(메쉬별도) | B101: 2.57*3.0 | C101: 개소 | D101: 1 | E101: =TRUNC(일위대가목록!E26,0) -> 286240 | F101: =TRUNC(E101*D101, 0) -> 286240 | G101: =TRUNC(일위대가목록!F26,0) -> 310933 | H101: =TRUNC(G101*D101, 0) -> 310933 | I101: =TRUNC(일위대가목록!G26,0) -> 4583 | J101: =TRUNC(I101*D101, 0) -> 4583 | K101: =TRUNC(E101+G101+I101, 0) -> 601756 | L101: =TRUNC(F101+H101+J101, 0) -> 601756 | N101: 5775B1479A005EE5357C3EE00F99F7 | Q101: 010105 | R101: T | S101: F | T101: F | AU101: 0101055775B1479A005EE5357C3EE00F99F7 | AV101: 45
A123: [ 합 계 ] | F123: =SUM(F101:F122) -> 286240 | H123: =SUM(H101:H122) -> 310933 | J123: =SUM(J101:J122) -> 4583 | L123: =SUM(L101:L122) -> 601756 | N123: TOTAL
A124: 010106 도장공사 | Q124: 010106
A125: 바탕만들기+수성페인트 롤러칠 | B125: 내부, 2회, 1급, con'c·mortar면 | C125: M2 | D125: 36 | E125: =TRUNC(일위대가목록!E27,0) -> 641 | F125: =TRUNC(E125*D125, 0) -> 23076 | G125: =TRUNC(일위대가목록!F27,0) -> 7443 | H125: =TRUNC(G125*D125, 0) -> 267948 | I125: =TRUNC(일위대가목록!G27,0) -> 0 | J125: =TRUNC(I125*D125, 0) -> 0 | K125: =TRUNC(E125+G125+I125, 0) -> 8084 | L125: =TRUNC(F125+H125+J125, 0) -> 291024 | N125: 5775914282005952A571C508746562 | Q125: 010106 | R125: T | S125: F | T125: F | AU125: 0101065775914282005952A571C508746562 | AV125: 43
A126: 바탕만들기+수성페인트 롤러칠 | B126: 내부천장, 2회, 1급, con'c·mortar면 | C126: M2 | D126: 7 | E126: =TRUNC(일위대가목록!E28,0) -> 641 | F126: =TRUNC(E126*D126, 0) -> 4487 | G126: =TRUNC(일위대가목록!F28,0) -> 8932 | H126: =TRUNC(G126*D126, 0) -> 62524 | I126: =TRUNC(일위대가목록!G28,0) -> 0 | J126: =TRUNC(I126*D126, 0) -> 0 | K126: =TRUNC(E126+G126+I126, 0) -> 9573 | L126: =TRUNC(F126+H126+J126, 0) -> 67011 | N126: 5775914282005952A5764EF2E9441F | Q126: 010106 | R126: T | S126: F | T126: F | AU126: 0101065775914282005952A5764EF2E9441F | AV126: 44
A127: 철제용 우레탄도료 | C127: M2 | D127: 21 | E127: =TRUNC(일위대가목록!E29,0) -> 7364 | F127: =TRUNC(E127*D127, 0) -> 154644 | G127: =TRUNC(일위대가목록!F29,0) -> 13575 | H127: =TRUNC(G127*D127, 0) -> 285075 | I127: =TRUNC(일위대가목록!G29,0) -> 0 | J127: =TRUNC(I127*D127, 0) -> 0 | K127: =TRUNC(E127+G127+I127, 0) -> 20939 | L127: =TRUNC(F127+H127+J127, 0) -> 439719 | N127: 577591421F005B68EB1B5D06C782F6 | Q127: 010106 | R127: T | S127: F | T127: F | AU127: 010106577591421F005B68EB1B5D06C782F6 | AV127: 46
A147: [ 합 계 ] | F147: =SUM(F125:F146) -> 182207 | H147: =SUM(H125:H146) -> 615547 | J147: =SUM(J125:J146) -> 0 | L147: =SUM(L125:L146) -> 797754 | N147: TOTAL
A148: 010107 STS316 CABLE MESH NET 설치공사 | Q148: 010107
A149: STS316 CABLE MESH NET | B149: 7*7 MW50MH80 / Dia 2.0mm | C149: M2 | D149: 1885 | E149: =TRUNC(단가대비표!O41,0) -> 97000 | F149: =TRUNC(E149*D149, 0) -> 182845000 | G149: =TRUNC(단가대비표!P41,0) -> 16000 | H149: =TRUNC(G149*D149, 0) -> 30160000 | I149: =TRUNC(단가대비표!V41,0) -> 0 | J149: =TRUNC(I149*D149, 0) -> 0 | K149: =TRUNC(E149+G149+I149, 0) -> 113000 | L149: =TRUNC(F149+H149+J149, 0) -> 213005000 | N149: 5056614B470053DEFB0BFA35B062C3697C3669 | Q149: 010107 | R149: F | S149: F | T149: T | AU149: 0101075056614B470053DEFB0BFA35B062C3697C3669 | AV149: 60
A150: ROUND BAR HOLDER | B150: STS316 100*45*5.0T | C150: EA | D150: 418 | E150: =TRUNC(단가대비표!O42,0) -> 24000 | F150: =TRUNC(E150*D150, 0) -> 10032000 | G150: =TRUNC(단가대비표!P42,0) -> 12000 | H150: =TRUNC(G150*D150, 0) -> 5016000 | I150: =TRUNC(단가대비표!V42,0) -> 0 | J150: =TRUNC(I150*D150, 0) -> 0 | K150: =TRUNC(E150+G150+I150, 0) -> 36000 | L150: =TRUNC(F150+H150+J150, 0) -> 15048000 | N150: 5056614B470053DEFB0BFA35B062C3697C366E | Q150: 010107 | R150: F | S150: F | T150: T | AU150: 0101075056614B470053DEFB0BFA35B062C3697C366E | AV150: 61
A151: CABLE ＆ ROD HOLDER | B151: Φ10, CABLE / Φ50 40*20 | C151: EA | D151: 122 | E151: =TRUNC(단가대비표!O43,0) -> 22000 | F151: =TRUNC(E151*D151, 0) -> 2684000 | G151: =TRUNC(단가대비표!P43,0) -> 9000 | H151: =TRUNC(G151*D151, 0) -> 1098000 | I151: =TRUNC(단가대비표!V43,0) -> 0 | J151: =TRUNC(I151*D151, 0) -> 0 | K151: =TRUNC(E151+G151+I151, 0) -> 31000 | L151: =TRUNC(F151+H151+J151, 0) -> 3782000 | N151: 5056614B470053DEFB0BFA35B062C3697C366F | Q151: 010107 | R151: F | S151: F | T151: T | AU151: 0101075056614B470053DEFB0BFA35B062C3697C366F | AV151: 62
A152: STS316 ROUND BAR | B152: Φ15 가공 및 벤딩 | C152: M | D152: 540 | E152: =TRUNC(단가대비표!O44,0) -> 13000 | F152: =TRUNC(E152*D152, 0) -> 7020000 | G152: =TRUNC(단가대비표!P44,0) -> 8000 | H152: =TRUNC(G152*D152, 0) -> 4320000 | I152: =TRUNC(단가대비표!V44,0) -> 0 | J152: =TRUNC(I152*D152, 0) -> 0 | K152: =TRUNC(E152+G152+I152, 0) -> 21000 | L152: =TRUNC(F152+H152+J152, 0) -> 11340000 | N152: 5056614B470053DEFB0BFA35B062C3697C366C | Q152: 010107 | R152: F | S152: F | T152: T | AU152: 0101075056614B470053DEFB0BFA35B062C3697C366C | AV152: 63
A153: 기타 소모잡자재 | B153: SCREW ＆ WEDGE ANCHOR | C153: 식 | D153: 1 | E153: =TRUNC(단가대비표!O45,0) -> 961364 | F153: =TRUNC(E153*D153, 0) -> 961364 | G153: =TRUNC(단가대비표!P45,0) -> 0 | H153: =TRUNC(G153*D153, 0) -> 0 | I153: =TRUNC(단가대비표!V45,0) -> 0 | J153: =TRUNC(I153*D153, 0) -> 0 | K153: =TRUNC(E153+G153+I153, 0) -> 961364 | L153: =TRUNC(F153+H153+J153, 0) -> 961364 | N153: 5056614B470053DEFB0BFA35B062C3697C366D | Q153: 010107 | R153: F | S153: F | T153: T | AU153: 0101075056614B470053DEFB0BFA35B062C3697C366D | AV153: 64
A154: 고소장비 임대료 | B154: SKY 28M | C154: 대 | D154: 30 | E154: =TRUNC(단가대비표!O46,0) -> 650000 | F154: =TRUNC(E154*D154, 0) -> 19500000 | G154: =TRUNC(단가대비표!P46,0) -> 0 | H154: =TRUNC(G154*D154, 0) -> 0 | I154: =TRUNC(단가대비표!V46,0) -> 0 | J154: =TRUNC(I154*D154, 0) -> 0 | K154: =TRUNC(E154+G154+I154, 0) -> 650000 | L154: =TRUNC(F154+H154+J154, 0) -> 19500000 | N154: 5056614B470053DEFB0BFA35B062C3697C3662 | Q154: 010107 | R154: F | S154: F | T154: T | AU154: 0101075056614B470053DEFB0BFA35B062C3697C3662 | AV154: 65
A171: [ 합 계 ] | F171: =SUM(F149:F170) -> 223042364 | H171: =SUM(H149:H170) -> 40594000 | J171: =SUM(J149:J170) -> 0 | L171: =SUM(L149:L170) -> 263636364 | N171: TOTAL
A172: 010108 부대공사 | Q172: 010108
A173: U형측구설치 | B173: W=360 (토공사포함) | C173: M | D173: 99 | E173: =TRUNC(일위대가목록!E30,0) -> 15249 | F173: =TRUNC(E173*D173, 0) -> 1509651 | G173: =TRUNC(일위대가목록!F30,0) -> 9202 | H173: =TRUNC(G173*D173, 0) -> 910998 | I173: =TRUNC(일위대가목록!G30,0) -> 2122 | J173: =TRUNC(I173*D173, 0) -> 210078 | K173: =TRUNC(E173+G173+I173, 0) -> 26573 | L173: =TRUNC(F173+H173+J173, 0) -> 2630727 | N173: 5750114D7C005317E59F670546BC1F | Q173: 010108 | R173: T | S173: F | T173: F | AU173: 0101085750114D7C005317E59F670546BC1F | AV173: 49
A195: [ 합 계 ] | F195: =SUM(F173:F194) -> 1509651 | H195: =SUM(H173:H194) -> 910998 | J195: =SUM(J173:J194) -> 210078 | L195: =SUM(L173:L194) -> 2630727 | N195: TOTAL
A196: 010109 철거공사 | Q196: 010109
A197: 철골재 철거 | B197: LPG사용 | C197: TON | D197: 33 | E197: =TRUNC(일위대가목록!E31,0) -> 2274 | F197: =TRUNC(E197*D197, 0) -> 75042 | G197: =TRUNC(일위대가목록!F31,0) -> 656754 | H197: =TRUNC(G197*D197, 0) -> 21672882 | I197: =TRUNC(일위대가목록!G31,0) -> 0 | J197: =TRUNC(I197*D197, 0) -> 0 | K197: =TRUNC(E197+G197+I197, 0) -> 659028 | L197: =TRUNC(F197+H197+J197, 0) -> 21747924 | N197: 57746140AA005ABF8A3813679DAA51 | Q197: 010109 | R197: T | S197: F | T197: F | AU197: 01010957746140AA005ABF8A3813679DAA51 | AV197: 50
A198: 철망 철거 | B198: 해체재 재사용 안 함 | C198: M2 | D198: 1930 | E198: =TRUNC(일위대가목록!E32,0) -> 0 | F198: =TRUNC(E198*D198, 0) -> 0 | G198: =TRUNC(일위대가목록!F32,0) -> 4790 | H198: =TRUNC(G198*D198, 0) -> 9244700 | I198: =TRUNC(일위대가목록!G32,0) -> 0 | J198: =TRUNC(I198*D198, 0) -> 0 | K198: =TRUNC(E198+G198+I198, 0) -> 4790 | L198: =TRUNC(F198+H198+J198, 0) -> 9244700 | N198: 57746140AA0056C0A7EF3FF0808F84 | Q198: 010109 | R198: T | S198: F | T198: F | AU198: 01010957746140AA0056C0A7EF3FF0808F84 | AV198: 51
A219: [ 합 계 ] | F219: =SUM(F197:F218) -> 75042 | H219: =SUM(H197:H218) -> 30917582 | J219: =SUM(J197:J218) -> 0 | L219: =SUM(L197:L218) -> 30992624 | N219: TOTAL
A220: 010110 골재및운반비 | Q220: 010110
A221: 시멘트 | B221: 40kg/현장도착도 | C221: 포 | D221: 6 | E221: =TRUNC(단가대비표!O40,0) -> 4845 | F221: =TRUNC(E221*D221, 0) -> 29070 | G221: =TRUNC(단가대비표!P40,0) -> 0 | H221: =TRUNC(G221*D221, 0) -> 0 | I221: =TRUNC(단가대비표!V40,0) -> 0 | J221: =TRUNC(I221*D221, 0) -> 0 | K221: =TRUNC(E221+G221+I221, 0) -> 4845 | L221: =TRUNC(F221+H221+J221, 0) -> 29070 | N221: 5056614B470054E79A970698CE4E0D0C420721 | Q221: 010110 | R221: F | S221: F | T221: T | AU221: 0101105056614B470054E79A970698CE4E0D0C420721 | AV221: 56
A222: 모래 | B222: 도착도 | C222: M3 | D222: 1 | E222: =TRUNC(단가대비표!O17,0) -> 27000 | F222: =TRUNC(E222*D222, 0) -> 27000 | G222: =TRUNC(단가대비표!P17,0) -> 0 | H222: =TRUNC(G222*D222, 0) -> 0 | I222: =TRUNC(단가대비표!V17,0) -> 0 | J222: =TRUNC(I222*D222, 0) -> 0 | K222: =TRUNC(E222+G222+I222, 0) -> 27000 | L222: =TRUNC(F222+H222+J222, 0) -> 27000 | N222: 507121462A00533A02EE9AD3A9A9F6C4B71D4A | Q222: 010110 | R222: F | S222: F | T222: T | AU222: 010110507121462A00533A02EE9AD3A9A9F6C4B71D4A | AV222: 53
A223: 자갈 | B223: 도착도, #467 | C223: M3 | D223: 1 | E223: =TRUNC(단가대비표!O13,0) -> 21000 | F223: =TRUNC(E223*D223, 0) -> 21000 | G223: =TRUNC(단가대비표!P13,0) -> 0 | H223: =TRUNC(G223*D223, 0) -> 0 | I223: =TRUNC(단가대비표!V13,0) -> 0 | J223: =TRUNC(I223*D223, 0) -> 0 | K223: =TRUNC(E223+G223+I223, 0) -> 21000 | L223: =TRUNC(F223+H223+J223, 0) -> 21000 | N223: 507121462A00533A03F4E7EE7E112F8CE6C4F2 | Q223: 010110 | R223: F | S223: F | T223: T | AU223: 010110507121462A00533A03F4E7EE7E112F8CE6C4F2 | AV223: 54
A224: 잡석 | B224: 도착도, 40mm | C224: M3 | D224: 2 | E224: =TRUNC(단가대비표!O34,0) -> 17000 | F224: =TRUNC(E224*D224, 0) -> 34000 | G224: =TRUNC(단가대비표!P34,0) -> 0 | H224: =TRUNC(G224*D224, 0) -> 0 | I224: =TRUNC(단가대비표!V34,0) -> 0 | J224: =TRUNC(I224*D224, 0) -> 0 | K224: =TRUNC(E224+G224+I224, 0) -> 17000 | L224: =TRUNC(F224+H224+J224, 0) -> 34000 | N224: 5056614B470055840BBF8D22BC138254335370 | Q224: 010110 | R224: F | S224: F | T224: T | AU224: 0101105056614B470055840BBF8D22BC138254335370 | AV224: 55
A225: 운반비(트레일러 20ton+크레인 10ton) | B225: 철근, L:10km | C225: TON | D225: 3.19 | E225: =TRUNC(중기단가목록!E8,0) -> 0 | F225: =TRUNC(E225*D225, 0) -> 0 | G225: =TRUNC(중기단가목록!F8,0) -> 0 | H225: =TRUNC(G225*D225, 0) -> 0 | I225: =TRUNC(중기단가목록!G8,0) -> 8692 | J225: =TRUNC(I225*D225, 0) -> 27727 | K225: =TRUNC(E225+G225+I225, 0) -> 8692 | L225: =TRUNC(F225+H225+J225, 0) -> 27727 | N225: 5774314D720059CA8946A84FD8398C | Q225: 010110 | R225: F | S225: T | T225: F | AU225: 0101105774314D720059CA8946A84FD8398C | AV225: 74
A243: [ 합 계 ] | F243: =SUM(F221:F242) -> 111070 | H243: =SUM(H221:H242) -> 0 | J243: =SUM(J221:J242) -> 27727 | L243: =SUM(L221:L242) -> 138797 | N243: TOTAL
A244: 010111 도급자관급자재비 | Q244: 010111
A245: 레미콘 | B245: 레미콘, 충남(서천군, 예산군, 태안군, 홍성군), 25-24-150 | C245: M3 | D245: 21.4 | E245: =TRUNC(단가대비표!O38,0) -> 70010 | F245: =TRUNC(E245*D245, 0) -> 1498214 | G245: =TRUNC(단가대비표!P38,0) -> 0 | H245: =TRUNC(G245*D245, 0) -> 0 | I245: =TRUNC(단가대비표!V38,0) -> 0 | J245: =TRUNC(I245*D245, 0) -> 0 | K245: =TRUNC(E245+G245+I245, 0) -> 70010 | L245: =TRUNC(F245+H245+J245, 0) -> 1498214 | N245: 5056614B470054E799F098EF3A0A8BB479C6EA | Q245: 010111 | R245: F | S245: F | T245: T | X245: 1 | AU245: 0101115056614B470054E799F098EF3A0A8BB479C6EA | AV245: 68
A246: 레미콘 | B246: 레미콘, 충남(서천군, 예산군, 태안군, 홍성군), 25-18-80 | C246: M3 | D246: 0.5 | E246: =TRUNC(단가대비표!O37,0) -> 65090 | F246: =TRUNC(E246*D246, 0) -> 32545 | G246: =TRUNC(단가대비표!P37,0) -> 0 | H246: =TRUNC(G246*D246, 0) -> 0 | I246: =TRUNC(단가대비표!V37,0) -> 0 | J246: =TRUNC(I246*D246, 0) -> 0 | K246: =TRUNC(E246+G246+I246, 0) -> 65090 | L246: =TRUNC(F246+H246+J246, 0) -> 32545 | N246: 5056614B470054E799F098EF3A0A8BB479C5C2 | Q246: 010111 | R246: F | S246: F | T246: T | X246: 1 | AU246: 0101115056614B470054E799F098EF3A0A8BB479C5C2 | AV246: 67
A247: 철근콘크리트용봉강 | B247: 이형봉강(SD350/400), HD-10, 하치장상차도 | C247: TON | D247: 0.8 | E247: =TRUNC(단가대비표!O27,0) -> 696300 | F247: =TRUNC(E247*D247, 0) -> 557040 | G247: =TRUNC(단가대비표!P27,0) -> 0 | H247: =TRUNC(G247*D247, 0) -> 0 | I247: =TRUNC(단가대비표!V27,0) -> 0 | J247: =TRUNC(I247*D247, 0) -> 0 | K247: =TRUNC(E247+G247+I247, 0) -> 696300 | L247: =TRUNC(F247+H247+J247, 0) -> 557040 | N247: 5056614B4700558C5E427F3327F17D8D8AAA34 | Q247: 010111 | R247: F | S247: F | T247: T | X247: 1 | AU247: 0101115056614B4700558C5E427F3327F17D8D8AAA34 | AV247: 69
A248: 철근콘크리트용봉강 | B248: 이형봉강(SD350/400), HD-13, 하치장상차도 | C248: TON | D248: 1.31 | E248: =TRUNC(단가대비표!O28,0) -> 685850 | F248: =TRUNC(E248*D248, 0) -> 898463 | G248: =TRUNC(단가대비표!P28,0) -> 0 | H248: =TRUNC(G248*D248, 0) -> 0 | I248: =TRUNC(단가대비표!V28,0) -> 0 | J248: =TRUNC(I248*D248, 0) -> 0 | K248: =TRUNC(E248+G248+I248, 0) -> 685850 | L248: =TRUNC(F248+H248+J248, 0) -> 898463 | N248: 5056614B4700558C5E427F3327F17D8D8AAA33 | Q248: 010111 | R248: F | S248: F | T248: T | X248: 1 | AU248: 0101115056614B4700558C5E427F3327F17D8D8AAA33 | AV248: 70
A249: 철근콘크리트용봉강 | B249: 이형봉강(SD350/400), HD-16, 하치장상차도 | C249: TON | D249: 1.08 | E249: =TRUNC(단가대비표!O29,0) -> 680620 | F249: =TRUNC(E249*D249, 0) -> 735069 | G249: =TRUNC(단가대비표!P29,0) -> 0 | H249: =TRUNC(G249*D249, 0) -> 0 | I249: =TRUNC(단가대비표!V29,0) -> 0 | J249: =TRUNC(I249*D249, 0) -> 0 | K249: =TRUNC(E249+G249+I249, 0) -> 680620 | L249: =TRUNC(F249+H249+J249, 0) -> 735069 | N249: 5056614B4700558C5E427F3327F17D8D8AAA32 | Q249: 010111 | R249: F | S249: F | T249: T | X249: 1 | AU249: 0101115056614B4700558C5E427F3327F17D8D8AAA32 | AV249: 71
A250: 조달수수료 | B250: 주재료비의 0.54% | C250: 식 | D250: 1 | E250: =ROUNDDOWN(SUMIF(X245:X251, RIGHTB(N250, 1), F245:F251)*W250, 0) -> 20095 | F250: =TRUNC(E250*D250, 0) -> 20095 | G250: 0 | H250: =TRUNC(G250*D250, 0) -> 0 | I250: 0 | J250: =TRUNC(I250*D250, 0) -> 0 | K250: =TRUNC(E250+G250+I250, 0) -> 20095 | L250: =TRUNC(F250+H250+J250, 0) -> 20095 | N250: 5669414FD90050C28EF6A81D4861001 | Q250: 010111 | R250: F | S250: F | T250: F | U250: 0 | V250: 0 | W250: 0.0054 | AU250: 0101115669414FD90050C28EF6A81D4861001 | AV250: 72
A251: 천원이하절사 | C251: 식 | D251: -1 | E251: =TRUNC(단가대비표!O119,0) -> 426 | F251: =TRUNC(E251*D251, 0) -> -426 | G251: =TRUNC(단가대비표!P119,0) -> 0 | H251: =TRUNC(G251*D251, 0) -> 0 | I251: =TRUNC(단가대비표!V119,0) -> 0 | J251: =TRUNC(I251*D251, 0) -> 0 | K251: =TRUNC(E251+G251+I251, 0) -> 426 | L251: =TRUNC(F251+H251+J251, 0) -> -426 | N251: 56C6C141F0005C706EB102C0A5B6E12B60D3B1 | Q251: 010111 | R251: F | S251: F | T251: T | AU251: 01011156C6C141F0005C706EB102C0A5B6E12B60D3B1 | AV251: 73
A267: [ 합 계 ] | F267: =SUM(F245:F266) -> 3741000 | H267: =SUM(H245:H266) -> 0 | J267: =SUM(J245:J266) -> 0 | L267: =SUM(L245:L266) -> 3741000 | N267: TOTAL
A268: 010112 작업부산물 | Q268: 010112
A269: 철강설 | B269: 철강설, 고철, 작업설부산물 | C269: kg | D269: 33354 | E269: =TRUNC(단가대비표!O19,0) -> 234 | F269: =TRUNC(E269*D269, 0) -> 7804836 | G269: =TRUNC(단가대비표!P19,0) -> 0 | H269: =TRUNC(G269*D269, 0) -> 0 | I269: =TRUNC(단가대비표!V19,0) -> 0 | J269: =TRUNC(I269*D269, 0) -> 0 | K269: =TRUNC(E269+G269+I269, 0) -> 234 | L269: =TRUNC(F269+H269+J269, 0) -> 7804836 | M269: 수집상차도 | N269: 507121462A005B70C079ADEDA8E6AC6DE1868B | Q269: 010112 | R269: F | S269: F | T269: T | AU269: 010112507121462A005B70C079ADEDA8E6AC6DE1868B | AV269: 58
A291: [ 합 계 ] | F291: =SUM(F269:F290) -> 7804836 | H291: =SUM(H269:H290) -> 0 | J291: =SUM(J269:J290) -> 0 | L291: =SUM(L269:L290) -> 7804836 | N291: TOTAL

Sheet 일위대가목록
A1: 일 위 대 가 목 록
A2: [ 국립생태원 맹금사 안전망 교체공사 ]
A3: 코 드 | B3: 품 명 | C3: 규 격 | D3: 단위 | E3: 재 료 비 | F3: 노 무 비 | G3: 경 비 | H3: 합 계 | I3: 번 호 | J3: 비 고 | K3: 노임계수 | L3: 할증 | M3: 품셈개요 | N3: 장비일위
A4: 5775614F5A0055EBF84D09578D7C13 | B4: 콘테이너형 가설사무소 설치 및 해체 | C4: 3.0*6.0*2.6m, 3개월 | D4: 개소 | E4: =일위대가!F9 -> 0 | F4: =일위대가!H9 -> 0 | G4: =일위대가!J9 -> 589586 | H4: =E4+F4+G4 -> 589586 | I4: 호표 1 | J4: 공통 2-3-2 | M4: 공통 2-3-2
A5: 5775614F5A0055E82AB3A84D3DCDC9 | B5: 콘테이너형 가설창고 설치 및 해체 | C5: 3.0*6.0*2.6m, 3개월 | D5: 개소 | E5: =일위대가!F16 -> 0 | F5: =일위대가!H16 -> 0 | G5: =일위대가!J16 -> 563306 | H5: =E5+F5+G5 -> 563306 | I5: 호표 2 | J5: 공통 2-3-2 | M5: 공통 2-3-2
A6: 5775614F64005D7A2A77EEF753BBCD | B6: 강관 조립말비계(이동식)설치 및 해체 | C6: 높이 2m, 3개월 | D6: 대 | E6: =일위대가!F29 -> 12912 | F6: =일위대가!H29 -> 77934 | G6: =일위대가!J29 -> 0 | H6: =E6+F6+G6 -> 90846 | I6: 호표 3 | J6: 공통 2-7-4 | M6: 공통 2-7-4
A7: 5775614F64005D79063D045D0E3CF4 | B7: 시스템비계 설치, 해체(외부) | C7: 10m이하, 3개월(발판2열)-계단설치해체비포함 | D7: M2 | E7: =일위대가!F45 -> 2114 | F7: =일위대가!H45 -> 10754 | G7: =일위대가!J45 -> 0 | H7: =E7+F7+G7 -> 12868 | I7: 호표 4
A8: 5775614F64005D7901BDF4DB40DF1A | B8: 강관동바리 | C8: 3개월,3.5m이하 | D8: M2 | E8: =일위대가!F51 -> 1646 | F8: =일위대가!H51 -> 4711 | G8: =일위대가!J51 -> 0 | H8: =E8+F8+G8 -> 6357 | I8: 호표 5
A9: 5775614F3F005BEF869E2A9674F673 | B9: 건축물 현장정리 | C9: 수선 | D9: M2 | E9: =일위대가!F55 -> 0 | F9: =일위대가!H55 -> 4840 | G9: =일위대가!J55 -> 0 | H9: =E9+F9+G9 -> 4840 | I9: 호표 6 | J9: 공통 2-9-2 | M9: 공통 2-9-2
A10: 5775614F3F005815C1192F9E1633B7 | B10: 거푸집 먹매김 | C10: 일반 | D10: M2 | E10: =일위대가!F59 -> 0 | F10: =일위대가!H59 -> 2522 | G10: =일위대가!J59 -> 0 | H10: =E10+F10+G10 -> 2522 | I10: 호표 7 | J10: 건축 11-1-1 | M10: 건축 11-1-1
A11: 5775614F3F005815C1192F9E163565 | B11: 구조부 먹매김 | C11: 일반 | D11: M2 | E11: =일위대가!F63 -> 0 | F11: =일위대가!H63 -> 1050 | G11: =일위대가!J63 -> 0 | H11: =E11+F11+G11 -> 1050 | I11: 호표 8 | J11: 건축 11-1-1 | M11: 건축 11-1-1
A12: 5775414A890058A9AE59F2FCE08318 | B12: 잡석지정 | C12: 굴삭기 0.2m3+진동롤러(핸드가이드식) | D12: M3 | E12: =일위대가!F70 -> 797 | F12: =일위대가!H70 -> 5448 | G12: =일위대가!J70 -> 1005 | H12: =E12+F12+G12 -> 7250 | I12: 호표 9 | J12: 공통 3-2-4 | M12: 공통 3-2-4
A13: 5775814C06005436DC90933F8E99CD | B13: 방습필름 설치 - 바닥 | C13: 폴리에틸렌필름, 두께, 0.03mm, 2겹 | D13: M2 | E13: =일위대가!F75 -> 372 | F13: =일위대가!H75 -> 1154 | G13: =일위대가!J75 -> 0 | H13: =E13+F13+G13 -> 1526 | I13: 호표 10 | J13: 건축 5-3-3 | M13: 건축 5-3-3
A14: 577531450A00528CE92E59933E281C | B14: 콘크리트 펌프차 타설(철근) | C14: 기초외,50m3미만타설/회,슬럼프 15cm | D14: M3 | E14: =일위대가!F79 -> 3045 | F14: =일위대가!H79 -> 28149 | G14: =일위대가!J79 -> 7827 | H14: =E14+F14+G14 -> 39021 | I14: 호표 11
A15: 577531450A00528CE92E5991709F54 | B15: 콘크리트 펌프차 타설(무근) | C15: 50m3미만타설/회,슬럼프 8~12cm | D15: M3 | E15: =일위대가!F83 -> 2457 | F15: =일위대가!H83 -> 18693 | G15: =일위대가!J83 -> 6113 | H15: =E15+F15+G15 -> 27263 | I15: 호표 12
A16: 5750C143B9005F6B22FE0F93B40B36 | B16: 철근 현장가공 및 조립 | C16: 보통 | D16: TON | E16: =일위대가!F89 -> 7930 | F16: =일위대가!H89 -> 841674 | G16: =일위대가!J89 -> 6685 | H16: =E16+F16+G16 -> 856289 | I16: 호표 13 | J16: 공통 6-2-1 | M16: 공통 6-2-1
A17: 577531443E005B98D82F7FA441F468 | B17: 유로폼 설치 및 해체 | C17: 보통, 수직고 7m까지 | D17: M2 | E17: =일위대가!F94 -> 2495 | F17: =일위대가!H94 -> 25745 | G17: =일위대가!J94 -> 772 | H17: =E17+F17+G17 -> 29012 | I17: 호표 14 | J17: 공통 6-3-3 | M17: 공통 6-3-3
A18: 577531443E005D45AF13244E9386C9 | B18: 합판거푸집 설치 및 해체 | C18: 보통 4회, 수직고 7m까지 | D18: M2 | E18: =일위대가!F99 -> 9346 | F18: =일위대가!H99 -> 27904 | G18: =일위대가!J99 -> 279 | H18: =E18+F18+G18 -> 37529 | I18: 호표 15 | J18: 공통 6-3-1 | M18: 공통 6-3-1
A19: 57752145E40052E3F9C2E84381A585 | B19: 케미컬앵커 | C19: HVU M16*125 + HIT-C M16*190 | D19: EA | E19: =일위대가!F111 -> 12796 | F19: =일위대가!H111 -> 7017 | G19: =일위대가!J111 -> 227 | H19: =E19+F19+G19 -> 20040 | I19: 호표 16
A20: 5775F1495D0055668A14ACE2B9518E | B20: 수밀코킹(실리콘) | C20: 삼각, 10mm, 창호주위 | D20: M | E20: =일위대가!F116 -> 565 | F20: =일위대가!H116 -> 4483 | G20: =일위대가!J116 -> 0 | H20: =E20+F20+G20 -> 5048 | I20: 호표 17 | J20: 건축 6-6-1 | M20: 건축 6-6-1
A21: 5775F149A500596C306E40F89F30EA | B21: 시멘트 액체방수 | C21: 바닥, 2차 | D21: M2 | E21: =일위대가!F123 -> 2459 | F21: =일위대가!H123 -> 17426 | G21: =일위대가!J123 -> 522 | H21: =E21+F21+G21 -> 20407 | I21: 호표 18
A22: 57750140F80058EE39E33B77632E68 | B22: 모르타르 바름 | C22: 바닥, 24mm | D22: M2 | E22: =일위대가!F128 -> 0 | F22: =일위대가!H128 -> 11427 | G22: =일위대가!J128 -> 184 | H22: =E22+F22+G22 -> 11611 | I22: 호표 19 | J22: 건축 3-1-1 준용 | M22: 건축 3-1-1 준용
A23: 57750140F8005BA033082BCD89E062 | B23: 콘크리트면 정리 | C23: 3.6m 이하 | D23: M2 | E23: =일위대가!F133 -> 0 | F23: =일위대가!H133 -> 2190 | G23: =일위대가!J133 -> 65 | H23: =E23+F23+G23 -> 2255 | I23: 호표 20 | J23: 건축 9-2-1 | M23: 건축 9-2-1
A24: 57750140F8005BA033082BCD8F0927 | B24: 콘크리트면 정리 | C24: 3.6m 이하, 천장 | D24: M2 | E24: =일위대가!F139 -> 0 | F24: =일위대가!H139 -> 2628 | G24: =일위대가!J139 -> 65 | H24: =E24+F24+G24 -> 2693 | I24: 호표 21 | J24: 건축 9-2-1 | M24: 건축 9-2-1
A25: 5775B147E100558AE52BDD85D0CAF2 | B25: 창호주위 모르타르 충전 | D25: M | E25: =일위대가!F147 -> 0 | F25: =일위대가!H147 -> 3584 | G25: =일위대가!J147 -> 71 | H25: =E25+F25+G25 -> 3655 | I25: 호표 22 | J25: 건축 9-3-1 | M25: 건축 9-3-1
A26: 5775B1479A005EE5357C3EE00F99F7 | B26: SD-1(100*100*3.2T-우레탄도장)(메쉬별도) | C26: 2.57*3.0 | D26: 개소 | E26: =일위대가!F158 -> 286240 | F26: =일위대가!H158 -> 310933 | G26: =일위대가!J158 -> 4583 | H26: =E26+F26+G26 -> 601756 | I26: 호표 23
A27: 5775914282005952A571C508746562 | B27: 바탕만들기+수성페인트 롤러칠 | C27: 내부, 2회, 1급, con'c·mortar면 | D27: M2 | E27: =일위대가!F164 -> 641 | F27: =일위대가!H164 -> 7443 | G27: =일위대가!J164 -> 0 | H27: =E27+F27+G27 -> 8084 | I27: 호표 24 | J27: 건축 11-1-1,-2-2 | M27: 건축 11-1-1,-2-2
A28: 5775914282005952A5764EF2E9441F | B28: 바탕만들기+수성페인트 롤러칠 | C28: 내부천장, 2회, 1급, con'c·mortar면 | D28: M2 | E28: =일위대가!F170 -> 641 | F28: =일위대가!H170 -> 8932 | G28: =일위대가!J170 -> 0 | H28: =E28+F28+G28 -> 9573 | I28: 호표 25 | J28: 건축 11-1-1,-2-2 | M28: 건축 11-1-1,-2-2
A29: 577591421F005B68EB1B5D06C782F6 | B29: 철제용 우레탄도료 | D29: M2 | E29: =일위대가!F187 -> 7364 | F29: =일위대가!H187 -> 13575 | G29: =일위대가!J187 -> 0 | H29: =E29+F29+G29 -> 20939 | I29: 호표 26
A30: 5750114D7C005317E59F670546BC1F | B30: U형측구설치 | C30: W=360 (토공사포함) | D30: M | E30: =일위대가!F196 -> 15249 | F30: =일위대가!H196 -> 9202 | G30: =일위대가!J196 -> 2122 | H30: =E30+F30+G30 -> 26573 | I30: 호표 27
A31: 57746140AA005ABF8A3813679DAA51 | B31: 철골재 철거 | C31: LPG사용 | D31: TON | E31: =일위대가!F202 -> 2274 | F31: =일위대가!H202 -> 656754 | G31: =일위대가!J202 -> 0 | H31: =E31+F31+G31 -> 659028 | I31: 호표 28 | J31: 건축 12-3-3 | M31: 건축 12-3-3
A32: 57746140AA0056C0A7EF3FF0808F84 | B32: 철망 철거 | C32: 해체재 재사용 안 함 | D32: M2 | E32: =일위대가!F207 -> 0 | F32: =일위대가!H207 -> 4790 | G32: =일위대가!J207 -> 0 | H32: =E32+F32+G32 -> 4790 | I32: 호표 29 | J32: 건축 12-2-1 | M32: 건축 12-2-1
A33: 5775614F5A0055EBF845331D0CB22A | B33: 콘테이너형 가설건축물 설치 | C33: 3.0*6.0*2.6m | D33: 개소 | E33: =일위대가!F214 -> 0 | F33: =일위대가!H214 -> 0 | G33: =일위대가!J214 -> 171253 | H33: =E33+F33+G33 -> 171253 | I33: 호표 30 | J33: 공통 2-3-2 | M33: 공통 2-3-2
A34: 5775614F5A0055EBF845331D0CB22F | B34: 콘테이너형 가설건축물 해체 | C34: 3.0*6.0*2.6m | D34: 개소 | E34: =일위대가!F221 -> 0 | F34: =일위대가!H221 -> 0 | G34: =일위대가!J221 -> 171253 | H34: =E34+F34+G34 -> 171253 | I34: 호표 31 | J34: 공통 2-3-2 | M34: 공통 2-3-2
A35: 5060D143F000551D86E2A51C0A889F5FF9949B13 | B35: 크레인(타이어) | C35: 10ton | D35: HR | E35: =일위대가!F228 -> 6613 | F35: =일위대가!H228 -> 42267 | G35: =일위대가!J228 -> 26197 | H35: =E35+F35+G35 -> 75077 | I35: 호표 32 | J35: 공통 8-3,4(2104) | K35: A | M35: 공통 8-3,4(2104) | N35: T
A36: 5775614F64005D7A2A77EEF64D6E33 | B36: 강관 조립말비계(이동식)설치 및 해체 | C36: 높이 2m, 노무비 | D36: 대 | E36: =일위대가!F233 -> 0 | F36: =일위대가!H233 -> 77934 | G36: =일위대가!J233 -> 0 | H36: =E36+F36+G36 -> 77934 | I36: 호표 33 | J36: 공통 2-7-4 | M36: 공통 2-7-4
A37: 5775614F64005D7A2A70BB4C54782A | B37: 시스템비계 설치, 해체 | C37: 10m이하 - 조달자원 대체 | D37: M2 | E37: =일위대가!F238 -> 0 | F37: =일위대가!H238 -> 10754 | G37: =일위대가!J238 -> 0 | H37: =E37+F37+G37 -> 10754 | I37: 호표 34 | J37: 건축 2-6-2 | M37: 건축 2-6-2
A38: 5775614F64005D7A2A76C7ECEBF74A | B38: 작업발판(3개월이하) | C38: 안전발판 손료(2열) | D38: M2 | E38: =일위대가!F243 -> 923 | F38: =일위대가!H243 -> 0 | G38: =일위대가!J243 -> 0 | H38: =E38+F38+G38 -> 923 | I38: 호표 35
A39: 5775614F64005D790243A30B1955E4 | B39: 강관동바리 설치 및 해체 | C39: 2.5m초과 ~ 3.5m이하 - 17-2/4 삭제 | D39: 10공M3 | E39: =일위대가!F248 -> 0 | F39: =일위대가!H248 -> 157065 | G39: =일위대가!J248 -> 0 | H39: =E39+F39+G39 -> 157065 | I39: 호표 36 | J39: 토목 2-5-1 | M39: 토목 2-5-1
A40: 5060D143F000551FB6AB4F043B7D62DD2D2E0346 | B40: 굴삭기(무한궤도) | C40: 0.7㎥ | D40: HR | E40: =일위대가!F255 -> 17718 | F40: =일위대가!H255 -> 42267 | G40: =일위대가!J255 -> 21332 | H40: =E40+F40+G40 -> 81317 | I40: 호표 37 | J40: 공통 8-3,4(0201) | K40: A | M40: 공통 8-3,4(0201) | N40: T
A41: 5060D143F000551EA913A8C4615FDCB27A870D9E | B41: 플레이트 콤팩터 | C41: 1.5ton | D41: HR | E41: =일위대가!F262 -> 1734 | F41: =일위대가!H262 -> 28949 | G41: =일위대가!J262 -> 529 | H41: =E41+F41+G41 -> 31212 | I41: 호표 38 | J41: 공통 8-3,4(1730) | K41: A | M41: 공통 8-3,4(1730) | N41: T
A42: 5060D143F000551FB6AB4F043B78E08394E2F3C5 | B42: 굴삭기(무한궤도) | C42: 0.2㎥ | D42: HR | E42: =일위대가!F269 -> 7574 | F42: =일위대가!H269 -> 42267 | G42: =일위대가!J269 -> 12301 | H42: =E42+F42+G42 -> 62142 | I42: 호표 39 | J42: 공통 8-3,4(0201) | K42: A | M42: 공통 8-3,4(0201) | N42: T
A43: 5060D143F000551EAD8BF903C8E99778108A4533 | B43: 진동롤러(핸드가이드식) | C43: 0.7ton | D43: HR | E43: =일위대가!F276 -> 3112 | F43: =일위대가!H276 -> 28949 | G43: =일위대가!J276 -> 1680 | H43: =E43+F43+G43 -> 33741 | I43: 호표 40 | J43: 공통 8-3,4(1305) | K43: A | M43: 공통 8-3,4(1305) | N43: T
A44: 5775814C06005436DE5E27F28C6D92 | B44: 방습필름 설치 | C44: 바닥 | D44: M2 | E44: =일위대가!F281 -> 0 | F44: =일위대가!H281 -> 1154 | G44: =일위대가!J281 -> 0 | H44: =E44+F44+G44 -> 1154 | I44: 호표 41 | J44: 건축 5-3-3 | M44: 건축 5-3-3
A45: 5060D143F000551BDCE1CD6A63D2886765BEA751 | B45: 콘크리트 펌프차 | C45: 32m(80∼95㎥/hr) | D45: HR | E45: =일위대가!F288 -> 29240 | F45: =일위대가!H288 -> 42267 | G45: =일위대가!J288 -> 63747 | H45: =E45+F45+G45 -> 135254 | I45: 호표 42 | J45: 공통 8-3,4(4504) | K45: A | M45: 공통 8-3,4(4504) | N45: T
A46: 5750C143B9005F6B22FC40759C24F5 | B46: 철근 현장가공 | C46: 보통 | D46: TON | E46: =일위대가!F294 -> 0 | F46: =일위대가!H294 -> 334276 | G46: =일위대가!J294 -> 6685 | H46: =E46+F46+G46 -> 340961 | I46: 호표 43 | J46: 공통 6-2-1 | M46: 공통 6-2-1
A47: 5750C143B9005F6B22FC43CE1C50C7 | B47: 철근 현장조립 | C47: 보통 | D47: TON | E47: =일위대가!F299 -> 0 | F47: =일위대가!H299 -> 507398 | G47: =일위대가!J299 -> 0 | H47: =E47+F47+G47 -> 507398 | I47: 호표 44 | J47: 공통 6-2-1 | M47: 공통 6-2-1
A48: 577531443E005B98D82E59A2F0A6E7 | B48: 유로폼 - 자재비 | D48: M2 | E48: =일위대가!F309 -> 2495 | F48: =일위대가!H309 -> 0 | G48: =일위대가!J309 -> 0 | H48: =E48+F48+G48 -> 2495 | I48: 호표 45 | J48: 공통 6-3-3.2 | M48: 공통 6-3-3.2
A49: 577531443E005B98D82E5A4854AF84 | B49: 유로폼 - 인력투입 | C49: 보통, 수직고 7m까지 | D49: M2 | E49: =일위대가!F315 -> 0 | F49: =일위대가!H315 -> 25745 | G49: =일위대가!J315 -> 772 | H49: =E49+F49+G49 -> 26517 | I49: 호표 46 | J49: 공통 6-3-3.3 | M49: 공통 6-3-3.3
A50: 577531443E005D45AF121E63CEC1E4 | B50: 합판거푸집 - 자재비 | C50: 4회 | D50: M2 | E50: =일위대가!F322 -> 9346 | F50: =일위대가!H322 -> 0 | G50: =일위대가!J322 -> 0 | H50: =E50+F50+G50 -> 9346 | I50: 호표 47 | J50: 공통 6-3-1 | M50: 공통 6-3-1
A51: 577531443E005D45AF121F0AB8B1CC | B51: 합판거푸집 - 인력투입 | C51: 보통, 수직고 7m까지 | D51: M2 | E51: =일위대가!F328 -> 0 | F51: =일위대가!H328 -> 27904 | G51: =일위대가!J328 -> 279 | H51: =E51+F51+G51 -> 28183 | I51: 호표 48 | J51: 공통 6-3-1 | M51: 공통 6-3-1
A52: 5775F1495D00560ABF39499A89F7B2 | B52: 수밀코킹 | C52: 재료비 별도 | D52: M | E52: =일위대가!F332 -> 0 | F52: =일위대가!H332 -> 4483 | G52: =일위대가!J332 -> 0 | H52: =E52+F52+G52 -> 4483 | I52: 호표 49 | J52: 건축 6-6-1 | M52: 건축 6-6-1
A53: 5775F149A500584527AC20319EB295 | B53: 시멘트 액체방수 바름 | C53: 바닥 | D53: M2 | E53: =일위대가!F338 -> 0 | F53: =일위대가!H338 -> 17426 | G53: =일위대가!J338 -> 522 | H53: =E53+F53+G53 -> 17948 | I53: 호표 50 | J53: 건축 6-4-1 | M53: 건축 6-4-1
A54: 57750140F80058ED13E43F0D84ACA3 | B54: 모르타르 배합(배합품 포함) | C54: 배합용적비 1:3, 시멘트, 모래 별도 | D54: M3 | E54: =일위대가!F344 -> 0 | F54: =일위대가!H344 -> 91271 | G54: =일위대가!J344 -> 0 | H54: =E54+F54+G54 -> 91271 | I54: 호표 51 | J54: 건축 9-1-1 | M54: 건축 9-1-1
A55: 5775A1413D005CF893E9462B002C15 | B55: 바탕 고르기 | C55: 바닥, 24mm 이하 기준 | D55: M2 | E55: =일위대가!F350 -> 0 | F55: =일위대가!H350 -> 9237 | G55: =일위대가!J350 -> 184 | H55: =E55+F55+G55 -> 9421 | I55: 호표 52 | J55: 건축 3-1-1 | M55: 건축 3-1-1
A56: 57750140F80058ED13E43F0EABB566 | B56: 모르타르 배합 | C56: 모래채가름 포함 | D56: M3 | E56: =일위대가!F354 -> 0 | F56: =일위대가!H354 -> 91271 | G56: =일위대가!J354 -> 0 | H56: =E56+F56+G56 -> 91271 | I56: 호표 53 | J56: 건축 9-1-1 | M56: 건축 9-1-1
A57: 5775B1479A005EE5357C3EE00F99F6 | B57: 강재창호 설치 / 여닫이 | C57: 창호면적 m2, 6.0 ~ 8.0 이하 | D57: 개소 | E57: =일위대가!F360 -> 0 | F57: =일위대가!H360 -> 152775 | G57: =일위대가!J360 -> 4583 | H57: =E57+F57+G57 -> 157358 | I57: 호표 54 | J57: 건축 10-1-2 | M57: 건축 10-1-2
A58: 57759142AD0055DE4EABA4A2B046F1 | B58: 녹막이페인트 붓칠 | C58: 철재면, 1회, 1종 | D58: M2 | E58: =일위대가!F365 -> 795 | F58: =일위대가!H365 -> 3393 | G58: =일위대가!J365 -> 0 | H58: =E58+F58+G58 -> 4188 | I58: 호표 55 | J58: 건축 11-2-6 | M58: 건축 11-2-6
A59: 57759142AD0055DE4EAA9E57627F10 | B59: 녹막이 페인트칠 | C59: 철재면, 1회, 1종 | D59: M2 | E59: =일위대가!F371 -> 795 | F59: =일위대가!H371 -> 0 | G59: =일위대가!J371 -> 0 | H59: =E59+F59+G59 -> 795 | I59: 호표 56 | J59: 건축 11-2-6 | M59: 건축 11-2-6
A60: 57759142AD0055DE4EAA9F7E0D6764 | B60: 녹막이 페인트칠 | C60: 철재면, 1회 | D60: M2 | E60: =일위대가!F376 -> 0 | F60: =일위대가!H376 -> 3393 | G60: =일위대가!J376 -> 0 | H60: =E60+F60+G60 -> 3393 | I60: 호표 57 | J60: 건축 11-2-6 | M60: 건축 11-2-6
A61: 577591438B005589FC2836B8BDE95C | B61: 콘크리트·모르타르면 바탕만들기 | D61: M2 | E61: =일위대가!F383 -> 126 | F61: =일위대가!H383 -> 2124 | G61: =일위대가!J383 -> 0 | H61: =E61+F61+G61 -> 2250 | I61: 호표 58 | J61: 건축 11-1-1 | M61: 건축 11-1-1
A62: 5775914282005952A571C6100E4C01 | B62: 수성페인트 롤러칠 | C62: 내부, 2회, 1급, 합성수지에멀션페인트 | D62: M2 | E62: =일위대가!F388 -> 515 | F62: =일위대가!H388 -> 0 | G62: =일위대가!J388 -> 0 | H62: =E62+F62+G62 -> 515 | I62: 호표 59 | J62: 건축 11-2-2 | M62: 건축 11-2-2
A63: 5775914282005952A571C6100C8268 | B63: 수성페인트 롤러칠 | C63: 2회 | D63: M2 | E63: =일위대가!F395 -> 0 | F63: =일위대가!H395 -> 5319 | G63: =일위대가!J395 -> 0 | H63: =E63+F63+G63 -> 5319 | I63: 호표 60 | J63: 건축 11-2-2 | M63: 건축 11-2-2
A64: 577591438B005589FC2836B796DFF2 | B64: 콘크리트·모르타르면 바탕만들기 | C64: 천장 | D64: M2 | E64: =일위대가!F403 -> 126 | F64: =일위대가!H403 -> 2549 | G64: =일위대가!J403 -> 0 | H64: =E64+F64+G64 -> 2675 | I64: 호표 61 | J64: 건축 11-1-1 | M64: 건축 11-1-1
A65: 5775914282005952A5764B3F0A55FD | B65: 수성페인트 롤러칠 | C65: 천장, 2회 | D65: M2 | E65: =일위대가!F411 -> 0 | F65: =일위대가!H411 -> 6383 | G65: =일위대가!J411 -> 0 | H65: =E65+F65+G65 -> 6383 | I65: 호표 62 | J65: 건축 11-2-2 | M65: 건축 11-2-2
A66: 5750114D7C005317E59F670546B94A | B66: U형폴륨 | C66: 중량150~300KG미만 | D66: 본 | E66: =일위대가!F418 -> 1512 | F66: =일위대가!H418 -> 13209 | G66: =일위대가!J418 -> 3693 | H66: =E66+F66+G66 -> 18414 | I66: 호표 63 | J66: 공통 6-7-1 | M66: 공통 6-7-1
A67: 5775414A890058A9AE59F2FCE08319 | B67: 모래지정 | C67: 굴삭기 0.2m3+진동롤러(핸드가이드식) | D67: M3 | E67: =일위대가!F424 -> 797 | F67: =일위대가!H424 -> 5448 | G67: =일위대가!J424 -> 1005 | H67: =E67+F67+G67 -> 7250 | I67: 호표 64 | J67: 공통 3-2-4 | M67: 공통 3-2-4
A68: 57746140AA005ABF8A393A705FC86C | B68: 철골재 철거 | C68: 해체 | D68: TON | E68: =일위대가!F429 -> 0 | F68: =일위대가!H429 -> 629096 | G68: =일위대가!J429 -> 0 | H68: =E68+F68+G68 -> 629096 | I68: 호표 65 | J68: 건축 12-3-3 | M68: 건축 12-3-3
A69: 57746140AA005ABF8A393A705FCB20 | B69: 철골재 철거 | C69: 뒷정리 | D69: TON | E69: =일위대가!F433 -> 0 | F69: =일위대가!H433 -> 27658 | G69: =일위대가!J433 -> 0 | H69: =E69+F69+G69 -> 27658 | I69: 호표 66 | J69: 건축 12-3-3 | M69: 건축 12-3-3
A70: 5060D143F000551D8059B70579D32BD1CCAD6EC2 | B70: 트럭 트랙터 및 평판트레일러 | C70: 20ton | D70: HR | E70: =일위대가!F440 -> 28714 | F70: =일위대가!H440 -> 42267 | G70: =일위대가!J440 -> 15014 | H70: =E70+F70+G70 -> 85995 | I70: 호표 67 | J70: 공통 8-3,4(2702) | K70: A | M70: 공통 8-3,4(2702) | N70: T
A71: 5060D143F000551D86E2A47580818CBE2F06130A | B71: 트럭탑재형 크레인 | C71: 10ton | D71: HR | E71: =일위대가!F447 -> 15474 | F71: =일위대가!H447 -> 36713 | G71: =일위대가!J447 -> 19877 | H71: =E71+F71+G71 -> 72064 | I71: 호표 68 | J71: 공통 8-3,4(2105) | K71: A | M71: 공통 8-3,4(2105) | N71: T

Sheet 일위대가
A1: [ 국립생태원 맹금사 안전망 교체공사 ]
A2: 품 명 | B2: 규 격 | C2: 단위 | D2: 수량 | E2: 재 료 비 | G2: 노 무 비 | I2: 경 비 | K2: 합 계 | M2: 비 고 | N2: 일위대가 | O2: 품목코드 | P2: 일위 | Q2: 단산 | R2: 자재 | S2: 손료적용 | T2: 손료저장 | U2: 적용율 | V2: JUK1 | W2: JUK2 | X2: JUK3 | Y2: JUK4 | Z2: JUK5 | AA2: JUK6 | AB2: JUK7 | AC2: JUK8 | AD2: JUK9 | AE2: JUK10 | AF2: JUK11 | AG2: JUK12 | AH2: JUK13 | AI2: JUK14 | AJ2: JUK15 | AK2: JUK16 | AL2: JUK17 | AM2: JUK18 | AN2: JUK19 | AO2: JUK20 | AP2: 할증적용 | AQ2: 할증저장 | AR2: 할증율 | AS2: HAL1 | AT2: HAL2 | AU2: HAL3 | AV2: 자재구분 | AW2: 일위대가+자재 | AX2: 장비일위 | AY2: 설정
E3: 단 가 | F3: 금 액 | G3: 단 가 | H3: 금 액 | I3: 단 가 | J3: 금 액 | K3: 단 가 | L3: 금 액
A4: 콘테이너형 가설사무소 설치 및 해체 3.0*6.0*2.6m, 3개월 개소 공통 2-3-2 ( 호표 1 ) | N4: 5775614F5A0055EBF84D09578D7C13
A5: 컨테이너하우스 | B5: 컨테이너하우스, 사무실용, 3.0*6.0*2.6m | C5: 개 | D5: 0.12 | E5: =단가대비표!O71 -> 2059000 | F5: =TRUNC(E5*D5,1) -> 247080 | G5: =단가대비표!P71 -> 0 | H5: =TRUNC(G5*D5,1) -> 0 | I5: =단가대비표!V71 -> 0 | J5: =TRUNC(I5*D5,1) -> 0 | K5: =TRUNC(E5+G5+I5,1) -> 2059000 | L5: =TRUNC(F5+H5+J5,1) -> 247080 | M5: 금액제외 | O5: 5056614B7C005A936FF6A234FE474888B6A117 | P5: F | Q5: F | R5: T | V5: 1 | AW5: 5775614F5A0055EBF84D09578D7C135056614B7C005A936FF6A234FE474888B6A117 | AY5: -
A6: 콘테이너형 가설건축물 설치 | B6: 3.0*6.0*2.6m | C6: 개소 | D6: 1 | E6: =일위대가목록!E33 -> 0 | F6: =TRUNC(E6*D6,1) -> 0 | G6: =일위대가목록!F33 -> 0 | H6: =TRUNC(G6*D6,1) -> 0 | I6: =일위대가목록!G33 -> 171253 | J6: =TRUNC(I6*D6,1) -> 171253 | K6: =TRUNC(E6+G6+I6,1) -> 171253 | L6: =TRUNC(F6+H6+J6,1) -> 171253 | M6: 금액제외 | O6: 5775614F5A0055EBF845331D0CB22A | P6: T | Q6: F | R6: F | V6: 1 | AW6: 5775614F5A0055EBF84D09578D7C135775614F5A0055EBF845331D0CB22A | AY6: -
A7: 콘테이너형 가설건축물 해체 | B7: 3.0*6.0*2.6m | C7: 개소 | D7: 1 | E7: =일위대가목록!E34 -> 0 | F7: =TRUNC(E7*D7,1) -> 0 | G7: =일위대가목록!F34 -> 0 | H7: =TRUNC(G7*D7,1) -> 0 | I7: =일위대가목록!G34 -> 171253 | J7: =TRUNC(I7*D7,1) -> 171253 | K7: =TRUNC(E7+G7+I7,1) -> 171253 | L7: =TRUNC(F7+H7+J7,1) -> 171253 | M7: 금액제외 | O7: 5775614F5A0055EBF845331D0CB22F | P7: T | Q7: F | R7: F | V7: 1 | AW7: 5775614F5A0055EBF84D09578D7C135775614F5A0055EBF845331D0CB22F | AY7: -
A8: 경비로 적용 | B8: 합계의 100% | C8: 식 | D8: 1 | E8: 0 | F8: =TRUNC(E8*D8,1) -> 0 | G8: 0 | H8: =TRUNC(G8*D8,1) -> 0 | I8: =TRUNC(SUMIF(V5:V8, RIGHTB(O8, 1), L5:L8)*U8, 2) -> 589586 | J8: =TRUNC(I8*D8,1) -> 589586 | K8: =TRUNC(E8+G8+I8,1) -> 589586 | L8: =TRUNC(F8+H8+J8,1) -> 589586 | N8: 5775614F5A0055EBF84D09578D7C13 | O8: 5669414FD90050C28EF6A81D4861001 | P8: F | Q8: F | R8: F | S8: 3 | T8: 2 | U8: 1 | AW8: 5775614F5A0055EBF84D09578D7C135669414FD90050C28EF6A81D4861001
A9: [ 합 계 ] | F9: =TRUNC(SUMIF(N5:N8, N4, F5:F8),0) -> 0 | H9: =TRUNC(SUMIF(N5:N8, N4, H5:H8),0) -> 0 | J9: =TRUNC(SUMIF(N5:N8, N4, J5:J8),0) -> 589586 | L9: =F9+H9+J9 -> 589586 | N9: TOTAL | O9: TOTAL
A11: 콘테이너형 가설창고 설치 및 해체 3.0*6.0*2.6m, 3개월 개소 공통 2-3-2 ( 호표 2 ) | N11: 5775614F5A0055E82AB3A84D3DCDC9
A12: 컨테이너하우스 | B12: 컨테이너하우스, 창고용, 3.0*6.0*2.6m | C12: 개 | D12: 0.12 | E12: =단가대비표!O72 -> 1840000 | F12: =TRUNC(E12*D12,1) -> 220800 | G12: =단가대비표!P72 -> 0 | H12: =TRUNC(G12*D12,1) -> 0 | I12: =단가대비표!V72 -> 0 | J12: =TRUNC(I12*D12,1) -> 0 | K12: =TRUNC(E12+G12+I12,1) -> 1840000 | L12: =TRUNC(F12+H12+J12,1) -> 220800 | M12: 금액제외 | O12: 5056614B7C005A936FF6A234FE474888B6A7B1 | P12: F | Q12: F | R12: T | V12: 1 | AW12: 5775614F5A0055E82AB3A84D3DCDC95056614B7C005A936FF6A234FE474888B6A7B1 | AY12: -
A13: 콘테이너형 가설건축물 설치 | B13: 3.0*6.0*2.6m | C13: 개소 | D13: 1 | E13: =일위대가목록!E33 -> 0 | F13: =TRUNC(E13*D13,1) -> 0 | G13: =일위대가목록!F33 -> 0 | H13: =TRUNC(G13*D13,1) -> 0 | I13: =일위대가목록!G33 -> 171253 | J13: =TRUNC(I13*D13,1) -> 171253 | K13: =TRUNC(E13+G13+I13,1) -> 171253 | L13: =TRUNC(F13+H13+J13,1) -> 171253 | M13: 금액제외 | O13: 5775614F5A0055EBF845331D0CB22A | P13: T | Q13: F | R13: F | V13: 1 | AW13: 5775614F5A0055E82AB3A84D3DCDC95775614F5A0055EBF845331D0CB22A | AY13: -
A14: 콘테이너형 가설건축물 해체 | B14: 3.0*6.0*2.6m | C14: 개소 | D14: 1 | E14: =일위대가목록!E34 -> 0 | F14: =TRUNC(E14*D14,1) -> 0 | G14: =일위대가목록!F34 -> 0 | H14: =TRUNC(G14*D14,1) -> 0 | I14: =일위대가목록!G34 -> 171253 | J14: =TRUNC(I14*D14,1) -> 171253 | K14: =TRUNC(E14+G14+I14,1) -> 171253 | L14: =TRUNC(F14+H14+J14,1) -> 171253 | M14: 금액제외 | O14: 5775614F5A0055EBF845331D0CB22F | P14: T | Q14: F | R14: F | V14: 1 | AW14: 5775614F5A0055E82AB3A84D3DCDC95775614F5A0055EBF845331D0CB22F | AY14: -
A15: 경비로 적용 | B15: 합계의 100% | C15: 식 | D15: 1 | E15: 0 | F15: =TRUNC(E15*D15,1) -> 0 | G15: 0 | H15: =TRUNC(G15*D15,1) -> 0 | I15: =TRUNC(SUMIF(V12:V15, RIGHTB(O15, 1), L12:L15)*U15, 2) -> 563306 | J15: =TRUNC(I15*D15,1) -> 563306 | K15: =TRUNC(E15+G15+I15,1) -> 563306 | L15: =TRUNC(F15+H15+J15,1) -> 563306 | N15: 5775614F5A0055E82AB3A84D3DCDC9 | O15: 5669414FD90050C28EF6A81D4861001 | P15: F | Q15: F | R15: F | S15: 3 | T15: 2 | U15: 1 | AW15: 5775614F5A0055E82AB3A84D3DCDC95669414FD90050C28EF6A81D4861001
A16: [ 합 계 ] | F16: =TRUNC(SUMIF(N12:N15, N11, F12:F15),0) -> 0 | H16: =TRUNC(SUMIF(N12:N15, N11, H12:H15),0) -> 0 | J16: =TRUNC(SUMIF(N12:N15, N11, J12:J15),0) -> 563306 | L16: =F16+H16+J16 -> 563306 | N16: TOTAL | O16: TOTAL
A18: 강관 조립말비계(이동식)설치 및 해체 높이 2m, 3개월 대 공통 2-7-4 ( 호표 3 ) | N18: 5775614F64005D7A2A77EEF753BBCD
A19: 비계안정장치 | B19: 비계안정장치, 비계기본틀, 기둥, 1.2*1.7m | C19: 개 | D19: 0.12 | E19: =단가대비표!O49 -> 20400 | F19: =TRUNC(E19*D19,1) -> 2448 | G19: =단가대비표!P49 -> 0 | H19: =TRUNC(G19*D19,1) -> 0 | I19: =단가대비표!V49 -> 0 | J19: =TRUNC(I19*D19,1) -> 0 | K19: =TRUNC(E19+G19+I19,1) -> 20400 | L19: =TRUNC(F19+H19+J19,1) -> 2448 | N19: 5775614F64005D7A2A77EEF753BBCD | O19: 5056614B47005C3DB318211A54BF94BF04E624 | P19: F | Q19: F | R19: T | AW19: 5775614F64005D7A2A77EEF753BBCD5056614B47005C3DB318211A54BF94BF04E624
A20: 비계안정장치 | B20: 비계안정장치, 가새, 1.2*1.9m | C20: 개 | D20: 0.12 | E20: =단가대비표!O50 -> 6100 | F20: =TRUNC(E20*D20,1) -> 732 | G20: =단가대비표!P50 -> 0 | H20: =TRUNC(G20*D20,1) -> 0 | I20: =단가대비표!V50 -> 0 | J20: =TRUNC(I20*D20,1) -> 0 | K20: =TRUNC(E20+G20+I20,1) -> 6100 | L20: =TRUNC(F20+H20+J20,1) -> 732 | N20: 5775614F64005D7A2A77EEF753BBCD | O20: 5056614B47005C3DB318211A54BF94BF04E62A | P20: F | Q20: F | R20: T | AW20: 5775614F64005D7A2A77EEF753BBCD5056614B47005C3DB318211A54BF94BF04E62A
A21: 비계안정장치 | B21: 비계안정장치, 수평띠장, 1829mm | C21: 개 | D21: 0.24 | E21: =단가대비표!O51 -> 14900 | F21: =TRUNC(E21*D21,1) -> 3576 | G21: =단가대비표!P51 -> 0 | H21: =TRUNC(G21*D21,1) -> 0 | I21: =단가대비표!V51 -> 0 | J21: =TRUNC(I21*D21,1) -> 0 | K21: =TRUNC(E21+G21+I21,1) -> 14900 | L21: =TRUNC(F21+H21+J21,1) -> 3576 | N21: 5775614F64005D7A2A77EEF753BBCD | O21: 5056614B47005C3DB318211A54BF94BF04E9FA | P21: F | Q21: F | R21: T | AW21: 5775614F64005D7A2A77EEF753BBCD5056614B47005C3DB318211A54BF94BF04E9FA
A22: 비계안정장치 | B22: 비계안정장치, 손잡이기둥 | C22: 개 | D22: 0.24 | E22: =단가대비표!O54 -> 0 | F22: =TRUNC(E22*D22,1) -> 0 | G22: =단가대비표!P54 -> 0 | H22: =TRUNC(G22*D22,1) -> 0 | I22: =단가대비표!V54 -> 0 | J22: =TRUNC(I22*D22,1) -> 0 | K22: =TRUNC(E22+G22+I22,1) -> 0 | L22: =TRUNC(F22+H22+J22,1) -> 0 | N22: 5775614F64005D7A2A77EEF753BBCD | O22: 5056614B47005C3DB318211A54BF94BF04E9FD | P22: F | Q22: F | R22: T | AW22: 5775614F64005D7A2A77EEF753BBCD5056614B47005C3DB318211A54BF94BF04E9FD
A23: 비계안정장치 | B23: 비계안정장치, 손잡이, 1229mm | C23: 개 | D23: 0.12 | E23: =단가대비표!O52 -> 0 | F23: =TRUNC(E23*D23,1) -> 0 | G23: =단가대비표!P52 -> 0 | H23: =TRUNC(G23*D23,1) -> 0 | I23: =단가대비표!V52 -> 0 | J23: =TRUNC(I23*D23,1) -> 0 | K23: =TRUNC(E23+G23+I23,1) -> 0 | L23: =TRUNC(F23+H23+J23,1) -> 0 | N23: 5775614F64005D7A2A77EEF753BBCD | O23: 5056614B47005C3DB318211A54BF94BF04E9FB | P23: F | Q23: F | R23: T | AW23: 5775614F64005D7A2A77EEF753BBCD5056614B47005C3DB318211A54BF94BF04E9FB
A24: 비계안정장치 | B24: 비계안정장치, 손잡이, 1829mm | C24: 개 | D24: 0.24 | E24: =단가대비표!O53 -> 0 | F24: =TRUNC(E24*D24,1) -> 0 | G24: =단가대비표!P53 -> 0 | H24: =TRUNC(G24*D24,1) -> 0 | I24: =단가대비표!V53 -> 0 | J24: =TRUNC(I24*D24,1) -> 0 | K24: =TRUNC(E24+G24+I24,1) -> 0 | L24: =TRUNC(F24+H24+J24,1) -> 0 | N24: 5775614F64005D7A2A77EEF753BBCD | O24: 5056614B47005C3DB318211A54BF94BF04E9FC | P24: F | Q24: F | R24: T | AW24: 5775614F64005D7A2A77EEF753BBCD5056614B47005C3DB318211A54BF94BF04E9FC
A25: 비계안정장치 | B25: 비계안정장치, 바퀴 | C25: 개 | D25: 0.36 | E25: =단가대비표!O55 -> 9900 | F25: =TRUNC(E25*D25,1) -> 3564 | G25: =단가대비표!P55 -> 0 | H25: =TRUNC(G25*D25,1) -> 0 | I25: =단가대비표!V55 -> 0 | J25: =TRUNC(I25*D25,1) -> 0 | K25: =TRUNC(E25+G25+I25,1) -> 9900 | L25: =TRUNC(F25+H25+J25,1) -> 3564 | N25: 5775614F64005D7A2A77EEF753BBCD | O25: 5056614B47005C3DB318211A54BF94BF04E9FE | P25: F | Q25: F | R25: T | AW25: 5775614F64005D7A2A77EEF753BBCD5056614B47005C3DB318211A54BF94BF04E9FE
A26: 비계안정장치 | B26: 비계안정장치, 쟈키 | C26: 개 | D26: 0.36 | E26: =단가대비표!O56 -> 7200 | F26: =TRUNC(E26*D26,1) -> 2592 | G26: =단가대비표!P56 -> 0 | H26: =TRUNC(G26*D26,1) -> 0 | I26: =단가대비표!V56 -> 0 | J26: =TRUNC(I26*D26,1) -> 0 | K26: =TRUNC(E26+G26+I26,1) -> 7200 | L26: =TRUNC(F26+H26+J26,1) -> 2592 | N26: 5775614F64005D7A2A77EEF753BBCD | O26: 5056614B47005C3DB318211A54BF94BF04E9FF | P26: F | Q26: F | R26: T | AW26: 5775614F64005D7A2A77EEF753BBCD5056614B47005C3DB318211A54BF94BF04E9FF
A27: 비계안정장치 | B27: 비계안정장치, 발판, 40*200*2000 | C27: 장 | D27: 0.42 | E27: =단가대비표!O58 -> 0 | F27: =TRUNC(E27*D27,1) -> 0 | G27: =단가대비표!P58 -> 0 | H27: =TRUNC(G27*D27,1) -> 0 | I27: =단가대비표!V58 -> 0 | J27: =TRUNC(I27*D27,1) -> 0 | K27: =TRUNC(E27+G27+I27,1) -> 0 | L27: =TRUNC(F27+H27+J27,1) -> 0 | N27: 5775614F64005D7A2A77EEF753BBCD | O27: 5056614B47005C3DB318211A566889A4A1474F | P27: F | Q27: F | R27: T | AW27: 5775614F64005D7A2A77EEF753BBCD5056614B47005C3DB318211A566889A4A1474F
A28: 강관 조립말비계(이동식)설치 및 해체 | B28: 높이 2m, 노무비 | C28: 대 | D28: 1 | E28: =일위대가목록!E36 -> 0 | F28: =TRUNC(E28*D28,1) -> 0 | G28: =일위대가목록!F36 -> 77934 | H28: =TRUNC(G28*D28,1) -> 77934 | I28: =일위대가목록!G36 -> 0 | J28: =TRUNC(I28*D28,1) -> 0 | K28: =TRUNC(E28+G28+I28,1) -> 77934 | L28: =TRUNC(F28+H28+J28,1) -> 77934 | N28: 5775614F64005D7A2A77EEF753BBCD | O28: 5775614F64005D7A2A77EEF64D6E33 | P28: T | Q28: F | R28: F | AW28: 5775614F64005D7A2A77EEF753BBCD5775614F64005D7A2A77EEF64D6E33
A29: [ 합 계 ] | F29: =TRUNC(SUMIF(N19:N28, N18, F19:F28),0) -> 12912 | H29: =TRUNC(SUMIF(N19:N28, N18, H19:H28),0) -> 77934 | J29: =TRUNC(SUMIF(N19:N28, N18, J19:J28),0) -> 0 | L29: =F29+H29+J29 -> 90846 | N29: TOTAL | O29: TOTAL
A31: 시스템비계 설치, 해체(외부) 10m이하, 3개월(발판2열)-계단설치해체비포함 M2 ( 호표 4 ) | N31: 5775614F64005D79063D045D0E3CF4
A32: 시스템비계-수직재 | B32: S-38(3800mm) | C32: 본 | D32: 0.3009 | E32: =단가대비표!O59 -> 17000 | F32: =TRUNC(E32*D32,1) -> 5115.3 | G32: =단가대비표!P59 -> 0 | H32: =TRUNC(G32*D32,1) -> 0 | I32: =단가대비표!V59 -> 0 | J32: =TRUNC(I32*D32,1) -> 0 | K32: =TRUNC(E32+G32+I32,1) -> 17000 | L32: =TRUNC(F32+H32+J32,1) -> 5115.3 | M32: 금액제외 | O32: 5056614B47005C3DB31825F10B1E877AC9F4 | P32: F | Q32: F | R32: T | V32: 1 | AW32: 5775614F64005D79063D045D0E3CF45056614B47005C3DB31825F10B1E877AC9F4 | AY32: -
A33: 시스템비계-대각재 | B33: B-1918(2484mm) | C33: 본 | D33: 0.0543 | E33: =단가대비표!O62 -> 7700 | F33: =TRUNC(E33*D33,1) -> 418.1 | G33: =단가대비표!P62 -> 0 | H33: =TRUNC(G33*D33,1) -> 0 | I33: =단가대비표!V62 -> 0 | J33: =TRUNC(I33*D33,1) -> 0 | K33: =TRUNC(E33+G33+I33,1) -> 7700 | L33: =TRUNC(F33+H33+J33,1) -> 418.1 | M33: 금액제외 | O33: 5056614B47005C3DB31825F10B1E877ACD6F | P33: F | Q33: F | R33: T | V33: 1 | AW33: 5775614F64005D79063D045D0E3CF45056614B47005C3DB31825F10B1E877ACD6F | AY33: -
A34: 시스템비계-수평재 | B34: L-12(1200mm) | C34: 본 | D34: 0.3009 | E34: =단가대비표!O60 -> 6600 | F34: =TRUNC(E34*D34,1) -> 1985.9 | G34: =단가대비표!P60 -> 0 | H34: =TRUNC(G34*D34,1) -> 0 | I34: =단가대비표!V60 -> 0 | J34: =TRUNC(I34*D34,1) -> 0 | K34: =TRUNC(E34+G34+I34,1) -> 6600 | L34: =TRUNC(F34+H34+J34,1) -> 1985.9 | M34: 금액제외 | O34: 5056614B47005C3DB31825F10B1E877ACF1C | P34: F | Q34: F | R34: T | V34: 1 | AW34: 5775614F64005D79063D045D0E3CF45056614B47005C3DB31825F10B1E877ACF1C | AY34: -
A35: 시스템비계-수평재 | B35: L-18(1829MM) | C35: 본 | D35: 0.5847 | E35: =단가대비표!O61 -> 8400 | F35: =TRUNC(E35*D35,1) -> 4911.4 | G35: =단가대비표!P61 -> 0 | H35: =TRUNC(G35*D35,1) -> 0 | I35: =단가대비표!V61 -> 0 | J35: =TRUNC(I35*D35,1) -> 0 | K35: =TRUNC(E35+G35+I35,1) -> 8400 | L35: =TRUNC(F35+H35+J35,1) -> 4911.4 | M35: 금액제외 | O35: 5056614B47005C3DB31825F10B1E877ACE75 | P35: F | Q35: F | R35: T | V35: 1 | AW35: 5775614F64005D79063D045D0E3CF45056614B47005C3DB31825F10B1E877ACE75 | AY35: -
A36: 시스템비계-난간대 | B36: HL-12(1200mm) | C36: 본 | D36: 0.0309 | E36: =단가대비표!O63 -> 7200 | F36: =TRUNC(E36*D36,1) -> 222.4 | G36: =단가대비표!P63 -> 0 | H36: =TRUNC(G36*D36,1) -> 0 | I36: =단가대비표!V63 -> 0 | J36: =TRUNC(I36*D36,1) -> 0 | K36: =TRUNC(E36+G36+I36,1) -> 7200 | L36: =TRUNC(F36+H36+J36,1) -> 222.4 | M36: 금액제외 | O36: 5056614B47005C3DB31825F10B1E877AC36B | P36: F | Q36: F | R36: T | V36: 1 | AW36: 5775614F64005D79063D045D0E3CF45056614B47005C3DB31825F10B1E877AC36B | AY36: -
A37: 시스템비계-난간대 | B37: HL-18(1829mm) | C37: 본 | D37: 0.7894 | E37: =단가대비표!O64 -> 8400 | F37: =TRUNC(E37*D37,1) -> 6630.9 | G37: =단가대비표!P64 -> 0 | H37: =TRUNC(G37*D37,1) -> 0 | I37: =단가대비표!V64 -> 0 | J37: =TRUNC(I37*D37,1) -> 0 | K37: =TRUNC(E37+G37+I37,1) -> 8400 | L37: =TRUNC(F37+H37+J37,1) -> 6630.9 | M37: 금액제외 | O37: 5056614B47005C3DB31825F10B1E877AC244 | P37: F | Q37: F | R37: T | V37: 1 | AW37: 5775614F64005D79063D045D0E3CF45056614B47005C3DB31825F10B1E877AC244 | AY37: -
A38: 강관손료 | B38: 주재료비의 6% | C38: 식 | D38: 1 | E38: =TRUNC(SUMIF(V32:V44, RIGHTB(O38, 1), F32:F44)*U38, 2) -> 1157.04 | F38: =TRUNC(E38*D38,1) -> 1157 | G38: 0 | H38: =TRUNC(G38*D38,1) -> 0 | I38: 0 | J38: =TRUNC(I38*D38,1) -> 0 | K38: =TRUNC(E38+G38+I38,1) -> 1157 | L38: =TRUNC(F38+H38+J38,1) -> 1157 | N38: 5775614F64005D79063D045D0E3CF4 | O38: 5669414FD90050C28EF6A81D4861001 | P38: F | Q38: F | R38: F | S38: 0 | T38: 0 | U38: 0.06 | AW38: 5775614F64005D79063D045D0E3CF45669414FD90050C28EF6A81D4861001
A39: 비계안정장치 | B39: 비계안정장치, 기둥, 각파이프, 60*60*2.3mm | C39: M | D39: 0.0601 | E39: =단가대비표!O57 -> 0 | F39: =TRUNC(E39*D39,1) -> 0 | G39: =단가대비표!P57 -> 0 | H39: =TRUNC(G39*D39,1) -> 0 | I39: =단가대비표!V57 -> 0 | J39: =TRUNC(I39*D39,1) -> 0 | K39: =TRUNC(E39+G39+I39,1) -> 0 | L39: =TRUNC(F39+H39+J39,1) -> 0 | M39: 금액제외 | O39: 5056614B47005C3DB318211A54BF94BF04E9F1 | P39: F | Q39: F | R39: T | W39: 2 | AW39: 5775614F64005D79063D045D0E3CF45056614B47005C3DB318211A54BF94BF04E9F1 | AY39: -
A40: 받침철물손료 | B40: 주재료비의 9% | C40: 식 | D40: 1 | E40: =TRUNC(SUMIF(W32:W44, RIGHTB(O40, 1), F32:F44)*U40, 2) -> 0 | F40: =TRUNC(E40*D40,1) -> 0 | G40: 0 | H40: =TRUNC(G40*D40,1) -> 0 | I40: 0 | J40: =TRUNC(I40*D40,1) -> 0 | K40: =TRUNC(E40+G40+I40,1) -> 0 | L40: =TRUNC(F40+H40+J40,1) -> 0 | N40: 5775614F64005D79063D045D0E3CF4 | O40: 5669414FD90050C28EF6A81D4862002 | P40: F | Q40: F | R40: F | S40: 0 | T40: 0 | U40: 0.09 | AW40: 5775614F64005D79063D045D0E3CF45669414FD90050C28EF6A81D4862002
A41: 강관비계 부속철물 | B41: 앙카용철물 | C41: 개 | D41: 0.0386 | E41: =단가대비표!O48 -> 900 | F41: =TRUNC(E41*D41,1) -> 34.7 | G41: =단가대비표!P48 -> 0 | H41: =TRUNC(G41*D41,1) -> 0 | I41: =단가대비표!V48 -> 0 | J41: =TRUNC(I41*D41,1) -> 0 | K41: =TRUNC(E41+G41+I41,1) -> 900 | L41: =TRUNC(F41+H41+J41,1) -> 34.7 | M41: 금액제외 | O41: 5056614B47005C3DB04446D1EF10D42C54030B | P41: F | Q41: F | R41: T | X41: 3 | AW41: 5775614F64005D79063D045D0E3CF45056614B47005C3DB04446D1EF10D42C54030B | AY41: -
A42: 철물(앵커)손료 | B42: 주재료비의 100% | C42: 식 | D42: 1 | E42: =TRUNC(SUMIF(X32:X44, RIGHTB(O42, 1), F32:F44)*U42, 2) -> 34.7 | F42: =TRUNC(E42*D42,1) -> 34.7 | G42: 0 | H42: =TRUNC(G42*D42,1) -> 0 | I42: 0 | J42: =TRUNC(I42*D42,1) -> 0 | K42: =TRUNC(E42+G42+I42,1) -> 34.7 | L42: =TRUNC(F42+H42+J42,1) -> 34.7 | N42: 5775614F64005D79063D045D0E3CF4 | O42: 5669414FD90050C28EF6A81D4863003 | P42: F | Q42: F | R42: F | S42: 0 | T42: 0 | U42: 1 | AW42: 5775614F64005D79063D045D0E3CF45669414FD90050C28EF6A81D4863003
A43: 시스템비계 설치, 해체 | B43: 10m이하 - 조달자원 대체 | C43: M2 | D43: 1 | E43: =일위대가목록!E37 -> 0 | F43: =TRUNC(E43*D43,1) -> 0 | G43: =일위대가목록!F37 -> 10754 | H43: =TRUNC(G43*D43,1) -> 10754 | I43: =일위대가목록!G37 -> 0 | J43: =TRUNC(I43*D43,1) -> 0 | K43: =TRUNC(E43+G43+I43,1) -> 10754 | L43: =TRUNC(F43+H43+J43,1) -> 10754 | N43: 5775614F64005D79063D045D0E3CF4 | O43: 5775614F64005D7A2A70BB4C54782A | P43: T | Q43: F | R43: F | AW43: 5775614F64005D79063D045D0E3CF45775614F64005D7A2A70BB4C54782A
A44: 작업발판(3개월이하) | B44: 안전발판 손료(2열) | C44: M2 | D44: 1 | E44: =일위대가목록!E38 -> 923 | F44: =TRUNC(E44*D44,1) -> 923 | G44: =일위대가목록!F38 -> 0 | H44: =TRUNC(G44*D44,1) -> 0 | I44: =일위대가목록!G38 -> 0 | J44: =TRUNC(I44*D44,1) -> 0 | K44: =TRUNC(E44+G44+I44,1) -> 923 | L44: =TRUNC(F44+H44+J44,1) -> 923 | N44: 5775614F64005D79063D045D0E3CF4 | O44: 5775614F64005D7A2A76C7ECEBF74A | P44: T | Q44: F | R44: F | AW44: 5775614F64005D79063D045D0E3CF45775614F64005D7A2A76C7ECEBF74A
A45: [ 합 계 ] | F45: =TRUNC(SUMIF(N32:N44, N31, F32:F44),0) -> 2114 | H45: =TRUNC(SUMIF(N32:N44, N31, H32:H44),0) -> 10754 | J45: =TRUNC(SUMIF(N32:N44, N31, J32:J44),0) -> 0 | L45: =F45+H45+J45 -> 12868 | N45: TOTAL | O45: TOTAL
A47: 강관동바리 3개월,3.5m이하 M2 ( 호표 5 ) | N47: 5775614F64005D7901BDF4DB40DF1A
A48: 아연도강관써포트 | B48: V-3,2400~3800 | C48: 본 | D48: 0.0804 | E48: =단가대비표!O67 -> 19500 | F48: =TRUNC(E48*D48,1) -> 1567.8 | G48: =단가대비표!P67 -> 0 | H48: =TRUNC(G48*D48,1) -> 0 | I48: =단가대비표!V67 -> 0 | J48: =TRUNC(I48*D48,1) -> 0 | K48: =TRUNC(E48+G48+I48,1) -> 19500 | L48: =TRUNC(F48+H48+J48,1) -> 1567.8 | N48: 5775614F64005D7901BDF4DB40DF1A | O48: 5056614B47005C357620FBBD24D00F23024EAE | P48: F | Q48: F | R48: T | V48: 1 | AW48: 5775614F64005D7901BDF4DB40DF1A5056614B47005C357620FBBD24D00F23024EAE
A49: 잡재료 | B49: 주재료비의 5% | C49: 식 | D49: 1 | E49: =TRUNC(SUMIF(V48:V50, RIGHTB(O49, 1), F48:F50)*U49, 2) -> 78.39 | F49: =TRUNC(E49*D49,1) -> 78.3 | G49: 0 | H49: =TRUNC(G49*D49,1) -> 0 | I49: 0 | J49: =TRUNC(I49*D49,1) -> 0 | K49: =TRUNC(E49+G49+I49,1) -> 78.3 | L49: =TRUNC(F49+H49+J49,1) -> 78.3 | N49: 5775614F64005D7901BDF4DB40DF1A | O49: 5669414FD90050C28EF6A81D4861001 | P49: F | Q49: F | R49: F | S49: 0 | T49: 0 | U49: 0.05 | AW49: 5775614F64005D7901BDF4DB40DF1A5669414FD90050C28EF6A81D4861001
A50: 강관동바리 설치 및 해체 | B50: 2.5m초과 ~ 3.5m이하 - 17-2/4 삭제 | C50: 10공M3 | D50: 0.03 | E50: =일위대가목록!E39 -> 0 | F50: =TRUNC(E50*D50,1) -> 0 | G50: =일위대가목록!F39 -> 157065 | H50: =TRUNC(G50*D50,1) -> 4711.9 | I50: =일위대가목록!G39 -> 0 | J50: =TRUNC(I50*D50,1) -> 0 | K50: =TRUNC(E50+G50+I50,1) -> 157065 | L50: =TRUNC(F50+H50+J50,1) -> 4711.9 | N50: 5775614F64005D7901BDF4DB40DF1A | O50: 5775614F64005D790243A30B1955E4 | P50: T | Q50: F | R50: F | AW50: 5775614F64005D7901BDF4DB40DF1A5775614F64005D790243A30B1955E4
A51: [ 합 계 ] | F51: =TRUNC(SUMIF(N48:N50, N47, F48:F50),0) -> 1646 | H51: =TRUNC(SUMIF(N48:N50, N47, H48:H50),0) -> 4711 | J51: =TRUNC(SUMIF(N48:N50, N47, J48:J50),0) -> 0 | L51: =F51+H51+J51 -> 6357 | N51: TOTAL | O51: TOTAL
A53: 건축물 현장정리 수선 M2 공통 2-9-2 ( 호표 6 ) | N53: 5775614F3F005BEF869E2A9674F673
A54: 보통인부 | B54: 일반공사 직종 | C54: 인 | D54: 0.035 | E54: =단가대비표!O99 -> 0 | F54: =TRUNC(E54*D54,1) -> 0 | G54: =단가대비표!P99 -> 138290 | H54: =TRUNC(G54*D54,1) -> 4840.1 | I54: =단가대비표!V99 -> 0 | J54: =TRUNC(I54*D54,1) -> 0 | K54: =TRUNC(E54+G54+I54,1) -> 138290 | L54: =TRUNC(F54+H54+J54,1) -> 4840.1 | N54: 5775614F3F005BEF869E2A9674F673 | O54: 57AFB1487E005AB443937EC7E6509A41E02CE5 | P54: F | Q54: F | R54: T | AW54: 5775614F3F005BEF869E2A9674F67357AFB1487E005AB443937EC7E6509A41E02CE5
A55: [ 합 계 ] | F55: =TRUNC(SUMIF(N54:N54, N53, F54:F54),0) -> 0 | H55: =TRUNC(SUMIF(N54:N54, N53, H54:H54),0) -> 4840 | J55: =TRUNC(SUMIF(N54:N54, N53, J54:J54),0) -> 0 | L55: =F55+H55+J55 -> 4840 | N55: TOTAL | O55: TOTAL
A57: 거푸집 먹매김 일반 M2 건축 11-1-1 ( 호표 7 ) | N57: 5775614F3F005815C1192F9E1633B7
A58: 건축목공 | B58: 일반공사 직종 | C58: 인 | D58: 0.012 | E58: =단가대비표!O108 -> 0 | F58: =TRUNC(E58*D58,1) -> 0 | G58: =단가대비표!P108 -> 210176 | H58: =TRUNC(G58*D58,1) -> 2522.1 | I58: =단가대비표!V108 -> 0 | J58: =TRUNC(I58*D58,1) -> 0 | K58: =TRUNC(E58+G58+I58,1) -> 210176 | L58: =TRUNC(F58+H58+J58,1) -> 2522.1 | N58: 5775614F3F005815C1192F9E1633B7 | O58: 57AFB1487E005AB443937EC7E6509A41E02E97 | P58: F | Q58: F | R58: T | AW58: 5775614F3F005815C1192F9E1633B757AFB1487E005AB443937EC7E6509A41E02E97
A59: [ 합 계 ] | F59: =TRUNC(SUMIF(N58:N58, N57, F58:F58),0) -> 0 | H59: =TRUNC(SUMIF(N58:N58, N57, H58:H58),0) -> 2522 | J59: =TRUNC(SUMIF(N58:N58, N57, J58:J58),0) -> 0 | L59: =F59+H59+J59 -> 2522 | N59: TOTAL | O59: TOTAL
A61: 구조부 먹매김 일반 M2 건축 11-1-1 ( 호표 8 ) | N61: 5775614F3F005815C1192F9E163565
A62: 건축목공 | B62: 일반공사 직종 | C62: 인 | D62: 0.005 | E62: =단가대비표!O108 -> 0 | F62: =TRUNC(E62*D62,1) -> 0 | G62: =단가대비표!P108 -> 210176 | H62: =TRUNC(G62*D62,1) -> 1050.8 | I62: =단가대비표!V108 -> 0 | J62: =TRUNC(I62*D62,1) -> 0 | K62: =TRUNC(E62+G62+I62,1) -> 210176 | L62: =TRUNC(F62+H62+J62,1) -> 1050.8 | N62: 5775614F3F005815C1192F9E163565 | O62: 57AFB1487E005AB443937EC7E6509A41E02E97 | P62: F | Q62: F | R62: T | AW62: 5775614F3F005815C1192F9E16356557AFB1487E005AB443937EC7E6509A41E02E97
A63: [ 합 계 ] | F63: =TRUNC(SUMIF(N62:N62, N61, F62:F62),0) -> 0 | H63: =TRUNC(SUMIF(N62:N62, N61, H62:H62),0) -> 1050 | J63: =TRUNC(SUMIF(N62:N62, N61, J62:J62),0) -> 0 | L63: =F63+H63+J63 -> 1050 | N63: TOTAL | O63: TOTAL
A65: 잡석지정 굴삭기 0.2m3+진동롤러(핸드가이드식) M3 공통 3-2-4 ( 호표 9 ) | N65: 5775414A890058A9AE59F2FCE08318
A66: 굴삭기(무한궤도) | B66: 0.2㎥ | C66: HR | D66: 0.07 | E66: =일위대가목록!E42 -> 7574 | F66: =TRUNC(E66*D66,1) -> 530.1 | G66: =일위대가목록!F42 -> 42267 | H66: =TRUNC(G66*D66,1) -> 2958.6 | I66: =일위대가목록!G42 -> 12301 | J66: =TRUNC(I66*D66,1) -> 861 | K66: =TRUNC(E66+G66+I66,1) -> 62142 | L66: =TRUNC(F66+H66+J66,1) -> 4349.7 | N66: 5775414A890058A9AE59F2FCE08318 | O66: 5060D143F000551FB6AB4F043B78E08394E2F3C5 | P66: T | Q66: F | R66: F | AW66: 5775414A890058A9AE59F2FCE083185060D143F000551FB6AB4F043B78E08394E2F3C5
A67: 진동롤러(핸드가이드식) | B67: 0.7ton | C67: HR | D67: 0.086 | E67: =일위대가목록!E43 -> 3112 | F67: =TRUNC(E67*D67,1) -> 267.6 | G67: =일위대가목록!F43 -> 28949 | H67: =TRUNC(G67*D67,1) -> 2489.6 | I67: =일위대가목록!G43 -> 1680 | J67: =TRUNC(I67*D67,1) -> 144.4 | K67: =TRUNC(E67+G67+I67,1) -> 33741 | L67: =TRUNC(F67+H67+J67,1) -> 2901.6 | N67: 5775414A890058A9AE59F2FCE08318 | O67: 5060D143F000551EAD8BF903C8E99778108A4533 | P67: T | Q67: F | R67: F | AW67: 5775414A890058A9AE59F2FCE083185060D143F000551EAD8BF903C8E99778108A4533
A68: 잡석 | B68: (별도) | C68: M3 | D68: 1.1 | E68: =단가대비표!O15 -> 0 | F68: =TRUNC(E68*D68,1) -> 0 | G68: =단가대비표!P15 -> 0 | H68: =TRUNC(G68*D68,1) -> 0 | I68: =단가대비표!V15 -> 0 | J68: =TRUNC(I68*D68,1) -> 0 | K68: =TRUNC(E68+G68+I68,1) -> 0 | L68: =TRUNC(F68+H68+J68,1) -> 0 | M68: 별도 | N68: 5775414A890058A9AE59F2FCE08318 | O68: 507121462A00533A03FC3BDA8A3C6395964E70 | P68: F | Q68: F | R68: T | AW68: 5775414A890058A9AE59F2FCE08318507121462A00533A03FC3BDA8A3C6395964E70
A69: 자갈 | B69: (별도), 40mm, #467 | C69: M3 | D69: 0.3 | E69: =단가대비표!O14 -> 0 | F69: =TRUNC(E69*D69,1) -> 0 | G69: =단가대비표!P14 -> 0 | H69: =TRUNC(G69*D69,1) -> 0 | I69: =단가대비표!V14 -> 0 | J69: =TRUNC(I69*D69,1) -> 0 | K69: =TRUNC(E69+G69+I69,1) -> 0 | L69: =TRUNC(F69+H69+J69,1) -> 0 | M69: 별도 | N69: 5775414A890058A9AE59F2FCE08318 | O69: 507121462A00533A03F4E7EE7E112F8CE6CEF4 | P69: F | Q69: F | R69: T | AW69: 5775414A890058A9AE59F2FCE08318507121462A00533A03F4E7EE7E112F8CE6CEF4
A70: [ 합 계 ] | F70: =TRUNC(SUMIF(N66:N69, N65, F66:F69),0) -> 797 | H70: =TRUNC(SUMIF(N66:N69, N65, H66:H69),0) -> 5448 | J70: =TRUNC(SUMIF(N66:N69, N65, J66:J69),0) -> 1005 | L70: =F70+H70+J70 -> 7250 | N70: TOTAL | O70: TOTAL
A72: 방습필름 설치 - 바닥 폴리에틸렌필름, 두께, 0.03mm, 2겹 M2 건축 5-3-3 ( 호표 10 ) | N72: 5775814C06005436DC90933F8E99CD
A73: 폴리에틸렌필름 | B73: 폴리에틸렌필름, 두께, 0.03mm | C73: M2 | D73: 2.3 | E73: =단가대비표!O21 -> 162 | F73: =TRUNC(E73*D73,1) -> 372.6 | G73: =단가대비표!P21 -> 0 | H73: =TRUNC(G73*D73,1) -> 0 | I73: =단가대비표!V21 -> 0 | J73: =TRUNC(I73*D73,1) -> 0 | K73: =TRUNC(E73+G73+I73,1) -> 162 | L73: =TRUNC(F73+H73+J73,1) -> 372.6 | N73: 5775814C06005436DC90933F8E99CD | O73: 5071014B79005B53BB111EC1E8A3EF498E339D | P73: F | Q73: F | R73: T | AW73: 5775814C06005436DC90933F8E99CD5071014B79005B53BB111EC1E8A3EF498E339D
A74: 방습필름 설치 | B74: 바닥 | C74: M2 | D74: 1 | E74: =일위대가목록!E44 -> 0 | F74: =TRUNC(E74*D74,1) -> 0 | G74: =일위대가목록!F44 -> 1154 | H74: =TRUNC(G74*D74,1) -> 1154 | I74: =일위대가목록!G44 -> 0 | J74: =TRUNC(I74*D74,1) -> 0 | K74: =TRUNC(E74+G74+I74,1) -> 1154 | L74: =TRUNC(F74+H74+J74,1) -> 1154 | N74: 5775814C06005436DC90933F8E99CD | O74: 5775814C06005436DE5E27F28C6D92 | P74: T | Q74: F | R74: F | AW74: 5775814C06005436DC90933F8E99CD5775814C06005436DE5E27F28C6D92
A75: [ 합 계 ] | F75: =TRUNC(SUMIF(N73:N74, N72, F73:F74),0) -> 372 | H75: =TRUNC(SUMIF(N73:N74, N72, H73:H74),0) -> 1154 | J75: =TRUNC(SUMIF(N73:N74, N72, J73:J74),0) -> 0 | L75: =F75+H75+J75 -> 1526 | N75: TOTAL | O75: TOTAL
A77: 콘크리트 펌프차 타설(철근) 기초외,50m3미만타설/회,슬럼프 15cm M3 ( 호표 11 ) | N77: 577531450A00528CE92E59933E281C
A78: 콘크리트 펌프차 타설(벽,기둥,슬래브 등) | B78: 100m3 미만, 슬럼프 15cm, 보통 | C78: 회 | D78: 0.02 | E78: =중기단가목록!E9 -> 152291 | F78: =TRUNC(E78*D78,1) -> 3045.8 | G78: =중기단가목록!F9 -> 1407465 | H78: =TRUNC(G78*D78,1) -> 28149.3 | I78: =중기단가목록!G9 -> 391381 | J78: =TRUNC(I78*D78,1) -> 7827.6 | K78: =TRUNC(E78+G78+I78,1) -> 1951137 | L78: =TRUNC(F78+H78+J78,1) -> 39022.7 | N78: 577531450A00528CE92E59933E281C | O78: 577531444F0054B787A66D0E7D986A | P78: F | Q78: T | R78: F | AW78: 577531450A00528CE92E59933E281C577531444F0054B787A66D0E7D986A
A79: [ 합 계 ] | F79: =TRUNC(SUMIF(N78:N78, N77, F78:F78),0) -> 3045 | H79: =TRUNC(SUMIF(N78:N78, N77, H78:H78),0) -> 28149 | J79: =TRUNC(SUMIF(N78:N78, N77, J78:J78),0) -> 7827 | L79: =F79+H79+J79 -> 39021 | N79: TOTAL | O79: TOTAL
A81: 콘크리트 펌프차 타설(무근) 50m3미만타설/회,슬럼프 8~12cm M3 ( 호표 12 ) | N81: 577531450A00528CE92E5991709F54
A82: 콘크리트 펌프차 타설(무근, 진동기無) | B82: 100m3 미만, 슬럼프 8~12cm, 보통(매트기초 등) | C82: 회 | D82: 0.02 | E82: =중기단가목록!E10 -> 122857 | F82: =TRUNC(E82*D82,1) -> 2457.1 | G82: =중기단가목록!F10 -> 934698 | H82: =TRUNC(G82*D82,1) -> 18693.9 | I82: =중기단가목록!G10 -> 305699 | J82: =TRUNC(I82*D82,1) -> 6113.9 | K82: =TRUNC(E82+G82+I82,1) -> 1363254 | L82: =TRUNC(F82+H82+J82,1) -> 27264.9 | N82: 577531450A00528CE92E5991709F54 | O82: 577531444F00570BC68B610FB9B7E3 | P82: F | Q82: T | R82: F | AW82: 577531450A00528CE92E5991709F54577531444F00570BC68B610FB9B7E3
A83: [ 합 계 ] | F83: =TRUNC(SUMIF(N82:N82, N81, F82:F82),0) -> 2457 | H83: =TRUNC(SUMIF(N82:N82, N81, H82:H82),0) -> 18693 | J83: =TRUNC(SUMIF(N82:N82, N81, J82:J82),0) -> 6113 | L83: =F83+H83+J83 -> 27263 | N83: TOTAL | O83: TOTAL
A85: 철근 현장가공 및 조립 보통 TON 공통 6-2-1 ( 호표 13 ) | N85: 5750C143B9005F6B22FE0F93B40B36
A86: 철선 | B86: 철선, 어닐링, ∮0.9mm | C86: kg | D86: 6.5 | E86: =단가대비표!O73 -> 1220 | F86: =TRUNC(E86*D86,1) -> 7930 | G86: =단가대비표!P73 -> 0 | H86: =TRUNC(G86*D86,1) -> 0 | I86: =단가대비표!V73 -> 0 | J86: =TRUNC(I86*D86,1) -> 0 | K86: =TRUNC(E86+G86+I86,1) -> 1220 | L86: =TRUNC(F86+H86+J86,1) -> 7930 | N86: 5750C143B9005F6B22FE0F93B40B36 | O86: 50567145DA0059BF0FF074355B4D6C91E67749 | P86: F | Q86: F | R86: T | AW86: 5750C143B9005F6B22FE0F93B40B3650567145DA0059BF0FF074355B4D6C91E67749
A87: 철근 현장가공 | B87: 보통 | C87: TON | D87: 1 | E87: =일위대가목록!E46 -> 0 | F87: =TRUNC(E87*D87,1) -> 0 | G87: =일위대가목록!F46 -> 334276 | H87: =TRUNC(G87*D87,1) -> 334276 | I87: =일위대가목록!G46 -> 6685 | J87: =TRUNC(I87*D87,1) -> 6685 | K87: =TRUNC(E87+G87+I87,1) -> 340961 | L87: =TRUNC(F87+H87+J87,1) -> 340961 | N87: 5750C143B9005F6B22FE0F93B40B36 | O87: 5750C143B9005F6B22FC40759C24F5 | P87: T | Q87: F | R87: F | AW87: 5750C143B9005F6B22FE0F93B40B365750C143B9005F6B22FC40759C24F5
A88: 철근 현장조립 | B88: 보통 | C88: TON | D88: 1 | E88: =일위대가목록!E47 -> 0 | F88: =TRUNC(E88*D88,1) -> 0 | G88: =일위대가목록!F47 -> 507398 | H88: =TRUNC(G88*D88,1) -> 507398 | I88: =일위대가목록!G47 -> 0 | J88: =TRUNC(I88*D88,1) -> 0 | K88: =TRUNC(E88+G88+I88,1) -> 507398 | L88: =TRUNC(F88+H88+J88,1) -> 507398 | N88: 5750C143B9005F6B22FE0F93B40B36 | O88: 5750C143B9005F6B22FC43CE1C50C7 | P88: T | Q88: F | R88: F | AW88: 5750C143B9005F6B22FE0F93B40B365750C143B9005F6B22FC43CE1C50C7
A89: [ 합 계 ] | F89: =TRUNC(SUMIF(N86:N88, N85, F86:F88),0) -> 7930 | H89: =TRUNC(SUMIF(N86:N88, N85, H86:H88),0) -> 841674 | J89: =TRUNC(SUMIF(N86:N88, N85, J86:J88),0) -> 6685 | L89: =F89+H89+J89 -> 856289 | N89: TOTAL | O89: TOTAL
A91: 유로폼 설치 및 해체 보통, 수직고 7m까지 M2 공통 6-3-3 ( 호표 14 ) | N91: 577531443E005B98D82F7FA441F468
A92: 유로폼 - 자재비 | C92: M2 | D92: 1 | E92: =일위대가목록!E48 -> 2495 | F92: =TRUNC(E92*D92,1) -> 2495 | G92: =일위대가목록!F48 -> 0 | H92: =TRUNC(G92*D92,1) -> 0 | I92: =일위대가목록!G48 -> 0 | J92: =TRUNC(I92*D92,1) -> 0 | K92: =TRUNC(E92+G92+I92,1) -> 2495 | L92: =TRUNC(F92+H92+J92,1) -> 2495 | N92: 577531443E005B98D82F7FA441F468 | O92: 577531443E005B98D82E59A2F0A6E7 | P92: T | Q92: F | R92: F | AW92: 577531443E005B98D82F7FA441F468577531443E005B98D82E59A2F0A6E7
A93: 유로폼 - 인력투입 | B93: 보통, 수직고 7m까지 | C93: M2 | D93: 1 | E93: =일위대가목록!E49 -> 0 | F93: =TRUNC(E93*D93,1) -> 0 | G93: =일위대가목록!F49 -> 25745 | H93: =TRUNC(G93*D93,1) -> 25745 | I93: =일위대가목록!G49 -> 772 | J93: =TRUNC(I93*D93,1) -> 772 | K93: =TRUNC(E93+G93+I93,1) -> 26517 | L93: =TRUNC(F93+H93+J93,1) -> 26517 | N93: 577531443E005B98D82F7FA441F468 | O93: 577531443E005B98D82E5A4854AF84 | P93: T | Q93: F | R93: F | AW93: 577531443E005B98D82F7FA441F468577531443E005B98D82E5A4854AF84
A94: [ 합 계 ] | F94: =TRUNC(SUMIF(N92:N93, N91, F92:F93),0) -> 2495 | H94: =TRUNC(SUMIF(N92:N93, N91, H92:H93),0) -> 25745 | J94: =TRUNC(SUMIF(N92:N93, N91, J92:J93),0) -> 772 | L94: =F94+H94+J94 -> 29012 | N94: TOTAL | O94: TOTAL
A96: 합판거푸집 설치 및 해체 보통 4회, 수직고 7m까지 M2 공통 6-3-1 ( 호표 15 ) | N96: 577531443E005D45AF13244E9386C9
A97: 합판거푸집 - 자재비 | B97: 4회 | C97: M2 | D97: 1 | E97: =일위대가목록!E50 -> 9346 | F97: =TRUNC(E97*D97,1) -> 9346 | G97: =일위대가목록!F50 -> 0 | H97: =TRUNC(G97*D97,1) -> 0 | I97: =일위대가목록!G50 -> 0 | J97: =TRUNC(I97*D97,1) -> 0 | K97: =TRUNC(E97+G97+I97,1) -> 9346 | L97: =TRUNC(F97+H97+J97,1) -> 9346 | N97: 577531443E005D45AF13244E9386C9 | O97: 577531443E005D45AF121E63CEC1E4 | P97: T | Q97: F | R97: F | AW97: 577531443E005D45AF13244E9386C9577531443E005D45AF121E63CEC1E4
A98: 합판거푸집 - 인력투입 | B98: 보통, 수직고 7m까지 | C98: M2 | D98: 1 | E98: =일위대가목록!E51 -> 0 | F98: =TRUNC(E98*D98,1) -> 0 | G98: =일위대가목록!F51 -> 27904 | H98: =TRUNC(G98*D98,1) -> 27904 | I98: =일위대가목록!G51 -> 279 | J98: =TRUNC(I98*D98,1) -> 279 | K98: =TRUNC(E98+G98+I98,1) -> 28183 | L98: =TRUNC(F98+H98+J98,1) -> 28183 | N98: 577531443E005D45AF13244E9386C9 | O98: 577531443E005D45AF121F0AB8B1CC | P98: T | Q98: F | R98: F | AW98: 577531443E005D45AF13244E9386C9577531443E005D45AF121F0AB8B1CC
A99: [ 합 계 ] | F99: =TRUNC(SUMIF(N97:N98, N96, F97:F98),0) -> 9346 | H99: =TRUNC(SUMIF(N97:N98, N96, H97:H98),0) -> 27904 | J99: =TRUNC(SUMIF(N97:N98, N96, J97:J98),0) -> 279 | L99: =F99+H99+J99 -> 37529 | N99: TOTAL | O99: TOTAL
A101: 케미컬앵커 HVU M16*125 + HIT-C M16*190 EA ( 호표 16 ) | N101: 57752145E40052E3F9C2E84381A585
A102: 착암공 | B102: 일반공사 직종 | C102: 인 | D102: 0.016 | E102: =단가대비표!O106 -> 0 | F102: =TRUNC(E102*D102,1) -> 0 | G102: =단가대비표!P106 -> 156731 | H102: =TRUNC(G102*D102,1) -> 2507.6 | I102: =단가대비표!V106 -> 0 | J102: =TRUNC(I102*D102,1) -> 0 | K102: =TRUNC(E102+G102+I102,1) -> 156731 | L102: =TRUNC(F102+H102+J102,1) -> 2507.6 | N102: 57752145E40052E3F9C2E84381A585 | O102: 57AFB1487E005AB443937EC7E6509A41E02D88 | P102: F | Q102: F | R102: T | AW102: 57752145E40052E3F9C2E84381A58557AFB1487E005AB443937EC7E6509A41E02D88
A103: 특별인부 | B103: 일반공사 직종 | C103: 인 | D103: 0.018 | E103: =단가대비표!O100 -> 0 | F103: =TRUNC(E103*D103,1) -> 0 | G103: =단가대비표!P100 -> 166063 | H103: =TRUNC(G103*D103,1) -> 2989.1 | I103: =단가대비표!V100 -> 0 | J103: =TRUNC(I103*D103,1) -> 0 | K103: =TRUNC(E103+G103+I103,1) -> 166063 | L103: =TRUNC(F103+H103+J103,1) -> 2989.1 | N103: 57752145E40052E3F9C2E84381A585 | O103: 57AFB1487E005AB443937EC7E6509A41E02CE4 | P103: F | Q103: F | R103: T | AW103: 57752145E40052E3F9C2E84381A58557AFB1487E005AB443937EC7E6509A41E02CE4
A104: 보통인부 | B104: 일반공사 직종 | C104: 인 | D104: 0.011 | E104: =단가대비표!O99 -> 0 | F104: =TRUNC(E104*D104,1) -> 0 | G104: =단가대비표!P99 -> 138290 | H104: =TRUNC(G104*D104,1) -> 1521.1 | I104: =단가대비표!V99 -> 0 | J104: =TRUNC(I104*D104,1) -> 0 | K104: =TRUNC(E104+G104+I104,1) -> 138290 | L104: =TRUNC(F104+H104+J104,1) -> 1521.1 | N104: 57752145E40052E3F9C2E84381A585 | O104: 57AFB1487E005AB443937EC7E6509A41E02CE5 | P104: F | Q104: F | R104: T | AW104: 57752145E40052E3F9C2E84381A58557AFB1487E005AB443937EC7E6509A41E02CE5
A105: 함마드릴 | B105: TE 70 | C105: 대 | D105: 6.5e-05 | E105: =단가대비표!O76 -> 0 | F105: =TRUNC(E105*D105,1) -> 0 | G105: =단가대비표!P76 -> 0 | H105: =TRUNC(G105*D105,1) -> 0 | I105: =단가대비표!V76 -> 2760000 | J105: =TRUNC(I105*D105,1) -> 179.4 | K105: =TRUNC(E105+G105+I105,1) -> 2760000 | L105: =TRUNC(F105+H105+J105,1) -> 179.4 | N105: 57752145E40052E3F9C2E84381A585 | O105: 50567145DA005A5EBA0CE58B288B12B18FAFB9 | P105: F | Q105: F | R105: T | AW105: 57752145E40052E3F9C2E84381A58550567145DA005A5EBA0CE58B288B12B18FAFB9
A106: 드릴비트 | B106: TE-YX 18/52 | C106: 개 | D106: 0.002404 | E106: =단가대비표!O79 -> 165000 | F106: =TRUNC(E106*D106,1) -> 396.6 | G106: =단가대비표!P79 -> 0 | H106: =TRUNC(G106*D106,1) -> 0 | I106: =단가대비표!V79 -> 0 | J106: =TRUNC(I106*D106,1) -> 0 | K106: =TRUNC(E106+G106+I106,1) -> 165000 | L106: =TRUNC(F106+H106+J106,1) -> 396.6 | N106: 57752145E40052E3F9C2E84381A585 | O106: 50567145DA005A5EBA0CE58B288B1083F1C8E9 | P106: F | Q106: F | R106: T | AW106: 57752145E40052E3F9C2E84381A58550567145DA005A5EBA0CE58B288B1083F1C8E9
A107: 케미컬약액 | B107: HVU M16*125 | C107: 개 | D107: 1 | E107: =단가대비표!O77 -> 9700 | F107: =TRUNC(E107*D107,1) -> 9700 | G107: =단가대비표!P77 -> 0 | H107: =TRUNC(G107*D107,1) -> 0 | I107: =단가대비표!V77 -> 0 | J107: =TRUNC(I107*D107,1) -> 0 | K107: =TRUNC(E107+G107+I107,1) -> 9700 | L107: =TRUNC(F107+H107+J107,1) -> 9700 | N107: 57752145E40052E3F9C2E84381A585 | O107: 50567145DA005A5EBA0CE58B288B12B441A833 | P107: F | Q107: F | R107: T | AW107: 57752145E40052E3F9C2E84381A58550567145DA005A5EBA0CE58B288B12B441A833
A108: 앵커롯드 | B108: HIT-C M16*190 | C108: 개 | D108: 1 | E108: =단가대비표!O78 -> 2700 | F108: =TRUNC(E108*D108,1) -> 2700 | G108: =단가대비표!P78 -> 0 | H108: =TRUNC(G108*D108,1) -> 0 | I108: =단가대비표!V78 -> 0 | J108: =TRUNC(I108*D108,1) -> 0 | K108: =TRUNC(E108+G108+I108,1) -> 2700 | L108: =TRUNC(F108+H108+J108,1) -> 2700 | N108: 57752145E40052E3F9C2E84381A585 | O108: 50567145DA005A5EBA0CE58B288B135757F83E | P108: F | Q108: F | R108: T | AW108: 57752145E40052E3F9C2E84381A58550567145DA005A5EBA0CE58B288B135757F83E
A109: 셋팅툴 | B109: 소켓 3/4" SW24 | C109: 개 | D109: 0.001 | E109: =단가대비표!O80 -> 0 | F109: =TRUNC(E109*D109,1) -> 0 | G109: =단가대비표!P80 -> 0 | H109: =TRUNC(G109*D109,1) -> 0 | I109: =단가대비표!V80 -> 30000 | J109: =TRUNC(I109*D109,1) -> 30 | K109: =TRUNC(E109+G109+I109,1) -> 30000 | L109: =TRUNC(F109+H109+J109,1) -> 30 | N109: 57752145E40052E3F9C2E84381A585 | O109: 50567145DA005A5EBA0CE58B288B173222C7C7 | P109: F | Q109: F | R109: T | AW109: 57752145E40052E3F9C2E84381A58550567145DA005A5EBA0CE58B288B173222C7C7
A110: 셋팅툴 | B110: 어댑터 TE-FY-3/4" | C110: 개 | D110: 0.001 | E110: =단가대비표!O81 -> 0 | F110: =TRUNC(E110*D110,1) -> 0 | G110: =단가대비표!P81 -> 0 | H110: =TRUNC(G110*D110,1) -> 0 | I110: =단가대비표!V81 -> 18000 | J110: =TRUNC(I110*D110,1) -> 18 | K110: =TRUNC(E110+G110+I110,1) -> 18000 | L110: =TRUNC(F110+H110+J110,1) -> 18 | N110: 57752145E40052E3F9C2E84381A585 | O110: 50567145DA005A5EBA0CE58B288B1737A10CCD | P110: F | Q110: F | R110: T | AW110: 57752145E40052E3F9C2E84381A58550567145DA005A5EBA0CE58B288B1737A10CCD
A111: [ 합 계 ] | F111: =TRUNC(SUMIF(N102:N110, N101, F102:F110),0) -> 12796 | H111: =TRUNC(SUMIF(N102:N110, N101, H102:H110),0) -> 7017 | J111: =TRUNC(SUMIF(N102:N110, N101, J102:J110),0) -> 227 | L111: =F111+H111+J111 -> 20040 | N111: TOTAL | O111: TOTAL
A113: 수밀코킹(실리콘) 삼각, 10mm, 창호주위 M 건축 6-6-1 ( 호표 17 ) | N113: 5775F1495D0055668A14ACE2B9518E
A114: 실링재 | B114: 실링재, 실리콘, 비초산, 유리용, 창호주위 | C114: L | D114: 0.06 | E114: =단가대비표!O86 -> 9433 | F114: =TRUNC(E114*D114,1) -> 565.9 | G114: =단가대비표!P86 -> 0 | H114: =TRUNC(G114*D114,1) -> 0 | I114: =단가대비표!V86 -> 0 | J114: =TRUNC(I114*D114,1) -> 0 | K114: =TRUNC(E114+G114+I114,1) -> 9433 | L114: =TRUNC(F114+H114+J114,1) -> 565.9 | N114: 5775F1495D0055668A14ACE2B9518E | O114: 50567145EB005254A8608AAFEB6441786C0529 | P114: F | Q114: F | R114: T | AW114: 5775F1495D0055668A14ACE2B9518E50567145EB005254A8608AAFEB6441786C0529
A115: 수밀코킹 | B115: 재료비 별도 | C115: M | D115: 1 | E115: =일위대가목록!E52 -> 0 | F115: =TRUNC(E115*D115,1) -> 0 | G115: =일위대가목록!F52 -> 4483 | H115: =TRUNC(G115*D115,1) -> 4483 | I115: =일위대가목록!G52 -> 0 | J115: =TRUNC(I115*D115,1) -> 0 | K115: =TRUNC(E115+G115+I115,1) -> 4483 | L115: =TRUNC(F115+H115+J115,1) -> 4483 | N115: 5775F1495D0055668A14ACE2B9518E | O115: 5775F1495D00560ABF39499A89F7B2 | P115: T | Q115: F | R115: F | AW115: 5775F1495D0055668A14ACE2B9518E5775F1495D00560ABF39499A89F7B2
A116: [ 합 계 ] | F116: =TRUNC(SUMIF(N114:N115, N113, F114:F115),0) -> 565 | H116: =TRUNC(SUMIF(N114:N115, N113, H114:H115),0) -> 4483 | J116: =TRUNC(SUMIF(N114:N115, N113, J114:J115),0) -> 0 | L116: =F116+H116+J116 -> 5048 | N116: TOTAL | O116: TOTAL
...

Sheet 중기단가목록
A1: 중 기 단 가 목 록
A2: [ 국립생태원 맹금사 안전망 교체공사 ]
A3: 코 드 | B3: 품 명 | C3: 규 격 | D3: 단위 | E3: 재 료 비 | F3: 노 무 비 | G3: 경 비 | H3: 합 계 | I3: 번 호 | J3: 비 고 | K3: START
A4: 5750D14202005A5749D84B918B45DE | B4: 터파기/토사 | C4: 보통, 굴삭기 0.7m3 90%, 인력10% | D4: M3 | E4: 270 | F4: 3410 | G4: 325 | H4: 4005 | I4: 산근 1 | K4: 5750D14202005A5749D84B918B45DE
A5: 5750D142DE005217FDA5752C8526C8 | B5: 되메우기/토사, 두께 10cm | C5: 보통, 굴삭기 0.7m3+플레이트콤팩터 1.5ton+인력 10% | D5: M3 | E5: 370 | F5: 6684 | G5: 290 | H5: 7344 | I5: 산근 2 | K5: 5750D142DE005217FDA5752C8526C8
A6: 5750D142CD005EF33B3B3707A41997 | B6: 토사(단지내 잔토포설) | C6: 보통, 굴삭기 0.7m3 | D6: M3 | E6: 170 | F6: 406 | G6: 205 | H6: 781 | I6: 산근 3 | K6: 5750D142CD005EF33B3B3707A41997
A7: 5750D142DE005217FDA5752C8526C9 | B7: 성토다지기 | C7: 보통, 굴삭기 0.7m3+플레이트콤팩터 1.5ton+인력 10% | D7: M3 | E7: 370 | F7: 6684 | G7: 290 | H7: 7344 | I7: 산근 4 | K7: 5750D142DE005217FDA5752C8526C9
A8: 5774314D720059CA8946A84FD8398C | B8: 운반비(트레일러 20ton+크레인 10ton) | C8: 철근, L:10km | D8: TON | E8: 0 | F8: 0 | G8: 8692 | H8: 8692 | I8: 산근 5 | K8: 5774314D720059CA8946A84FD8398C
A9: 577531444F0054B787A66D0E7D986A | B9: 콘크리트 펌프차 타설(벽,기둥,슬래브 등) | C9: 100m3 미만, 슬럼프 15cm, 보통 | D9: 회 | E9: 152291 | F9: 1407465 | G9: 391381 | H9: 1951137 | I9: 산근 6 | K9: 577531444F0054B787A66D0E7D986A
A10: 577531444F00570BC68B610FB9B7E3 | B10: 콘크리트 펌프차 타설(무근, 진동기無) | C10: 100m3 미만, 슬럼프 8~12cm, 보통(매트기초 등) | D10: 회 | E10: 122857 | F10: 934698 | G10: 305699 | H10: 1363254 | I10: 산근 7 | K10: 577531444F00570BC68B610FB9B7E3

Sheet 중기단가산출서
A1: 중 기 단 가 산 출 서
A2: [ 국립생태원 맹금사 안전망 교체공사 ]
A3: 산 출 내 역 | B3: 재 료 비 | C3: 노 무 비 | D3: 경 비 | E3: 합 계 | F3: 비 고 | G3: START | H3: 코드 | I3: 품명 | J3: 규격 | K3: 단위 | L3: 수량
A4: 터파기/토사 보통, 굴삭기 0.7m3 90%, 인력10% M3 공통 8-2-3 ( 산근 1 ) | G4: 5750D14202005A5749D84B918B45DE | I4: 터파기/토사 | J4: 보통, 굴삭기 0.7m3 90%, 인력10% | K4: M3
G5: 5750D14202005A5749D84B918B45DE | H5: C | L5: 1
A6: 굴삭기(무한궤도),0.7㎥90%+인력10% M3 | B6: 0 | C6: 0 | D6: 0 | E6: 0 | G6: 5750D14202005A5749D84B918B45DE | H6: C! | I6: '굴삭기(무한궤도),0.7㎥90%+인력10% M3'
B7: 0 | C7: 0 | D7: 0 | E7: 0 | G7: 5750D14202005A5749D84B918B45DE | H7: C!
A8: Q1 바켓용량(M3) =0.70 | B8: 0 | C8: 0 | D8: 0 | E8: 0 | G8: 5750D14202005A5749D84B918B45DE | H8: C! | I8: q1 '바켓용량(M3)' =0.70
A9: K 바켓계수(양호1.1,보통0.90,불량0.70,파쇄암0.55) = 0.90 | B9: 0 | C9: 0 | D9: 0 | E9: 0 | G9: 5750D14202005A5749D84B918B45DE | H9: C! | I9: k '바켓계수(양호1.1,보통0.90,불량0.70,파쇄암0.55)'= 0.90
A10: F 토량환산계수(1/L) = 1/1.25= 0.8 | B10: 0 | C10: 0 | D10: 0 | E10: 0 | G10: 5750D14202005A5749D84B918B45DE | H10: C! | I10: f '토량환산계수(1/L)'= 1/1.25=?
A11: E1 터파기에 대하여 -0.05 =0.05 | B11: 0 | C11: 0 | D11: 0 | E11: 0 | G11: 5750D14202005A5749D84B918B45DE | H11: C! | I11: E1 '터파기에 대하여 -0.05'=0.05
A12: E 작업효율사질토(양호0.85,보통0.70,불량0.55) = 0.70-E1= 0.65 | B12: 0 | C12: 0 | D12: 0 | E12: 0 | G12: 5750D14202005A5749D84B918B45DE | H12: C! | I12: E '작업효율사질토(양호0.85,보통0.70,불량0.55)'= 0.70-E1=?
A13: CM 1회 싸이클시간(135˚SEC) =20 | B13: 0 | C13: 0 | D13: 0 | E13: 0 | G13: 5750D14202005A5749D84B918B45DE | H13: C! | I13: Cm '1회 싸이클시간(135˚SEC)'=20
A14: Q 시간당 작업량 (M3/HR) = 3600*Q1*K*F*E/CM/0.9= 65.52 | B14: 0 | C14: 0 | D14: 0 | E14: 0 | G14: 5750D14202005A5749D84B918B45DE | H14: C! | I14: Q '시간당 작업량 (M3/Hr)'= 3600*q1*k*f*E/Cm/0.9=?
B15: 0 | C15: 0 | D15: 0 | E15: 0 | G15: 5750D14202005A5749D84B918B45DE | H15: C!
A16: 재료비: 17718 / 65.52 = 270.4 | B16: 270.4 | C16: 0 | D16: 0 | E16: 270.4 | G16: 5750D14202005A5749D84B918B45DE | H16: C! | I16: '재료비:' ~00000201007000000.M~ / {Q} =?MA+
A17: 노무비: 42267 / 65.52 = 645.1 | B17: 0 | C17: 645.1 | D17: 0 | E17: 645.1 | G17: 5750D14202005A5749D84B918B45DE | H17: C! | I17: '노무비:' ~00000201007000000.L~ / {Q} =?LA+
A18: 경 비: 21332 / 65.52 = 325.5 | B18: 0 | C18: 0 | D18: 325.5 | E18: 325.5 | G18: 5750D14202005A5749D84B918B45DE | H18: C! | I18: '경 비:' ~00000201007000000.E~ / {Q} =?EQ+
A19: 소 계 | B19: 270.4 | C19: 645.1 | D19: 325.5 | E19: 1241 | G19: 5750D14202005A5749D84B918B45DE | H19: C! | I19: >'소 계'
B20: 0 | C20: 0 | D20: 0 | E20: 0 | G20: 5750D14202005A5749D84B918B45DE | H20: C!
A21: 인력터파기,0-1m,보통인부0.2인*10% | B21: 0 | C21: 0 | D21: 0 | E21: 0 | G21: 5750D14202005A5749D84B918B45DE | H21: C! | I21: '인력터파기,0-1m,보통인부0.2인*10%'
A22: Q 시간당 작업량 (M3/HR) = 1/8/0.2/0.1= 6.25 | B22: 0 | C22: 0 | D22: 0 | E22: 0 | G22: 5750D14202005A5749D84B918B45DE | H22: C! | I22: Q '시간당 작업량 (M3/Hr)'= 1/8/0.2/0.1=?
B23: 0 | C23: 0 | D23: 0 | E23: 0 | G23: 5750D14202005A5749D84B918B45DE | H23: C!
A24: 보통인부 1인/8HR*작업시간 | B24: 0 | C24: 0 | D24: 0 | E24: 0 | G24: 5750D14202005A5749D84B918B45DE | H24: C! | I24: '보통인부 1인/8HR*작업시간
A25: 노무비: 138290*1/8/6.25 = 2765.8 | B25: 0 | C25: 2765.8 | D25: 0 | E25: 2765.8 | G25: 5750D14202005A5749D84B918B45DE | H25: C! | I25: '노무비:' ~L001010101000002.L~*1/8/{Q} =?LA+
A26: 소 계 | B26: 0 | C26: 2765.8 | D26: 0 | E26: 2765.8 | G26: 5750D14202005A5749D84B918B45DE | H26: C! | I26: >'소 계'
A27: 총 계 | B27: 270 | C27: 3410 | D27: 325 | E27: 4005
A29: 되메우기/토사, 두께 10cm 보통, 굴삭기 0.7m3+플레이트콤팩터 1.5ton+인력 10% M3 공통 8-2-3+10 ( 산근 2 ) | G29: 5750D142DE005217FDA5752C8526C8 | I29: 되메우기/토사, 두께 10cm | J29: 보통, 굴삭기 0.7m3+플레이트콤팩터 1.5ton+인력 10% | K29: M3
G30: 5750D142DE005217FDA5752C8526C8 | H30: C | K30: M3 | L30: 1
A31: 1.굴삭기 (무한궤도)0.7㎥M3 | B31: 0 | C31: 0 | D31: 0 | E31: 0 | G31: 5750D142DE005217FDA5752C8526C8 | H31: C! | I31: '1.굴삭기 (무한궤도)0.7㎥M3 '
A32: Q1 바켓용량(M3) = 0.7 | B32: 0 | C32: 0 | D32: 0 | E32: 0 | G32: 5750D142DE005217FDA5752C8526C8 | H32: C! | I32: q1 '바켓용량(M3)'= 0.7
A33: k 바켓계수 = 1.1 | B33: 0 | C33: 0 | D33: 0 | E33: 0 | G33: 5750D142DE005217FDA5752C8526C8 | H33: C! | I33: k '바켓계수'= 1.1
A34: L1 흐트러진상태 =1.25 | B34: 0 | C34: 0 | D34: 0 | E34: 0 | G34: 5750D142DE005217FDA5752C8526C8 | H34: C! | I34: L1 '흐트러진상태' =1.25
A35: C 다져진상태 =0.875 | B35: 0 | C35: 0 | D35: 0 | E35: 0 | G35: 5750D142DE005217FDA5752C8526C8 | H35: C! | I35: C '다져진상태'=0.875
A36: F 토량환산계(C/L) =C/L1= 0.7 | B36: 0 | C36: 0 | D36: 0 | E36: 0 | G36: 5750D142DE005217FDA5752C8526C8 | H36: C! | I36: f '토량환산계(C/L)'=C/L1=?
A37: E 작업효율(양호0.9,보통0.75,불량0.6) = 0.75 | B37: 0 | C37: 0 | D37: 0 | E37: 0 | G37: 5750D142DE005217FDA5752C8526C8 | H37: C! | I37: E '작업효율(양호0.9,보통0.75,불량0.6)'= 0.75
A38: CM 1회 싸이클시간(90˚SEC) =18 | B38: 0 | C38: 0 | D38: 0 | E38: 0 | G38: 5750D142DE005217FDA5752C8526C8 | H38: C! | I38: Cm '1회 싸이클시간(90˚sec)'=18
A39: Q 시간당 작업량 (M3/HR) = 3600*Q1*K*F*E/CM/0.9= 89.833 | B39: 0 | C39: 0 | D39: 0 | E39: 0 | G39: 5750D142DE005217FDA5752C8526C8 | H39: C! | I39: Q '시간당 작업량 (M3/Hr)'= 3600*q1*k*f*E/Cm/0.9=?
A40: 재료비: 17718 / 89.833 = 197.2 | B40: 197.2 | C40: 0 | D40: 0 | E40: 197.2 | G40: 5750D142DE005217FDA5752C8526C8 | H40: C! | I40: '재료비:' ~00000201007000000.M~ / {Q} =?MA+
A41: 노무비: 42267 / 89.833 = 470.5 | B41: 0 | C41: 470.5 | D41: 0 | E41: 470.5 | G41: 5750D142DE005217FDA5752C8526C8 | H41: C! | I41: '노무비:' ~00000201007000000.L~ / {Q} =?LA+
A42: 경 비: 21332 / 89.833 = 237.4 | B42: 0 | C42: 0 | D42: 237.4 | E42: 237.4 | G42: 5750D142DE005217FDA5752C8526C8 | H42: C! | I42: '경 비:' ~00000201007000000.E~ / {Q} =?EQ+
A43: 소 계 | B43: 197.2 | C43: 470.5 | D43: 237.4 | E43: 905.1 | G43: 5750D142DE005217FDA5752C8526C8 | H43: C! | I43: >'소 계'
B44: 0 | C44: 0 | D44: 0 | E44: 0 | G44: 5750D142DE005217FDA5752C8526C8 | H44: C!
A45: 2.(인력되메우기 0.1+인력흙다짐 0.14)0.24인*10% | B45: 0 | C45: 0 | D45: 0 | E45: 0 | G45: 5750D142DE005217FDA5752C8526C8 | H45: C! | I45: '2.(인력되메우기 0.1+인력흙다짐 0.14)0.24인*10%'
A46: Q 시간당 작업량 (M3/HR) = 1/8/0.24/0.1= 5.208 | B46: 0 | C46: 0 | D46: 0 | E46: 0 | G46: 5750D142DE005217FDA5752C8526C8 | H46: C! | I46: Q '시간당 작업량 (M3/Hr)'= 1/8/0.24/0.1=?
B47: 0 | C47: 0 | D47: 0 | E47: 0 | G47: 5750D142DE005217FDA5752C8526C8 | H47: C!
A48: 보통인부 1인/8HR*작업시간 | B48: 0 | C48: 0 | D48: 0 | E48: 0 | G48: 5750D142DE005217FDA5752C8526C8 | H48: C! | I48: '보통인부 1인/8HR*작업시간
A49: 노무비: 138290*1/8/5.208 = 3319.1 | B49: 0 | C49: 3319.1 | D49: 0 | E49: 3319.1 | G49: 5750D142DE005217FDA5752C8526C8 | H49: C! | I49: '노무비:' ~L001010101000002.L~*1/8/{Q} =?LA+
A50: 소 계 | B50: 0 | C50: 3319.1 | D50: 0 | E50: 3319.1 | G50: 5750D142DE005217FDA5752C8526C8 | H50: C! | I50: >'소 계'
B51: 0 | C51: 0 | D51: 0 | E51: 0 | G51: 5750D142DE005217FDA5752C8526C8 | H51: C!
A52: 3.플레이트콤팩터,1.5톤 | B52: 0 | C52: 0 | D52: 0 | E52: 0 | G52: 5750D142DE005217FDA5752C8526C8 | H52: C! | I52: '3.플레이트콤팩터,1.5톤'
A53: V 다짐속도(KM/HR) =1 | B53: 0 | C53: 0 | D53: 0 | E53: 0 | G53: 5750D142DE005217FDA5752C8526C8 | H53: C! | I53: V '다짐속도(KM/HR)' =1
A54: W 유효 다짐 폭(M) =0.45 | B54: 0 | C54: 0 | D54: 0 | E54: 0 | G54: 5750D142DE005217FDA5752C8526C8 | H54: C! | I54: W '유효 다짐 폭(M)' =0.45
A55: D 다짐두께(M) =0.1 | B55: 0 | C55: 0 | D55: 0 | E55: 0 | G55: 5750D142DE005217FDA5752C8526C8 | H55: C! | I55: D '다짐두께(M)' =0.1
A56: E 작업효율(양호0.8,보통0.6,불량0.4) = 0.6 | B56: 0 | C56: 0 | D56: 0 | E56: 0 | G56: 5750D142DE005217FDA5752C8526C8 | H56: C! | I56: E '작업효율(양호0.8,보통0.6,불량0.4)'= 0.6
A57: L1 흐트러진상태 =1.25 | B57: 0 | C57: 0 | D57: 0 | E57: 0 | G57: 5750D142DE005217FDA5752C8526C8 | H57: C! | I57: L1 '흐트러진상태' =1.25
A58: F 토량환산계(L1/L1) =L1/L1= 1 | B58: 0 | C58: 0 | D58: 0 | E58: 0 | G58: 5750D142DE005217FDA5752C8526C8 | H58: C! | I58: f '토량환산계(L1/L1)'=L1/L1=?
A59: N 소요 다짐회수 =3 | B59: 0 | C59: 0 | D59: 0 | E59: 0 | G59: 5750D142DE005217FDA5752C8526C8 | H59: C! | I59: N '소요 다짐회수' =3
A60: Q 시간당 작업량(M3/HR) =1000*V*W*D*E*F/N/0.9= 10 | B60: 0 | C60: 0 | D60: 0 | E60: 0 | G60: 5750D142DE005217FDA5752C8526C8 | H60: C! | I60: Q '시간당 작업량(M3/HR)' =1000*V*W*D*E*f/N/0.9=?
A61: 재료비: 1734 / 10 = 173.4 | B61: 173.4 | C61: 0 | D61: 0 | E61: 173.4 | G61: 5750D142DE005217FDA5752C8526C8 | H61: C! | I61: '재료비:' ~00001730001500000.M~ / {Q} =?MA+
A62: 노무비: 28949 / 10 = 2894.9 | B62: 0 | C62: 2894.9 | D62: 0 | E62: 2894.9 | G62: 5750D142DE005217FDA5752C8526C8 | H62: C! | I62: '노무비:' ~00001730001500000.L~ / {Q} =?LA+
A63: 경 비: 529 / 10 = 52.9 | B63: 0 | C63: 0 | D63: 52.9 | E63: 52.9 | G63: 5750D142DE005217FDA5752C8526C8 | H63: C! | I63: '경 비:' ~00001730001500000.E~ / {Q} =?EQ+
A64: 소 계 | B64: 173.4 | C64: 2894.9 | D64: 52.9 | E64: 3121.2 | G64: 5750D142DE005217FDA5752C8526C8 | H64: C! | I64: >'소 계'
B65: 0 | C65: 0 | D65: 0 | E65: 0 | G65: 5750D142DE005217FDA5752C8526C8 | H65: C!
A66: 합 계 | B66: 370.6 | C66: 6684.5 | D66: 290.3 | E66: 7345.4 | G66: 5750D142DE005217FDA5752C8526C8 | H66: C! | I66: >>'합 계'
A67: 총 계 | B67: 370 | C67: 6684 | D67: 290 | E67: 7344
A69: 토사(단지내 잔토포설) 보통, 굴삭기 0.7m3 M3 공통 8-2-3 ( 산근 3 ) | G69: 5750D142CD005EF33B3B3707A41997 | I69: 토사(단지내 잔토포설) | J69: 보통, 굴삭기 0.7m3 | K69: M3
G70: 5750D142CD005EF33B3B3707A41997 | H70: C | K70: M3 | L70: 1
A71: 굴삭기(무한궤도), 0.7㎥ M3 | B71: 0 | C71: 0 | D71: 0 | E71: 0 | G71: 5750D142CD005EF33B3B3707A41997 | H71: C! | I71: '굴삭기(무한궤도), 0.7㎥ M3'
B72: 0 | C72: 0 | D72: 0 | E72: 0 | G72: 5750D142CD005EF33B3B3707A41997 | H72: C!
A73: a 바켓용량 =0.7 | B73: 0 | C73: 0 | D73: 0 | E73: 0 | G73: 5750D142CD005EF33B3B3707A41997 | H73: C! | I73: a '바켓용량' =0.7
A74: K 바켓계수(용이1.1) =1.1 | B74: 0 | C74: 0 | D74: 0 | E74: 0 | G74: 5750D142CD005EF33B3B3707A41997 | H74: C! | I74: K '바켓계수(용이1.1)'=1.1
A75: f 토량환산계수 = 1 | B75: 0 | C75: 0 | D75: 0 | E75: 0 | G75: 5750D142CD005EF33B3B3707A41997 | H75: C! | I75: f '토량환산계수'= 1
A76: E 작업효율(흐트러진상태보통) = 0.75 | B76: 0 | C76: 0 | D76: 0 | E76: 0 | G76: 5750D142CD005EF33B3B3707A41997 | H76: C! | I76: E '작업효율(흐트러진상태보통)'= 0.75
A77: CM 1회 싸이클시간(135˚) =20 | B77: 0 | C77: 0 | D77: 0 | E77: 0 | G77: 5750D142CD005EF33B3B3707A41997 | H77: C! | I77: Cm '1회 싸이클시간(135˚)'=20
A78: Q 시간당 작업량 (M3/HR) = 3600*A*K*F*E/CM = 103.95 | B78: 0 | C78: 0 | D78: 0 | E78: 0 | G78: 5750D142CD005EF33B3B3707A41997 | H78: C! | I78: Q '시간당 작업량 (M3/Hr)'= 3600*a*k*f*E/Cm =?
B79: 0 | C79: 0 | D79: 0 | E79: 0 | G79: 5750D142CD005EF33B3B3707A41997 | H79: C!
A80: 재료비: 17718 / 103.95 = 170.4 | B80: 170.4 | C80: 0 | D80: 0 | E80: 170.4 | G80: 5750D142CD005EF33B3B3707A41997 | H80: C! | I80: '재료비:' ~00000201007000000.M~ / {Q} =?MA
A81: 노무비: 42267 / 103.95 = 406.6 | B81: 0 | C81: 406.6 | D81: 0 | E81: 406.6 | G81: 5750D142CD005EF33B3B3707A41997 | H81: C! | I81: '노무비:' ~00000201007000000.L~ / {Q} =?LA
A82: 경 비: 21332 / 103.95 = 205.2 | B82: 0 | C82: 0 | D82: 205.2 | E82: 205.2 | G82: 5750D142CD005EF33B3B3707A41997 | H82: C! | I82: '경 비:' ~00000201007000000.E~ / {Q} =?EQ
A83: 소 계 | B83: 170.4 | C83: 406.6 | D83: 205.2 | E83: 782.2 | G83: 5750D142CD005EF33B3B3707A41997 | H83: C! | I83: >'소 계'
A84: 총 계 | B84: 170 | C84: 406 | D84: 205 | E84: 781
A86: 성토다지기 보통, 굴삭기 0.7m3+플레이트콤팩터 1.5ton+인력 10% M3 공통 8-2-3+10 ( 산근 4 ) | G86: 5750D142DE005217FDA5752C8526C9 | I86: 성토다지기 | J86: 보통, 굴삭기 0.7m3+플레이트콤팩터 1.5ton+인력 10% | K86: M3
G87: 5750D142DE005217FDA5752C8526C9 | H87: C | K87: M3 | L87: 1
A88: 1.굴삭기 (무한궤도)0.7㎥M3 | B88: 0 | C88: 0 | D88: 0 | E88: 0 | G88: 5750D142DE005217FDA5752C8526C9 | H88: C! | I88: '1.굴삭기 (무한궤도)0.7㎥M3 '
A89: Q1 바켓용량(M3) = 0.7 | B89: 0 | C89: 0 | D89: 0 | E89: 0 | G89: 5750D142DE005217FDA5752C8526C9 | H89: C! | I89: q1 '바켓용량(M3)'= 0.7
A90: k 바켓계수 = 1.1 | B90: 0 | C90: 0 | D90: 0 | E90: 0 | G90: 5750D142DE005217FDA5752C8526C9 | H90: C! | I90: k '바켓계수'= 1.1
A91: L1 흐트러진상태 =1.25 | B91: 0 | C91: 0 | D91: 0 | E91: 0 | G91: 5750D142DE005217FDA5752C8526C9 | H91: C! | I91: L1 '흐트러진상태' =1.25
A92: C 다져진상태 =0.875 | B92: 0 | C92: 0 | D92: 0 | E92: 0 | G92: 5750D142DE005217FDA5752C8526C9 | H92: C! | I92: C '다져진상태'=0.875
A93: F 토량환산계(C/L) =C/L1= 0.7 | B93: 0 | C93: 0 | D93: 0 | E93: 0 | G93: 5750D142DE005217FDA5752C8526C9 | H93: C! | I93: f '토량환산계(C/L)'=C/L1=?
A94: E 작업효율(양호0.9,보통0.75,불량0.6) = 0.75 | B94: 0 | C94: 0 | D94: 0 | E94: 0 | G94: 5750D142DE005217FDA5752C8526C9 | H94: C! | I94: E '작업효율(양호0.9,보통0.75,불량0.6)'= 0.75
A95: CM 1회 싸이클시간(90˚SEC) =18 | B95: 0 | C95: 0 | D95: 0 | E95: 0 | G95: 5750D142DE005217FDA5752C8526C9 | H95: C! | I95: Cm '1회 싸이클시간(90˚sec)'=18
A96: Q 시간당 작업량 (M3/HR) = 3600*Q1*K*F*E/CM/0.9= 89.833 | B96: 0 | C96: 0 | D96: 0 | E96: 0 | G96: 5750D142DE005217FDA5752C8526C9 | H96: C! | I96: Q '시간당 작업량 (M3/Hr)'= 3600*q1*k*f*E/Cm/0.9=?
A97: 재료비: 17718 / 89.833 = 197.2 | B97: 197.2 | C97: 0 | D97: 0 | E97: 197.2 | G97: 5750D142DE005217FDA5752C8526C9 | H97: C! | I97: '재료비:' ~00000201007000000.M~ / {Q} =?MA+
A98: 노무비: 42267 / 89.833 = 470.5 | B98: 0 | C98: 470.5 | D98: 0 | E98: 470.5 | G98: 5750D142DE005217FDA5752C8526C9 | H98: C! | I98: '노무비:' ~00000201007000000.L~ / {Q} =?LA+
A99: 경 비: 21332 / 89.833 = 237.4 | B99: 0 | C99: 0 | D99: 237.4 | E99: 237.4 | G99: 5750D142DE005217FDA5752C8526C9 | H99: C! | I99: '경 비:' ~00000201007000000.E~ / {Q} =?EQ+
A100: 소 계 | B100: 197.2 | C100: 470.5 | D100: 237.4 | E100: 905.1 | G100: 5750D142DE005217FDA5752C8526C9 | H100: C! | I100: >'소 계'
B101: 0 | C101: 0 | D101: 0 | E101: 0 | G101: 5750D142DE005217FDA5752C8526C9 | H101: C!
A102: 2.(인력되메우기 0.1+인력흙다짐 0.14)0.24인*10% | B102: 0 | C102: 0 | D102: 0 | E102: 0 | G102: 5750D142DE005217FDA5752C8526C9 | H102: C! | I102: '2.(인력되메우기 0.1+인력흙다짐 0.14)0.24인*10%'
A103: Q 시간당 작업량 (M3/HR) = 1/8/0.24/0.1= 5.208 | B103: 0 | C103: 0 | D103: 0 | E103: 0 | G103: 5750D142DE005217FDA5752C8526C9 | H103: C! | I103: Q '시간당 작업량 (M3/Hr)'= 1/8/0.24/0.1=?
...

Sheet 단가대비표
A1: 단 가 대 비 표
A2: [ 국립생태원 맹금사 안전망 교체공사 ]
A3: 코 드 | B3: 품 명 | C3: 규격 | D3: 단위 | E3: 재 료 비 | P3: 노 무 비 | Q3: 경 비 | W3: 번 호 | X3: 비 고 | Y3: 품목구분 | Z3: 노임구분 | AA3: 소수점처리 | AB3: 자재구분
E4: 조달청가격 | F4: PAGE | G4: 거래가격 | H4: PAGE | I4: 유통물가 | J4: PAGE | K4: 물가자료 | L4: PAGE | M4: 조사가격 | N4: PAGE | O4: 적용단가 | Q4: 조달청가격 | R4: 거래가격 | S4: 유통물가 | T4: 물가자료 | U4: 조사가격 | V4: 적용단가
A5: 5060D143F000551FB6AB4F043B78E08394E2F3 | B5: 굴삭기(무한궤도) | C5: 0.2㎥ | D5: 대 | E5: 0 | G5: 0 | I5: 0 | K5: 0 | M5: 0 | O5: 0 | P5: 0 | Q5: 0 | R5: 0 | S5: 0 | T5: 0 | U5: 59000 | V5: =SMALL(Q5:U5,COUNTIF(Q5:U5,0)+1) -> 59000 | W5: 자재 1 | X5: 천원
A6: 5060D143F000551FB6AB4F043B7D62DD2D2E03 | B6: 굴삭기(무한궤도) | C6: 0.7㎥ | D6: 대 | E6: 0 | G6: 0 | I6: 0 | K6: 0 | M6: 0 | O6: 0 | P6: 0 | Q6: 0 | R6: 0 | S6: 0 | T6: 0 | U6: 102313 | V6: =SMALL(Q6:U6,COUNTIF(Q6:U6,0)+1) -> 102313 | W6: 자재 2 | X6: 천원
A7: 5060D143F000551EAD8BF903C8E99778108A45 | B7: 진동롤러(핸드가이드식) | C7: 0.7ton | D7: 대 | E7: 0 | G7: 0 | I7: 0 | K7: 0 | M7: 0 | O7: 0 | P7: 0 | Q7: 0 | R7: 0 | S7: 0 | T7: 0 | U7: 5948 | V7: =SMALL(Q7:U7,COUNTIF(Q7:U7,0)+1) -> 5948 | W7: 자재 3 | X7: 천원
A8: 5060D143F000551EA913A8C4615FDCB27A870D | B8: 플레이트 콤팩터 | C8: 1.5ton | D8: 대 | E8: 0 | G8: 0 | I8: 0 | K8: 0 | M8: 0 | O8: 0 | P8: 0 | Q8: 0 | R8: 0 | S8: 0 | T8: 0 | U8: 1428 | V8: =SMALL(Q8:U8,COUNTIF(Q8:U8,0)+1) -> 1428 | W8: 자재 4 | X8: 천원
A9: 5060D143F000551D86E2A51C0A889F5FF9949B | B9: 크레인(타이어) | C9: 10ton | D9: 대 | E9: 0 | G9: 0 | I9: 0 | K9: 0 | M9: 0 | O9: 0 | P9: 0 | Q9: 0 | R9: 0 | S9: 0 | T9: 0 | U9: 114000 | V9: =SMALL(Q9:U9,COUNTIF(Q9:U9,0)+1) -> 114000 | W9: 자재 5 | X9: 천원
A10: 5060D143F000551D86E2A47580818CBE2F0613 | B10: 트럭탑재형 크레인 | C10: 10ton | D10: 대 | E10: 0 | G10: 0 | I10: 0 | K10: 0 | M10: 0 | O10: 0 | P10: 0 | Q10: 0 | R10: 0 | S10: 0 | T10: 0 | U10: 76510 | V10: =SMALL(Q10:U10,COUNTIF(Q10:U10,0)+1) -> 76510 | W10: 자재 6 | X10: 천원
A11: 5060D143F000551D8059B70579D32BD1CCAD6E | B11: 트럭 트랙터 및 평판트레일러 | C11: 20ton | D11: 대 | E11: 0 | G11: 0 | I11: 0 | K11: 0 | M11: 0 | O11: 0 | P11: 0 | Q11: 0 | R11: 0 | S11: 0 | T11: 0 | U11: 58288 | V11: =SMALL(Q11:U11,COUNTIF(Q11:U11,0)+1) -> 58288 | W11: 자재 7 | X11: 천원 | Y11: C
A12: 5060D143F000551BDCE1CD6A63D2886765BEA7 | B12: 콘크리트 펌프차 | C12: 32m(80∼95㎥/hr) | D12: 대 | E12: 0 | G12: 0 | I12: 0 | K12: 0 | M12: 0 | O12: 0 | P12: 0 | Q12: 0 | R12: 0 | S12: 0 | T12: 0 | U12: 241467 | V12: =SMALL(Q12:U12,COUNTIF(Q12:U12,0)+1) -> 241467 | W12: 자재 8 | X12: 천원
A13: 507121462A00533A03F4E7EE7E112F8CE6C4F2 | B13: 자갈 | C13: 도착도, #467 | D13: M3 | E13: 0 | G13: 21000 | H13: 110 | I13: 0 | K13: 0 | M13: 0 | O13: =SMALL(E13:M13,COUNTIF(E13:M13,0)+1) -> 21000 | P13: 0 | Q13: 0 | R13: 0 | S13: 0 | T13: 0 | U13: 0 | V13: 0 | W13: 자재 9
A14: 507121462A00533A03F4E7EE7E112F8CE6CEF4 | B14: 자갈 | C14: (별도), 40mm, #467 | D14: M3 | E14: 0 | G14: 0 | I14: 0 | K14: 0 | M14: 0 | O14: 0 | P14: 0 | Q14: 0 | R14: 0 | S14: 0 | T14: 0 | U14: 0 | V14: 0 | W14: 자재 10 | X14: 별도
A15: 507121462A00533A03FC3BDA8A3C6395964E70 | B15: 잡석 | C15: (별도) | D15: M3 | E15: 0 | G15: 0 | I15: 0 | K15: 0 | M15: 0 | O15: 0 | P15: 0 | Q15: 0 | R15: 0 | S15: 0 | T15: 0 | U15: 0 | V15: 0 | W15: 자재 11 | X15: 별도
A16: 507121462A00533A02EE9AD3A9A9F6C4B71CA1 | B16: 모래 | C16: (별도) | D16: M3 | E16: 0 | G16: 0 | I16: 0 | K16: 0 | M16: 0 | O16: 0 | P16: 0 | Q16: 0 | R16: 0 | S16: 0 | T16: 0 | U16: 0 | V16: 0 | W16: 자재 12 | X16: 별도
A17: 507121462A00533A02EE9AD3A9A9F6C4B71D4A | B17: 모래 | C17: 도착도 | D17: M3 | E17: 0 | G17: 27000 | H17: 110 | I17: 28000 | J17: 61 | K17: 0 | M17: 0 | O17: =SMALL(E17:M17,COUNTIF(E17:M17,0)+1) -> 27000 | P17: 0 | Q17: 0 | R17: 0 | S17: 0 | T17: 0 | U17: 0 | V17: 0 | W17: 자재 13
A18: 507121462A005065803F204FE1C75383E588C9 | B18: 내수합판 | C18: 내수합판, 1급, 12*1220*2440mm | D18: M2 | E18: 8419 | G18: 9002.95 | H18: 653 | I18: 8011.95 | J18: 417 | K18: 0 | M18: 0 | O18: =SMALL(E18:M18,COUNTIF(E18:M18,0)+1) -> 8011.95 | P18: 0 | Q18: 0 | R18: 0 | S18: 0 | T18: 0 | U18: 0 | V18: 0 | W18: 자재 14
A19: 507121462A005B70C079ADEDA8E6AC6DE1868B | B19: 철강설 | C19: 철강설, 고철, 작업설부산물 | D19: kg | E19: 330 | G19: 270 | H19: 1488 | I19: 234 | J19: 1246 | K19: 0 | M19: 0 | O19: =SMALL(E19:M19,COUNTIF(E19:M19,0)+1) -> 234 | P19: 0 | Q19: 0 | R19: 0 | S19: 0 | T19: 0 | U19: 0 | V19: 0 | W19: 자재 15 | X19: 수집상차도
A20: 50711145C50051BB69E5BE4FDBF34B3CCF6621 | B20: 기타도막방수재 | C20: 기타도막방수재, 방수액고점도(1:50희석) | D20: L | E20: 0 | G20: 3754.75 | H20: 553 | I20: 3754.75 | J20: 382 | K20: 0 | M20: 0 | O20: =SMALL(E20:M20,COUNTIF(E20:M20,0)+1) -> 3754.75 | P20: 0 | Q20: 0 | R20: 0 | S20: 0 | T20: 0 | U20: 0 | V20: 0 | W20: 자재 16
A21: 5071014B79005B53BB111EC1E8A3EF498E339D | B21: 폴리에틸렌필름 | C21: 폴리에틸렌필름, 두께, 0.03mm | D21: M2 | E21: 162 | G21: 183.91 | H21: 1476 | I21: 177.04 | J21: 1230 | K21: 0 | M21: 0 | O21: =SMALL(E21:M21,COUNTIF(E21:M21,0)+1) -> 162 | P21: 0 | Q21: 0 | R21: 0 | S21: 0 | T21: 0 | U21: 0 | V21: 0 | W21: 자재 17
A22: 5071614DF700575D4FEBBD049D982F5EE3D738 | B22: 경유 | C22: 경유, 저유황 | D22: L | E22: 0 | G22: 1320.9 | H22: 1467 | I22: 1252 | J22: 1237 | K22: 0 | M22: 0 | O22: =SMALL(E22:M22,COUNTIF(E22:M22,0)+1) -> 1252 | P22: 0 | Q22: 0 | R22: 0 | S22: 0 | T22: 0 | U22: 0 | V22: 0 | W22: 자재 18
A23: 5071614DF700575D4FEBBE2F02963963A2FB4D | B23: 공업용휘발유 | C23: 공업용휘발유, 무연 | D23: L | E23: 0 | G23: 1466.36 | H23: 1467 | I23: 1445 | J23: 1237 | K23: 0 | M23: 0 | O23: =SMALL(E23:M23,COUNTIF(E23:M23,0)+1) -> 1445 | P23: 0 | Q23: 0 | R23: 0 | S23: 0 | T23: 0 | U23: 0 | V23: 0 | W23: 자재 19
A24: 5071614DF70056B7E289AC0D8438882658774A | B24: 액화석유가스 | C24: 액화석유가스, 건설용 LPG | D24: kg | E24: 1137 | G24: 0 | I24: 0 | K24: 0 | M24: 0 | O24: =SMALL(E24:M24,COUNTIF(E24:M24,0)+1) -> 1137 | P24: 0 | Q24: 0 | R24: 0 | S24: 0 | T24: 0 | U24: 0 | V24: 0 | W24: 자재 20
A25: 5045B14E99005A56542D064296FC5F8E6C25C0 | B25: 안전발판(유공발판) | C25: 400*1829mm | D25: 매 | E25: 0 | G25: 19500 | H25: 123 | I25: 24900 | J25: 83 | K25: 0 | M25: 0 | O25: =SMALL(E25:M25,COUNTIF(E25:M25,0)+1) -> 19500 | P25: 0 | Q25: 0 | R25: 0 | S25: 0 | T25: 0 | U25: 0 | V25: 0 | W25: 자재 21
A26: 5056614B4700558C5E4319E1414572B8096767 | B26: 일반봉강 | C26: 일반봉강, SS400, ∮12mm | D26: kg | E26: 0 | G26: 760 | H26: 50 | I26: 0 | K26: 0 | M26: 0 | O26: =SMALL(E26:M26,COUNTIF(E26:M26,0)+1) -> 760 | P26: 0 | Q26: 0 | R26: 0 | S26: 0 | T26: 0 | U26: 0 | V26: 0 | W26: 자재 22
A27: 5056614B4700558C5E427F3327F17D8D8AAA34 | B27: 철근콘크리트용봉강 | C27: 이형봉강(SD350/400), HD-10, 하치장상차도 | D27: TON | E27: 696300 | G27: 0 | I27: 0 | K27: 0 | M27: 0 | O27: =SMALL(E27:M27,COUNTIF(E27:M27,0)+1) -> 696300 | P27: 0 | Q27: 0 | R27: 0 | S27: 0 | T27: 0 | U27: 0 | V27: 0 | W27: 자재 23
A28: 5056614B4700558C5E427F3327F17D8D8AAA33 | B28: 철근콘크리트용봉강 | C28: 이형봉강(SD350/400), HD-13, 하치장상차도 | D28: TON | E28: 685850 | G28: 0 | I28: 0 | K28: 0 | M28: 0 | O28: =SMALL(E28:M28,COUNTIF(E28:M28,0)+1) -> 685850 | P28: 0 | Q28: 0 | R28: 0 | S28: 0 | T28: 0 | U28: 0 | V28: 0 | W28: 자재 24
A29: 5056614B4700558C5E427F3327F17D8D8AAA32 | B29: 철근콘크리트용봉강 | C29: 이형봉강(SD350/400), HD-16, 하치장상차도 | D29: TON | E29: 680620 | G29: 0 | I29: 0 | K29: 0 | M29: 0 | O29: =SMALL(E29:M29,COUNTIF(E29:M29,0)+1) -> 680620 | P29: 0 | Q29: 0 | R29: 0 | S29: 0 | T29: 0 | U29: 0 | V29: 0 | W29: 자재 25
A30: 5056614B4700558C5E427F3327F17D8808AEF7 | B30: 철근콘크리트용봉강(관급) | C30: 이형봉강(SD350/400), HD-10, 지정장소도 | D30: TON | E30: 0 | G30: 0 | I30: 0 | K30: 0 | M30: 0 | O30: 0 | P30: 0 | Q30: 0 | R30: 0 | S30: 0 | T30: 0 | U30: 0 | V30: 0 | W30: 자재 26
A31: 5056614B4700558C5E427F3327F17D880B6345 | B31: 철근콘크리트용봉강(관급) | C31: 이형봉강(SD350/400), HD-13, 지정장소도 | D31: TON | E31: 0 | G31: 0 | I31: 0 | K31: 0 | M31: 0 | O31: 0 | P31: 0 | Q31: 0 | R31: 0 | S31: 0 | T31: 0 | U31: 0 | V31: 0 | W31: 자재 27
A32: 5056614B4700558C5E427F3327F17D880A5C53 | B32: 철근콘크리트용봉강(관급) | C32: 이형봉강(SD350/400), HD-16, 지정장소도 | D32: TON | E32: 0 | G32: 0 | I32: 0 | K32: 0 | M32: 0 | O32: 0 | P32: 0 | Q32: 0 | R32: 0 | S32: 0 | T32: 0 | U32: 0 | V32: 0 | W32: 자재 28
A33: 5056614B4700558E00078DF5396FCBE507D1C5 | B33: 각재 | C33: 각재, 외송 | D33: M3 | E33: 376675 | G33: 449101.79 | H33: 153 | I33: 377544.91 | J33: 73 | K33: 0 | M33: 0 | O33: =SMALL(E33:M33,COUNTIF(E33:M33,0)+1) -> 376675 | P33: 0 | Q33: 0 | R33: 0 | S33: 0 | T33: 0 | U33: 0 | V33: 0 | W33: 자재 29
A34: 5056614B470055840BBF8D22BC138254335370 | B34: 잡석 | C34: 도착도, 40mm | D34: M3 | E34: 0 | G34: 20000 | H34: 110 | I34: 17000 | J34: 61 | K34: 0 | M34: 0 | O34: =SMALL(E34:M34,COUNTIF(E34:M34,0)+1) -> 17000 | P34: 0 | Q34: 0 | R34: 0 | S34: 0 | T34: 0 | U34: 0 | V34: 0 | W34: 자재 30
A35: 5056614B470054E799F098EC67B27B102194D1 | B35: 레미콘(관급) | C35: 25-18-12 | D35: M3 | E35: 0 | G35: 0 | I35: 0 | K35: 0 | M35: 0 | O35: 0 | P35: 0 | Q35: 0 | R35: 0 | S35: 0 | T35: 0 | U35: 0 | V35: 0 | W35: 자재 31
A36: 5056614B470054E799F098EC67B27B102195F4 | B36: 레미콘(관급) | C36: 25-24-15 | D36: M3 | E36: 0 | G36: 0 | I36: 0 | K36: 0 | M36: 0 | O36: 0 | P36: 0 | Q36: 0 | R36: 0 | S36: 0 | T36: 0 | U36: 0 | V36: 0 | W36: 자재 32
A37: 5056614B470054E799F098EF3A0A8BB479C5C2 | B37: 레미콘 | C37: 레미콘, 충남(서천군, 예산군, 태안군, 홍성군), 25-18-80 | D37: M3 | E37: 65090 | G37: 0 | I37: 0 | K37: 0 | M37: 0 | O37: =SMALL(E37:M37,COUNTIF(E37:M37,0)+1) -> 65090 | P37: 0 | Q37: 0 | R37: 0 | S37: 0 | T37: 0 | U37: 0 | V37: 0 | W37: 자재 33
A38: 5056614B470054E799F098EF3A0A8BB479C6EA | B38: 레미콘 | C38: 레미콘, 충남(서천군, 예산군, 태안군, 홍성군), 25-24-150 | D38: M3 | E38: 70010 | G38: 0 | I38: 0 | K38: 0 | M38: 0 | O38: =SMALL(E38:M38,COUNTIF(E38:M38,0)+1) -> 70010 | P38: 0 | Q38: 0 | R38: 0 | S38: 0 | T38: 0 | U38: 0 | V38: 0 | W38: 자재 34
A39: 5056614B470054E79A970698CE4E0D0C420725 | B39: 시멘트 | C39: 시멘트(별도) | D39: kg | E39: 0 | G39: 0 | I39: 0 | K39: 0 | M39: 0 | O39: 0 | P39: 0 | Q39: 0 | R39: 0 | S39: 0 | T39: 0 | U39: 0 | V39: 0 | W39: 자재 35 | X39: 별도
A40: 5056614B470054E79A970698CE4E0D0C420721 | B40: 시멘트 | C40: 40kg/현장도착도 | D40: 포 | E40: 0 | G40: 5090.9 | H40: 111 | I40: 4845.45 | J40: 62 | K40: 0 | M40: 0 | O40: =SMALL(E40:M40,COUNTIF(E40:M40,0)+1) -> 4845.45 | P40: 0 | Q40: 0 | R40: 0 | S40: 0 | T40: 0 | U40: 0 | V40: 0 | W40: 자재 36
A41: 5056614B470053DEFB0BFA35B062C3697C3669 | B41: STS316 CABLE MESH NET | C41: 7*7 MW50MH80 / Dia 2.0mm | D41: M2 | E41: 0 | G41: 0 | I41: 0 | K41: 0 | M41: 97000 | O41: =SMALL(E41:M41,COUNTIF(E41:M41,0)+1) -> 97000 | P41: 16000 | Q41: 0 | R41: 0 | S41: 0 | T41: 0 | U41: 0 | V41: 0 | W41: 자재 37
A42: 5056614B470053DEFB0BFA35B062C3697C366E | B42: ROUND BAR HOLDER | C42: STS316 100*45*5.0T | D42: EA | E42: 0 | G42: 0 | I42: 0 | K42: 0 | M42: 24000 | O42: =SMALL(E42:M42,COUNTIF(E42:M42,0)+1) -> 24000 | P42: 12000 | Q42: 0 | R42: 0 | S42: 0 | T42: 0 | U42: 0 | V42: 0 | W42: 자재 38
A43: 5056614B470053DEFB0BFA35B062C3697C366F | B43: CABLE ＆ ROD HOLDER | C43: Φ10, CABLE / Φ50 40*20 | D43: EA | E43: 0 | G43: 0 | I43: 0 | K43: 0 | M43: 22000 | O43: =SMALL(E43:M43,COUNTIF(E43:M43,0)+1) -> 22000 | P43: 9000 | Q43: 0 | R43: 0 | S43: 0 | T43: 0 | U43: 0 | V43: 0 | W43: 자재 39
A44: 5056614B470053DEFB0BFA35B062C3697C366C | B44: STS316 ROUND BAR | C44: Φ15 가공 및 벤딩 | D44: M | E44: 0 | G44: 0 | I44: 0 | K44: 0 | M44: 13000 | O44: =SMALL(E44:M44,COUNTIF(E44:M44,0)+1) -> 13000 | P44: 8000 | Q44: 0 | R44: 0 | S44: 0 | T44: 0 | U44: 0 | V44: 0 | W44: 자재 40
A45: 5056614B470053DEFB0BFA35B062C3697C366D | B45: 기타 소모잡자재 | C45: SCREW ＆ WEDGE ANCHOR | D45: 식 | E45: 0 | G45: 0 | I45: 0 | K45: 0 | M45: 961364 | O45: =SMALL(E45:M45,COUNTIF(E45:M45,0)+1) -> 961364 | P45: 0 | Q45: 0 | R45: 0 | S45: 0 | T45: 0 | U45: 0 | V45: 0 | W45: 자재 41
A46: 5056614B470053DEFB0BFA35B062C3697C3662 | B46: 고소장비 임대료 | C46: SKY 28M | D46: 대 | E46: 0 | G46: 0 | I46: 0 | K46: 0 | M46: 650000 | O46: =SMALL(E46:M46,COUNTIF(E46:M46,0)+1) -> 650000 | P46: 0 | Q46: 0 | R46: 0 | S46: 0 | T46: 0 | U46: 0 | V46: 0 | W46: 자재 42
A47: 5056614B47005C3DB04446D1EF10D42C552DE9 | B47: 강관비계 | C47: 강관비계, 비계파이프, 48.6*2.3mm | D47: M | E47: 2700 | G47: 2666.66 | H47: 168 | I47: 986.16 | J47: 82 | K47: 0 | M47: 0 | O47: =SMALL(E47:M47,COUNTIF(E47:M47,0)+1) -> 986.16 | P47: 0 | Q47: 0 | R47: 0 | S47: 0 | T47: 0 | U47: 0 | V47: 0 | W47: 자재 43
A48: 5056614B47005C3DB04446D1EF10D42C54030B | B48: 강관비계 부속철물 | C48: 앙카용철물 | D48: 개 | E48: 0 | G48: 0 | I48: 0 | K48: 0 | M48: 900 | O48: =SMALL(E48:M48,COUNTIF(E48:M48,0)+1) -> 900 | P48: 0 | Q48: 0 | R48: 0 | S48: 0 | T48: 0 | U48: 0 | V48: 0 | W48: 자재 44
A49: 5056614B47005C3DB318211A54BF94BF04E624 | B49: 비계안정장치 | C49: 비계안정장치, 비계기본틀, 기둥, 1.2*1.7m | D49: 개 | E49: 20830 | G49: 20400 | H49: 167 | I49: 0 | K49: 0 | M49: 0 | O49: =SMALL(E49:M49,COUNTIF(E49:M49,0)+1) -> 20400 | P49: 0 | Q49: 0 | R49: 0 | S49: 0 | T49: 0 | U49: 0 | V49: 0 | W49: 자재 45
A50: 5056614B47005C3DB318211A54BF94BF04E62A | B50: 비계안정장치 | C50: 비계안정장치, 가새, 1.2*1.9m | D50: 개 | E50: 6640 | G50: 6100 | H50: 167 | I50: 0 | K50: 0 | M50: 0 | O50: =SMALL(E50:M50,COUNTIF(E50:M50,0)+1) -> 6100 | P50: 0 | Q50: 0 | R50: 0 | S50: 0 | T50: 0 | U50: 0 | V50: 0 | W50: 자재 46
A51: 5056614B47005C3DB318211A54BF94BF04E9FA | B51: 비계안정장치 | C51: 비계안정장치, 수평띠장, 1829mm | D51: 개 | E51: 0 | G51: 14900 | H51: 167 | I51: 0 | K51: 0 | M51: 0 | O51: =SMALL(E51:M51,COUNTIF(E51:M51,0)+1) -> 14900 | P51: 0 | Q51: 0 | R51: 0 | S51: 0 | T51: 0 | U51: 0 | V51: 0 | W51: 자재 47
A52: 5056614B47005C3DB318211A54BF94BF04E9FB | B52: 비계안정장치 | C52: 비계안정장치, 손잡이, 1229mm | D52: 개 | E52: 0 | G52: 0 | I52: 0 | K52: 0 | M52: 0 | O52: 0 | P52: 0 | Q52: 0 | R52: 0 | S52: 0 | T52: 0 | U52: 0 | V52: 0 | W52: 자재 48
A53: 5056614B47005C3DB318211A54BF94BF04E9FC | B53: 비계안정장치 | C53: 비계안정장치, 손잡이, 1829mm | D53: 개 | E53: 0 | G53: 0 | I53: 0 | K53: 0 | M53: 0 | O53: 0 | P53: 0 | Q53: 0 | R53: 0 | S53: 0 | T53: 0 | U53: 0 | V53: 0 | W53: 자재 49
A54: 5056614B47005C3DB318211A54BF94BF04E9FD | B54: 비계안정장치 | C54: 비계안정장치, 손잡이기둥 | D54: 개 | E54: 0 | G54: 0 | I54: 0 | K54: 0 | M54: 0 | O54: 0 | P54: 0 | Q54: 0 | R54: 0 | S54: 0 | T54: 0 | U54: 0 | V54: 0 | W54: 자재 50
A55: 5056614B47005C3DB318211A54BF94BF04E9FE | B55: 비계안정장치 | C55: 비계안정장치, 바퀴 | D55: 개 | E55: 0 | G55: 9900 | H55: 167 | I55: 0 | K55: 0 | M55: 0 | O55: =SMALL(E55:M55,COUNTIF(E55:M55,0)+1) -> 9900 | P55: 0 | Q55: 0 | R55: 0 | S55: 0 | T55: 0 | U55: 0 | V55: 0 | W55: 자재 51
A56: 5056614B47005C3DB318211A54BF94BF04E9FF | B56: 비계안정장치 | C56: 비계안정장치, 쟈키 | D56: 개 | E56: 0 | G56: 7200 | H56: 167 | I56: 0 | K56: 0 | M56: 0 | O56: =SMALL(E56:M56,COUNTIF(E56:M56,0)+1) -> 7200 | P56: 0 | Q56: 0 | R56: 0 | S56: 0 | T56: 0 | U56: 0 | V56: 0 | W56: 자재 52
A57: 5056614B47005C3DB318211A54BF94BF04E9F1 | B57: 비계안정장치 | C57: 비계안정장치, 기둥, 각파이프, 60*60*2.3mm | D57: M | E57: 0 | G57: 0 | I57: 0 | K57: 0 | M57: 0 | O57: 0 | P57: 0 | Q57: 0 | R57: 0 | S57: 0 | T57: 0 | U57: 0 | V57: 0 | W57: 자재 53
A58: 5056614B47005C3DB318211A566889A4A1474F | B58: 비계안정장치 | C58: 비계안정장치, 발판, 40*200*2000 | D58: 장 | E58: 0 | G58: 0 | I58: 0 | K58: 0 | M58: 0 | O58: 0 | P58: 0 | Q58: 0 | R58: 0 | S58: 0 | T58: 0 | U58: 0 | V58: 0 | W58: 자재 54
A59: 5056614B47005C3DB31825F10B1E877AC9F4 | B59: 시스템비계-수직재 | C59: S-38(3800mm) | D59: 본 | E59: 0 | G59: 17000 | H59: 139 | I59: 17000 | J59: 83 | K59: 0 | M59: 0 | O59: =SMALL(E59:M59,COUNTIF(E59:M59,0)+1) -> 17000 | P59: 0 | Q59: 0 | R59: 0 | S59: 0 | T59: 0 | U59: 0 | V59: 0 | W59: 자재 55
A60: 5056614B47005C3DB31825F10B1E877ACF1C | B60: 시스템비계-수평재 | C60: L-12(1200mm) | D60: 본 | E60: 0 | G60: 6600 | H60: 139 | I60: 6600 | J60: 83 | K60: 0 | M60: 0 | O60: =SMALL(E60:M60,COUNTIF(E60:M60,0)+1) -> 6600 | P60: 0 | Q60: 0 | R60: 0 | S60: 0 | T60: 0 | U60: 0 | V60: 0 | W60: 자재 56
A61: 5056614B47005C3DB31825F10B1E877ACE75 | B61: 시스템비계-수평재 | C61: L-18(1829MM) | D61: 본 | E61: 0 | G61: 8400 | H61: 139 | I61: 8400 | J61: 83 | K61: 0 | M61: 0 | O61: =SMALL(E61:M61,COUNTIF(E61:M61,0)+1) -> 8400 | P61: 0 | Q61: 0 | R61: 0 | S61: 0 | T61: 0 | U61: 0 | V61: 0 | W61: 자재 57
A62: 5056614B47005C3DB31825F10B1E877ACD6F | B62: 시스템비계-대각재 | C62: B-1918(2484mm) | D62: 본 | E62: 0 | G62: 7700 | H62: 139 | I62: 7700 | J62: 83 | K62: 0 | M62: 0 | O62: =SMALL(E62:M62,COUNTIF(E62:M62,0)+1) -> 7700 | P62: 0 | Q62: 0 | R62: 0 | S62: 0 | T62: 0 | U62: 0 | V62: 0 | W62: 자재 58
A63: 5056614B47005C3DB31825F10B1E877AC36B | B63: 시스템비계-난간대 | C63: HL-12(1200mm) | D63: 본 | E63: 0 | G63: 7200 | H63: 139 | I63: 7200 | J63: 83 | K63: 0 | M63: 0 | O63: =SMALL(E63:M63,COUNTIF(E63:M63,0)+1) -> 7200 | P63: 0 | Q63: 0 | R63: 0 | S63: 0 | T63: 0 | U63: 0 | V63: 0 | W63: 자재 59
A64: 5056614B47005C3DB31825F10B1E877AC244 | B64: 시스템비계-난간대 | C64: HL-18(1829mm) | D64: 본 | E64: 0 | G64: 8400 | H64: 139 | I64: 8400 | J64: 83 | K64: 0 | M64: 0 | O64: =SMALL(E64:M64,COUNTIF(E64:M64,0)+1) -> 8400 | P64: 0 | Q64: 0 | R64: 0 | S64: 0 | T64: 0 | U64: 0 | V64: 0 | W64: 자재 60
A65: 5056614B47005C357620FA9AF6BF29734F835E | B65: 건설용거푸집 | C65: 건설용거푸집, 강, 600*1200*63.5mm | D65: 매 | E65: 21160 | G65: 23100 | H65: 167 | I65: 26800 | J65: 84 | K65: 0 | M65: 0 | O65: =SMALL(E65:M65,COUNTIF(E65:M65,0)+1) -> 21160 | P65: 0 | Q65: 0 | R65: 0 | S65: 0 | T65: 0 | U65: 0 | V65: 0 | W65: 자재 61
A66: 5056614B47005C357620FA9AF6BF29734F8732 | B66: 건설용거푸집 | C66: 건설용거푸집, 내벽코너패널, 200+200, 1200mm | D66: 매 | E66: 15920 | G66: 0 | I66: 18100 | J66: 84 | K66: 0 | M66: 0 | O66: =SMALL(E66:M66,COUNTIF(E66:M66,0)+1) -> 15920 | P66: 0 | Q66: 0 | R66: 0 | S66: 0 | T66: 0 | U66: 0 | V66: 0 | W66: 자재 62
A67: 5056614B47005C357620FBBD24D00F23024EAE | B67: 아연도강관써포트 | C67: V-3,2400~3800 | D67: 본 | E67: 0 | G67: 20540 | H67: 124 | I67: 0 | K67: 19500 | L67: 146 | M67: 0 | O67: =SMALL(E67:M67,COUNTIF(E67:M67,0)+1) -> 19500 | P67: 0 | Q67: 0 | R67: 0 | S67: 0 | T67: 0 | U67: 0 | V67: 0 | W67: 자재 63
A68: 5056614B47005C357620FBBD24D00F23073108 | B68: 건설용거푸집액세서리 | C68: 건설용거푸집액세서리, 웨지핀, 90mm | D68: 개 | E68: 61 | G68: 72 | H68: 172 | I68: 76 | J68: 86 | K68: 0 | M68: 0 | O68: =SMALL(E68:M68,COUNTIF(E68:M68,0)+1) -> 61 | P68: 0 | Q68: 0 | R68: 0 | S68: 0 | T68: 0 | U68: 0 | V68: 0 | W68: 자재 64
A69: 5056614B47005C357620FBBD24D00F2307306A | B69: 건설용거푸집액세서리 | C69: 건설용거푸집액세서리, 플랫타이, 4*19*200mm | D69: 개 | E69: 120 | G69: 210 | H69: 172 | I69: 140 | J69: 86 | K69: 0 | M69: 0 | O69: =SMALL(E69:M69,COUNTIF(E69:M69,0)+1) -> 120 | P69: 0 | Q69: 0 | R69: 0 | S69: 0 | T69: 0 | U69: 0 | V69: 0 | W69: 자재 65
A70: 5056614B47005C357620FBBD24D00F2307306E | B70: 건설용거푸집액세서리 | C70: 건설용거푸집액세서리, 웨일후크, 스틸수직(대), 63.5패널용 | D70: 개 | E70: 127 | G70: 200 | H70: 172 | I70: 190 | J70: 86 | K70: 0 | M70: 0 | O70: =SMALL(E70:M70,COUNTIF(E70:M70,0)+1) -> 127 | P70: 0 | Q70: 0 | R70: 0 | S70: 0 | T70: 0 | U70: 0 | V70: 0 | W70: 자재 66
A71: 5056614B7C005A936FF6A234FE474888B6A117 | B71: 컨테이너하우스 | C71: 컨테이너하우스, 사무실용, 3.0*6.0*2.6m | D71: 개 | E71: 2059000 | G71: 2600000 | H71: 736 | I71: 2600000 | J71: 89 | K71: 0 | M71: 0 | O71: =SMALL(E71:M71,COUNTIF(E71:M71,0)+1) -> 2059000 | P71: 0 | Q71: 0 | R71: 0 | S71: 0 | T71: 0 | U71: 0 | V71: 0 | W71: 자재 67
A72: 5056614B7C005A936FF6A234FE474888B6A7B1 | B72: 컨테이너하우스 | C72: 컨테이너하우스, 창고용, 3.0*6.0*2.6m | D72: 개 | E72: 1840000 | G72: 2700000 | H72: 736 | I72: 2300000 | J72: 89 | K72: 0 | M72: 0 | O72: =SMALL(E72:M72,COUNTIF(E72:M72,0)+1) -> 1840000 | P72: 0 | Q72: 0 | R72: 0 | S72: 0 | T72: 0 | U72: 0 | V72: 0 | W72: 자재 68
A73: 50567145DA0059BF0FF074355B4D6C91E67749 | B73: 철선 | C73: 철선, 어닐링, ∮0.9mm | D73: kg | E73: 1404 | G73: 0 | I73: 1220 | J73: 42 | K73: 0 | M73: 0 | O73: =SMALL(E73:M73,COUNTIF(E73:M73,0)+1) -> 1220 | P73: 0 | Q73: 0 | R73: 0 | S73: 0 | T73: 0 | U73: 0 | V73: 0 | W73: 자재 69
A74: 50567145DA005A5F45B9D752FB6F2E0E2F7552 | B74: 도어힌지 | C74: 도어힌지, 냉연분체, 가락지2개, 101.6*2.7mm | D74: 개 | E74: 0 | G74: 0 | I74: 0 | K74: 1800 | L74: 616 | M74: 0 | O74: =SMALL(E74:M74,COUNTIF(E74:M74,0)+1) -> 1800 | P74: 0 | Q74: 0 | R74: 0 | S74: 0 | T74: 0 | U74: 0 | V74: 0 | W74: 자재 70
A75: 50567145DA005A5F45B9D752FB6F2E0E2F744C | B75: 빗장 | D75: 개 | E75: 0 | G75: 0 | I75: 0 | K75: 0 | M75: 10000 | O75: =SMALL(E75:M75,COUNTIF(E75:M75,0)+1) -> 10000 | P75: 0 | Q75: 0 | R75: 0 | S75: 0 | T75: 0 | U75: 0 | V75: 0 | W75: 자재 71
A76: 50567145DA005A5EBA0CE58B288B12B18FAFB9 | B76: 함마드릴 | C76: TE 70 | D76: 대 | E76: 0 | G76: 0 | I76: 0 | K76: 0 | M76: 0 | O76: 0 | P76: 0 | Q76: 0 | R76: 0 | S76: 0 | T76: 0 | U76: 2760000 | V76: =SMALL(Q76:U76,COUNTIF(Q76:U76,0)+1) -> 2760000 | W76: 자재 72
A77: 50567145DA005A5EBA0CE58B288B12B441A833 | B77: 케미컬약액 | C77: HVU M16*125 | D77: 개 | E77: 0 | G77: 0 | I77: 0 | K77: 0 | M77: 9700 | O77: =SMALL(E77:M77,COUNTIF(E77:M77,0)+1) -> 9700 | P77: 0 | Q77: 0 | R77: 0 | S77: 0 | T77: 0 | U77: 0 | V77: 0 | W77: 자재 73
A78: 50567145DA005A5EBA0CE58B288B135757F83E | B78: 앵커롯드 | C78: HIT-C M16*190 | D78: 개 | E78: 0 | G78: 0 | I78: 0 | K78: 0 | M78: 2700 | O78: =SMALL(E78:M78,COUNTIF(E78:M78,0)+1) -> 2700 | P78: 0 | Q78: 0 | R78: 0 | S78: 0 | T78: 0 | U78: 0 | V78: 0 | W78: 자재 74
A79: 50567145DA005A5EBA0CE58B288B1083F1C8E9 | B79: 드릴비트 | C79: TE-YX 18/52 | D79: 개 | E79: 0 | G79: 0 | I79: 0 | K79: 0 | M79: 165000 | O79: =SMALL(E79:M79,COUNTIF(E79:M79,0)+1) -> 165000 | P79: 0 | Q79: 0 | R79: 0 | S79: 0 | T79: 0 | U79: 0 | V79: 0 | W79: 자재 75
A80: 50567145DA005A5EBA0CE58B288B173222C7C7 | B80: 셋팅툴 | C80: 소켓 3/4" SW24 | D80: 개 | E80: 0 | G80: 0 | I80: 0 | K80: 0 | M80: 0 | O80: 0 | P80: 0 | Q80: 0 | R80: 0 | S80: 0 | T80: 0 | U80: 30000 | V80: =SMALL(Q80:U80,COUNTIF(Q80:U80,0)+1) -> 30000 | W80: 자재 76
A81: 50567145DA005A5EBA0CE58B288B1737A10CCD | B81: 셋팅툴 | C81: 어댑터 TE-FY-3/4" | D81: 개 | E81: 0 | G81: 0 | I81: 0 | K81: 0 | M81: 0 | O81: 0 | P81: 0 | Q81: 0 | R81: 0 | S81: 0 | T81: 0 | U81: 18000 | V81: =SMALL(Q81:U81,COUNTIF(Q81:U81,0)+1) -> 18000 | W81: 자재 77
A82: 50567145DA0055DAB799EA61745A3F652F7567 | B82: 연마지 | C82: 연마지, #120~180, 230*280mm | D82: 장 | E82: 200 | G82: 230 | H82: 1353 | I82: 319 | J82: 1216 | K82: 0 | M82: 0 | O82: =SMALL(E82:M82,COUNTIF(E82:M82,0)+1) -> 200 | P82: 0 | Q82: 0 | R82: 0 | S82: 0 | T82: 0 | U82: 0 | V82: 0 | W82: 자재 78
A83: 50567145EB00537D60A59A8149DD940092D1E4 | B83: 퍼티 | C83: 퍼티, 319퍼티, 백색 | D83: kg | E83: 0 | G83: 2139.78 | H83: 606 | I83: 0 | K83: 0 | M83: 0 | O83: =SMALL(E83:M83,COUNTIF(E83:M83,0)+1) -> 2139.78 | P83: 0 | Q83: 0 | R83: 0 | S83: 0 | T83: 0 | U83: 0 | V83: 0 | W83: 자재 79 | X83: 1L=1.55kg
A84: 50567145EB005254AA2E00770CF76AC38EBA05 | B84: 수성페인트 | C84: 수성페인트, KSM6010-2종1급, 백색 | D84: L | E84: 2470 | G84: 4450 | H84: 601 | I84: 0 | K84: 0 | M84: 0 | O84: =SMALL(E84:M84,COUNTIF(E84:M84,0)+1) -> 2470 | P84: 0 | Q84: 0 | R84: 0 | S84: 0 | T84: 0 | U84: 0 | V84: 0 | W84: 자재 80
A85: 50567145EB005254AA27D05D8BBFEFA73C78EA | B85: 방청페인트 | C85: 방청페인트, KSM6030-1종1류, 광명단페인트 | D85: L | E85: 9492 | G85: 11027.77 | H85: 601 | I85: 11027.77 | J85: 476 | K85: 0 | M85: 0 | O85: =SMALL(E85:M85,COUNTIF(E85:M85,0)+1) -> 9492 | P85: 0 | Q85: 0 | R85: 0 | S85: 0 | T85: 0 | U85: 0 | V85: 0 | W85: 자재 81
A86: 50567145EB005254A8608AAFEB6441786C0529 | B86: 실링재 | C86: 실링재, 실리콘, 비초산, 유리용, 창호주위 | D86: L | E86: 9433 | G86: 11665.5 | H86: 592 | I86: 9999 | J86: 395 | K86: 0 | M86: 0 | O86: =SMALL(E86:M86,COUNTIF(E86:M86,0)+1) -> 9433 | P86: 0 | Q86: 0 | R86: 0 | S86: 0 | T86: 0 | U86: 0 | V86: 0 | W86: 자재 82
A87: 50567145EB005254A7599E7C03B03F37AA5D06 | B87: 시너 | C87: 시너, KSM6060, 1종 | D87: L | E87: 0 | G87: 3483.33 | H87: 601 | I87: 3194.44 | J87: 476 | K87: 0 | M87: 0 | O87: =SMALL(E87:M87,COUNTIF(E87:M87,0)+1) -> 3194.44 | P87: 0 | Q87: 0 | R87: 0 | S87: 0 | T87: 0 | U87: 0 | V87: 0 | W87: 자재 83
A88: 5029214D70005682EC9E193745A996DC251ED1 | B88: U형 플륨 - 소켓식 ∮350 | C88: ∮360*315*35*2000mm, 170kg/본 | D88: 본 | E88: 0 | G88: 28500 | H88: 327 | I88: 0 | K88: 0 | M88: 0 | O88: =SMALL(E88:M88,COUNTIF(E88:M88,0)+1) -> 28500 | P88: 0 | Q88: 0 | R88: 0 | S88: 0 | T88: 0 | U88: 0 | V88: 0 | W88: 자재 84 | X88: 공장상차도
A89: 5029214D70005681C58423ECEF27F305898672 | B89: 일반구조용각형강관 | C89: 일반구조용각형강관, 각형강관, 100*100*3.2mm | D89: M | E89: 7680 | G89: 7820 | H89: 73 | I89: 7498 | J89: 34 | K89: 0 | M89: 0 | O89: =SMALL(E89:M89,COUNTIF(E89:M89,0)+1) -> 7498 | P89: 0 | Q89: 0 | R89: 0 | S89: 0 | T89: 0 | U89: 0 | V89: 0 | W89: 자재 85
A90: 5029214D70005681C58423ECEF27F30588FFA0 | B90: 일반구조용각형강관 | C90: 일반구조용각형강관, 각형강관, 75*45*2.3mm | D90: M | E90: 3270 | G90: 3210 | H90: 73 | I90: 3201 | J90: 34 | K90: 0 | M90: 0 | O90: =SMALL(E90:M90,COUNTIF(E90:M90,0)+1) -> 3201 | P90: 0 | Q90: 0 | R90: 0 | S90: 0 | T90: 0 | U90: 0 | V90: 0 | W90: 자재 86
A91: 5029514AAD0058E9F7633F0D001E77049EEEA2 | B91: 하도 | C91: 도료 IZ180N | D91: L | E91: 0 | G91: 0 | I91: 0 | K91: 0 | M91: 16420 | O91: =SMALL(E91:M91,COUNTIF(E91:M91,0)+1) -> 16420 | P91: 0 | Q91: 0 | R91: 0 | S91: 0 | T91: 0 | U91: 0 | V91: 0 | W91: 자재 87
A92: 5029514AAD0058E9F7633F0D001E77049EEEAD | B92: 희석제 | C92: 0614 | D92: L | E92: 0 | G92: 0 | I92: 0 | K92: 0 | M92: 2930 | O92: =SMALL(E92:M92,COUNTIF(E92:M92,0)+1) -> 2930 | P92: 0 | Q92: 0 | R92: 0 | S92: 0 | T92: 0 | U92: 0 | V92: 0 | W92: 자재 88
A93: 5029514AAD0058E9F7633F0D001E77049EEEAC | B93: 중도 | C93: 도료 EH6270 | D93: L | E93: 0 | G93: 0 | I93: 0 | K93: 0 | M93: 6900 | O93: =SMALL(E93:M93,COUNTIF(E93:M93,0)+1) -> 6900 | P93: 0 | Q93: 0 | R93: 0 | S93: 0 | T93: 0 | U93: 0 | V93: 0 | W93: 자재 89
A94: 5029514AAD0058E9F7633F0D001E77049EEF4C | B94: 희석제 | C94: 024 | D94: L | E94: 0 | G94: 0 | I94: 0 | K94: 0 | M94: 2930 | O94: =SMALL(E94:M94,COUNTIF(E94:M94,0)+1) -> 2930 | P94: 0 | Q94: 0 | R94: 0 | S94: 0 | T94: 0 | U94: 0 | V94: 0 | W94: 자재 90
A95: 5029514AAD0058E9F7633F0D001E77049EEF4D | B95: 상도1 | C95: 도료 UT6581 | D95: L | E95: 0 | G95: 0 | I95: 0 | K95: 0 | M95: 12610 | O95: =SMALL(E95:M95,COUNTIF(E95:M95,0)+1) -> 12610 | P95: 0 | Q95: 0 | R95: 0 | S95: 0 | T95: 0 | U95: 0 | V95: 0 | W95: 자재 91
A96: 5029514AAD0058E9F7633F0D001E77049EEF4E | B96: 희석제 | C96: 0624 | D96: L | E96: 0 | G96: 0 | I96: 0 | K96: 0 | M96: 3120 | O96: =SMALL(E96:M96,COUNTIF(E96:M96,0)+1) -> 3120 | P96: 0 | Q96: 0 | R96: 0 | S96: 0 | T96: 0 | U96: 0 | V96: 0 | W96: 자재 92
A97: 5029514AAD0058E9F7633F0D001E77049EEF4F | B97: 상도2 | C97: 도료 UT6581 | D97: L | E97: 0 | G97: 0 | I97: 0 | K97: 0 | M97: 12610 | O97: =SMALL(E97:M97,COUNTIF(E97:M97,0)+1) -> 12610 | P97: 0 | Q97: 0 | R97: 0 | S97: 0 | T97: 0 | U97: 0 | V97: 0 | W97: 자재 93
A98: 5029514AAD0058E9F7633F0D001E77049EEF48 | B98: 희석제 | C98: 0624 | D98: L | E98: 0 | G98: 0 | I98: 0 | K98: 0 | M98: 3120 | O98: =SMALL(E98:M98,COUNTIF(E98:M98,0)+1) -> 3120 | P98: 0 | Q98: 0 | R98: 0 | S98: 0 | T98: 0 | U98: 0 | V98: 0 | W98: 자재 94
A99: 57AFB1487E005AB443937EC7E6509A41E02CE5 | B99: 보통인부 | C99: 일반공사 직종 | D99: 인 | E99: 0 | G99: 0 | I99: 0 | K99: 0 | M99: 0 | O99: 0 | P99: 138290 | Q99: 0 | R99: 0 | S99: 0 | T99: 0 | U99: 0 | V99: 0 | W99: 노임 1 | Y99: B
A100: 57AFB1487E005AB443937EC7E6509A41E02CE4 | B100: 특별인부 | C100: 일반공사 직종 | D100: 인 | E100: 0 | G100: 0 | I100: 0 | K100: 0 | M100: 0 | O100: 0 | P100: 166063 | Q100: 0 | R100: 0 | S100: 0 | T100: 0 | U100: 0 | V100: 0 | W100: 노임 2 | Y100: B
...
