Workbook

Sheet 공사원가계산서
A1: 공 사 원 가 계 산 서 | G1: STmate | H1: STmate
A2: 공사명 : 산양 서식 환경조성 공사 | G2: =MID(CELL("filename",$A$1),FIND("]",CELL("filename",$A$1))+1,LEN(CELL("filename",$A$1))) -> 공사원가계산서
A3: 구 분 | D3: 금 액 | E3: 구 성 비 | F3: 비 고
A4: 비 목 | H4: =HYPERLINK("#'〓 목 차 〓'!B2","목차 →") -> 목차 →
A5: 순 공 사 원 가 | B5: 재료비 | C5: 직 접 재 료 비 | D5: =총괄내역서!D8-D6+D7 -> 0 | H5: =HYPERLINK("#"&총괄내역서!H2&"!D"&ROW(총괄내역서!D8),"총괄표 →") -> 총괄표 →
C6: 간 접 재 료 비 | D6: 0
C7: 작업설,부산물등(△) | D7: 0
C8: 소 계 | D8: =+D5+D6-D7 -> 0
B9: 노무비 | C9: 직 접 노 무 비 | D9: =총괄내역서!E8 -> 0 | H9: =HYPERLINK("#"&총괄내역서!H2&"!E"&ROW(총괄내역서!E8),"총괄표 →") -> 총괄표 →
C10: 간 접 노 무 비 | D10: =총괄내역서!G9 -> 0 | F10: ="직접노무비 x "&ROUND(총괄내역서!M9,3)&"%" -> 직접노무비 x 3.2% | H10: =HYPERLINK("#"&총괄내역서!H2&"!G"&ROW(총괄내역서!G9),"총괄표 →") -> 총괄표 →
C11: 소 계 | D11: =+D9+D10 -> 0
B12: 경 비 | C12: 산 출 경 비 | D12: =총괄내역서!F8 -> 0 | H12: =HYPERLINK("#"&총괄내역서!H2&"!F"&ROW(총괄내역서!F8),"총괄표 →") -> 총괄표 →
C13: 산 재 보 험 료 | D13: =총괄내역서!G10 -> 0 | F13: ="노 무 비 x "&ROUND(총괄내역서!M10,3)&"%" -> 노 무 비 x 3.9% | H13: =HYPERLINK("#"&총괄내역서!H2&"!G"&ROW(총괄내역서!G10),"총괄표 →") -> 총괄표 →
C14: 고 용 보 험 료 | D14: =총괄내역서!G11 -> 0 | F14: ="노 무 비 x "&ROUND(총괄내역서!M11,3)&"%" -> 노 무 비 x 0.87% | H14: =HYPERLINK("#"&총괄내역서!H2&"!G"&ROW(총괄내역서!G11),"총괄표 →") -> 총괄표 →
C15: 기 타 경 비 | D15: =총괄내역서!G12 -> 0 | F15: ="(재료비+노무비) x "&ROUND(총괄내역서!M12,3)&"%" -> (재료비+노무비) x 2.4% | H15: =HYPERLINK("#"&총괄내역서!H2&"!G"&ROW(총괄내역서!G12),"총괄표 →") -> 총괄표 →
C16: 산업안전보건관리비 | D16: =총괄내역서!G13 -> 0 | F16: ="(재료비+직접노무비) x "&ROUND(총괄내역서!M13,3)&"%" -> (재료비+직접노무비) x 2.93%
C17: 소 계 | D17: =+D12+D13+D14+D15 -> 0
A18: 일 반 관 리 비 | D18: =총괄내역서!G15 -> 0 | F18: ="순공사원가 x "&ROUND(총괄내역서!M15,3)&"%" -> 순공사원가 x 2.4% | H18: =HYPERLINK("#"&총괄내역서!H2&"!G"&ROW(총괄내역서!G15),"총괄표 →") -> 총괄표 →
A19: 이 윤 | D19: =총괄내역서!G17 -> 0 | F19: ="(노무비+경비+일반관리비) x "&ROUND(총괄내역서!M17,3)&"%" -> (노무비+경비+일반관리비) x 5.1% | H19: =HYPERLINK("#"&총괄내역서!H2&"!G"&ROW(총괄내역서!G17),"총괄표 →") -> 총괄표 →
A20: 총 원 가 | D20: =총괄내역서!G18 -> 0 | H20: =HYPERLINK("#"&총괄내역서!H2&"!G"&ROW(총괄내역서!G18),"총괄표 →") -> 총괄표 →
A21: 부 가 가 치 세 | D21: =총괄내역서!G19 -> 0 | F21: ="총 원 가 x "&ROUND(총괄내역서!M19,3)&"%" -> 총 원 가 x 10% | H21: =HYPERLINK("#"&총괄내역서!H2&"!G"&ROW(총괄내역서!G19),"총괄표 →") -> 총괄표 →
A22: 도 급 공 사 비 | D22: =총괄내역서!G20 -> 0 | H22: =HYPERLINK("#"&총괄내역서!H2&"!G"&ROW(총괄내역서!G20),"총괄표 →") -> 총괄표 →
A23: 관 급 자 재 대 | D23: =총괄내역서!G21 -> 0 | H23: =HYPERLINK("#"&총괄내역서!H2&"!G"&ROW(총괄내역서!G21),"총괄표 →") -> 총괄표 →
A24: 총 공 사 비 | D24: =총괄내역서!G22 -> 0 | H24: =HYPERLINK("#"&총괄내역서!H2&"!G"&ROW(총괄내역서!G22),"총괄표 →") -> 총괄표 →

Sheet 총괄내역서
A1: 총 괄 내 역 서 | H1: STmate | Q1: STmate
A2: 공사명 : 산양 서식 환경조성 공사 | H2: =MID(CELL("filename",$A$1),FIND("]",CELL("filename",$A$1))+1,LEN(CELL("filename",$A$1))) -> 총괄내역서
A3: 공 종 | B3: 명 칭 | C3: 규 격 | D3: 재 료 비 | E3: 노 무 비 | F3: 경 비 | G3: 합 계 | H3: _x0007_`JTYP|0_x0005_`ACTL|F_x0005_` | Q3: =HYPERLINK("#'〓 목 차 〓'!B2","목차 →") -> 목차 →
B4: 순공사비 | D4: =내역서!G5 -> 0 | E4: =내역서!I5 -> 0 | F4: =내역서!K5 -> 0 | G4: =내역서!M5 -> 0 | Q4: =HYPERLINK("#"&내역서!O2&"!A"&ROW(내역서!A5),"내역 →") -> 내역 →
A5: 1 | B5: 토공사 | D5: =내역서!G7 -> 0 | E5: =내역서!I7 -> 0 | F5: =내역서!K7 -> 0 | G5: =내역서!M7 -> 0 | Q5: =HYPERLINK("#"&내역서!O2&"!A"&ROW(내역서!A7),"내역 →") -> 내역 →
A6: 2 | B6: 부대공사 | D6: =내역서!G11 -> 0 | E6: =내역서!I11 -> 0 | F6: =내역서!K11 -> 0 | G6: =내역서!M11 -> 0 | Q6: =HYPERLINK("#"&내역서!O2&"!A"&ROW(내역서!A11),"내역 →") -> 내역 →
A7: 1 | B7: 지급자재대 | D7: =내역서!G25 -> 0 | E7: =내역서!I25 -> 0 | F7: =내역서!K25 -> 0 | G7: =내역서!M25 -> 0 | Q7: =HYPERLINK("#"&내역서!O2&"!A"&ROW(내역서!A25),"내역 →") -> 내역 →
A8: 가. | B8: 순공사비계 | D8: =내역서!G27 -> 0 | E8: =내역서!I27 -> 0 | F8: =내역서!K27 -> 0 | G8: =내역서!M27 -> 0 | Q8: =HYPERLINK("#"&내역서!O2&"!A"&ROW(내역서!A27),"내역 →") -> 내역 →
B9: 1. 간접노무비 | D9: ="직접노무비 x "&ROUND(M9,3)&"%" -> 직접노무비 x 3.2% | G9: =ROUNDDOWN(E8*M9/100,0)-K9 -> 0 | H9: _x0007_`DTP|201_x0005_`QTY1|1_x0005_`BDC|_x0005_`SRE|LA_x0005_` | I9: 0 | M9: 3.2 | N9: 0 | O9: 0 | P9: 0
B10: 2. 산재보험료 | D10: ="(직접노무비+간접노무비) x "&ROUND(M10,3)&"%" -> (직접노무비+간접노무비) x 3.9% | G10: =ROUNDDOWN((E8+G9)*M10/100,0)-K10 -> 0 | H10: _x0007_`DTP|301_x0005_`QTY1|1_x0005_`BDC|_x0005_`SRE|SA_x0005_` | I10: 0 | M10: 3.9 | N10: 0 | O10: 0 | P10: 0
B11: 3. 고용보험료 | D11: ="(직접노무비+간접노무비) x "&ROUND(M11,3)&"%" -> (직접노무비+간접노무비) x 0.87% | G11: =ROUNDDOWN((E8+G9)*M11/100,0)-K11 -> 0 | H11: _x0007_`DTP|302_x0005_`QTY1|1_x0005_`BDC|_x0005_`SRE|SA_x0005_` | I11: 0 | M11: 0.87 | N11: 0 | O11: 0 | P11: 0
B12: 4. 기타경비 | D12: ="(직접노무비+간접노무비+재료비) x "&ROUND(M12,3)&"%" -> (직접노무비+간접노무비+재료비) x 2.4% | G12: =ROUNDDOWN((((E8+G9)+(D8)))*M12/100,0)-K12 -> 0 | H12: _x0007_`DTP|321_x0005_`QTY1|1_x0005_`BDC|_x0005_`SRE|SA_x0005_` | I12: 0 | M12: 2.4 | N12: 0 | O12: 0 | P12: 0
B13: 5. 산업안전보건관리비 | D13: ="(직접노무비+재료비) x "&ROUND(M13,3)&"%" -> (직접노무비+재료비) x 2.93% | G13: =ROUNDDOWN((((E8+G10)+(D8)))*M13/100,0) -> 0 | M13: 2.93
A14: 나. | B14: 소 계 | G14: =(G8+G9+G10+G11+G12+G13)-K14 -> 0 | H14: _x0007_`DTP|400_x0005_`QTY1|1_x0005_`BDC|_x0005_`SRE|TA-F_x0005_` | I14: 0 | M14: 0 | N14: 0 | O14: 0 | P14: 0
B15: 5. 일반관리비 | D15: ="(나.소 계) x "&ROUND(M15,3)&"%" -> (나.소 계) x 2.4% | G15: =ROUNDDOWN(((G14)+0)*M15/100,0)-K15 -> 0 | H15: _x0007_`DTP|401_x0005_`QTY1|1_x0005_`BDC|_x0005_`SRE|TA_x0005_` | I15: 0 | M15: 2.4 | N15: 0 | O15: 0 | P15: 0
A16: 다. | B16: 소 계 | G16: =(G14+G15)-K16 -> 0 | H16: _x0007_`DTP|0_x0005_`QTY1|1_x0005_`BDC|_x0005_`SRE|TA-F_x0005_` | I16: 4 | J16: =G16 -> 0 | L16: =G16 -> 0 | M16: 0 | N16: 0 | O16: 0 | P16: 0
B17: 6. 이 윤 | D17: ="(다.소계 - 재료비) x "&ROUND(M17,3)&"% = "&TEXT(J17,"#,##0") -> (다.소계 - 재료비) x 5.1% = 0 | G17: =ROUNDDOWN(((G16)-(D8))*M17/100,0)-I17-K17 -> 0 | H17: _x0007_`DTP|402_x0005_`QTY1|1_x0005_`BDC|_x0005_`SRE|TA_x0005_` | I17: =J18-ROUNDDOWN(J18,-I16) -> 0 | J17: =ROUNDDOWN(((J16)-(D8))*M17/100,0) -> 0 | L17: =ROUNDDOWN(((L16)-(D8))*M17/100,0)-I17 -> 0 | M17: 5.1 | N17: 0 | O17: 0 | P17: 0
A18: 라. | B18: 공급가액 | G18: =(G16+G17)-K18 -> 0 | H18: _x0007_`DTP|500_x0005_`QTY1|1_x0005_`BDC|_x0005_`SRE|TA-F_x0005_` | I18: 0 | J18: =(J16+J17) -> 0 | L18: =(L16+L17) -> 0 | M18: 0 | N18: 0 | O18: 4 | P18: 0
B19: 7. 부가가치세 | D19: ="공급가액 x "&ROUND(M19,3)&"%" -> 공급가액 x 10% | G19: =ROUNDDOWN((G18)*M19/100,0)+I19-K19 -> 0 | H19: _x0007_`DTP|502_x0005_`QTY1|1_x0005_`BDC|_x0005_`SRE|TA_x0005_` | I19: 0 | M19: 10 | N19: 0 | O19: 0 | P19: 0
A20: 마. | B20: 도급공사비 | G20: =(G18+G19)-K20 -> 0 | H20: _x0007_`DTP|600_x0005_`QTY1|1_x0005_`BDC|_x0005_`SRE|TA-F_x0005_` | I20: 0 | M20: 0 | N20: 0 | O20: 0 | P20: 0
B21: 8. 관급자재대 | H21: _x0007_`DTP|651_x0005_`QTY1|1_x0005_`BDC|_x0005_`SRE|TA-3_x0005_` | I21: 34557600 | M21: 0 | N21: 0 | O21: 0 | P21: 0
A22: 바. | B22: 총공사비 | G22: =(G20+G21)-K22 -> 0 | H22: _x0007_`DTP|700_x0005_`QTY1|1_x0005_`BDC|_x0005_`SRE|TA-F_x0005_` | I22: 0 | M22: 0 | N22: 0 | O22: 0 | P22: 0

Sheet 내역서
A1: 설 계 내 역 서 | O1: STmate | AC1: STmate
A2: 공사명 : 산양 서식 환경조성 공사 | O2: =MID(CELL("filename",$A$1),FIND("]",CELL("filename",$A$1))+1,LEN(CELL("filename",$A$1))) -> 내역서
A3: 공 종 | B3: 명 칭 | C3: 규 격 | D3: 수 량 | E3: 단위 | F3: 재 료 비 | H3: 노 무 비 | J3: 경 비 | L3: 합 계 | N3: 비 고
F4: 단 가 | G4: 금 액 | H4: 단 가 | I4: 금 액 | J4: 단 가 | K4: 금 액 | L4: 단 가 | M4: 금 액 | AC4: =HYPERLINK("#'〓 목 차 〓'!B2","목차 →") -> 목차 →
B5: 순공사비 | O5: ="_x0007_`COD|E3_x0005_`QTY1|1_x0005_`EXI|0_x0005_`END|"&ROW(M15)&"_x0005_`" -> _x0007_`COD|E3_x0005_`QTY1|1_x0005_`EXI|0_x0005_`END|15_x0005_` | P5: E3_1 | Q5: E10_1
O6: _x0007_`COD|_x0005_`QTY1|1_x0005_`EXI|1_x0005_` | P6: CMT_1 | Q6: E3_1
A7: 1 | B7: 토공사 | O7: ="_x0007_`COD|E2_x0005_`QTY1|1_x0005_`EXI|0_x0005_`END|"&ROW(M10)&"_x0005_`" -> _x0007_`COD|E2_x0005_`QTY1|1_x0005_`EXI|0_x0005_`END|10_x0005_` | P7: E2_1 | Q7: E3_1
B8: 토사터파기(0.7m3) | C8: 기계100% | D8: 153 | E8: m3 | O8: _x0007_`COD|D00356_x0005_`QTY1|1_x0005_`EXI|0_x0005_`IPR|0_x0005_`BLA|F_x0005_` | P8: D00356_1 | Q8: E2_1 | AC8: =HYPERLINK("#"&#REF!&"!A"&ROW(#REF!),"D00356 →") -> #REF!
B9: 잔토처리 | C9: 백호우0.7m3 | D9: 153 | E9: m3 | O9: _x0007_`COD|D00035_x0005_`QTY1|1_x0005_`EXI|0_x0005_`IPR|0_x0005_`BLA|F_x0005_` | P9: D00035_1 | Q9: E2_1 | AC9: =HYPERLINK("#"&#REF!&"!A"&ROW(#REF!),"D00035 →") -> #REF!
O10: _x0007_`COD|_x0005_`QTY1|1_x0005_`EXI|1_x0005_` | P10: CMT_1 | Q10: E3_1
A11: 2 | B11: 부대공사 | O11: ="_x0007_`COD|E2_x0005_`QTY1|1_x0005_`EXI|0_x0005_`END|"&ROW(M15)&"_x0005_`" -> _x0007_`COD|E2_x0005_`QTY1|1_x0005_`EXI|0_x0005_`END|15_x0005_` | P11: E2_1 | Q11: E3_1
B12: 자연석쌓기 | C12: 백호우0.7+인력 | D12: 597 | E12: TON | O12: _x0007_`COD|D00513_x0005_`QTY1|1_x0005_`EXI|0_x0005_`IPR|0_x0005_`BLA|F_x0005_` | P12: D00513_1 | Q12: E2_1 | AC12: =HYPERLINK("#"&#REF!&"!A"&ROW(#REF!),"D00513 →") -> #REF!
B13: 자연석놓기 | C13: 백호우0.7+인력 | D13: 107 | E13: TON | O13: _x0007_`COD|D00141_x0005_`QTY1|1_x0005_`EXI|0_x0005_`IPR|0_x0005_`BLA|F_x0005_` | P13: D00141_1 | Q13: E2_1 | AC13: =HYPERLINK("#"&#REF!&"!A"&ROW(#REF!),"D00141 →") -> #REF!
B14: 조립식PC암거 | C14: 1.0*1.0 | D14: 6 | E14: m | O14: _x0007_`COD|M01262_x0005_`QTY1|1_x0005_`EXI|0_x0005_`IPR|0_x0005_`KWN|0_x0005_`BLA|F_x0005_` | P14: M01262_1 | Q14: E2_1 | AC14: =HYPERLINK("#"&#REF!&"!A"&ROW(#REF!),"M01262 →") -> #REF!
O15: _x0007_`COD|_x0005_`QTY1|1_x0005_`EXI|1_x0005_` | P15: CMT_1 | Q15: E10_1
A25: 1 | B25: 지급자재대 | O25: ="_x0007_`COD|C2_x0005_`QTY1|1_x0005_`EXI|0_x0005_`END|"&ROW(M27)&"_x0005_`" -> _x0007_`COD|C2_x0005_`QTY1|1_x0005_`EXI|0_x0005_`END|27_x0005_` | P25: C2_1
B26: 자연석 | C26: 1 식 | D26: 704 | E26: Ton | O26: _x0007_`COD|W00076_x0005_`QTY1|1_x0005_`EXI|0_x0005_`IPR|0_x0005_`BLA|F_x0005_` | P26: W00076_1 | Q26: C2_1 | AC26: =HYPERLINK("#"&#REF!&"!A"&ROW(#REF!),"W00076 →") -> #REF!

Sheet 〓 INITIAL 〓
B2: ※※ 현재 Sheet를 수정 또는 삭제하지 마십시요[수정/삭제시 STmate 데이타로 변환할 수 없습니다] ※※
B4: [Sheet정보] | C4: =ISERROR(SUM(C6:X15,C18:X20)) -> TRUE | D4: =ROW(C21) -> 21
B5: 목차 | C5: Sheet | D5: FPos | E5: ITNAME | F5: NAME | G5: SIZE | H5: QTY | I5: UNIT | J5: SPOS | K5: EPOS | L5: TAMT | M5: TAMOUNT | N5: MAMT | O5: MAMOUNT | P5: LAMT | Q5: LAMOUNT | R5: SAMT | S5: SAMOUNT | T5: AAMT | U5: AAMOUNT | V5: NAMT | W5: NAMOUNT | X5: INFO
B6: 1. 재료비목록표 | C6: =IF(D6="","재료비목록표",MID(D6,FIND("]",D6)+1,LEN(D6))) -> #REF! | D6: =CELL("filename",#REF!) -> #REF! | F6: =HYPERLINK("#"&C6&"!"&CHAR(COLUMN(#REF!)+64)&3,COLUMN(#REF!)) -> #REF! | G6: =HYPERLINK("#"&C6&"!"&CHAR(COLUMN(#REF!)+64)&3,COLUMN(#REF!)) -> #REF! | I6: =HYPERLINK("#"&C6&"!"&CHAR(COLUMN(#REF!)+64)&3,COLUMN(#REF!)) -> #REF! | J6: =HYPERLINK("#"&C6&"!A"&ROW(#REF!),ROW(#REF!)) -> #REF! | K6: =HYPERLINK("#"&C6&"!A"&ROW(#REF!),ROW(#REF!)) -> #REF! | L6: =HYPERLINK("#"&C6&"!"&CHAR(COLUMN(#REF!)+64)&3,COLUMN(#REF!)) -> #REF! | X6: =HYPERLINK("#"&C6&"!"&CHAR(COLUMN(#REF!)+64)&3,COLUMN(#REF!)) -> #REF!
B7: 2. 노무비목록표 | C7: =IF(D7="","노무비목록표",MID(D7,FIND("]",D7)+1,LEN(D7))) -> #REF! | D7: =CELL("filename",#REF!) -> #REF! | F7: =HYPERLINK("#"&C7&"!"&CHAR(COLUMN(#REF!)+64)&3,COLUMN(#REF!)) -> #REF! | G7: =HYPERLINK("#"&C7&"!"&CHAR(COLUMN(#REF!)+64)&3,COLUMN(#REF!)) -> #REF! | I7: =HYPERLINK("#"&C7&"!"&CHAR(COLUMN(#REF!)+64)&3,COLUMN(#REF!)) -> #REF! | J7: =HYPERLINK("#"&C7&"!A"&ROW(#REF!),ROW(#REF!)) -> #REF! | K7: =HYPERLINK("#"&C7&"!A"&ROW(#REF!),ROW(#REF!)) -> #REF! | L7: =HYPERLINK("#"&C7&"!"&CHAR(COLUMN(#REF!)+64)&3,COLUMN(#REF!)) -> #REF! | X7: =HYPERLINK("#"&C7&"!"&CHAR(COLUMN(#REF!)+64)&3,COLUMN(#REF!)) -> #REF!
B8: 3. 경비목록표 | C8: =IF(D8="","경비목록표",MID(D8,FIND("]",D8)+1,LEN(D8))) -> #REF! | D8: =CELL("filename",#REF!) -> #REF! | F8: =HYPERLINK("#"&C8&"!"&CHAR(COLUMN(#REF!)+64)&3,COLUMN(#REF!)) -> #REF! | G8: =HYPERLINK("#"&C8&"!"&CHAR(COLUMN(#REF!)+64)&3,COLUMN(#REF!)) -> #REF! | I8: =HYPERLINK("#"&C8&"!"&CHAR(COLUMN(#REF!)+64)&3,COLUMN(#REF!)) -> #REF! | J8: =HYPERLINK("#"&C8&"!A"&ROW(#REF!),ROW(#REF!)) -> #REF! | K8: =HYPERLINK("#"&C8&"!A"&ROW(#REF!),ROW(#REF!)) -> #REF! | L8: =HYPERLINK("#"&C8&"!"&CHAR(COLUMN(#REF!)+64)&3,COLUMN(#REF!)) -> #REF! | X8: =HYPERLINK("#"&C8&"!"&CHAR(COLUMN(#REF!)+64)&3,COLUMN(#REF!)) -> #REF!
B9: 4. 일식목록표 | C9: =IF(D9="","일식견적목록표",MID(D9,FIND("]",D9)+1,LEN(D9))) -> #REF! | D9: =CELL("filename",#REF!) -> #REF! | F9: =HYPERLINK("#"&C9&"!"&CHAR(COLUMN(#REF!)+64)&3,COLUMN(#REF!)) -> #REF! | G9: =HYPERLINK("#"&C9&"!"&CHAR(COLUMN(#REF!)+64)&3,COLUMN(#REF!)) -> #REF! | I9: =HYPERLINK("#"&C9&"!"&CHAR(COLUMN(#REF!)+64)&3,COLUMN(#REF!)) -> #REF! | J9: =HYPERLINK("#"&C9&"!A"&ROW(#REF!),ROW(#REF!)) -> #REF! | K9: =HYPERLINK("#"&C9&"!A"&ROW(#REF!),ROW(#REF!)) -> #REF! | L9: =HYPERLINK("#"&C9&"!"&CHAR(COLUMN(#REF!)+64)&3,COLUMN(#REF!)) -> #REF! | N9: =HYPERLINK("#"&C9&"!"&CHAR(COLUMN(#REF!)+64)&3,COLUMN(#REF!)) -> #REF! | P9: =HYPERLINK("#"&C9&"!"&CHAR(COLUMN(#REF!)+64)&3,COLUMN(#REF!)) -> #REF! | R9: =HYPERLINK("#"&C9&"!"&CHAR(COLUMN(#REF!)+64)&3,COLUMN(#REF!)) -> #REF! | X9: =HYPERLINK("#"&C9&"!"&CHAR(COLUMN(#REF!)+64)&3,COLUMN(#REF!)) -> #REF!
B10: 5. 환율 및 기초자료 | C10: =IF(D10="","환율및기초자료",MID(D10,FIND("]",D10)+1,LEN(D10))) -> #REF! | D10: =CELL("filename",#REF!) -> #REF! | E10: =HYPERLINK("#"&C10&"!"&CHAR(COLUMN(#REF!)+64)&5,COLUMN(#REF!)) -> #REF! | F10: =HYPERLINK("#"&C10&"!"&CHAR(COLUMN(#REF!)+64)&5,COLUMN(#REF!)) -> #REF! | G10: =HYPERLINK("#"&C10&"!"&CHAR(COLUMN(#REF!)+64)&5,COLUMN(#REF!)) -> #REF! | I10: =HYPERLINK("#"&C10&"!"&CHAR(COLUMN(#REF!)+64)&5,COLUMN(#REF!)) -> #REF! | J10: =HYPERLINK("#"&C10&"!A"&ROW(#REF!),ROW(#REF!)) -> #REF! | K10: =HYPERLINK("#"&C10&"!A"&ROW(#REF!),ROW(#REF!)) -> #REF! | L10: =HYPERLINK("#"&C10&"!"&CHAR(COLUMN(#REF!)+64)&5,COLUMN(#REF!)) -> #REF! | X10: =HYPERLINK("#"&C10&"!"&CHAR(COLUMN(#REF!)+64)&5,COLUMN(#REF!)) -> #REF!
B11: 6. 중기목록표 | C11: =IF(D11="","중기목록표",MID(D11,FIND("]",D11)+1,LEN(D11))) -> #REF! | D11: =CELL("filename",#REF!) -> #REF! | F11: =HYPERLINK("#"&C11&"!"&CHAR(COLUMN(#REF!)+64)&3,COLUMN(#REF!)) -> #REF! | G11: =HYPERLINK("#"&C11&"!"&CHAR(COLUMN(#REF!)+64)&3,COLUMN(#REF!)) -> #REF! | I11: =HYPERLINK("#"&C11&"!"&CHAR(COLUMN(#REF!)+64)&3,COLUMN(#REF!)) -> #REF! | J11: =HYPERLINK("#"&C11&"!A"&ROW(#REF!),ROW(#REF!)) -> #REF! | K11: =HYPERLINK("#"&C11&"!A"&ROW(#REF!),ROW(#REF!)) -> #REF! | L11: =HYPERLINK("#"&C11&"!"&CHAR(COLUMN(#REF!)+64)&3,COLUMN(#REF!)) -> #REF! | N11: =HYPERLINK("#"&C11&"!"&CHAR(COLUMN(#REF!)+64)&3,COLUMN(#REF!)) -> #REF! | P11: =HYPERLINK("#"&C11&"!"&CHAR(COLUMN(#REF!)+64)&3,COLUMN(#REF!)) -> #REF! | R11: =HYPERLINK("#"&C11&"!"&CHAR(COLUMN(#REF!)+64)&3,COLUMN(#REF!)) -> #REF! | X11: =HYPERLINK("#"&C11&"!"&CHAR(COLUMN(#REF!)+64)&3,COLUMN(#REF!)) -> #REF!
B12: 7. 실적단가표
B13: 8. 일위대가목록표
B14: 9. 산출근거목록표 | C14: =IF(D14="","단가산출근거목록표",MID(D14,FIND("]",D14)+1,LEN(D14))) -> #REF! | D14: =CELL("filename",#REF!) -> #REF! | F14: =HYPERLINK("#"&C14&"!"&CHAR(COLUMN(#REF!)+64)&3,COLUMN(#REF!)) -> #REF! | G14: =HYPERLINK("#"&C14&"!"&CHAR(COLUMN(#REF!)+64)&3,COLUMN(#REF!)) -> #REF! | I14: =HYPERLINK("#"&C14&"!"&CHAR(COLUMN(#REF!)+64)&3,COLUMN(#REF!)) -> #REF! | J14: =HYPERLINK("#"&C14&"!A"&ROW(#REF!),ROW(#REF!)) -> #REF! | K14: =HYPERLINK("#"&C14&"!A"&ROW(#REF!),ROW(#REF!)) -> #REF! | L14: =HYPERLINK("#"&C14&"!"&CHAR(COLUMN(#REF!)+64)&3,COLUMN(#REF!)) -> #REF! | N14: =HYPERLINK("#"&C14&"!"&CHAR(COLUMN(#REF!)+64)&3,COLUMN(#REF!)) -> #REF! | P14: =HYPERLINK("#"&C14&"!"&CHAR(COLUMN(#REF!)+64)&3,COLUMN(#REF!)) -> #REF! | R14: =HYPERLINK("#"&C14&"!"&CHAR(COLUMN(#REF!)+64)&3,COLUMN(#REF!)) -> #REF! | X14: =HYPERLINK("#"&C14&"!"&CHAR(COLUMN(#REF!)+64)&3,COLUMN(#REF!)) -> #REF!
B15: 10. 자재단가대비표 | C15: =IF(D15="","자재단가대비표",MID(D15,FIND("]",D15)+1,LEN(D15))) -> #REF! | D15: =CELL("filename",#REF!) -> #REF! | F15: =HYPERLINK("#"&C15&"!"&CHAR(COLUMN(#REF!)+64)&4,COLUMN(#REF!)) -> #REF! | G15: =HYPERLINK("#"&C15&"!"&CHAR(COLUMN(#REF!)+64)&4,COLUMN(#REF!)) -> #REF! | I15: =HYPERLINK("#"&C15&"!"&CHAR(COLUMN(#REF!)+64)&4,COLUMN(#REF!)) -> #REF! | J15: =HYPERLINK("#"&C15&"!A"&ROW(#REF!),ROW(#REF!)) -> #REF! | K15: =HYPERLINK("#"&C15&"!A"&ROW(#REF!),ROW(#REF!)) -> #REF! | L15: =HYPERLINK("#"&C15&"!"&CHAR(COLUMN(#REF!)+64)&4,COLUMN(#REF!)) -> #REF! | M15: =HYPERLINK("#"&C15&"!"&CHAR(COLUMN(#REF!)+64)&4,COLUMN(#REF!)) -> #REF! | N15: =HYPERLINK("#"&C15&"!"&CHAR(COLUMN(#REF!)+64)&4,COLUMN(#REF!)) -> #REF! | O15: =HYPERLINK("#"&C15&"!"&CHAR(COLUMN(#REF!)+64)&4,COLUMN(#REF!)) -> #REF! | P15: =HYPERLINK("#"&C15&"!"&CHAR(COLUMN(#REF!)+64)&4,COLUMN(#REF!)) -> #REF! | Q15: =HYPERLINK("#"&C15&"!"&CHAR(COLUMN(#REF!)+64)&4,COLUMN(#REF!)) -> #REF! | R15: =HYPERLINK("#"&C15&"!"&CHAR(COLUMN(#REF!)+64)&4,COLUMN(#REF!)) -> #REF! | S15: =HYPERLINK("#"&C15&"!"&CHAR(COLUMN(#REF!)+64)&4,COLUMN(#REF!)) -> #REF! | T15: =HYPERLINK("#"&C15&"!"&CHAR(COLUMN(#REF!)+64)&4,COLUMN(#REF!)) -> #REF! | U15: =HYPERLINK("#"&C15&"!"&CHAR(COLUMN(#REF!)+64)&4,COLUMN(#REF!)) -> #REF! | V15: =HYPERLINK("#"&C15&"!"&CHAR(COLUMN(#REF!)+64)&4,COLUMN(#REF!)) -> #REF! | W15: =HYPERLINK("#"&C15&"!"&CHAR(COLUMN(#REF!)+64)&4,COLUMN(#REF!)) -> #REF! | X15: =HYPERLINK("#"&C15&"!"&CHAR(COLUMN(#REF!)+64)&4,COLUMN(#REF!)) -> #REF!
B16: 11. 내역서 | C16: =IF(D16="","설계내역서",MID(D16,FIND("]",D16)+1,LEN(D16))) -> 내역서 | D16: =CELL("filename",내역서!A1) -> C:\Users\admin\Desktop\산양 서식환경 조성계획+\20. 산업안전보건관리비 적용 산출내역서_'17.10.11\[공내역서 1부.xlsx]내역서 | E16: =HYPERLINK("#"&C16&"!"&CHAR(COLUMN(내역서!A1)+64)&4,COLUMN(내역서!A1)) -> 1 | F16: =HYPERLINK("#"&C16&"!"&CHAR(COLUMN(내역서!B1)+64)&4,COLUMN(내역서!B1)) -> 2 | G16: =HYPERLINK("#"&C16&"!"&CHAR(COLUMN(내역서!C1)+64)&4,COLUMN(내역서!C1)) -> 3 | H16: =HYPERLINK("#"&C16&"!"&CHAR(COLUMN(내역서!D1)+64)&4,COLUMN(내역서!D1)) -> 4 | I16: =HYPERLINK("#"&C16&"!"&CHAR(COLUMN(내역서!E1)+64)&4,COLUMN(내역서!E1)) -> 5 | J16: =HYPERLINK("#"&C16&"!A"&ROW(내역서!A5),ROW(내역서!A5)) -> 5 | K16: =HYPERLINK("#"&C16&"!A"&ROW(내역서!A45),ROW(내역서!A45)) -> 45 | L16: =HYPERLINK("#"&C16&"!"&CHAR(COLUMN(내역서!L1)+64)&4,COLUMN(내역서!L1)) -> 12 | M16: =HYPERLINK("#"&C16&"!"&CHAR(COLUMN(내역서!M1)+64)&4,COLUMN(내역서!M1)) -> 13 | N16: =HYPERLINK("#"&C16&"!"&CHAR(COLUMN(내역서!F1)+64)&4,COLUMN(내역서!F1)) -> 6 | O16: =HYPERLINK("#"&C16&"!"&CHAR(COLUMN(내역서!G1)+64)&4,COLUMN(내역서!G1)) -> 7 | P16: =HYPERLINK("#"&C16&"!"&CHAR(COLUMN(내역서!H1)+64)&4,COLUMN(내역서!H1)) -> 8 | Q16: =HYPERLINK("#"&C16&"!"&CHAR(COLUMN(내역서!I1)+64)&4,COLUMN(내역서!I1)) -> 9 | R16: =HYPERLINK("#"&C16&"!"&CHAR(COLUMN(내역서!J1)+64)&4,COLUMN(내역서!J1)) -> 10 | S16: =HYPERLINK("#"&C16&"!"&CHAR(COLUMN(내역서!K1)+64)&4,COLUMN(내역서!K1)) -> 11 | X16: =HYPERLINK("#"&C16&"!"&CHAR(COLUMN(내역서!O1)+64)&4,COLUMN(내역서!O1)) -> 15
B17: 12. 총괄내역서 | C17: =IF(D17="","총괄설계내역서",MID(D17,FIND("]",D17)+1,LEN(D17))) -> 총괄내역서 | D17: =CELL("filename",총괄내역서!A1) -> C:\Users\admin\Desktop\산양 서식환경 조성계획+\20. 산업안전보건관리비 적용 산출내역서_'17.10.11\[공내역서 1부.xlsx]총괄내역서 | E17: =HYPERLINK("#"&C17&"!"&CHAR(COLUMN(총괄내역서!A1)+64)&3,COLUMN(총괄내역서!A1)) -> 1 | F17: =HYPERLINK("#"&C17&"!"&CHAR(COLUMN(총괄내역서!B1)+64)&3,COLUMN(총괄내역서!B1)) -> 2 | G17: =HYPERLINK("#"&C17&"!"&CHAR(COLUMN(총괄내역서!C1)+64)&3,COLUMN(총괄내역서!C1)) -> 3 | I17: =HYPERLINK("#"&C17&"!"&CHAR(COLUMN(총괄내역서!D1)+64)&3,COLUMN(총괄내역서!D1)) -> 4 | J17: =HYPERLINK("#"&C17&"!A"&ROW(총괄내역서!A4),ROW(총괄내역서!A4)) -> 4 | K17: =HYPERLINK("#"&C17&"!A"&ROW(총괄내역서!A22),ROW(총괄내역서!A22)) -> 22 | L17: =HYPERLINK("#"&C17&"!"&CHAR(COLUMN(총괄내역서!G1)+64)&3,COLUMN(총괄내역서!G1)) -> 7 | M17: =HYPERLINK("#"&C17&"!"&CHAR(COLUMN(총괄내역서!I1)+64)&3,COLUMN(총괄내역서!I1)) -> 9 | N17: =HYPERLINK("#"&C17&"!"&CHAR(COLUMN(총괄내역서!M1)+64)&3,COLUMN(총괄내역서!M1)) -> 13 | O17: =HYPERLINK("#"&C17&"!"&CHAR(COLUMN(총괄내역서!N1)+64)&3,COLUMN(총괄내역서!N1)) -> 14 | P17: =HYPERLINK("#"&C17&"!"&CHAR(COLUMN(총괄내역서!O1)+64)&3,COLUMN(총괄내역서!O1)) -> 15 | Q17: =HYPERLINK("#"&C17&"!"&CHAR(COLUMN(총괄내역서!P1)+64)&3,COLUMN(총괄내역서!P1)) -> 16 | X17: =HYPERLINK("#"&C17&"!"&CHAR(COLUMN(총괄내역서!H1)+64)&3,COLUMN(총괄내역서!H1)) -> 8
B18: 13. 중기사용료 | C18: =IF(D18="","중기사용료",MID(D18,FIND("]",D18)+1,LEN(D18))) -> #REF! | D18: =CELL("filename",#REF!) -> #REF! | F18: =HYPERLINK("#"&C18&"!"&CHAR(COLUMN(#REF!)+64)&4,COLUMN(#REF!)) -> #REF! | G18: =HYPERLINK("#"&C18&"!"&CHAR(COLUMN(#REF!)+64)&4,COLUMN(#REF!)) -> #REF! | H18: =HYPERLINK("#"&C18&"!"&CHAR(COLUMN(#REF!)+64)&4,COLUMN(#REF!)) -> #REF! | I18: =HYPERLINK("#"&C18&"!"&CHAR(COLUMN(#REF!)+64)&4,COLUMN(#REF!)) -> #REF! | J18: =HYPERLINK("#"&C18&"!A"&ROW(#REF!),ROW(#REF!)) -> #REF! | K18: =HYPERLINK("#"&C18&"!A"&ROW(#REF!),ROW(#REF!)) -> #REF! | L18: =HYPERLINK("#"&C18&"!"&CHAR(COLUMN(#REF!)+64)&4,COLUMN(#REF!)) -> #REF! | M18: =HYPERLINK("#"&C18&"!"&CHAR(COLUMN(#REF!)+64)&4,COLUMN(#REF!)) -> #REF! | N18: =HYPERLINK("#"&C18&"!"&CHAR(COLUMN(#REF!)+64)&4,COLUMN(#REF!)) -> #REF! | O18: =HYPERLINK("#"&C18&"!"&CHAR(COLUMN(#REF!)+64)&4,COLUMN(#REF!)) -> #REF! | P18: =HYPERLINK("#"&C18&"!"&CHAR(COLUMN(#REF!)+64)&4,COLUMN(#REF!)) -> #REF! | Q18: =HYPERLINK("#"&C18&"!"&CHAR(COLUMN(#REF!)+64)&4,COLUMN(#REF!)) -> #REF! | R18: =HYPERLINK("#"&C18&"!"&CHAR(COLUMN(#REF!)+64)&4,COLUMN(#REF!)) -> #REF! | S18: =HYPERLINK("#"&C18&"!"&CHAR(COLUMN(#REF!)+64)&4,COLUMN(#REF!)) -> #REF! | X18: =HYPERLINK("#"&C18&"!"&CHAR(COLUMN(#REF!)+64)&4,COLUMN(#REF!)) -> #REF!
B19: 14. 일위대가표
B20: 15. 단가산출근거 | C20: =IF(D20="","단가산출근거",MID(D20,FIND("]",D20)+1,LEN(D20))) -> #REF! | D20: =CELL("filename",#REF!) -> #REF! | E20: =HYPERLINK("#"&C20&"!"&CHAR(COLUMN(#REF!)+64)&4,COLUMN(#REF!)) -> #REF! | F20: =HYPERLINK("#"&C20&"!"&CHAR(COLUMN(#REF!)+64)&4,COLUMN(#REF!)) -> #REF! | J20: =HYPERLINK("#"&C20&"!A"&ROW(#REF!),ROW(#REF!)) -> #REF! | K20: =HYPERLINK("#"&C20&"!A"&ROW(#REF!),ROW(#REF!)) -> #REF! | L20: =HYPERLINK("#"&C20&"!"&CHAR(COLUMN(#REF!)+64)&4,COLUMN(#REF!)) -> #REF! | N20: =HYPERLINK("#"&C20&"!"&CHAR(COLUMN(#REF!)+64)&4,COLUMN(#REF!)) -> #REF! | P20: =HYPERLINK("#"&C20&"!"&CHAR(COLUMN(#REF!)+64)&4,COLUMN(#REF!)) -> #REF! | R20: =HYPERLINK("#"&C20&"!"&CHAR(COLUMN(#REF!)+64)&4,COLUMN(#REF!)) -> #REF! | X20: =HYPERLINK("#"&C20&"!"&CHAR(COLUMN(#REF!)+64)&4,COLUMN(#REF!)) -> #REF!
B21: [공사정보] | D21: =ROW(C30) -> 30
B22: M_VER | C22: 9.53
B23: PNAME | C23: 국립생태원 산양 서식 환경조성사업
B24: PCLAS | C24: 0
B25: SCLAS | C25: 0
B26: K_ORD | C26: 0
B27: PRIPR | C27: True
B28: ACTYP | C28: 1
B29: ACTOP | C29: 2
B30: [초기값] | D30: =ROW(C49) -> 49
B31: P_ORD | C31: 1 | D31: 1 | E31: 0 | F31: 0 | G31: 0 | H31: 0 | I31: 0 | J31: 0 | K31: 0 | L31: 0
B32: EXNM_ | C32: =#REF! -> #REF! | D32: =#REF! -> #REF! | E32: =#REF! -> #REF! | F32: =#REF! -> #REF!
B33: EXRNM | C33: False
B34: RXNM_ | C34: 1/8 * 16/12 * 25/20
B35: COND_ | C35: B00498B00496B00495B00499B00497L00093L00095L00096L00092
B36: KCDNM | C36: 1
B37: JCDNM | C37: 0
B38: ECDNM | C38: 0
B39: ACDNM | C39: 1
B40: BPNNM | C40: 1
B41: ZCDNM | C41: 2
B42: CHGNM | C42: True
B43: CHBNM | C43: True
B44: CHNNM | C44: True
... B47: S_JDA | C47: False
B48: SUBNM
B49: [인쇄정보] | D49: =ROW(C72) -> 72
B50: BMSTR | C50: 재 료 비 | D50: 노 무 비 | E50: 경 비 | F50: 합 계
B51: BMKNM | C51: MLST
B52: JEMNM | C52: 123456
B53: JMKN1 | C53: 가격 정보 | D53: 가.정
B54: JMKN2 | C54: 유통 물가 | D54: 유.물
B55: JMKN3 | C55: 거래 가격 | D55: 거.가
B56: JMKN4 | C56: 물가 자료 | D56: 물.자
B57: JMKN5 | C57: 견적단가1 | D57: 견적 2
B58: JMKN6 | C58: 적용 단가
B59: CAP_CODE | C59: 코드번호
B60: CAP_NO | C60: 호표
B61: CAP_IBRD | C61: 분류번호
B62: CAP_EQCOD | C62: 시설코드
B63: CAP_ITNUM | C63: 공 종
B64: CAP_NAME | C64: 명 칭
B65: CAP_SIZE | C65: 규 격
B66: CAP_QTY | C66: 수 량
B67: CAP_SUNIT | C67: 단위
B68: CAP_AMT | C68: 단 가
B69: CAP_PAGE | C69: 페이지
... B71: CAP_BIGO | C71: 비 고
B72: [.끝.]
