Workbook

Sheet 산출내역서
B2: 산 출 내 역 서
B4: □ 인원(5명) : 사무보조 3, 차량운전 2 | H4: (단위 : 원)
B6: 구 분 | E6: 사무보조 | F6: 차량운전 | G6: 합 계 | H6: 비 고
B7: 인 원 | E7: 3 | F7: 2 | G7: 5
B8: 인 건 비 | C8: 기 본 급 | E8: =사무보조!E8*10 -> 0 | F8: =차량운전!E8*10 -> 0 | G8: =(E8*3)+(F8*2) -> 0
C9: 상 여 금 | E9: =사무보조!E9*10 -> 0 | F9: =차량운전!E9*10 -> 0 | G9: =(E9*3)+(F9*2) -> 0
C10: 제수당 | D10: 연장근로수당 | E10: =사무보조!E10 -> 0 | F10: =차량운전!E10*10 -> 0 | G10: =(E10*3)+(F10*2) -> 0
D11: 휴일근로수당 | E11: =사무보조!E11 -> 0 | F11: =차량운전!E11*10 -> 0 | G11: =(E11*3)+(F11*2) -> 0
D12: 연차수당 | E12: =사무보조!E12 -> 0 | F12: =차량운전!E12 -> 0 | G12: =(E12*3)+(F12*2) -> 0
C13: (a) 월지급액 | E13: =SUM(E8:E12) -> 0 | F13: =SUM(F8:F12) -> 0 | G13: =(E13*3)+(F13*2) -> 0
C14: 퇴직충당금 | E14: =사무보조!E14*10 -> 0 | F14: =차량운전!E14*10 -> 0 | G14: =(E14*3)+(F14*2) -> 0 | H14: 1년미만
B15: 소 계 (A) | E15: =SUM(E13:E14) -> 0 | F15: =SUM(F13:F14) -> 0 | G15: =(E15*3)+(F15*2) -> 0
B16: 복리후생비 | C16: 건강보험료 | E16: =사무보조!E16*10 -> 609580 | F16: =차량운전!E16*10 -> 670830 | G16: =(E16*3)+(F16*2) -> 3170400
C17: 국민연금료 | E17: =사무보조!E17*10 -> 896440 | F17: =차량운전!E17*10 -> 986520 | G17: =(E17*3)+(F17*2) -> 4662360
C18: 고용보험료 | E18: =사무보조!E18*10 -> 258970 | F18: =차량운전!E18*10 -> 284990 | G18: =(E18*3)+(F18*2) -> 1346890
C19: 산재보험료 | E19: =사무보조!E19*10 -> 211960 | F19: =차량운전!E19*10 -> 430560 | G19: =(E19*3)+(F19*2) -> 1497000
C20: 장기요양보험료 | E20: =사무보조!E20*10 -> 39920 | F20: =차량운전!E20*10 -> 43930 | G20: =(E20*3)+(F20*2) -> 207620
C21: 급식보조비 | E21: =사무보조!E21*10 -> 1100000 | F21: =차량운전!E21*10 -> 1100000 | G21: =(E21*3)+(F21*2) -> 5500000
B22: 소 계 (B) | E22: =SUM(E16:E21) -> 3116870 | F22: =SUM(F16:F21) -> 3516830 | G22: =(E22*3)+(F22*2) -> 16384270
B23: 경비 | C23: 교육비 | E23: =사무보조!E23*10 -> 0 | F23: =차량운전!E23*10 -> 0 | G23: =(E23*3)+(F23*2) -> 0
C24: 기타 | E24: 0 | F24: 0 | G24: =(E24*3)+(F24*2) -> 0
B25: 소 계 (C) | E25: =SUM(E23:E24) -> 0 | F25: =SUM(F23:F24) -> 0 | G25: =(E25*3)+(F25*2) -> 0
B26: 계 (A+B+C) | E26: =SUM(E15,E22,E25) -> 3116870 | F26: =SUM(F15,F22,F25) -> 3516830 | G26: =(E26*3)+(F26*2) -> 16384270
B27: 일반관리비 (D) | E27: =사무보조!E27*10 -> 0 | F27: =차량운전!E27*10 -> 0 | G27: =(E27*3)+(F27*2) -> 0
B28: 이윤 (E) | E28: =사무보조!E28*10 -> 0 | F28: =차량운전!E28*10 -> 0 | G28: =(E28*3)+(F28*2) -> 0
B29: 공급가액 | E29: =SUM(E15,E22,E25,E27,E28) -> 3116870 | F29: =SUM(F15,F22,F25,F27,F28) -> 3516830 | G29: =(E29*3)+(F29*2) -> 16384270
B30: 부가가치세 | E30: =INT(E29*10%) -> 311687 | F30: =INT(F29*10%) -> 351683 | G30: =(E30*3)+(F30*2) -> 1638427
B31: 합 계 | E31: =SUM(E29:E30) -> 3428557 | F31: =SUM(F29:F30) -> 3868513 | G31: =(E31*3)+(F31*2) -> 18022697

Sheet 사무보조
B2: 2016년 파견 근로자 표준원가 산정기준 (1인/월 기준)
B4: □ 적용대상 직무 : 사무보조 | F4: (단위 : 원)
B6: 항 목 | E6: 금 액 | F6: 비 고
C7: 일 단 가 | E7: 65674 | F7: '16년 단순노무종사원 임금(중소기업중앙회, '15.11)
B8: 인 건 비 | C8: 기 본 급
C9: 상 여 금 | F9: 기본급 × 200% /12개월
C10: 제수당 | D10: 연장근로수당 | F10: 통상임금(기본급+상여금)×1.5/209×예상연장근로시간 | H10: 연장근로시간 | I10: 0
D11: 휴일근로수당 | F11: 통상임금(기본급+상여금)×1.5/209×예상휴일근로시간 | H11: 휴일근로시간 | I11: 0
D12: 연차수당 | F12: 연차사용촉진 | H12: * 월평균 14시간 한도를 원칙으로 함
C13: (a) 월지급액 | E13: =E8+E9+E10+E11+E12 -> 0
B15: 소 계 (A) | E15: =E13+E14 -> 0 | H15: ※ 4대보험기준
B16: 복리후생비 | C16: 건강보험료 | E16: 60958 | F16: ="(a)×"&(I16*100)&"%" -> (a)×3.06% | H16: 건강보험 | I16: 0.0306
C17: 국민연금료 | E17: 89644 | F17: ="(a)×"&(I17*100)&"%" -> (a)×4.5% | H17: 국민연금 | I17: 0.045
C18: 고용보험료 | E18: 25897 | F18: ="(a)×"&(I18*100)&"%" -> (a)×1.3% | H18: 고용보험 | I18: 0.013
C19: 산재보험료 | E19: 21196 | F19: ="(a)×"&(I19*100)&"%"&"(임금채권보장보험, 석면피해구제분담금 포함)" -> (a)×1.064%(임금채권보장보험, 석면피해구제분담금 포함) | H19: 산재보험 | I19: 0.01064
C20: 장기요양보험료 | E20: 3992 | F20: ="건강보험료×"&(I20*100)&"%" -> 건강보험료×6.55% | H20: 장기요양보험 | I20: 0.0655
C21: 급식보조비 | E21: 110000 | F21: 22일×5천원
B22: 소 계 (B) | E22: =SUM(E16:E21) -> 311687
B23: 경비 | C23: 교육비
C24: 기타
B25: 소 계 (C) | E25: =E23+E24 -> 0
B26: 계 (A+B+C)
B27: 일반관리비 (D) | E27: =INT(E26*5%) -> 0 | F27: (A+B+C)×5%
B28: 이윤 (E) | F28: (A+B+C+D)×5%↑
B29: 합 계
B30: 부가가치세
B31: 계약금액 | E31: =E29+E30 -> 0 | I31: =E31*12 -> 0

Sheet 차량운전
B2: 2016년 파견 근로자 표준원가 산정기준 (1인/월 기준)
B4: □ 적용대상 직무 : 차량운전 | F4: (단위 : 원)
B6: 항 목 | E6: 금 액 | F6: 비 고
C7: 일 단 가 | E7: 65674 | F7: '16년 단순노무종사원 임금(중소기업중앙회, '15.11)
B8: 인 건 비 | C8: 기 본 급
C9: 상 여 금 | F9: 기본급 × 200% /12개월
C10: 제수당 | D10: 연장근로수당 | F10: 통상임금(기본급+상여금)×1.5/209×예상연장근로시간 | H10: 연장근로시간 | I10: 10
D11: 휴일근로수당 | F11: 통상임금(기본급+상여금)×1.5/209×예상휴일근로시간 | H11: 휴일근로시간 | I11: 4
D12: 연차수당 | F12: 연차사용촉진 | H12: * 월평균 14시간 한도를 원칙으로 함
C13: (a) 월지급액 | E13: =E8+E9+E10+E11+E12 -> 0
B15: 소 계 (A) | E15: =E13+E14 -> 0 | H15: ※ 4대보험기준
B16: 복리후생비 | C16: 건강보험료 | E16: 67083 | F16: ="(a)×"&(I16*100)&"%" -> (a)×3.06% | H16: 건강보험 | I16: 0.0306
C17: 국민연금료 | E17: 98652 | F17: ="(a)×"&(I17*100)&"%" -> (a)×4.5% | H17: 국민연금 | I17: 0.045
C18: 고용보험료 | E18: 28499 | F18: ="(a)×"&(I18*100)&"%" -> (a)×1.3% | H18: 고용보험 | I18: 0.013
C19: 산재보험료 | E19: 43056 | F19: ="(a)×"&(I19*100)&"%"&"(임금채권보장보험, 석면피해구제분담금 포함)" -> (a)×1.964%(임금채권보장보험, 석면피해구제분담금 포함) | H19: 산재보험 | I19: 0.01964
C20: 장기요양보험료 | E20: 4393 | F20: ="건강보험료×"&(I20*100)&"%" -> 건강보험료×6.55% | H20: 장기요양보험 | I20: 0.0655
C21: 급식보조비 | E21: 110000 | F21: 22일×5천원
B22: 소 계 (B) | E22: =SUM(E16:E21) -> 351683
B23: 경비 | C23: 교육비
C24: 기타 | F24: 기타 필수경비 50천원 한도내 반영 가능
B25: 소 계 (C) | E25: =E23+E24 -> 0
B26: 계 (A+B+C)
B27: 일반관리비 (D) | E27: =INT(E26*5%) -> 0 | F27: (A+B+C)×5%
B28: 이윤 (E) | F28: (A+B+C+D)×5%
B29: 합 계
B30: 부가가치세
B31: 계약금액 | E31: =E29+E30 -> 0 | I31: =E31*12 -> 0
F43: 0
