Workbook

Sheet 갑지
A1: 설 계 서 용 지 ( 갑 지 )
A2: 과 장 | E2: 심 사 자 | I2: 검 산 자 | K2: 설계자 | O2: 2 0 1 9 년 6 월 일 설 계
C4: 2 0 1 9 | F4: 년 도
D8: 멸종위기조류 증식환경조성공사 | N8: 공 사 설 계 예 산 서
D10: 공 사 개 요 : 3동
D13: 총 공 사 비 | H13: =NUMBERSTRING(I24,1) &"원정" -> 육천일십팔만원정 | K13: =+I24 -> 60180000
G17: 도 급 예 산 액 | I17: =+원가계산!E31 -> 60180000 | L17: 원
C19: 내 역
G22: 관 급 자 재 비 | L22: 원
G24: 계 | I24: =+I17+I22 -> 60180000 | L24: 원

Sheet 원가계산
B2: 공 사 원 가 계 산 서
B3: [공사명] 멸종위기조류 증식환경조성공사
B4: 비 목 | E4: 금 액 | F4: 구 성 비 | H4: 비 고
B5: 순 공 사 원 가 | C5: 재료비 | D5: 직 접 재 료 비 | E5: =+공종별집계표!F27 -> 35716386
D6: 간 접 재 료 비
D7: 작업실,부산물등(△)
D8: 소 계 | E8: =ROUNDDOWN(SUM(E5-E7),0) -> 35716386
C9: 노무비 | D9: 직 접 노 무 비 | E9: =+공종별집계표!H27 -> 10852707
D10: 간 접 노 무 비 | E10: =ROUNDDOWN(E9*G10,0) -> 542635 | F10: 직접노무비의 | G10: 0.05
D11: 소 계 | E11: =ROUNDDOWN(SUM(E9:E10),0) -> 11395342
C12: 경 비 | D12: 산 출 경 비 | E12: =+공종별집계표!J27 -> 103005
D13: 산 재 보 험 료 | E13: =ROUNDDOWN(E11*G13,0) -> 427325 | F13: 노무비의 | G13: 0.0375
D14: 고 용 보 험 료 | E14: =ROUNDDOWN(E11*G14,0) -> 99139 | F14: 노무비의 | G14: 0.0087
D15: 퇴직공제부금비 | E15: =ROUNDDOWN(E9*G15,0) -> 0 | F15: 직접노무비의 | G15: 0
D16: 건 강 보 험 료 | E16: =ROUNDDOWN(E9*G16,0) -> 350542 | F16: 직접노무비의 | G16: 0.0323
D17: 연 금 보 험 료 | E17: =ROUNDDOWN(E9*G17,0) -> 488371 | F17: 직접노무비의 | G17: 0.045
D18: 노인장기요양보험료 | E18: =ROUNDDOWN(E16*G18,0) -> 29831 | F18: 건강보험료의 | G18: 0.0851
D19: 안 전 관 리 비 | E19: =ROUNDDOWN((E8+E9)*G19,0) -> 1364474 | F19: (재료비+직접노무비)의 | G19: 0.0293
D20: 기 타 경 비 | E20: =ROUNDDOWN((E8+E11)*G20,0) -> 998768 | F20: (재료비+노무비)의 | G20: 0.0212
D21: 환 경 보 전 비 | E21: =ROUNDDOWN((E8+E9+E12)*G21,0) -> 233360 | F21: (재료비+직노+기계경비)의 | G21: 0.005
D22: 건설하도급대금지급보증서발급수수료 | E22: =ROUNDDOWN((E8+E9+E12)*G22,0) -> 37804 | F22: (재료비+직노+기계경비)의 | G22: 0.00081
D23: 건설기계대여대금지급보증서발급수수료 | E23: =ROUNDDOWN((E8+E9+E12)*G23,0) -> 32670 | F23: (재료비+직노+기계경비)의 | G23: 0.0007
D24: 소 계 | E24: =ROUNDDOWN(SUM(E12:E23),0) -> 4165289
B25: 합 계 | E25: =ROUNDDOWN(E8+E11+E24,0) -> 51277017
B26: 일반관리비 | E26: =ROUNDDOWN(E25*G26,0) -> 1538310 | F26: 합계의 | G26: 0.03
B27: 이윤 | E27: =ROUNDDOWN((E11+E24+E26)*G27,0)-17161/1.1 -> 1865282.1 | F27: (노무비+경비+일반관리비)의 | G27: 0.11
B28: 건설폐기물처리비 | E28: =+공종별집계표!L13 -> 28482
B29: 총 원 가 | E29: =ROUNDDOWN(SUM(E25:E28),0) -> 54709091
B30: 부가가치세 | E30: =ROUNDDOWN((E29)*G30,0) -> 5470909 | F30: 총원가의 | G30: 0.1
B31: 도급액 | E31: =+(E29+E30) -> 60180000
B32: 관급자 재 비
B33: 총 공 사 비 | E33: =+E31+E32 -> 60180000

Sheet 공종별집계표
A1: 공 종 별 집 계 표
A2: [ 멸종위기조류 증식환경조성공사 ]
A3: 품 명 | B3: 규 격 | C3: 단위 | D3: 수량 | E3: 재 료 비 | G3: 노 무 비 | I3: 경 비 | K3: 합 계 | M3: 비 고 | N3: 공종코드 | O3: 변수 | P3: 상위공종 | Q3: 공종구분 | R3: 공종레벨 | S3: 공종소계 | T3: 원가계산서 연결금액
E4: 단 가 | F4: 금 액 | G4: 단 가 | H4: 금 액 | I4: 단 가 | J4: 금 액 | K4: 단 가 | L4: 금 액
A5: 01 멸종위기조류 증식환경조성공사 | D5: 1 | E5: =F6 -> 35716386 | F5: =E5*D5 -> 35716386 | G5: =H6 -> 10852707 | H5: =G5*D5 -> 10852707 | I5: =J6 -> 103005 | J5: =I5*D5 -> 103005 | K5: =E5+G5+I5 -> 46672098 | L5: =F5+H5+J5 -> 46672098 | N5: 01 | R5: 1
A6: 0101 조 류 사 육 장 | D6: 3 | E6: =F7+F8+F9+F10+F11+F12 -> 11905462 | F6: =E6*D6 -> 35716386 | G6: =H7+H8+H9+H10+H11+H12 -> 3617569 | H6: =G6*D6 -> 10852707 | I6: =J7+J8+J9+J10+J11+J12 -> 34335 | J6: =I6*D6 -> 103005 | K6: =E6+G6+I6 -> 15557366 | L6: =F6+H6+J6 -> 46672098 | N6: 0101 | P6: 01 | R6: 2
A7: 010101 콘크리트 공 사 | D7: 1 | E7: =공종별내역서!F27 -> 180378 | F7: =E7*D7 -> 180378 | G7: =공종별내역서!H27 -> 921007 | H7: =G7*D7 -> 921007 | I7: =공종별내역서!J27 -> 2331 | J7: =I7*D7 -> 2331 | K7: =E7+G7+I7 -> 1103716 | L7: =F7+H7+J7 -> 1103716 | N7: 010101 | P7: 0101 | R7: 3
A8: 010102 철 골 공 사 | D8: 1 | E8: =공종별내역서!F51 -> 245660 | F8: =E8*D8 -> 245660 | G8: =공종별내역서!H51 -> 520811 | H8: =G8*D8 -> 520811 | I8: =공종별내역서!J51 -> 15624 | J8: =I8*D8 -> 15624 | K8: =E8+G8+I8 -> 782095 | L8: =F8+H8+J8 -> 782095 | N8: 010102 | P8: 0101 | R8: 3
A9: 010103 금 속 공 사 | D9: 1 | E9: =공종별내역서!F75 -> 9343744 | F9: =E9*D9 -> 9343744 | G9: =공종별내역서!H75 -> 505976 | H9: =G9*D9 -> 505976 | I9: =공종별내역서!J75 -> 0 | J9: =I9*D9 -> 0 | K9: =E9+G9+I9 -> 9849720 | L9: =F9+H9+J9 -> 9849720 | N9: 010103 | P9: 0101 | R9: 3
A10: 010104 미장및수장공사 | D10: 1 | E10: =공종별내역서!F99 -> 1235680 | F10: =E10*D10 -> 1235680 | G10: =공종별내역서!H99 -> 1625219 | H10: =G10*D10 -> 1625219 | I10: =공종별내역서!J99 -> 16380 | J10: =I10*D10 -> 16380 | K10: =E10+G10+I10 -> 2877279 | L10: =F10+H10+J10 -> 2877279 | N10: 010104 | P10: 0101 | R10: 3
A11: 010105 기 타 공 사 | D11: 1 | E11: =공종별내역서!F123 -> 900000 | F11: =E11*D11 -> 900000 | G11: =공종별내역서!H123 -> 0 | H11: =G11*D11 -> 0 | I11: =공종별내역서!J123 -> 0 | J11: =I11*D11 -> 0 | K11: =E11+G11+I11 -> 900000 | L11: =F11+H11+J11 -> 900000 | N11: 010105 | P11: 0101 | R11: 3
A12: 010106 철 거 공 사 | D12: 1 | E12: =공종별내역서!F147 -> 0 | F12: =E12*D12 -> 0 | G12: =공종별내역서!H147 -> 44556 | H12: =G12*D12 -> 44556 | I12: =공종별내역서!J147 -> 0 | J12: =I12*D12 -> 0 | K12: =E12+G12+I12 -> 44556 | L12: =F12+H12+J12 -> 44556 | N12: 010106 | P12: 0101 | R12: 3 | S12: <
A13: 010107 건설폐기물처리비 | D13: 3 | E13: =공종별내역서!F171 -> 0 | F13: =E13*D13 -> 0 | G13: =공종별내역서!H171 -> 0 | H13: =G13*D13 -> 0 | I13: =공종별내역서!J171 -> 9494 | J13: =I13*D13 -> 28482 | K13: =E13+G13+I13 -> 9494 | L13: =F13+H13+J13 -> 28482 | M13: 합계제외 | N13: 010107 | Q13: 6 | R13: 3 | T13: =L13*3 -> 85446
A27: [ 합 계 ] | F27: =F5 -> 35716386 | H27: =H5 -> 10852707 | J27: =J5 -> 103005 | L27: =L5 -> 46672098

Sheet 공종별내역서
A1: [ 멸종위기조류 증식환경조성공사 ]
A2: 품 명 | B2: 규 격 | C2: 단위 | D2: 수량 | E2: 재 료 비 | G2: 노 무 비 | I2: 경 비 | K2: 합 계 | M2: 비 고 | N2: 품목코드 | O2: 변수 | P2: 설정 | Q2: 공종코드 | R2: 일위 | S2: 단산 | T2: 자재 | U2: 손료적용 | V2: 손료저장 | W2: 적용율 | X2: JUK1 | Y2: JUK2 | Z2: JUK3 | AA2: JUK4 | AB2: JUK5 | AC2: JUK6 | AD2: JUK7 | AE2: JUK8 | AF2: JUK9 | AG2: JUK10 | AH2: JUK11 | AI2: JUK12 | AJ2: JUK13 | AK2: JUK14 | AL2: JUK15 | AM2: JUK16 | AN2: JUK17 | AO2: JUK18 | AP2: JUK19 | AQ2: JUK20 | AR2: 자재구분 | AS2: 공종구분 | AT2: 공종레벨 | AU2: 공종+자재 | AV2: 고유번호
E3: 단 가 | F3: 금 액 | G3: 단 가 | H3: 금 액 | I3: 단 가 | J3: 금 액 | K3: 단 가 | L3: 금 액
A4: 010101 콘크리트 공 사 | Q4: 010101
A5: 콘크리트인력비빔타설 | B5: 소형구조물,1:3:6 | C5: M3 | D5: 1.612 | E5: =TRUNC(일위대가목록!E4,0) -> 58746 | F5: =TRUNC(E5*D5, 0) -> 94698 | G5: =TRUNC(일위대가목록!F4,0) -> 426312 | H5: =TRUNC(G5*D5, 0) -> 687214 | I5: =TRUNC(일위대가목록!G4,0) -> 0 | J5: =TRUNC(I5*D5, 0) -> 0 | K5: =TRUNC(E5+G5+I5, 0) -> 485058 | L5: =TRUNC(F5+H5+J5, 0) -> 781912 | M5: 호표 1 | N5: 596395835352B4F2447018D73136 | Q5: 010101 | R5: T | S5: F | T5: F | AU5: 010101596395835352B4F2447018D73136 | AV5: 1452
A6: 합판거푸집설치및해체 | B6: 보통 4회, 수직고 7m까지 | C6: M2 | D6: 9 | E6: =TRUNC(일위대가목록!E5,0) -> 9520 | F6: =TRUNC(E6*D6, 0) -> 85680 | G6: =TRUNC(일위대가목록!F5,0) -> 25977 | H6: =TRUNC(G6*D6, 0) -> 233793 | I6: =TRUNC(일위대가목록!G5,0) -> 259 | J6: =TRUNC(I6*D6, 0) -> 2331 | K6: =TRUNC(E6+G6+I6, 0) -> 35756 | L6: =TRUNC(F6+H6+J6, 0) -> 321804 | M6: 호표 2 | N6: 59639584785071C2B43BC8AEB283EF | Q6: 010101 | R6: T | S6: F | T6: F | AU6: 01010159639584785071C2B43BC8AEB283EF | AV6: 1451
A27: [ 합 계 ] | F27: =SUM(F5:F26) -> 180378 | H27: =SUM(H5:H26) -> 921007 | J27: =SUM(J5:J26) -> 2331 | L27: =SUM(L5:L26) -> 1103716 | N27: TOTAL
A28: 010102 철 골 공 사 | Q28: 010102
A29: 아 연 도 각 관 | B29: 30*30*t1.6mm, 1.380kg/m | C29: M | D29: 89 | E29: =TRUNC(단가대비표!O30,0) -> 1400 | F29: =TRUNC(E29*D29, 0) -> 124600 | G29: =TRUNC(단가대비표!P30,0) -> 0 | H29: =TRUNC(G29*D29, 0) -> 0 | I29: =TRUNC(단가대비표!V30,0) -> 0 | J29: =TRUNC(I29*D29, 0) -> 0 | K29: =TRUNC(E29+G29+I29, 0) -> 1400 | L29: =TRUNC(F29+H29+J29, 0) -> 124600 | M29: 자재 26 | N29: 5E3D55D378527762B47A2887DB27B7F739B853 | Q29: 010102 | R29: F | S29: F | T29: T | AU29: 0101025E3D55D378527762B47A2887DB27B7F739B853 | AV29: 1453
A30: 아 연 도 각 관 | B30: 40*20*t2.3mm, 1.894kg/m | C30: M | D30: 65 | E30: =TRUNC(단가대비표!O31,0) -> 1920 | F30: =TRUNC(E30*D30, 0) -> 124800 | G30: =TRUNC(단가대비표!P31,0) -> 0 | H30: =TRUNC(G30*D30, 0) -> 0 | I30: =TRUNC(단가대비표!V31,0) -> 0 | J30: =TRUNC(I30*D30, 0) -> 0 | K30: =TRUNC(E30+G30+I30, 0) -> 1920 | L30: =TRUNC(F30+H30+J30, 0) -> 124800 | M30: 자재 27 | N30: 5E3D55D378527762B47A2887DB27B7F73A5892 | Q30: 010102 | R30: F | S30: F | T30: T | AU30: 0101025E3D55D378527762B47A2887DB27B7F73A5892 | AV30: 1454
A31: 철 강 설 | B31: 고철, 작업설부산물 | C31: KG | D31: -11 | E31: =TRUNC(단가대비표!O8,0) -> 340 | F31: =TRUNC(E31*D31, 0) -> -3740 | G31: =TRUNC(단가대비표!P8,0) -> 0 | H31: =TRUNC(G31*D31, 0) -> 0 | I31: =TRUNC(단가대비표!V8,0) -> 0 | J31: =TRUNC(I31*D31, 0) -> 0 | K31: =TRUNC(E31+G31+I31, 0) -> 340 | L31: =TRUNC(F31+H31+J31, 0) -> -3740 | M31: 자재 4 | N31: 5E6A85AB23592492B4217864685F8C32C00596 | Q31: 010102 | R31: F | S31: F | T31: T | AU31: 0101025E6A85AB23592492B4217864685F8C32C00596 | AV31: 1457
A32: 경량형강철골조 조립설치 | B32: 비내력식 | C32: TON | D32: 0.233 | E32: =TRUNC(일위대가목록!E6,0) -> 0 | F32: =TRUNC(E32*D32, 0) -> 0 | G32: =TRUNC(일위대가목록!F6,0) -> 2235242 | H32: =TRUNC(G32*D32, 0) -> 520811 | I32: =TRUNC(일위대가목록!G6,0) -> 67057 | J32: =TRUNC(I32*D32, 0) -> 15624 | K32: =TRUNC(E32+G32+I32, 0) -> 2302299 | L32: =TRUNC(F32+H32+J32, 0) -> 536435 | M32: 호표 3 | N32: 5963859D2259EA62B4FBC89053B066 | Q32: 010102 | R32: T | S32: F | T32: F | AU32: 0101025963859D2259EA62B4FBC89053B066 | AV32: 1456
A51: [ 합 계 ] | F51: =SUM(F29:F50) -> 245660 | H51: =SUM(H29:H50) -> 520811 | J51: =SUM(J29:J50) -> 15624 | L51: =SUM(L29:L50) -> 782095 | N51: TOTAL
A52: 010103 금 속 공 사 | Q52: 010103
A53: 크림프철망설치 | B53: SUS WIRE NET/SUS304 Ø1.8㎜/1*1 MOS16.5*16.5 | C53: M2 | D53: 347 | E53: =TRUNC(단가대비표!O46,0) -> 26450 | F53: =TRUNC(E53*D53, 0) -> 9178150 | G53: =TRUNC(단가대비표!P46,0) -> 0 | H53: =TRUNC(G53*D53, 0) -> 0 | I53: =TRUNC(단가대비표!V46,0) -> 0 | J53: =TRUNC(I53*D53, 0) -> 0 | K53: =TRUNC(E53+G53+I53, 0) -> 26450 | L53: =TRUNC(F53+H53+J53, 0) -> 9178150 | M53: "견적" | N53: 58D2157DA85E7372345FC88DE69D5A656C0379 | Q53: 010103 | R53: F | S53: F | T53: T | AU53: 01010358D2157DA85E7372345FC88DE69D5A656C0379 | AV53: 1477
A54: 아연도금철망설치 | B54: 아연도, #6, 50*50 | C54: M2 | D54: 6 | E54: =TRUNC(일위대가목록!E7,0) -> 15091 | F54: =TRUNC(E54*D54, 0) -> 90546 | G54: =TRUNC(일위대가목록!F7,0) -> 1824 | H54: =TRUNC(G54*D54, 0) -> 10944 | I54: =TRUNC(일위대가목록!G7,0) -> 0 | J54: =TRUNC(I54*D54, 0) -> 0 | K54: =TRUNC(E54+G54+I54, 0) -> 16915 | L54: =TRUNC(F54+H54+J54, 0) -> 101490 | M54: 호표 4 | N54: 596375BC0E50088224CBF86567AB0A | Q54: 010103 | R54: T | S54: F | T54: F | AU54: 010103596375BC0E50088224CBF86567AB0A | AV54: 1461
A55: 기존철망철거후재설치 | B55: 2칸 | C55: 식 | D55: 1 | E55: =TRUNC(일위대가목록!E8,0) -> 0 | F55: =TRUNC(E55*D55, 0) -> 0 | G55: =TRUNC(일위대가목록!F8,0) -> 250854 | H55: =TRUNC(G55*D55, 0) -> 250854 | I55: =TRUNC(일위대가목록!G8,0) -> 0 | J55: =TRUNC(I55*D55, 0) -> 0 | K55: =TRUNC(E55+G55+I55, 0) -> 250854 | L55: =TRUNC(F55+H55+J55, 0) -> 250854 | M55: 호표 5 | N55: 59632535F75BC2F274B508B6960938 | Q55: 010103 | R55: T | S55: F | T55: F | AU55: 01010359632535F75BC2F274B508B6960938 | AV55: 1478
A56: 강관조립말비계(이동식)설치및해체 | B56: 높이 4m, 3개월 | C56: 대 | D56: 2 | E56: =TRUNC(일위대가목록!E9,0) -> 37524 | F56: =TRUNC(E56*D56, 0) -> 75048 | G56: =TRUNC(일위대가목록!F9,0) -> 122089 | H56: =TRUNC(G56*D56, 0) -> 244178 | I56: =TRUNC(일위대가목록!G9,0) -> 0 | J56: =TRUNC(I56*D56, 0) -> 0 | K56: =TRUNC(E56+G56+I56, 0) -> 159613 | L56: =TRUNC(F56+H56+J56, 0) -> 319226 | M56: 호표 6 | N56: 5963C538235D9DD2F4229828140C6B | Q56: 010103 | R56: T | S56: F | T56: F | AU56: 0101035963C538235D9DD2F4229828140C6B | AV56: 1480
A75: [ 합 계 ] | F75: =SUM(F53:F74) -> 9343744 | H75: =SUM(H53:H74) -> 505976 | J75: =SUM(J53:J74) -> 0 | L75: =SUM(L53:L74) -> 9849720 | N75: TOTAL
A76: 010104 미장및수장공사 | Q76: 010104
A77: 모르타르배합(배합품포함) | B77: 배합용적비 1:3, 시멘트, 모래 별도 | C77: M3 | D77: 1.6 | E77: =TRUNC(일위대가목록!E10,0) -> 90768 | F77: =TRUNC(E77*D77, 0) -> 145228 | G77: =TRUNC(일위대가목록!F10,0) -> 82781 | H77: =TRUNC(G77*D77, 0) -> 132449 | I77: =TRUNC(일위대가목록!G10,0) -> 0 | J77: =TRUNC(I77*D77, 0) -> 0 | K77: =TRUNC(E77+G77+I77, 0) -> 173549 | L77: =TRUNC(F77+H77+J77, 0) -> 277677 | M77: 호표 7 | N77: 5963A5ED8152FA426411E8470062E7 | Q77: 010104 | R77: T | S77: F | T77: F | AU77: 0101045963A5ED8152FA426411E8470062E7 | AV77: 1462
A78: 모르타르 바 름 | B78: 바닥, 15mm | C78: M2 | D78: 12 | E78: =TRUNC(일위대가목록!E11,0) -> 1361 | F78: =TRUNC(E78*D78, 0) -> 16332 | G78: =TRUNC(일위대가목록!F11,0) -> 10834 | H78: =TRUNC(G78*D78, 0) -> 130008 | I78: =TRUNC(일위대가목록!G11,0) -> 0 | J78: =TRUNC(I78*D78, 0) -> 0 | K78: =TRUNC(E78+G78+I78, 0) -> 12195 | L78: =TRUNC(F78+H78+J78, 0) -> 146340 | M78: 호표 8 | N78: 5963A5ED8152CD325430986BCBD6AE | Q78: 010104 | R78: T | S78: F | T78: F | AU78: 0101045963A5ED8152CD325430986BCBD6AE | AV78: 1463
A79: 바탕만들기+유성페인트붓칠 | B79: con'c·mortar면, 2회. 1급 | C79: M2 | D79: 12 | E79: =TRUNC(일위대가목록!E12,0) -> 1181 | F79: =TRUNC(E79*D79, 0) -> 14172 | G79: =TRUNC(일위대가목록!F12,0) -> 11829 | H79: =TRUNC(G79*D79, 0) -> 141948 | I79: =TRUNC(일위대가목록!G12,0) -> 0 | J79: =TRUNC(I79*D79, 0) -> 0 | K79: =TRUNC(E79+G79+I79, 0) -> 13010 | L79: =TRUNC(F79+H79+J79, 0) -> 156120 | M79: 호표 9 | N79: 5963351F805A44B2747878C9CEFFB3 | Q79: 010104 | R79: T | S79: F | T79: F | AU79: 0101045963351F805A44B2747878C9CEFFB3 | AV79: 1464
A80: 목재사이딩(방부목)설치 | B80: 20T/오일스테인 | C80: M2 | D80: 27 | E80: =TRUNC(일위대가목록!E13,0) -> 36128 | F80: =TRUNC(E80*D80, 0) -> 975456 | G80: =TRUNC(일위대가목록!F13,0) -> 38242 | H80: =TRUNC(G80*D80, 0) -> 1032534 | I80: =TRUNC(일위대가목록!G13,0) -> 512 | J80: =TRUNC(I80*D80, 0) -> 13824 | K80: =TRUNC(E80+G80+I80, 0) -> 74882 | L80: =TRUNC(F80+H80+J80, 0) -> 2021814 | M80: 호표 10 | N80: 59632535F75BC2F274B508B696093D | Q80: 010104 | R80: T | S80: F | T80: F | AU80: 01010459632535F75BC2F274B508B696093D | AV80: 1470
A81: 목재 둥지 설치 | B81: 400*400 | C81: EA | D81: 6 | E81: =TRUNC(일위대가목록!E14,0) -> 8419 | F81: =TRUNC(E81*D81, 0) -> 50514 | G81: =TRUNC(일위대가목록!F14,0) -> 21346 | H81: =TRUNC(G81*D81, 0) -> 128076 | I81: =TRUNC(일위대가목록!G14,0) -> 426 | J81: =TRUNC(I81*D81, 0) -> 2556 | K81: =TRUNC(E81+G81+I81, 0) -> 30191 | L81: =TRUNC(F81+H81+J81, 0) -> 181146 | M81: 호표 11 | N81: 59632535F75BC2F274B508B696093E | Q81: 010104 | R81: T | S81: F | T81: F | AU81: 01010459632535F75BC2F274B508B696093E | AV81: 1471
A82: PE 둥지 설치 | B82: Ø250, L=200 | C82: EA | D82: 6 | E82: =TRUNC(일위대가목록!E15,0) -> 5663 | F82: =TRUNC(E82*D82, 0) -> 33978 | G82: =TRUNC(일위대가목록!F15,0) -> 10034 | H82: =TRUNC(G82*D82, 0) -> 60204 | I82: =TRUNC(일위대가목록!G15,0) -> 0 | J82: =TRUNC(I82*D82, 0) -> 0 | K82: =TRUNC(E82+G82+I82, 0) -> 15697 | L82: =TRUNC(F82+H82+J82, 0) -> 94182 | M82: 호표 12 | N82: 59632535F75BC2F274B508B696093F | Q82: 010104 | R82: T | S82: F | T82: F | AU82: 01010459632535F75BC2F274B508B696093F | AV82: 1472
A99: [ 합 계 ] | F99: =SUM(F77:F98) -> 1235680 | H99: =SUM(H77:H98) -> 1625219 | J99: =SUM(J77:J98) -> 16380 | L99: =SUM(L77:L98) -> 2877279 | N99: TOTAL
A100: 010105 기 타 공 사 | Q100: 010105
A101: 설 비 공 사 | C101: 식 | D101: 1 | E101: =TRUNC(단가대비표!O44,0) -> 500000 | F101: =TRUNC(E101*D101, 0) -> 500000 | G101: =TRUNC(단가대비표!P44,0) -> 0 | H101: =TRUNC(G101*D101, 0) -> 0 | I101: =TRUNC(단가대비표!V44,0) -> 0 | J101: =TRUNC(I101*D101, 0) -> 0 | K101: =TRUNC(E101+G101+I101, 0) -> 500000 | L101: =TRUNC(F101+H101+J101, 0) -> 500000 | M101: "견적" | N101: 58D2157DA85E7372345FC88DE69D5A656C037B | Q101: 010105 | R101: F | S101: F | T101: T | AU101: 01010558D2157DA85E7372345FC88DE69D5A656C037B | AV101: 1475
A102: 토 목 공 사 | C102: 식 | D102: 1 | E102: =TRUNC(단가대비표!O45,0) -> 400000 | F102: =TRUNC(E102*D102, 0) -> 400000 | G102: =TRUNC(단가대비표!P45,0) -> 0 | H102: =TRUNC(G102*D102, 0) -> 0 | I102: =TRUNC(단가대비표!V45,0) -> 0 | J102: =TRUNC(I102*D102, 0) -> 0 | K102: =TRUNC(E102+G102+I102, 0) -> 400000 | L102: =TRUNC(F102+H102+J102, 0) -> 400000 | M102: "견적" | N102: 58D2157DA85E7372345FC88DE69D5A656C0378 | Q102: 010105 | R102: F | S102: F | T102: T | AU102: 01010558D2157DA85E7372345FC88DE69D5A656C0378 | AV102: 1476
A123: [ 합 계 ] | F123: =SUM(F101:F122) -> 900000 | H123: =SUM(H101:H122) -> 0 | J123: =SUM(J101:J122) -> 0 | L123: =SUM(L101:L122) -> 900000 | N123: TOTAL
A124: 010106 철 거 공 사 | Q124: 010106
A125: 무근콘크리트철거 | B125: 인력 | C125: M3 | D125: 0.112 | E125: =TRUNC(일위대가목록!E16,0) -> 0 | F125: =TRUNC(E125*D125, 0) -> 0 | G125: =TRUNC(일위대가목록!F16,0) -> 340046 | H125: =TRUNC(G125*D125, 0) -> 38085 | I125: =TRUNC(일위대가목록!G16,0) -> 0 | J125: =TRUNC(I125*D125, 0) -> 0 | K125: =TRUNC(E125+G125+I125, 0) -> 340046 | L125: =TRUNC(F125+H125+J125, 0) -> 38085 | M125: 호표 13 | N125: 5962C54CDC5A3E7224DF98798A1AC6 | Q125: 010106 | R125: T | S125: F | T125: F | AU125: 0101065962C54CDC5A3E7224DF98798A1AC6 | AV125: 1465
A126: 건설폐기물상차비 | B126: 인력 | C126: TON | D126: 0.258 | E126: =TRUNC(일위대가목록!E17,0) -> 0 | F126: =TRUNC(E126*D126, 0) -> 0 | G126: =TRUNC(일위대가목록!F17,0) -> 25085 | H126: =TRUNC(G126*D126, 0) -> 6471 | I126: =TRUNC(일위대가목록!G17,0) -> 0 | J126: =TRUNC(I126*D126, 0) -> 0 | K126: =TRUNC(E126+G126+I126, 0) -> 25085 | L126: =TRUNC(F126+H126+J126, 0) -> 6471 | M126: 호표 14 | N126: 5962C54CDC5A3E7224DF98798A1AC5 | Q126: 010106 | R126: T | S126: F | T126: F | AU126: 0101065962C54CDC5A3E7224DF98798A1AC5 | AV126: 1467
A147: [ 합 계 ] | F147: =SUM(F125:F146) -> 0 | H147: =SUM(H125:H146) -> 44556 | J147: =SUM(J125:J146) -> 0 | L147: =SUM(L125:L146) -> 44556 | N147: TOTAL
A148: 010107 건설폐기물처리비 | Q148: 010107
A149: 건설폐기물처리비 | B149: 폐콘크리트 | C149: TON | D149: 0.258 | E149: =TRUNC(단가대비표!O32,0) -> 0 | F149: =TRUNC(E149*D149, 0) -> 0 | G149: =TRUNC(단가대비표!P32,0) -> 0 | H149: =TRUNC(G149*D149, 0) -> 0 | I149: =TRUNC(단가대비표!V32,0) -> 23593 | J149: =TRUNC(I149*D149, 0) -> 6086 | K149: =TRUNC(E149+G149+I149, 0) -> 23593 | L149: =TRUNC(F149+H149+J149, 0) -> 6086 | M149: 자재 28 | N149: 5963C53DA3520B32645C58B9FD6D3F | Q149: 010107 | R149: F | S149: F | T149: T | AU149: 0101075963C53DA3520B32645C58B9FD6D3F | AV149: 1466
A150: 건설폐기물운반비 | B150: 30km,15ton 덤프트럭 | C150: TON | D150: 0.258 | E150: =TRUNC(단가대비표!O33,0) -> 0 | F150: =TRUNC(E150*D150, 0) -> 0 | G150: =TRUNC(단가대비표!P33,0) -> 0 | H150: =TRUNC(G150*D150, 0) -> 0 | I150: =TRUNC(단가대비표!V33,0) -> 13210 | J150: =TRUNC(I150*D150, 0) -> 3408 | K150: =TRUNC(E150+G150+I150, 0) -> 13210 | L150: =TRUNC(F150+H150+J150, 0) -> 3408 | M150: 자재 29 | N150: 5963C53DA3520B2254C2686E4AA6EE | Q150: 010107 | R150: F | S150: F | T150: T | AU150: 0101075963C53DA3520B2254C2686E4AA6EE | AV150: 1408
A171: [ 합 계 ] | F171: =SUM(F149:F170) -> 0 | H171: =SUM(H149:H170) -> 0 | J171: =SUM(J149:J170) -> 9494 | L171: =SUM(L149:L170) -> 9494 | N171: TOTAL

Sheet 일위대가목록
A1: 일 위 대 가 목 록
A2: [ 멸종위기조류 증식환경조성공사 ]
A3: 코 드 | B3: 품 명 | C3: 규 격 | D3: 단위 | E3: 재 료 비 | F3: 노 무 비 | G3: 경 비 | H3: 합 계 | I3: 번 호 | J3: 비 고 | K3: 노임계수 | L3: 할증 | M3: 품셈개요 | N3: 장비일위
A4: 596395835352B4F2447018D73136 | B4: 콘크리트인력비빔타설 | C4: 소형구조물,1:3:6 | D4: M3 | E4: =일위대가!F10 -> 58746 | F4: =일위대가!H10 -> 426312 | G4: =일위대가!J10 -> 0 | H4: =E4+F4+G4 -> 485058 | I4: 호표 1 | J4: 건축 6-1-1.2 | M4: 건축 6-1-1.2
A5: 59639584785071C2B43BC8AEB283EF | B5: 합판거푸집설치및해체 | C5: 보통 4회, 수직고 7m까지 | D5: M2 | E5: =일위대가!F15 -> 9520 | F5: =일위대가!H15 -> 25977 | G5: =일위대가!J15 -> 259 | H5: =E5+F5+G5 -> 35756 | I5: 호표 2 | J5: 공통 6-3-1 | M5: 공통 6-3-1
A6: 5963859D2259EA62B4FBC89053B066 | B6: 경량형강철골조 조립설치 | C6: 비내력식 | D6: TON | E6: =일위대가!F20 -> 0 | F6: =일위대가!H20 -> 2235242 | G6: =일위대가!J20 -> 67057 | H6: =E6+F6+G6 -> 2302299 | I6: 호표 3 | J6: 건축 1-4-4 | M6: 건축 1-4-4
A7: 596375BC0E50088224CBF86567AB0A | B7: 아연도금철망설치 | C7: 아연도, #6, 50*50 | D7: M2 | E7: =일위대가!F25 -> 15091 | F7: =일위대가!H25 -> 1824 | G7: =일위대가!J25 -> 0 | H7: =E7+F7+G7 -> 16915 | I7: 호표 4 | J7: 건축 8-1-3 준용 | M7: 건축 8-1-3 준용
A8: 59632535F75BC2F274B508B6960938 | B8: 기존철망철거후재설치 | C8: 2칸 | D8: 식 | E8: =일위대가!F29 -> 0 | F8: =일위대가!H29 -> 250854 | G8: =일위대가!J29 -> 0 | H8: =E8+F8+G8 -> 250854 | I8: 호표 5
A9: 5963C538235D9DD2F4229828140C6B | B9: 강관조립말비계(이동식)설치및해체 | C9: 높이 4m, 3개월 | D9: 대 | E9: =일위대가!F43 -> 37524 | F9: =일위대가!H43 -> 122089 | G9: =일위대가!J43 -> 0 | H9: =E9+F9+G9 -> 159613 | I9: 호표 6 | J9: 공통 2-7-4 | M9: 공통 2-7-4
A10: 5963A5ED8152FA426411E8470062E7 | B10: 모르타르배합(배합품포함) | C10: 배합용적비 1:3, 시멘트, 모래 별도 | D10: M3 | E10: =일위대가!F49 -> 90768 | F10: =일위대가!H49 -> 82781 | G10: =일위대가!J49 -> 0 | H10: =E10+F10+G10 -> 173549 | I10: 호표 7 | J10: 건축 9-1-1 | M10: 건축 9-1-1
A11: 5963A5ED8152CD325430986BCBD6AE | B11: 모르타르 바 름 | C11: 바닥, 15mm | D11: M2 | E11: =일위대가!F54 -> 1361 | F11: =일위대가!H54 -> 10834 | G11: =일위대가!J54 -> 0 | H11: =E11+F11+G11 -> 12195 | I11: 호표 8 | J11: 건축 3-1-1 준용 | M11: 건축 3-1-1 준용
A12: 5963351F805A44B2747878C9CEFFB3 | B12: 바탕만들기+유성페인트붓칠 | C12: con'c·mortar면, 2회. 1급 | D12: M2 | E12: =일위대가!F60 -> 1181 | F12: =일위대가!H60 -> 11829 | G12: =일위대가!J60 -> 0 | H12: =E12+F12+G12 -> 13010 | I12: 호표 9 | J12: 건축 11-1-1,-2-4 | M12: 건축 11-1-1,-2-4
A13: 59632535F75BC2F274B508B696093D | B13: 목재사이딩(방부목)설치 | C13: 20T/오일스테인 | D13: M2 | E13: =일위대가!F68 -> 36128 | F13: =일위대가!H68 -> 38242 | G13: =일위대가!J68 -> 512 | H13: =E13+F13+G13 -> 74882 | I13: 호표 10 | J13: 건축 4-2-3 준용 | M13: 건축 4-2-3 준용
A14: 59632535F75BC2F274B508B696093E | B14: 목재 둥지 설치 | C14: 400*400 | D14: EA | E14: =일위대가!F75 -> 8419 | F14: =일위대가!H75 -> 21346 | G14: =일위대가!J75 -> 426 | H14: =E14+F14+G14 -> 30191 | I14: 호표 11
A15: 59632535F75BC2F274B508B696093F | B15: PE 둥지 설치 | C15: Ø250, L=200 | D15: EA | E15: =일위대가!F81 -> 5663 | F15: =일위대가!H81 -> 10034 | G15: =일위대가!J81 -> 0 | H15: =E15+F15+G15 -> 15697 | I15: 호표 12
A16: 5962C54CDC5A3E7224DF98798A1AC6 | B16: 무근콘크리트철거 | C16: 인력 | D16: M3 | E16: =일위대가!F85 -> 0 | F16: =일위대가!H85 -> 340046 | G16: =일위대가!J85 -> 0 | H16: =E16+F16+G16 -> 340046 | I16: 호표 13
A17: 5962C54CDC5A3E7224DF98798A1AC5 | B17: 건설폐기물상차비 | C17: 인력 | D17: TON | E17: =일위대가!F89 -> 0 | F17: =일위대가!H89 -> 25085 | G17: =일위대가!J89 -> 0 | H17: =E17+F17+G17 -> 25085 | I17: 호표 14
A18: 59639584785071C2B42968ACE112A2 | B18: 합판거푸집 - 자재비 | C18: 4회 | D18: M2 | E18: =일위대가!F96 -> 9520 | F18: =일위대가!H96 -> 0 | G18: =일위대가!J96 -> 0 | H18: =E18+F18+G18 -> 9520 | I18: 호표 15 | J18: 공통 6-3-1 | M18: 공통 6-3-1
A19: 59639584785071C2B42978B2CCFC57 | B19: 합판거푸집 - 인력투입 | C19: 보통, 수직고 7m까지 | D19: M2 | E19: =일위대가!F102 -> 0 | F19: =일위대가!H102 -> 25977 | G19: =일위대가!J102 -> 259 | H19: =E19+F19+G19 -> 26236 | I19: 호표 16 | J19: 공통 6-3-1 | M19: 공통 6-3-1
A20: 5963C538235D9DD2F422982AC18327 | B20: 강관 조립말비계(이동식)설치 및 해체 | C20: 높이 4m, 노무비 | D20: 대 | E20: =일위대가!F107 -> 0 | F20: =일위대가!H107 -> 122089 | G20: =일위대가!J107 -> 0 | H20: =E20+F20+G20 -> 122089 | I20: 호표 17 | J20: 공통 2-7-4 | M20: 공통 2-7-4
A21: 5963A5ED8152FA426411E8444CBBF1 | B21: 모르타르 배합 | C21: 모래채가름 포함 | D21: M3 | E21: =일위대가!F111 -> 0 | F21: =일위대가!H111 -> 82781 | G21: =일위대가!J111 -> 0 | H21: =E21+F21+G21 -> 82781 | I21: 호표 18 | J21: 건축 9-1-1 | M21: 건축 9-1-1
A22: 596305E94D53C362749AE88A7CAAFF | B22: 바탕고르기 | C22: 바닥, 24mm 이하 기준 | D22: M2 | E22: =일위대가!F116 -> 0 | F22: =일위대가!H116 -> 9593 | G22: =일위대가!J116 -> 0 | H22: =E22+F22+G22 -> 9593 | I22: 호표 19 | J22: 건축 3-1-1 | M22: 건축 3-1-1
A23: 5963350E6E543262E49D486B9C8E0B | B23: 콘크리트·모르타르면 바탕만들기 | D23: M2 | E23: =일위대가!F123 -> 119 | F23: =일위대가!H123 -> 1970 | G23: =일위대가!J123 -> 0 | H23: =E23+F23+G23 -> 2089 | I23: 호표 20 | J23: 건축 11-1-1 | M23: 건축 11-1-1
A24: 5963351F805A44B27478386D3A407D | B24: 유성페인트 붓칠 | C24: con'c·mortar면, G.B.면, 2회, 1급 | D24: M2 | E24: =일위대가!F129 -> 1062 | F24: =일위대가!H129 -> 0 | G24: =일위대가!J129 -> 0 | H24: =E24+F24+G24 -> 1062 | I24: 호표 21 | J24: 건축 11-2-4 | M24: 건축 11-2-4
A25: 5963351F805A44B27478386D3891FA | B25: 유성페인트 붓칠 | C25: con'c·mortar면, G.B.면, 2회 | D25: M2 | E25: =일위대가!F136 -> 0 | F25: =일위대가!H136 -> 9859 | G25: =일위대가!J136 -> 0 | H25: =E25+F25+G25 -> 9859 | I25: 호표 22 | J25: 건축 11-2-4 | M25: 건축 11-2-4
A26: 596335101C53D582B491D8D518A19C | B26: 바탕처리+오일스테인칠 | C26: 목재면, 2회, 바탕면 양호 | D26: M2 | E26: =일위대가!F141 -> 1148 | F26: =일위대가!H141 -> 12626 | G26: =일위대가!J141 -> 0 | H26: =E26+F26+G26 -> 13774 | I26: 호표 23 | J26: 건축 11-2-7 | M26: 건축 11-2-7
A27: 596335101C53D582B491D8D518A0F6 | B27: 오일스테인칠 | C27: 목재면, 2회 | D27: M2 | E27: =일위대가!F152 -> 1148 | F27: =일위대가!H152 -> 8752 | G27: =일위대가!J152 -> 0 | H27: =E27+F27+G27 -> 9900 | I27: 호표 24 | J27: 건축 11-2-7 | M27: 건축 11-2-7

Sheet 일위대가
A1: [ 멸종위기조류 증식환경조성공사 ]
A2: 품 명 | B2: 규 격 | C2: 단위 | D2: 수량 | E2: 재 료 비 | G2: 노 무 비 | I2: 경 비 | K2: 합 계 | M2: 비 고 | N2: 일위대가 | O2: 품목코드 | P2: 일위 | Q2: 단산 | R2: 자재 | S2: 손료적용 | T2: 손료저장 | U2: 적용율 | V2: JUK1 | W2: JUK2 | X2: JUK3 | Y2: JUK4 | Z2: JUK5 | AA2: JUK6 | AB2: JUK7 | AC2: JUK8 | AD2: JUK9 | AE2: JUK10 | AF2: JUK11 | AG2: JUK12 | AH2: JUK13 | AI2: JUK14 | AJ2: JUK15 | AK2: JUK16 | AL2: JUK17 | AM2: JUK18 | AN2: JUK19 | AO2: JUK20 | AP2: 할증적용 | AQ2: 할증저장 | AR2: 할증율 | AS2: HAL1 | AT2: HAL2 | AU2: HAL3 | AV2: 자재구분 | AW2: 일위대가+자재 | AX2: 장비일위 | AY2: 설정
E3: 단 가 | F3: 금 액 | G3: 단 가 | H3: 금 액 | I3: 단 가 | J3: 금 액 | K3: 단 가 | L3: 금 액
A4: 콘크리트인력비빔타설 소형구조물,1:3:6 M3 건축 6-1-1.2 ( 호표 1 ) | N4: 596395835352B4F2447018D73136
A5: 시멘트 | C5: kg | D5: 220 | E5: =단가대비표!O12 -> 106.8 | F5: =TRUNC(E5*D5,1) -> 23496 | G5: =단가대비표!P12 -> 0 | H5: =TRUNC(G5*D5,1) -> 0 | I5: =단가대비표!V12 -> 0 | J5: =TRUNC(I5*D5,1) -> 0 | K5: =TRUNC(E5+G5+I5,1) -> 106.8 | L5: =TRUNC(F5+H5+J5,1) -> 23496 | M5: 자재 8 | N5: 596395835352B4F2447018D73136 | O5: 5E4FB5D42750A8B254B7883133E6D20E70BAB5 | P5: F | Q5: F | R5: T | AW5: 596395835352B4F2447018D731365E4FB5D42750A8B254B7883133E6D20E70BAB5
A6: 모래 | C6: M3 | D6: 0.47 | E6: =단가대비표!O6 -> 33000 | F6: =TRUNC(E6*D6,1) -> 15510 | G6: =단가대비표!P6 -> 0 | H6: =TRUNC(G6*D6,1) -> 0 | I6: =단가대비표!V6 -> 0 | J6: =TRUNC(I6*D6,1) -> 0 | K6: =TRUNC(E6+G6+I6,1) -> 33000 | L6: =TRUNC(F6+H6+J6,1) -> 15510 | M6: 자재 2 | N6: 596395835352B4F2447018D73136 | O6: 5E6A85AB2B5E8202347848829F7BB5AD837D0A | P6: F | Q6: F | R6: T | AW6: 596395835352B4F2447018D731365E6A85AB2B5E8202347848829F7BB5AD837D0A
A7: 자갈 | C7: M3 | D7: 0.94 | E7: =단가대비표!O5 -> 21000 | F7: =TRUNC(E7*D7,1) -> 19740 | G7: =단가대비표!P5 -> 0 | H7: =TRUNC(G7*D7,1) -> 0 | I7: =단가대비표!V5 -> 0 | J7: =TRUNC(I7*D7,1) -> 0 | K7: =TRUNC(E7+G7+I7,1) -> 21000 | L7: =TRUNC(F7+H7+J7,1) -> 19740 | M7: 자재 1 | N7: 596395835352B4F2447018D73136 | O7: 5E6A85AB2B5E8212D4FD4846C0C0B0D3191E14 | P7: F | Q7: F | R7: T | AW7: 596395835352B4F2447018D731365E6A85AB2B5E8212D4FD4846C0C0B0D3191E14
A8: 콘크리트공 | B8: 일반공사 즤종 | C8: 인 | D8: 1.29 | E8: =단가대비표!O39 -> 0 | F8: =TRUNC(E8*D8,1) -> 0 | G8: =단가대비표!P39 -> 198242 | H8: =TRUNC(G8*D8,1) -> 255732.1 | I8: =단가대비표!V39 -> 0 | J8: =TRUNC(I8*D8,1) -> 0 | K8: =TRUNC(E8+G8+I8,1) -> 198242 | L8: =TRUNC(F8+H8+J8,1) -> 255732.1 | M8: 노임 6 | N8: 596395835352B4F2447018D73136 | O8: 59BCF5F6295C63A2B416285433D6DCA4C48588 | P8: F | Q8: F | R8: T | AW8: 596395835352B4F2447018D7313659BCF5F6295C63A2B416285433D6DCA4C48588
A9: 보통인부 | B9: 일반공사 즤종 | C9: 인 | D9: 1.36 | E9: =단가대비표!O34 -> 0 | F9: =TRUNC(E9*D9,1) -> 0 | G9: =단가대비표!P34 -> 125427 | H9: =TRUNC(G9*D9,1) -> 170580.7 | I9: =단가대비표!V34 -> 0 | J9: =TRUNC(I9*D9,1) -> 0 | K9: =TRUNC(E9+G9+I9,1) -> 125427 | L9: =TRUNC(F9+H9+J9,1) -> 170580.7 | M9: 노임 1 | N9: 596395835352B4F2447018D73136 | O9: 59BCF5F6295C63A2B416285433D6DCA4C484E6 | P9: F | Q9: F | R9: T | AW9: 596395835352B4F2447018D7313659BCF5F6295C63A2B416285433D6DCA4C484E6
A10: [ 합 계 ] | F10: =TRUNC(SUMIF(N5:N9, N4, F5:F9),0) -> 58746 | H10: =TRUNC(SUMIF(N5:N9, N4, H5:H9),0) -> 426312 | J10: =TRUNC(SUMIF(N5:N9, N4, J5:J9),0) -> 0 | L10: =F10+H10+J10 -> 485058 | N10: TOTAL | O10: TOTAL
A12: 합판거푸집설치및해체 보통 4회, 수직고 7m까지 M2 공통 6-3-1 ( 호표 2 ) | N12: 59639584785071C2B43BC8AEB283EF
A13: 합판거푸집 - 자재비 | B13: 4회 | C13: M2 | D13: 1 | E13: =일위대가목록!E18 -> 9520 | F13: =TRUNC(E13*D13,1) -> 9520 | G13: =일위대가목록!F18 -> 0 | H13: =TRUNC(G13*D13,1) -> 0 | I13: =일위대가목록!G18 -> 0 | J13: =TRUNC(I13*D13,1) -> 0 | K13: =TRUNC(E13+G13+I13,1) -> 9520 | L13: =TRUNC(F13+H13+J13,1) -> 9520 | M13: 호표 15 | N13: 59639584785071C2B43BC8AEB283EF | O13: 59639584785071C2B42968ACE112A2 | P13: T | Q13: F | R13: F | AW13: 59639584785071C2B43BC8AEB283EF59639584785071C2B42968ACE112A2
A14: 합판거푸집 - 인력투입 | B14: 보통, 수직고 7m까지 | C14: M2 | D14: 1 | E14: =일위대가목록!E19 -> 0 | F14: =TRUNC(E14*D14,1) -> 0 | G14: =일위대가목록!F19 -> 25977 | H14: =TRUNC(G14*D14,1) -> 25977 | I14: =일위대가목록!G19 -> 259 | J14: =TRUNC(I14*D14,1) -> 259 | K14: =TRUNC(E14+G14+I14,1) -> 26236 | L14: =TRUNC(F14+H14+J14,1) -> 26236 | M14: 호표 16 | N14: 59639584785071C2B43BC8AEB283EF | O14: 59639584785071C2B42978B2CCFC57 | P14: T | Q14: F | R14: F | AW14: 59639584785071C2B43BC8AEB283EF59639584785071C2B42978B2CCFC57
A15: [ 합 계 ] | F15: =TRUNC(SUMIF(N13:N14, N12, F13:F14),0) -> 9520 | H15: =TRUNC(SUMIF(N13:N14, N12, H13:H14),0) -> 25977 | J15: =TRUNC(SUMIF(N13:N14, N12, J13:J14),0) -> 259 | L15: =F15+H15+J15 -> 35756 | N15: TOTAL | O15: TOTAL
A17: 경량형강철골조 조립설치 비내력식 TON 건축 1-4-4 ( 호표 3 ) | N17: 5963859D2259EA62B4FBC89053B066
A18: 철공 | B18: 일반공사 직종 | C18: 인 | D18: 12.54 | E18: =단가대비표!O38 -> 0 | F18: =TRUNC(E18*D18,1) -> 0 | G18: =단가대비표!P38 -> 178249 | H18: =TRUNC(G18*D18,1) -> 2235242.4 | I18: =단가대비표!V38 -> 0 | J18: =TRUNC(I18*D18,1) -> 0 | K18: =TRUNC(E18+G18+I18,1) -> 178249 | L18: =TRUNC(F18+H18+J18,1) -> 2235242.4 | M18: 노임 5 | N18: 5963859D2259EA62B4FBC89053B066 | O18: 59BCF5F6295C63A2B416285433D6DCA4C484ED | P18: F | Q18: F | R18: T | V18: 1 | AW18: 5963859D2259EA62B4FBC89053B06659BCF5F6295C63A2B416285433D6DCA4C484ED
A19: 공구손료 | B19: 인력품의 3% | C19: 식 | D19: 1 | E19: 0 | F19: =TRUNC(E19*D19,1) -> 0 | G19: 0 | H19: =TRUNC(G19*D19,1) -> 0 | I19: =TRUNC(SUMIF(V18:V19, RIGHTB(O19, 1), H18:H19)*U19, 2) -> 67057.27 | J19: =TRUNC(I19*D19,1) -> 67057.2 | K19: =TRUNC(E19+G19+I19,1) -> 67057.2 | L19: =TRUNC(F19+H19+J19,1) -> 67057.2 | N19: 5963859D2259EA62B4FBC89053B066 | O19: 587A853F1E5C8FE2844FB89A954F001 | P19: F | Q19: F | R19: F | S19: 1 | T19: 2 | U19: 0.03 | AW19: 5963859D2259EA62B4FBC89053B066587A853F1E5C8FE2844FB89A954F001
A20: [ 합 계 ] | F20: =TRUNC(SUMIF(N18:N19, N17, F18:F19),0) -> 0 | H20: =TRUNC(SUMIF(N18:N19, N17, H18:H19),0) -> 2235242 | J20: =TRUNC(SUMIF(N18:N19, N17, J18:J19),0) -> 67057 | L20: =F20+H20+J20 -> 2302299 | N20: TOTAL | O20: TOTAL
A22: 아연도금철망설치 아연도, #6, 50*50 M2 건축 8-1-3 준용 ( 호표 4 ) | N22: 596375BC0E50088224CBF86567AB0A
A23: 용접철망 | B23: 아연도, #6, 50*50 | C23: M2 | D23: 1.16 | E23: =단가대비표!O13 -> 13010 | F23: =TRUNC(E23*D23,1) -> 15091.6 | G23: =단가대비표!P13 -> 0 | H23: =TRUNC(G23*D23,1) -> 0 | I23: =단가대비표!V13 -> 0 | J23: =TRUNC(I23*D23,1) -> 0 | K23: =TRUNC(E23+G23+I23,1) -> 13010 | L23: =TRUNC(F23+H23+J23,1) -> 15091.6 | M23: 자재 9 | N23: 596375BC0E50088224CBF86567AB0A | O23: 5E4FB5D42750A852342F7809174B91409CFEC8 | P23: F | Q23: F | R23: T | AW23: 596375BC0E50088224CBF86567AB0A5E4FB5D42750A852342F7809174B91409CFEC8
A24: 특별인부 | B24: 일반공사 즤종 | C24: 인 | D24: 0.012 | E24: =단가대비표!O35 -> 0 | F24: =TRUNC(E24*D24,1) -> 0 | G24: =단가대비표!P35 -> 152019 | H24: =TRUNC(G24*D24,1) -> 1824.2 | I24: =단가대비표!V35 -> 0 | J24: =TRUNC(I24*D24,1) -> 0 | K24: =TRUNC(E24+G24+I24,1) -> 152019 | L24: =TRUNC(F24+H24+J24,1) -> 1824.2 | M24: 노임 2 | N24: 596375BC0E50088224CBF86567AB0A | O24: 59BCF5F6295C63A2B416285433D6DCA4C484E7 | P24: F | Q24: F | R24: T | AW24: 596375BC0E50088224CBF86567AB0A59BCF5F6295C63A2B416285433D6DCA4C484E7
A25: [ 합 계 ] | F25: =TRUNC(SUMIF(N23:N24, N22, F23:F24),0) -> 15091 | H25: =TRUNC(SUMIF(N23:N24, N22, H23:H24),0) -> 1824 | J25: =TRUNC(SUMIF(N23:N24, N22, J23:J24),0) -> 0 | L25: =F25+H25+J25 -> 16915 | N25: TOTAL | O25: TOTAL
A27: 기존철망철거후재설치 2칸 식 ( 호표 5 ) | N27: 59632535F75BC2F274B508B6960938
A28: 보통인부 | B28: 일반공사 즤종 | C28: 인 | D28: 2 | E28: =단가대비표!O34 -> 0 | F28: =TRUNC(E28*D28,1) -> 0 | G28: =단가대비표!P34 -> 125427 | H28: =TRUNC(G28*D28,1) -> 250854 | I28: =단가대비표!V34 -> 0 | J28: =TRUNC(I28*D28,1) -> 0 | K28: =TRUNC(E28+G28+I28,1) -> 125427 | L28: =TRUNC(F28+H28+J28,1) -> 250854 | M28: 노임 1 | N28: 59632535F75BC2F274B508B6960938 | O28: 59BCF5F6295C63A2B416285433D6DCA4C484E6 | P28: F | Q28: F | R28: T | AW28: 59632535F75BC2F274B508B696093859BCF5F6295C63A2B416285433D6DCA4C484E6
A29: [ 합 계 ] | F29: =TRUNC(SUMIF(N28:N28, N27, F28:F28),0) -> 0 | H29: =TRUNC(SUMIF(N28:N28, N27, H28:H28),0) -> 250854 | J29: =TRUNC(SUMIF(N28:N28, N27, J28:J28),0) -> 0 | L29: =F29+H29+J29 -> 250854 | N29: TOTAL | O29: TOTAL
A31: 강관조립말비계(이동식)설치및해체 높이 4m, 3개월 대 공통 2-7-4 ( 호표 6 ) | N31: 5963C538235D9DD2F4229828140C6B
A32: 비계안정장치 | B32: 기둥, 1.2*1.7m | C32: 개 | D32: 0.24 | E32: =단가대비표!O15 -> 20830 | F32: =TRUNC(E32*D32,1) -> 4999.2 | G32: =단가대비표!P15 -> 0 | H32: =TRUNC(G32*D32,1) -> 0 | I32: =단가대비표!V15 -> 0 | J32: =TRUNC(I32*D32,1) -> 0 | K32: =TRUNC(E32+G32+I32,1) -> 20830 | L32: =TRUNC(F32+H32+J32,1) -> 4999.2 | M32: 자재 11 | N32: 5963C538235D9DD2F4229828140C6B | O32: 5E4FB5D42F5404B2D44F581BF34EA7087E998E | P32: F | Q32: F | R32: T | AW32: 5963C538235D9DD2F4229828140C6B5E4FB5D42F5404B2D44F581BF34EA7087E998E
A33: 비계안정장치 | B33: 가새, 1.2*1.9m | C33: 개 | D33: 0.24 | E33: =단가대비표!O16 -> 6640 | F33: =TRUNC(E33*D33,1) -> 1593.6 | G33: =단가대비표!P16 -> 0 | H33: =TRUNC(G33*D33,1) -> 0 | I33: =단가대비표!V16 -> 0 | J33: =TRUNC(I33*D33,1) -> 0 | K33: =TRUNC(E33+G33+I33,1) -> 6640 | L33: =TRUNC(F33+H33+J33,1) -> 1593.6 | M33: 자재 12 | N33: 5963C538235D9DD2F4229828140C6B | O33: 5E4FB5D42F5404B2D44F581BF34EA7087E9980 | P33: F | Q33: F | R33: T | AW33: 5963C538235D9DD2F4229828140C6B5E4FB5D42F5404B2D44F581BF34EA7087E9980
A34: 비계안정장치 | B34: 수평띠장, 1829mm | C34: 개 | D34: 0.48 | E34: =단가대비표!O17 -> 24600 | F34: =TRUNC(E34*D34,1) -> 11808 | G34: =단가대비표!P17 -> 0 | H34: =TRUNC(G34*D34,1) -> 0 | I34: =단가대비표!V17 -> 0 | J34: =TRUNC(I34*D34,1) -> 0 | K34: =TRUNC(E34+G34+I34,1) -> 24600 | L34: =TRUNC(F34+H34+J34,1) -> 11808 | M34: 자재 13 | N34: 5963C538235D9DD2F4229828140C6B | O34: 5E4FB5D42F5404B2D44F581BF34EA7087E9637 | P34: F | Q34: F | R34: T | AW34: 5963C538235D9DD2F4229828140C6B5E4FB5D42F5404B2D44F581BF34EA7087E9637
A35: 비계안정장치 | B35: 손잡이기둥 | C35: 개 | D35: 0.24 | E35: =단가대비표!O20 -> 5700 | F35: =TRUNC(E35*D35,1) -> 1368 | G35: =단가대비표!P20 -> 0 | H35: =TRUNC(G35*D35,1) -> 0 | I35: =단가대비표!V20 -> 0 | J35: =TRUNC(I35*D35,1) -> 0 | K35: =TRUNC(E35+G35+I35,1) -> 5700 | L35: =TRUNC(F35+H35+J35,1) -> 1368 | M35: 자재 16 | N35: 5963C538235D9DD2F4229828140C6B | O35: 5E4FB5D42F5404B2D44F581BF34EA7087E9630 | P35: F | Q35: F | R35: T | AW35: 5963C538235D9DD2F4229828140C6B5E4FB5D42F5404B2D44F581BF34EA7087E9630
A36: 비계안정장치 | B36: 손잡이, 1229mm | C36: 개 | D36: 0.12 | E36: =단가대비표!O18 -> 1440 | F36: =TRUNC(E36*D36,1) -> 172.8 | G36: =단가대비표!P18 -> 0 | H36: =TRUNC(G36*D36,1) -> 0 | I36: =단가대비표!V18 -> 0 | J36: =TRUNC(I36*D36,1) -> 0 | K36: =TRUNC(E36+G36+I36,1) -> 1440 | L36: =TRUNC(F36+H36+J36,1) -> 172.8 | M36: 자재 14 | N36: 5963C538235D9DD2F4229828140C6B | O36: 5E4FB5D42F5404B2D44F581BF34EA7087E9636 | P36: F | Q36: F | R36: T | AW36: 5963C538235D9DD2F4229828140C6B5E4FB5D42F5404B2D44F581BF34EA7087E9636
A37: 비계안정장치 | B37: 손잡이, 1829mm | C37: 개 | D37: 0.24 | E37: =단가대비표!O19 -> 2100 | F37: =TRUNC(E37*D37,1) -> 504 | G37: =단가대비표!P19 -> 0 | H37: =TRUNC(G37*D37,1) -> 0 | I37: =단가대비표!V19 -> 0 | J37: =TRUNC(I37*D37,1) -> 0 | K37: =TRUNC(E37+G37+I37,1) -> 2100 | L37: =TRUNC(F37+H37+J37,1) -> 504 | M37: 자재 15 | N37: 5963C538235D9DD2F4229828140C6B | O37: 5E4FB5D42F5404B2D44F581BF34EA7087E9631 | P37: F | Q37: F | R37: T | AW37: 5963C538235D9DD2F4229828140C6B5E4FB5D42F5404B2D44F581BF34EA7087E9631
A38: 비계안정장치 | B38: 비계안정장치, 이음철물, 연결핀 | C38: 개 | D38: 0.48 | E38: =단가대비표!O14 -> 830 | F38: =TRUNC(E38*D38,1) -> 398.4 | G38: =단가대비표!P14 -> 0 | H38: =TRUNC(G38*D38,1) -> 0 | I38: =단가대비표!V14 -> 0 | J38: =TRUNC(I38*D38,1) -> 0 | K38: =TRUNC(E38+G38+I38,1) -> 830 | L38: =TRUNC(F38+H38+J38,1) -> 398.4 | M38: 자재 10 | N38: 5963C538235D9DD2F4229828140C6B | O38: 5E4FB5D42F5404B2D44F581BF34EA7087E9BB0 | P38: F | Q38: F | R38: T | AW38: 5963C538235D9DD2F4229828140C6B5E4FB5D42F5404B2D44F581BF34EA7087E9BB0
A39: 비계안정장치 | B39: 바퀴 | C39: 개 | D39: 0.36 | E39: =단가대비표!O21 -> 10000 | F39: =TRUNC(E39*D39,1) -> 3600 | G39: =단가대비표!P21 -> 0 | H39: =TRUNC(G39*D39,1) -> 0 | I39: =단가대비표!V21 -> 0 | J39: =TRUNC(I39*D39,1) -> 0 | K39: =TRUNC(E39+G39+I39,1) -> 10000 | L39: =TRUNC(F39+H39+J39,1) -> 3600 | M39: 자재 17 | N39: 5963C538235D9DD2F4229828140C6B | O39: 5E4FB5D42F5404B2D44F581BF34EA7087E9633 | P39: F | Q39: F | R39: T | AW39: 5963C538235D9DD2F4229828140C6B5E4FB5D42F5404B2D44F581BF34EA7087E9633
A40: 비계안정장치 | B40: 쟈키 | C40: 개 | D40: 0.36 | E40: =단가대비표!O22 -> 9500 | F40: =TRUNC(E40*D40,1) -> 3420 | G40: =단가대비표!P22 -> 0 | H40: =TRUNC(G40*D40,1) -> 0 | I40: =단가대비표!V22 -> 0 | J40: =TRUNC(I40*D40,1) -> 0 | K40: =TRUNC(E40+G40+I40,1) -> 9500 | L40: =TRUNC(F40+H40+J40,1) -> 3420 | M40: 자재 18 | N40: 5963C538235D9DD2F4229828140C6B | O40: 5E4FB5D42F5404B2D44F581BF34EA7087E9632 | P40: F | Q40: F | R40: T | AW40: 5963C538235D9DD2F4229828140C6B5E4FB5D42F5404B2D44F581BF34EA7087E9632
A41: 비계안정장치 | B41: 발판, 40*200*2000 | C41: 장 | D41: 0.42 | E41: =단가대비표!O23 -> 23000 | F41: =TRUNC(E41*D41,1) -> 9660 | G41: =단가대비표!P23 -> 0 | H41: =TRUNC(G41*D41,1) -> 0 | I41: =단가대비표!V23 -> 0 | J41: =TRUNC(I41*D41,1) -> 0 | K41: =TRUNC(E41+G41+I41,1) -> 23000 | L41: =TRUNC(F41+H41+J41,1) -> 9660 | M41: 자재 19 | N41: 5963C538235D9DD2F4229828140C6B | O41: 5E4FB5D42F5404B2D44F581BF182DE7489E4AE | P41: F | Q41: F | R41: T | AW41: 5963C538235D9DD2F4229828140C6B5E4FB5D42F5404B2D44F581BF182DE7489E4AE
A42: 강관 조립말비계(이동식)설치 및 해체 | B42: 높이 4m, 노무비 | C42: 대 | D42: 1 | E42: =일위대가목록!E20 -> 0 | F42: =TRUNC(E42*D42,1) -> 0 | G42: =일위대가목록!F20 -> 122089 | H42: =TRUNC(G42*D42,1) -> 122089 | I42: =일위대가목록!G20 -> 0 | J42: =TRUNC(I42*D42,1) -> 0 | K42: =TRUNC(E42+G42+I42,1) -> 122089 | L42: =TRUNC(F42+H42+J42,1) -> 122089 | M42: 호표 17 | N42: 5963C538235D9DD2F4229828140C6B | O42: 5963C538235D9DD2F422982AC18327 | P42: T | Q42: F | R42: F | AW42: 5963C538235D9DD2F4229828140C6B5963C538235D9DD2F422982AC18327
A43: [ 합 계 ] | F43: =TRUNC(SUMIF(N32:N42, N31, F32:F42),0) -> 37524 | H43: =TRUNC(SUMIF(N32:N42, N31, H32:H42),0) -> 122089 | J43: =TRUNC(SUMIF(N32:N42, N31, J32:J42),0) -> 0 | L43: =F43+H43+J43 -> 159613 | N43: TOTAL | O43: TOTAL
A45: 모르타르배합(배합품포함) 배합용적비 1:3, 시멘트, 모래 별도 M3 건축 9-1-1 ( 호표 7 ) | N45: 5963A5ED8152FA426411E8470062E7
A46: 시멘트 | C46: kg | D46: 510 | E46: =단가대비표!O12 -> 106.8 | F46: =TRUNC(E46*D46,1) -> 54468 | G46: =단가대비표!P12 -> 0 | H46: =TRUNC(G46*D46,1) -> 0 | I46: =단가대비표!V12 -> 0 | J46: =TRUNC(I46*D46,1) -> 0 | K46: =TRUNC(E46+G46+I46,1) -> 106.8 | L46: =TRUNC(F46+H46+J46,1) -> 54468 | M46: 자재 8 | N46: 5963A5ED8152FA426411E8470062E7 | O46: 5E4FB5D42750A8B254B7883133E6D20E70BAB5 | P46: F | Q46: F | R46: T | AW46: 5963A5ED8152FA426411E8470062E75E4FB5D42750A8B254B7883133E6D20E70BAB5
...

Sheet 단가대비표
A1: 단 가 대 비 표
A2: [ 멸종위기조류 증식환경조성공사 ]
A3: 코 드 | B3: 품 명 | C3: 규격 | D3: 단위 | E3: 재 료 비 | P3: 노 무 비 | Q3: 경 비 | W3: 번 호 | X3: 비 고 | Y3: 품목구분 | Z3: 노임구분 | AA3: 소수점처리 | AB3: 자재구분
E4: 조달청가격 | F4: PAGE | G4: 물가자료 | H4: PAGE | I4: 물가정보 | J4: PAGE | K4: 조사가격1 | L4: PAGE | M4: 조사가격2 | N4: PAGE | O4: 적용단가 | Q4: 조달청가격 | R4: 물가자료 | S4: 물가정보 | T4: 조사가격1 | U4: 조사가격2 | V4: 적용단가
A5: 5E6A85AB2B5E8212D4FD4846C0C0B0D3191E14 | B5: 자갈 | D5: M3 | E5: 0 | G5: 21000 | H5: 104 | I5: 25300 | J5: 114 | K5: 0 | M5: 0 | O5: =SMALL(E5:M5,COUNTIF(E5:M5,0)+1) -> 21000 | P5: 0 | Q5: 0 | R5: 0 | S5: 0 | T5: 0 | U5: 0 | V5: 0 | W5: 자재 1
A6: 5E6A85AB2B5E8202347848829F7BB5AD837D0A | B6: 모래 | D6: M3 | E6: 0 | G6: 33000 | H6: 103 | I6: 39000 | J6: 114 | K6: 0 | M6: 0 | O6: =SMALL(E6:M6,COUNTIF(E6:M6,0)+1) -> 33000 | P6: 0 | Q6: 0 | R6: 0 | S6: 0 | T6: 0 | U6: 0 | V6: 0 | W6: 자재 2
A7: 5E6A85AB285175D214A158109A1E7C29A8B40E | B7: 내수합판 | C7: 12*1220*2440mm | D7: M2 | E7: 8419 | G7: 9137 | H7: 691 | I7: 10585 | J7: 181 | K7: 0 | M7: 0 | O7: =SMALL(E7:M7,COUNTIF(E7:M7,0)+1) -> 8419 | P7: 0 | Q7: 0 | R7: 0 | S7: 0 | T7: 0 | U7: 0 | V7: 0 | W7: 자재 3
A8: 5E6A85AB23592492B4217864685F8C32C00596 | B8: 철 강 설 | C8: 고철, 작업설부산물 | D8: KG | E8: 340 | G8: 0 | I8: 0 | K8: 0 | M8: 0 | O8: =SMALL(E8:M8,COUNTIF(E8:M8,0)+1) -> 340 | P8: 0 | Q8: 0 | R8: 0 | S8: 0 | T8: 0 | U8: 0 | V8: 0 | W8: 자재 4
A9: 5E6AA559875B0832D46ED85444618C365AB646 | B9: P.E 일반관 | C9: Ø250 | D9: M | E9: 0 | G9: 26970 | H9: 815 | I9: 0 | K9: 0 | M9: 0 | O9: =SMALL(E9:M9,COUNTIF(E9:M9,0)+1) -> 26970 | P9: 0 | Q9: 0 | R9: 0 | S9: 0 | T9: 0 | U9: 0 | V9: 0 | W9: 자재 5
A10: 5E4FB5D426566D1254C1980A9975DDF3F024C2 | B10: 각재 | C10: 외송 | D10: M3 | E10: 376675 | G10: 420000 | H10: 138 | I10: 421500 | J10: 144 | K10: 0 | M10: 0 | O10: =SMALL(E10:M10,COUNTIF(E10:M10,0)+1) -> 376675 | P10: 0 | Q10: 0 | R10: 0 | S10: 0 | T10: 0 | U10: 0 | V10: 0 | W10: 자재 6
A11: 5E4FB5D426566D1254C1980A9975DDF3F02352 | B11: 방부목 | D11: 재 | E11: 0 | G11: 5300 | H11: 141 | I11: 0 | K11: 0 | M11: 0 | O11: =SMALL(E11:M11,COUNTIF(E11:M11,0)+1) -> 5300 | P11: 0 | Q11: 0 | R11: 0 | S11: 0 | T11: 0 | U11: 0 | V11: 0 | W11: 자재 7
A12: 5E4FB5D42750A8B254B7883133E6D20E70BAB5 | B12: 시멘트 | D12: kg | E12: 0 | G12: 111.36 | H12: 106 | I12: 106.8 | J12: 115 | K12: 0 | M12: 0 | O12: =SMALL(E12:M12,COUNTIF(E12:M12,0)+1) -> 106.8 | P12: 0 | Q12: 0 | R12: 0 | S12: 0 | T12: 0 | U12: 0 | V12: 0 | W12: 자재 8
A13: 5E4FB5D42750A852342F7809174B91409CFEC8 | B13: 용접철망 | C13: 아연도, #6, 50*50 | D13: M2 | E13: 0 | G13: 13010 | H13: 96 | I13: 0 | K13: 0 | M13: 0 | O13: =SMALL(E13:M13,COUNTIF(E13:M13,0)+1) -> 13010 | P13: 0 | Q13: 0 | R13: 0 | S13: 0 | T13: 0 | U13: 0 | V13: 0 | W13: 자재 9
A14: 5E4FB5D42F5404B2D44F581BF34EA7087E9BB0 | B14: 비계안정장치 | C14: 비계안정장치, 이음철물, 연결핀 | D14: 개 | E14: 830 | G14: 1000 | H14: 134 | I14: 0 | K14: 0 | M14: 0 | O14: =SMALL(E14:M14,COUNTIF(E14:M14,0)+1) -> 830 | P14: 0 | Q14: 0 | R14: 0 | S14: 0 | T14: 0 | U14: 0 | V14: 0 | W14: 자재 10
A15: 5E4FB5D42F5404B2D44F581BF34EA7087E998E | B15: 비계안정장치 | C15: 기둥, 1.2*1.7m | D15: 개 | E15: 20830 | G15: 26500 | H15: 146 | I15: 29900 | J15: 148 | K15: 0 | M15: 0 | O15: =SMALL(E15:M15,COUNTIF(E15:M15,0)+1) -> 20830 | P15: 0 | Q15: 0 | R15: 0 | S15: 0 | T15: 0 | U15: 0 | V15: 0 | W15: 자재 11
A16: 5E4FB5D42F5404B2D44F581BF34EA7087E9980 | B16: 비계안정장치 | C16: 가새, 1.2*1.9m | D16: 개 | E16: 6640 | G16: 8000 | H16: 146 | I16: 8700 | J16: 148 | K16: 0 | M16: 0 | O16: =SMALL(E16:M16,COUNTIF(E16:M16,0)+1) -> 6640 | P16: 0 | Q16: 0 | R16: 0 | S16: 0 | T16: 0 | U16: 0 | V16: 0 | W16: 자재 12
A17: 5E4FB5D42F5404B2D44F581BF34EA7087E9637 | B17: 비계안정장치 | C17: 수평띠장, 1829mm | D17: 개 | E17: 0 | G17: 25500 | H17: 146 | I17: 24600 | J17: 148 | K17: 0 | M17: 0 | O17: =SMALL(E17:M17,COUNTIF(E17:M17,0)+1) -> 24600 | P17: 0 | Q17: 0 | R17: 0 | S17: 0 | T17: 0 | U17: 0 | V17: 0 | W17: 자재 13
A18: 5E4FB5D42F5404B2D44F581BF34EA7087E9636 | B18: 비계안정장치 | C18: 손잡이, 1229mm | D18: 개 | E18: 1440 | G18: 0 | I18: 0 | K18: 0 | M18: 0 | O18: =SMALL(E18:M18,COUNTIF(E18:M18,0)+1) -> 1440 | P18: 0 | Q18: 0 | R18: 0 | S18: 0 | T18: 0 | U18: 0 | V18: 0 | W18: 자재 14
A19: 5E4FB5D42F5404B2D44F581BF34EA7087E9631 | B19: 비계안정장치 | C19: 손잡이, 1829mm | D19: 개 | E19: 2100 | G19: 0 | I19: 0 | K19: 0 | M19: 0 | O19: =SMALL(E19:M19,COUNTIF(E19:M19,0)+1) -> 2100 | P19: 0 | Q19: 0 | R19: 0 | S19: 0 | T19: 0 | U19: 0 | V19: 0 | W19: 자재 15
A20: 5E4FB5D42F5404B2D44F581BF34EA7087E9630 | B20: 비계안정장치 | C20: 손잡이기둥 | D20: 개 | E20: 5700 | G20: 0 | I20: 0 | K20: 0 | M20: 0 | O20: =SMALL(E20:M20,COUNTIF(E20:M20,0)+1) -> 5700 | P20: 0 | Q20: 0 | R20: 0 | S20: 0 | T20: 0 | U20: 0 | V20: 0 | W20: 자재 16
A21: 5E4FB5D42F5404B2D44F581BF34EA7087E9633 | B21: 비계안정장치 | C21: 바퀴 | D21: 개 | E21: 0 | G21: 0 | I21: 0 | K21: 0 | M21: 10000 | N21: 134[거래] | O21: =SMALL(E21:M21,COUNTIF(E21:M21,0)+1) -> 10000 | P21: 0 | Q21: 0 | R21: 0 | S21: 0 | T21: 0 | U21: 0 | V21: 0 | W21: 자재 17
A22: 5E4FB5D42F5404B2D44F581BF34EA7087E9632 | B22: 비계안정장치 | C22: 쟈키 | D22: 개 | E22: 0 | G22: 9500 | H22: 146 | I22: 10800 | J22: 148 | K22: 0 | M22: 0 | O22: =SMALL(E22:M22,COUNTIF(E22:M22,0)+1) -> 9500 | P22: 0 | Q22: 0 | R22: 0 | S22: 0 | T22: 0 | U22: 0 | V22: 0 | W22: 자재 18
A23: 5E4FB5D42F5404B2D44F581BF182DE7489E4AE | B23: 비계안정장치 | C23: 발판, 40*200*2000 | D23: 장 | E23: 0 | G23: 23000 | H23: 146 | I23: 0 | K23: 0 | M23: 0 | O23: =SMALL(E23:M23,COUNTIF(E23:M23,0)+1) -> 23000 | P23: 0 | Q23: 0 | R23: 0 | S23: 0 | T23: 0 | U23: 0 | V23: 0 | W23: 자재 19
A24: 5E4FA5CFEB524082A4E558BCDC1F933183B7A2 | B24: 연마지 | C24: #120~180, 230*280mm | D24: 장 | E24: 200 | G24: 250 | H24: 1420 | I24: 319 | J24: 951 | K24: 0 | M24: 0 | O24: =SMALL(E24:M24,COUNTIF(E24:M24,0)+1) -> 200 | P24: 0 | Q24: 0 | R24: 0 | S24: 0 | T24: 0 | U24: 0 | V24: 0 | W24: 자재 20
A25: 5E4FA5CC2E543BE2F46CB88FA2D815D085DADC | B25: 퍼티 | C25: 319퍼티, 백색 | D25: kg | E25: 1993.5 | G25: 0 | I25: 0 | K25: 0 | M25: 0 | O25: =SMALL(E25:M25,COUNTIF(E25:M25,0)+1) -> 1993.5 | P25: 0 | Q25: 0 | R25: 0 | S25: 0 | T25: 0 | U25: 0 | V25: 0 | W25: 자재 21 | X25: 1L=1.55kg
A26: 5E4FA5CC2F56891264EAD8C8DFC3208FFB557E | B26: 조합페인트 | C26: KSM6020-1종1급, 백색 | D26: L | E26: 5060 | G26: 5733 | H26: 629 | I26: 6066 | J26: 84 | K26: 0 | M26: 0 | O26: =SMALL(E26:M26,COUNTIF(E26:M26,0)+1) -> 5060 | P26: 0 | Q26: 0 | R26: 0 | S26: 0 | T26: 0 | U26: 0 | V26: 0 | W26: 자재 22
A27: 5E4FA5CC2F56891264EA38C5907E16EB0E94F3 | B27: 특수페인트 | C27: 특수페인트, 오일스테인, 흑색 | D27: L | E27: 6934 | G27: 0 | I27: 0 | K27: 0 | M27: 0 | O27: =SMALL(E27:M27,COUNTIF(E27:M27,0)+1) -> 6934 | P27: 0 | Q27: 0 | R27: 0 | S27: 0 | T27: 0 | U27: 0 | V27: 0 | W27: 자재 23
A28: 5E4FA5CC2F5689C27419985BCE444E46406730 | B28: 시너 | C28: KSM6060, 1종 | D28: L | E28: 1840 | G28: 2711 | H28: 632 | I28: 2683 | J28: 84 | K28: 0 | M28: 0 | O28: =SMALL(E28:M28,COUNTIF(E28:M28,0)+1) -> 1840 | P28: 0 | Q28: 0 | R28: 0 | S28: 0 | T28: 0 | U28: 0 | V28: 0 | W28: 자재 24
A29: 5E4FA5CC2F5689C27419985BCE444E46406731 | B29: 시너 | C29: KSM6060, 2종 | D29: L | E29: 1778 | G29: 2711 | H29: 632 | I29: 2683 | J29: 84 | K29: 0 | M29: 0 | O29: =SMALL(E29:M29,COUNTIF(E29:M29,0)+1) -> 1778 | P29: 0 | Q29: 0 | R29: 0 | S29: 0 | T29: 0 | U29: 0 | V29: 0 | W29: 자재 25
A30: 5E3D55D378527762B47A2887DB27B7F739B853 | B30: 아 연 도 각 관 | C30: 30*30*t1.6mm, 1.380kg/m | D30: M | E30: 1400 | G30: 1670 | H30: 66 | I30: 0 | K30: 0 | M30: 0 | O30: =SMALL(E30:M30,COUNTIF(E30:M30,0)+1) -> 1400 | P30: 0 | Q30: 0 | R30: 0 | S30: 0 | T30: 0 | U30: 0 | V30: 0 | W30: 자재 26
A31: 5E3D55D378527762B47A2887DB27B7F73A5892 | B31: 아 연 도 각 관 | C31: 40*20*t2.3mm, 1.894kg/m | D31: M | E31: 1920 | G31: 2160 | H31: 66 | I31: 0 | K31: 0 | M31: 0 | O31: =SMALL(E31:M31,COUNTIF(E31:M31,0)+1) -> 1920 | P31: 0 | Q31: 0 | R31: 0 | S31: 0 | T31: 0 | U31: 0 | V31: 0 | W31: 자재 27
A32: 5963C53DA3520B32645C58B9FD6D3F | B32: 건설폐기물처리비 | C32: 폐콘크리트 | D32: TON | E32: 0 | G32: 0 | I32: 0 | K32: 0 | M32: 0 | O32: 0 | P32: 0 | Q32: 0 | R32: 0 | S32: 0 | T32: 0 | U32: 23593 | V32: =SMALL(Q32:U32,COUNTIF(Q32:U32,0)+1) -> 23593 | W32: 자재 28 | Y32: C
A33: 5963C53DA3520B2254C2686E4AA6EE | B33: 건설폐기물운반비 | C33: 30km,15ton 덤프트럭 | D33: TON | E33: 0 | G33: 0 | I33: 0 | K33: 0 | M33: 0 | O33: 0 | P33: 0 | Q33: 0 | R33: 13210 | S33: 0 | T33: 0 | U33: 0 | V33: =SMALL(Q33:U33,COUNTIF(Q33:U33,0)+1) -> 13210 | W33: 자재 29 | Y33: C
A34: 59BCF5F6295C63A2B416285433D6DCA4C484E6 | B34: 보통인부 | C34: 일반공사 즤종 | D34: 인 | E34: 0 | G34: 0 | I34: 0 | K34: 0 | M34: 0 | O34: 0 | P34: 125427 | Q34: 0 | R34: 0 | S34: 0 | T34: 0 | U34: 0 | V34: 0 | W34: 노임 1 | Y34: B
A35: 59BCF5F6295C63A2B416285433D6DCA4C484E7 | B35: 특별인부 | C35: 일반공사 즤종 | D35: 인 | E35: 0 | G35: 0 | I35: 0 | K35: 0 | M35: 0 | O35: 0 | P35: 152019 | Q35: 0 | R35: 0 | S35: 0 | T35: 0 | U35: 0 | V35: 0 | W35: 노임 2 | Y35: B
A36: 59BCF5F6295C63A2B416285433D6DCA4C484E2 | B36: 비계공 | C36: 일반공사 직종 | D36: 인 | E36: 0 | G36: 0 | I36: 0 | K36: 0 | M36: 0 | O36: 0 | P36: 224359 | Q36: 0 | R36: 0 | S36: 0 | T36: 0 | U36: 0 | V36: 0 | W36: 노임 3 | Y36: B
A37: 59BCF5F6295C63A2B416285433D6DCA4C484E3 | B37: 형틀목공 | C37: 일반공사 즤종 | D37: 인 | E37: 0 | G37: 0 | I37: 0 | K37: 0 | M37: 0 | O37: 0 | P37: 201951 | Q37: 0 | R37: 0 | S37: 0 | T37: 0 | U37: 0 | V37: 0 | W37: 노임 4 | Y37: B
A38: 59BCF5F6295C63A2B416285433D6DCA4C484ED | B38: 철공 | C38: 일반공사 직종 | D38: 인 | E38: 0 | G38: 0 | I38: 0 | K38: 0 | M38: 0 | O38: 0 | P38: 178249 | Q38: 0 | R38: 0 | S38: 0 | T38: 0 | U38: 0 | V38: 0 | W38: 노임 5 | Y38: B
A39: 59BCF5F6295C63A2B416285433D6DCA4C48588 | B39: 콘크리트공 | C39: 일반공사 즤종 | D39: 인 | E39: 0 | G39: 0 | I39: 0 | K39: 0 | M39: 0 | O39: 0 | P39: 198242 | Q39: 0 | R39: 0 | S39: 0 | T39: 0 | U39: 0 | V39: 0 | W39: 노임 6 | Y39: B
A40: 59BCF5F6295C63A2B416285433D6DCA4C4858C | B40: 할석공 | C40: 일반공사 직종 | D40: 인 | E40: 0 | G40: 0 | I40: 0 | K40: 0 | M40: 0 | O40: 0 | P40: 170023 | Q40: 0 | R40: 0 | S40: 0 | T40: 0 | U40: 0 | V40: 0 | W40: 노임 7 | Y40: B
...

Sheet  공사설정 
A1: 이 Sheet는 수정하지 마십시요
A2: 공사구분 | B2: A
A3: 확정내역 | B3: 원내역
A4: 자재단가적용 | B4: 5
A5: 경비단가적용 | B5: 5
A6: 품목코드형식 | B6: XXXX-XXXX-XXXXXXXXX
A7: 내역금액소수점처리 | B7: C | C7: T
A8: 일위대가내역소수점처리 | B8: C | C8: 2
A9: 단가명 | B9: 조달청가격 | C9: 물가자료 | D9: 물가정보 | E9: 조사가격1 | F9: 조사가격2 | G9: TTTTT
A10: 환율 | B10: 1118 | C10: 0 | D10: 0
A11: 시간당작업량 | B11: R | C11: 4
A12: 1회 사이클시간 | B12: R | C12: 4
A13: 시간당 작업사이클 | B13: R | C13: 3
A14: 일반변수 | B14: C | C14: 5
A15: 시간당 노임산출 계수 | B15: A | C15: 1/8*16/12*25/20 | D15: 1/8*16/12*25/20 | E15: 1/8*16/12*25/20 | F15: 1
A16: 재료비 할증 계수 | B16: 1.11 | C16: 1.12
A17: 노무비 할증 계수 | B17: 1 | C17: 1.5 | D17: 1.16 | E17: 1.6 | F17: 1.6 | G17: 1.6 | H17: 1.94 | I17: 1.94 | J17: 1.94 | K17: 1 | L17: 1 | M17: 1
A18: 경비 할증 계수 | B18: 1.25 | C18: 1.071
A19: 내역,일위대가 품명,규격,단위 따로적용
A20: 내역단가 소수점처리 | B20: C | C20: 1
A21: 코드 | B21: 공종구분명 | C21: 원가비목코드
A22: 1 | B22: 작 업 부 산 물 | C22: A3
A23: 2 | B23: 운 반 비 | C23: C1
A24: 3 | B24: 관 급 자 재 비 | C24: DJ
A25: 4 | B25: 사 급 자 재 비 | C25: D3
A26: 5 | B26: 외 자 재
A27: 6 | B27: 건설폐기물처리비 | C27: D4
A28: 7 | B28: 도급자관급자재비 | C28: DK
A29: 8 | B29: 관급자관급자재비 | C29: DL
A30: 9 | B30: ...

Sheet Sheet1
