Workbook

Sheet 원가계산서
B1: 공 사 원 가 계 산 서
B2: 공사명 : 국립생태원 방문자숙소 도장공사
B3: 비 목 | E3: 금 액 | F3: 구 성 비 | G3: 비 고
A4: A1 | B4: 순 공 사 원 가 | C4: 재 료 비 | D4: 직 접 재 료 비
A5: A2 | D5: 간 접 재 료 비
A6: A3 | D6: 작업설, 부산물(△)
A7: AS | D7: [ 소 계 ]
A8: B1 | C8: 노 무 비 | D8: 직 접 노 무 비
A9: B2 | D9: 간 접 노 무 비 | F9: 직접노무비 * 9.9%
A10: BS | D10: [ 소 계 ]
A11: C2 | C11: 경 비 | D11: 기 계 경 비
A12: C4 | D12: 산 재 보 험 료 | F12: 노무비 * 3.8%
A13: C5 | D13: 고 용 보 험 료 | F13: 노무비 * 0.87%
A14: CA | D14: 산업안전보건관리비 | F14: (재료비+직노) * 2.93%
A15: CH | D15: 환 경 보 전 비 | F15: (재료비+직노+기계경비) * 0.3%
A16: CG | D16: 기 타 경 비 | F16: (재료비+노무비) * 5%
A17: CS | D17: [ 소 계 ]
A18: S1 | B18: 계
A19: D1 | B19: 일 반 관 리 비 | F19: 계 * 6%
A20: D2 | B20: 이 윤 | F20: (노무비+경비+일반관리비) * 15%-6046
A21: D9 | B21: 공 급 가 액
A22: DB | B22: 부 가 가 치 세 | F22: 공급가액 * 10%
A23: DH | B23: 도 급 액
A24: S2 | B24: 총 공 사 비

Sheet 공종별집계표
A1: 공 종 별 집 계 표
A2: [ 국립생태원 건립공사 ]
A3: 품 명 | B3: 규 격 | C3: 단위 | D3: 수량 | E3: 재 료 비 | G3: 노 무 비 | I3: 경 비 | K3: 합 계 | M3: 비 고 | N3: 공종코드 | O3: 변수 | P3: 상위공종 | Q3: 공종구분 | R3: 공종레벨 | S3: 공종소계 | T3: 원가계산서 연결금액
E4: 단 가 | F4: 금 액 | G4: 단 가 | H4: 금 액 | I4: 단 가 | J4: 금 액 | K4: 단 가 | L4: 금 액
A5: 01 국립생태원 건립공사 | D5: 1 | E5: =F6+F8+F10+F12 -> 0 | F5: =E5*D5 -> 0 | G5: =H6+H8+H10+H12 -> 0 | H5: =G5*D5 -> 0 | I5: =J6+J8+J10+J12 -> 0 | J5: =I5*D5 -> 0 | K5: =E5+G5+I5 -> 0 | L5: =F5+H5+J5 -> 0 | N5: 01 | R5: 1
A6: 0101 1동 | D6: 1 | E6: =F7 -> 0 | F6: =E6*D6 -> 0 | G6: =H7 -> 0 | H6: =G6*D6 -> 0 | I6: =J7 -> 0 | J6: =I6*D6 -> 0 | K6: =E6+G6+I6 -> 0 | L6: =F6+H6+J6 -> 0 | N6: 0101 | P6: 01 | R6: 2
A7: 010101 칠 공 사 | D7: 1 | E7: =공종별내역서!F29 -> 0 | F7: =E7*D7 -> 0 | G7: =공종별내역서!H29 -> 0 | H7: =G7*D7 -> 0 | I7: =공종별내역서!J29 -> 0 | J7: =I7*D7 -> 0 | K7: =E7+G7+I7 -> 0 | L7: =F7+H7+J7 -> 0 | N7: 010101 | P7: 0101 | R7: 3
A8: 0102 2동 | D8: 1 | E8: =F9 -> 0 | F8: =E8*D8 -> 0 | G8: =H9 -> 0 | H8: =G8*D8 -> 0 | I8: =J9 -> 0 | J8: =I8*D8 -> 0 | K8: =E8+G8+I8 -> 0 | L8: =F8+H8+J8 -> 0 | N8: 0102 | P8: 01 | R8: 2
A9: 010201 칠 공 사 | D9: 1 | E9: =공종별내역서!F55 -> 0 | F9: =E9*D9 -> 0 | G9: =공종별내역서!H55 -> 0 | H9: =G9*D9 -> 0 | I9: =공종별내역서!J55 -> 0 | J9: =I9*D9 -> 0 | K9: =E9+G9+I9 -> 0 | L9: =F9+H9+J9 -> 0 | N9: 010201 | P9: 0102 | R9: 3
A10: 0103 3동 | D10: 1 | E10: =F11 -> 0 | F10: =E10*D10 -> 0 | G10: =H11 -> 0 | H10: =G10*D10 -> 0 | I10: =J11 -> 0 | J10: =I10*D10 -> 0 | K10: =E10+G10+I10 -> 0 | L10: =F10+H10+J10 -> 0 | N10: 0103 | P10: 01 | R10: 2
A11: 010301 칠 공 사 | D11: 1 | E11: =공종별내역서!F81 -> 0 | F11: =E11*D11 -> 0 | G11: =공종별내역서!H81 -> 0 | H11: =G11*D11 -> 0 | I11: =공종별내역서!J81 -> 0 | J11: =I11*D11 -> 0 | K11: =E11+G11+I11 -> 0 | L11: =F11+H11+J11 -> 0 | N11: 010301 | P11: 0103 | R11: 3
A12: 0104 4동 | D12: 1 | E12: =F13 -> 0 | F12: =E12*D12 -> 0 | G12: =H13 -> 0 | H12: =G12*D12 -> 0 | I12: =J13 -> 0 | J12: =I12*D12 -> 0 | K12: =E12+G12+I12 -> 0 | L12: =F12+H12+J12 -> 0 | N12: 0104 | P12: 01 | R12: 2
A13: 010401 칠 공 사 | D13: 1 | E13: =공종별내역서!F107 -> 0 | F13: =E13*D13 -> 0 | G13: =공종별내역서!H107 -> 0 | H13: =G13*D13 -> 0 | I13: =공종별내역서!J107 -> 0 | J13: =I13*D13 -> 0 | K13: =E13+G13+I13 -> 0 | L13: =F13+H13+J13 -> 0 | N13: 010401 | P13: 0104 | R13: 3
A29: [ 합 계 ] | F29: =F5 -> 0 | H29: =H5 -> 0 | J29: =J5 -> 0 | L29: =L5 -> 0

Sheet 공종별내역서
A1: [ 국립생태원 건립공사 ]
A2: 품 명 | B2: 규 격 | C2: 단위 | D2: 수량 | E2: 재 료 비 | G2: 노 무 비 | I2: 경 비 | K2: 합 계 | M2: 비 고 | N2: 품목코드 | O2: 변수 | P2: 설정 | Q2: 공종코드 | R2: 일위 | S2: 단산 | T2: 자 재 | U2: 손료적용 | V2: 손료저장 | W2: 적용율 | X2: JUK1 | Y2: JUK2 | Z2: JUK3 | AA2: JUK4 | AB2: JUK5 | AC2: JUK6 | AD2: JUK7 | AE2: JUK8 | AF2: JUK9 | AG2: JUK10 | AH2: JUK11 | AI2: JUK12 | AJ2: JUK13 | AK2: JUK14 | AL2: JUK15 | AM2: JUK16 | AN2: JUK17 | AO2: JUK18 | AP2: JUK19 | AQ2: JUK20 | AR2: 자재구분 | AS2: 공종구분 | AT2: 공종레벨 | AU2: 공종+자재 | AV2: 고유번호
E3: 단 가 | F3: 금 액 | G3: 단 가 | H3: 금 액 | I3: 단 가 | J3: 금 액 | K3: 단 가 | L3: 금 액
A4: 010101 칠 공 사 | Q4: 010101
A5: 녹막이페인트(붓칠) | B5: 철재면, 1회, 1종 | C5: M2 | D5: 128.04 | M5: 호표 1 | N5: 5A6CB56EF99B5384A2E174B001C51C | Q5: 010101 | R5: T | S5: F | T5: F | AU5: 0101015A6CB56EF99B5384A2E174B001C51C | AV5: 29
A6: 유성페인트(붓칠) | B6: 철재면, 2회. 1급 | C6: M2 | D6: 128.04 | M6: 호표 2 | N6: 5A6CB56DD39B3652ED417B48E68566 | Q6: 010101 | R6: T | S6: F | T6: F | AU6: 0101015A6CB56DD39B3652ED417B48E68566 | AV6: 12
A7: 오일스테인(친환경) | B7: 목재면, 2회칠 | C7: M2 | D7: 858.23 | M7: 호표 3 | N7: 5A6CB562C890E24B603176DD6C05C1 | Q7: 010101 | R7: T | S7: F | T7: F | AU7: 0101015A6CB562C890E24B603176DD6C05C1 | AV7: 33
A8: 기존 건축물의 바탕만들기(재도장시) | B8: 철재면, 녹제거 | C8: M2 | D8: 128.16 | M8: 호표 4 | N8: 5A6CB57C599C1B44D43177DBA1F50F | Q8: 010101 | R8: T | S8: F | T8: F | AU8: 0101015A6CB57C599C1B44D43177DBA1F50F | AV8: 6
A9: 트럭탑재형 크레인 | B9: 5ton | C9: HR | D9: 16 | M9: 호표 5 | N9: 5D7805E06E97D6508AC1746CA2F5FF5B3B837A07 | Q9: 010101 | R9: T | S9: F | T9: F | AU9: 0101015D7805E06E97D6508AC1746CA2F5FF5B3B837A07 | AV9: 16
A29: [ 합 계 ] | N29: TOTAL
A30: 010201 칠 공 사 | Q30: 010201
A31: 녹막이페인트(붓칠) | B31: 철재면, 1회, 1종 | C31: M2 | D31: 125.21 | M31: 호표 1 | N31: 5A6CB56EF99B5384A2E174B001C51C | Q31: 010201 | R31: T | S31: F | T31: F | AU31: 0102015A6CB56EF99B5384A2E174B001C51C | AV31: 30
A32: 유성페인트(붓칠) | B32: 철재면, 2회. 1급 | C32: M2 | D32: 125.21 | M32: 호표 2 | N32: 5A6CB56DD39B3652ED417B48E68566 | Q32: 010201 | R32: T | S32: F | T32: F | AU32: 0102015A6CB56DD39B3652ED417B48E68566 | AV32: 13
A33: 오일스테인(친환경) | B33: 목재면, 2회칠 | C33: M2 | D33: 861.82 | M33: 호표 3 | N33: 5A6CB562C890E24B603176DD6C05C1 | Q33: 010201 | R33: T | S33: F | T33: F | AU33: 0102015A6CB562C890E24B603176DD6C05C1 | AV33: 10
A34: 기존 건축물의 바탕만들기(재도장시) | B34: 철재면, 녹제거 | C34: M2 | D34: 125.21 | M34: 호표 4 | N34: 5A6CB57C599C1B44D43177DBA1F50F | Q34: 010201 | R34: T | S34: F | T34: F | AU34: 0102015A6CB57C599C1B44D43177DBA1F50F | AV34: 11
A35: 트럭탑재형 크레인 | B35: 5ton | C35: HR | D35: 16 | M35: 호표 5 | N35: 5D7805E06E97D6508AC1746CA2F5FF5B3B837A07 | Q35: 010201 | R35: T | S35: F | T35: F | AU35: 0102015D7805E06E97D6508AC1746CA2F5FF5B3B837A07 | AV35: 14
A55: [ 합 계 ] | N55: TOTAL
A56: 010301 칠 공 사 | Q56: 010301
A57: 녹막이페인트(붓칠) | B57: 철재면, 1회, 1종 | C57: M2 | D57: 125.21 | M57: 호표 1 | N57: 5A6CB56EF99B5384A2E174B001C51C | Q57: 010301 | R57: T | S57: F | T57: F | AU57: 0103015A6CB56EF99B5384A2E174B001C51C | AV57: 32
A58: 유성페인트(붓칠) | B58: 철재면, 2회. 1급 | C58: M2 | D58: 125.21 | M58: 호표 2 | N58: 5A6CB56DD39B3652ED417B48E68566 | Q58: 010301 | R58: T | S58: F | T58: F | AU58: 0103015A6CB56DD39B3652ED417B48E68566 | AV58: 21
A59: 오일스테인(친환경) | B59: 목재면, 2회칠 | C59: M2 | D59: 861.82 | M59: 호표 3 | N59: 5A6CB562C890E24B603176DD6C05C1 | Q59: 010301 | R59: T | S59: F | T59: F | AU59: 0103015A6CB562C890E24B603176DD6C05C1 | AV59: 22
A60: 기존 건축물의 바탕만들기(재도장시) | B60: 철재면, 녹제거 | C60: M2 | D60: 125.21 | M60: 호표 4 | N60: 5A6CB57C599C1B44D43177DBA1F50F | Q60: 010301 | R60: T | S60: F | T60: F | AU60: 0103015A6CB57C599C1B44D43177DBA1F50F | AV60: 23
A61: 트럭탑재형 크레인 | B61: 5ton | C61: HR | D61: 16 | M61: 호표 5 | N61: 5D7805E06E97D6508AC1746CA2F5FF5B3B837A07 | Q61: 010301 | R61: T | S61: F | T61: F | AU61: 0103015D7805E06E97D6508AC1746CA2F5FF5B3B837A07 | AV61: 24
A81: [ 합 계 ] | N81: TOTAL
A82: 010401 칠 공 사 | Q82: 010401
A83: 녹막이페인트(붓칠) | B83: 철재면, 1회, 1종 | C83: M2 | D83: 128.04 | M83: 호표 1 | N83: 5A6CB56EF99B5384A2E174B001C51C | Q83: 010401 | R83: T | S83: F | T83: F | AU83: 0104015A6CB56EF99B5384A2E174B001C51C | AV83: 31
A84: 유성페인트(붓칠) | B84: 철재면, 2회. 1급 | C84: M2 | D84: 128.04 | M84: 호표 2 | N84: 5A6CB56DD39B3652ED417B48E68566 | Q84: 010401 | R84: T | S84: F | T84: F | AU84: 0104015A6CB56DD39B3652ED417B48E68566 | AV84: 25
A85: 오일스테인(친환경) | B85: 목재면, 2회칠 | C85: M2 | D85: 858.23 | M85: 호표 3 | N85: 5A6CB562C890E24B603176DD6C05C1 | Q85: 010401 | R85: T | S85: F | T85: F | AU85: 0104015A6CB562C890E24B603176DD6C05C1 | AV85: 26
A86: 기존 건축물의 바탕만들기(재도장시) | B86: 철재면, 녹제거 | C86: M2 | D86: 128.04 | M86: 호표 4 | N86: 5A6CB57C599C1B44D43177DBA1F50F | Q86: 010401 | R86: T | S86: F | T86: F | AU86: 0104015A6CB57C599C1B44D43177DBA1F50F | AV86: 27
A87: 트럭탑재형 크레인 | B87: 5ton | C87: HR | D87: 16 | M87: 호표 5 | N87: 5D7805E06E97D6508AC1746CA2F5FF5B3B837A07 | Q87: 010401 | R87: T | S87: F | T87: F | AU87: 0104015D7805E06E97D6508AC1746CA2F5FF5B3B837A07 | AV87: 28
A107: [ 합 계 ] | N107: TOTAL

Sheet  공사설정 
A1: 이 Sheet는 수정하지 마십시요
A2: 공사구분 | B2: A
A3: 확정내역 | B3: 원내역
A4: 자재단가적용 | B4: 5
A5: 경비단가적용 | B5: 5
A6: 품목코드형식 | B6: XXXX-XXXX-XXXXXXXXX
A7: 내역금액소수점처리 | B7: C | C7: T
A8: 일위대가내역소수점처리 | B8: C | C8: 2
A9: 단가명 | B9: 가격정보 | C9: 거래가격 | D9: 유통물가 | E9: 조사가격1 | F9: 조사가격2 | G9: TTTTT
A10: 환율 | B10: 1172 | C10: 0 | D10: 0
A11: 시간당작업량 | B11: R | C11: 4
A12: 1회 사이클시간 | B12: R | C12: 4
A13: 시간당 작업사이클 | B13: R | C13: 3
A14: 일반변수 | B14: C | C14: 5
A15: 시간당 노임산출 계수 | B15: A | C15: 1/8*16/12*25/20 | D15: 1/8*16/12*25/20 | E15: 1/8*16/12*25/20 | F15: 1
A16: 재료비 할증 계수 | B16: 1.11 | C16: 1.12
A17: 노무비 할증 계수 | B17: 1 | C17: 1.5 | D17: 1.16 | E17: 1.6 | F17: 1.6 | G17: 1.6 | H17: 1.94 | I17: 1.94 | J17: 1.94 | K17: 1 | L17: 1 | M17: 1
A18: 경비 할증 계수 | B18: 1.25 | C18: 1.071
A19: 내역,일위대가 품명,규격,단위 따로적용
A21: 코드 | B21: 공종구분명 | C21: 원가비목코드
A22: 1 | B22: 작 업 부 산 물 | C22: A3
A23: 2 | B23: 운 반 비 | C23: C1
A24: 3 | B24: 관 급 자 재 비 | C24: DJ
A25: 4 | B25: 사 급 자 재 비 | C25: D3
A26: 5 | B26: 외 자 재
A27: 6 | B27: ...
A28: 7 | B28: ...
A29: 8 | B29: ...
A30: 9 | B30: ...
